{"text_format":"1","workbook":"xlsx","n_sheets":12,"sheets":["Auslegung","Einstellungen","Berechnung","Translation","Slot1","Slot2","Slot3","Ausdruck-Slot1","Ausdruck-Slot2","Ausdruck-Slot3","Klimadaten","Leistungsdaten"],"not_rendered":{"charts":45,"images":53,"macros":1,"external_links":1,"defined_names":9,"comments":4,"pivot_tables":0},"unopened":[],"bounds":{"document_bytes":16777216,"sheet_cells":100000,"rows_first":2000,"rows_last":500,"rows_between":2000,"halvings":0,"cell_chars":16384,"cell_head_chars":4096},"cells_cut":0,"cells_raw":0,"read":"whole","date_system":"1900"}

{"sheet":"Auslegung","index":0,"n_rows":54,"n_cols":47,"rows_kept":54,"cut":false,"hidden":false,"merged":[[51,37,52,45],[3,11,3,13],[10,25,11,27],[10,22,11,22],[10,37,11,39],[14,37,15,39],[3,45,3,46],[43,13,44,17],[14,25,15,27],[45,42,46,45],[18,37,19,39],[45,37,46,41],[6,12,7,22],[6,24,7,34],[18,25,19,27],[49,37,50,41],[49,42,50,45],[47,13,48,17],[49,25,50,29],[49,30,50,33],[47,30,48,33],[47,25,48,29],[47,37,48,41],[47,42,48,45],[51,25,52,33],[45,25,46,29],[51,13,52,21],[45,18,46,21],[47,18,48,21],[49,18,50,21],[49,13,50,17],[45,13,46,17],[0,0,0,1],[10,4,11,9],[45,30,46,33],[43,42,44,45],[10,13,11,15],[14,13,15,15],[18,13,19,15],[43,25,44,29],[43,30,44,33],[43,18,44,21],[16,4,16,9],[45,4,46,9],[38,4,39,9],[31,4,32,9],[24,4,25,9],[43,37,44,41],[17,4,18,9],[22,4,22,10],[6,2,7,10],[47,3,48,9],[0,2,0,46],[6,36,7,46]]}
[null,null,{"$f":"Translation!$A$4","v":"Bivalent heatpump systems"}]
[null,null,null,null,null,null,null,null,null,null,null,null,null,null,null,null,null,null,null,null,null,null,null,null,null,null,null,null,null,null,null,null," "]
[]
[]
[]
[]
[null,null,{"$f":"Translation!A8","v":"Input values"},null,null,null,null,null,null,null,null,null,{"$f":"Slot1!C80","v":"WPL 25 A | Gaskessel"},null,null,null,null,null,null,null,null,null,null,null,{"$f":"Slot2!C80","v":"-"},null,null,null,null,null,null,null,null,null,null,null,{"$f":"Slot3!C80","v":"-"}]
[]
[]
[]
[null,null,null,null,{"$f":"Translation!A165","v":"Select country"},null,null,null,null,null,null,null,null,{"$f":"Translation!A124","v":"Heating"},null,null,null,null,null,null,null,null,null,null,null,{"$f":"Translation!A124","v":"Heating"},null,null,null,null,null,null,null,null,null,null,null,{"$f":"Translation!A124","v":"Heating"}]
[]
[]
[]
[null,null,null,null,null,null,null,null,null,null,null,null,null,{"$f":"Translation!A7","v":"Mode"},null,null,null,null,null,null,null,null,null,null,null,{"$f":"Translation!A7","v":"Mode"},null,null,null,null,null,null,null,null,null,null,null,{"$f":"Translation!A7","v":"Mode"}]
[]
[]
[null,null,null,null,{"$f":"Translation!A76","v":"Location"}]
[null,null,null,null,null,null,null,null,null,null,null,null,null,{"$f":"Translation!A40","v":"DHW"},null,null,null,null,null,null,null,null,null,null,null,{"$f":"Translation!A40","v":"DHW"},null,null,null,null,null,null,null,null,null,null,null,{"$f":"Translation!A40","v":"DHW"}]
[]
[]
[]
[]
[]
[null,null,null,null,{"$f":"Translation!A84","v":"Building"}]
[]
[]
[]
[]
[]
[]
[null,null,null,null,{"$f":"Translation!A43","v":"persons "}]
[]
[]
[]
[]
[]
[]
[null,null,null,null,{"$f":"Translation!A124","v":"Heating"}]
[]
[]
[]
[]
[null,null,null,null,null,null,null,null,null,null,null,null,null,{"$f":"Slot1!$AM$81","v":" "},null,null,null,null,{"$f":"Slot1!$AN$81","v":" "},null,null,null,null,null,null,{"$f":"Slot2!$AM$81","v":" "},null,null,null,null,{"$f":"Slot2!$AN$81","v":" "},null,null,null,null,null,null,{"$f":"Slot3!$AM$81","v":" "},null,null,null,null,{"$f":"Slot3!$AN$81","v":" "}]
[]
[null,null,null,null,{"$f":"Translation!A72","v":"Heat demand"},null,null,null,null,null,null,null,null,{"$f":"Slot1!$AO$81","v":" "},null,null,null,null,{"$f":"Slot1!$AP$81","v":" "},null,null,null,null,null,null,{"$f":"Slot2!$AO$81","v":" "},null,null,null,null,{"$f":"Slot2!$AP$81","v":" "},null,null,null,null,null,null,{"$f":"Slot3!$AO$81","v":" "},null,null,null,null,{"$f":"Slot3!$AP$81","v":" "}]
[]
[null,null,null,{"$f":"\"    \"&Berechnung!G5&\" KW\"","v":"    6 KW"},null,null,null,null,null,null,null,null,null,{"$f":"Slot1!$AQ$81","v":"Operating mode"},null,null,null,null,{"$f":"Slot1!$AR$81","v":"Mono-Mode"},null,null,null,null,null,null,{"$f":"Slot2!$AQ$81","v":"Operating mode"},null,null,null,null,{"$f":"Slot2!$AR$81","v":"Mono-Mode"},null,null,null,null,null,null,{"$f":"Slot3!$AQ$81","v":"Operating mode"},null,null,null,null,{"$f":"Slot3!$AR$81","v":"Bivalent-parallel"}]
[]
[null,null,null,null,null,null,null,null,null,null,null,null,null,{"$f":"Slot1!$AS$81","v":""},null,null,null,null,{"$f":"Slot1!$AT$81","v":""},null,null,null,null,null,null,{"$f":"Slot2!$AS$81","v":""},null,null,null,null,{"$f":"Slot2!$AT$81","v":""},null,null,null,null,null,null,{"$f":"Slot3!$AS$81","v":"Dual-mode point"},null,null,null,null,{"$f":"Slot3!$AT$81","v":"-5,8 °C"}]
[]
[null,null,null,null,null,null,null,null,null,null,null,null,null,{"$f":"IF(Berechnung!C86=TRUE,Translation!A50&\": \"&Berechnung!C80&\" \"&Translation!A81&\" | \"&Translation!A51&\": \"&Berechnung!C74&\" \"&Translation!A81,\"\")","v":""}]
[]
[null,null,"IMT/TR v1.20",null,null,null,null,null,null,null,null,null,null,null,null,null,null,null,null,null,null,null,null,null,null,null,null,null,null,null,null,null,null,null,null,null,null,null,null,null,null,null,null,null,null,null,{"$f":"IF(Berechnung!C99=FALSE,\"\",\"* Überschlägige Abschätzung. Es müssen weitere Bedingungen erfüllen werden zB. Mindestkollektorfläche Solar, Mindest-Jahresarbeitszahlen WP.\")","v":""}]

{"sheet":"Einstellungen","index":1,"n_rows":57,"n_cols":12,"rows_kept":57,"cut":false,"hidden":true,"merged":[[148,12,149,19]]}
[]
[null,null,{"$f":"Translation!A60","v":"Settings"}]
[]
[null,null,null,null,null,null,null,null,null,null,"gewählt",{"$f":"VLOOKUP(D5,K5:M8,2,FALSE)","v":{"$error":"#N/A"}}]
[null,null,{"$f":"Translation!A166","v":"Select fossil energy"},"Gaskessel","-",null,null,null,null,null,{"$f":"Berechnung!H7","v":"Gas boiler"},1]
[null,null,null,null,null,null,null,null,null,null,{"$f":"Berechnung!H8","v":"Oil boiler"},2]
[null,null,{"$f":"Translation!A167","v":"Max. setting range heat demand"},100,"KW",null,null,null,null,null,{"$f":"Berechnung!H9","v":"District heating"},3]
[]
[]
[]
[]
[null,null,{"$f":"IF(Berechnung!$H$5=Berechnung!$H$7,Translation!$A$186,IF(Berechnung!$H$5=Berechnung!$H$8,Translation!A185,IF(Berechnung!$H$5=Berechnung!$H$9,Translation!A208,Translation!A222)))","v":"Price"},85,{"$f":"Berechnung!$D$70","v":"pence/kWh"}]
[]
[null,null,{"$f":"Translation!$A$49","v":"Yearly price increase"},5,{"$f":"Translation!$A$81","v":"%/year"}]
[]
[null,null,{"$f":"Translation!$A$190","v":"CO2-factor"},253,"g/kWh"]
[]
[null,null,{"$f":"Translation!$A$53","v":"Efficiency Heating"},97,"%"]
[]
[null,null,{"$f":"Translation!$A$54","v":"Efficiency DHW"},80,"%"]
[]
[]
[]
[]
[null,null,{"$f":"Translation!$A$182","v":"Electricity price"},25,{"$f":"Translation!$A$187","v":"pence/kWh"}]
[]
[null,null,{"$f":"Translation!$A$46","v":"Electricity price heat pump"},18,{"$f":"Translation!$A$187","v":"pence/kWh"}]
[]
[null,null,{"$f":"Translation!$A$50","v":"Price increase electricity"},3,{"$f":"Translation!$A$81","v":"%/year"}]
[]
[null,null,{"$f":"Translation!$A$45","v":"CO2-factor electricity"},621,"g/kWh"]
[]
[]
[]
[]
[null,null,{"$f":"Translation!$A$218","v":"DHW demand"},"Normaler Bedarf","-",null,null,null,null,null,"gewählt",{"$f":"VLOOKUP(D36,K37:M40,2,FALSE)","v":{"$error":"#N/A"}}]
[null,null,null,null,null,null,null,null,null,null,{"$f":"Berechnung!K7","v":"Demand low"},0.9]
[null,null,{"$f":"Translation!$A$55","v":"Hot water consumption"},1.8,{"$f":"Translation!$A$56","v":"kWh/person x day"},null,null,null,null,null,{"$f":"Berechnung!K8","v":"Demand medium"},1.8]
[null,null,null,null,null,null,null,null,null,null,{"$f":"Berechnung!K9","v":"Demand high"},3.6]
[null,null,{"$f":"Translation!$A$173","v":"Distribution  losses DHW"},25,"%"]
[]
[null,null,{"$f":"Translation!$A$207","v":"Solar fraction"},50,"%"]
[]
[]
[]
[]
[null,null,{"$f":"Translation!$A$224","v":"Choose subvention program"},"Eingabe Fördersummen","-",null,null,null,null,null,"gewählt",{"$f":"VLOOKUP(D47,K48:L50,2,FALSE)","v":{"$error":"#N/A"}}]
[null,null,null,null,null,null,null,null,null,null,{"$f":"Berechnung!N7","v":"Manual input values"},1]
[null,null,{"$f":"Translation!$A$213","v":"Subvention Heat Pump"},0,{"$f":"Translation!$A$77","v":"£/Year"},null,null,null,null,null,{"$f":"Berechnung!N8","v":"Domestic RHI (UK)"},2]
[]
[null,null,{"$f":"Translation!$A$215","v":"Termtime heat pump subvention"},0,{"$f":"Translation!$A$217","v":"Years"}]
[]
[null,null,{"$f":"IF(Berechnung!$N$5=Berechnung!$N$8,Translation!$A$226,Translation!$A$214)","v":"Subvention Solar"},0,{"$f":"IF(Berechnung!$N$5=Berechnung!$N$8,Translation!$A$78,Translation!$A$77)","v":"£/Year"}]
[]
[null,null,{"$f":"IF(Berechnung!$N$5=Berechnung!$N$8,Translation!$A$227,Translation!$A$216)","v":"Termtime Solar subvention"},0,{"$f":"IF(Berechnung!$N$5=Berechnung!$N$8,Translation!$A$78,Translation!$A$217)","v":"Years"}]
[]
[null,null,{"$f":"Translation!$A$228","v":"Installation costs heatpump"},0,{"$f":"Translation!$A$209","v":"£"}]

{"sheet":"Berechnung","index":2,"n_rows":127,"n_cols":14,"rows_kept":127,"cut":false,"hidden":true,"merged":[[2,13,3,13],[2,11,3,12],[70,0,70,1],[72,0,72,1],[68,0,68,1],[2,0,3,0],[71,0,71,1],[2,3,3,3],[2,4,3,4],[2,5,3,5],[2,1,3,1],[2,2,3,2],[2,6,3,6],[2,7,3,7],[69,0,69,1],[60,0,60,1],[2,10,3,10],[2,8,3,8],[89,0,89,1],[87,0,87,1],[88,0,88,1],[2,9,3,9],[63,0,63,1],[83,0,83,1],[84,0,84,1],[86,0,86,1],[64,0,64,1],[61,0,61,1],[62,0,62,1],[85,0,85,1],[73,0,73,1],[94,0,94,1],[95,0,95,1],[96,0,96,1],[97,0,97,1],[90,0,90,1],[91,0,91,1]]}
[]
["Comboboxen"]
["Land","Stadt","Norm-Außentemp.","Gebäudetyp","Personenzahl","VL-Temp","Heizlast","E-Träger Vergleich","Kurzname","Auswahl WP","WW-Bedarf","Sprache",null,"Vorauswahl Förderung"]
[]
["Germany","Holzminden",{"$f":"VLOOKUP(A5,A6:C50,3,FALSE)","v":"-10 °C"},"New building","4 persons ","35 °C",6,{"$f":"Einstellungen!D5","v":"Gaskessel"},null,null,{"$f":"Einstellungen!D36","v":"Normaler Bedarf"},2,null,{"$f":"Einstellungen!D47","v":"Eingabe Fördersummen"}]
[null,"Startzeile","-11 °C"]
[{"$f":"Translation!A20","v":"Germany"},100,"-10 °C",{"$f":"Translation!A17","v":"New building"},{"$f":"Translation!A41","v":"without DHW"},"30 °C",null,{"$f":"Translation!A65","v":"Gas boiler"},null,{"$f":"C61","v":"Gaskessel"},{"$f":"Translation!A219","v":"Demand low"},1,"Deutsch",{"$f":"Translation!A225","v":"Manual input values"}]
[{"$f":"Translation!A21","v":"Austria"},150,{"$f":"VLOOKUP($B$5,Klimadaten!$N:$O,2,FALSE)","v":{"$error":"#N/A"}},{"$f":"Translation!A19","v":"Passive house"},{"$f":"1 &\" \"& Translation!A42","v":"1 person"},"35 °C",null,{"$f":"Translation!A64","v":"Oil boiler"},null,{"$f":"Leistungsdaten!A3","v":"WPL 10 AC"},{"$f":"Translation!A220","v":"Demand medium"},2,"English","Domestic RHI (UK)"]
[{"$f":"Translation!A22","v":"Switzerland"},200,{"$f":"VLOOKUP($B$5,Klimadaten!$Q:$R,2,FALSE)","v":{"$error":"#N/A"}},{"$f":"Translation!A18","v":"Not-renovated building"},{"$f":"2 &\" \"& Translation!$A$43","v":"2 persons "},"40 °C",null,{"$f":"Translation!A119","v":"District heating"},null,{"$f":"Leistungsdaten!A4","v":"WPL 10 ACS"},{"$f":"Translation!A221","v":"Demand high"},3,"Nederlands"]
[{"$f":"Translation!A23","v":"Great Britain"},250,{"$f":"VLOOKUP($B$5,Klimadaten!$T:$U,2,FALSE)","v":{"$error":"#N/A"}},null,{"$f":"3 &\" \"& Translation!$A$43","v":"3 persons "},"45 °C",null,null,null,{"$f":"Leistungsdaten!A5","v":"WPL 13 E/cool"},null,4,"Slovak"]
[{"$f":"Translation!A24","v":"Netherlands"},400,{"$f":"VLOOKUP($B$5,Klimadaten!$W:$X,2,FALSE)","v":{"$error":"#N/A"}},null,{"$f":"4 &\" \"& Translation!$A$43","v":"4 persons "},"50 °C",null,null,null,{"$f":"Leistungsdaten!A6","v":"WPL 18 E/cool"},null,5,"Dansk"]
["Italien",950,{"$f":"VLOOKUP($B$5,Klimadaten!$Z:$AA,2,FALSE)","v":{"$error":"#N/A"}},null,{"$f":"5 &\" \"& Translation!$A$43","v":"5 persons "},"55 °C",null,null,null,{"$f":"Leistungsdaten!A7","v":"WPL 23 E/cool"},null,6,"Latvia"]
[{"$f":"Translation!A26","v":"Finland"},300,{"$f":"VLOOKUP($B$5,Klimadaten!$AC:$AD,2,FALSE)","v":{"$error":"#N/A"}},null,{"$f":"6 &\" \"& Translation!$A$43","v":"6 persons "},null,null,null,null,{"$f":"Leistungsdaten!A8","v":"WPL 13 A basic"},null,7,"Italiano"]
[{"$f":"Translation!A27","v":"Spain"},550,{"$f":"VLOOKUP($B$5,Klimadaten!$AF:$AG,2,FALSE)","v":{"$error":"#N/A"}},null,{"$f":"7 &\" \"& Translation!$A$43","v":"7 persons "},null,null,null,null,{"$f":"Leistungsdaten!A9","v":"WPL 20 A basic"}]
[{"$f":"Translation!A36","v":"Denmark"},800,{"$f":"VLOOKUP($B$5,Klimadaten!$AI:$AJ,2,FALSE)","v":{"$error":"#N/A"}},null,{"$f":"8 &\" \"& Translation!$A$43","v":"8 persons "},null,null,null,null,{"$f":"Leistungsdaten!A10","v":"WPL 15 IS/IKS"}]
[{"$f":"Translation!A31","v":"Russia"},600,{"$f":"VLOOKUP($B$5,Klimadaten!$AL:$AM,2,FALSE)","v":{"$error":"#N/A"}},null,{"$f":"9 &\" \"& Translation!$A$43","v":"9 persons "},null,null,null,null,{"$f":"Leistungsdaten!A11","v":"WPL 25 I/IK"}]
[{"$f":"Translation!A33","v":"Slovakia"},700,{"$f":"VLOOKUP($B$5,Klimadaten!$AO:$AP,2,FALSE)","v":{"$error":"#N/A"}},null,{"$f":"10 &\" \"& Translation!$A$43","v":"10 persons "},null,null,null,null,{"$f":"Leistungsdaten!A12","v":"WPL 15 ACS"}]
[{"$f":"Translation!A34","v":"Latvia"},750,{"$f":"VLOOKUP($B$5,Klimadaten!$AR:$AS,2,FALSE)","v":{"$error":"#N/A"}},null,{"$f":"11 &\" \"& Translation!$A$43","v":"11 persons "},null,null,null,null,{"$f":"Leistungsdaten!A13","v":"WPL 25 A"}]
["Litauen",900,{"$f":"VLOOKUP($B$5,Klimadaten!$AU:$AV,2,FALSE)","v":{"$error":"#N/A"}},null,{"$f":"12 &\" \"& Translation!$A$43","v":"12 persons "},null,null,null,null,{"$f":"Leistungsdaten!A14","v":"WPL 33 HT"}]
[{"$f":"Translation!A32","v":"Bosnia-Herzegovina"},650,{"$f":"VLOOKUP($B$5,Klimadaten!$AX:$AY,2,FALSE)","v":{"$error":"#N/A"}},null,{"$f":"13 &\" \"& Translation!$A$43","v":"13 persons "},null,null,null,null,{"$f":"Leistungsdaten!A15","v":"WPL 33 HTS"}]
[{"$f":"Translation!A29","v":"Morocco"},500,{"$f":"VLOOKUP($B$5,Klimadaten!$BA:$BB,2,FALSE)","v":{"$error":"#N/A"}},null,{"$f":"14 &\" \"& Translation!$A$43","v":"14 persons "},null,null,null,null,{"$f":"Leistungsdaten!A16","v":"WPL 34"}]
["Namibia",850,{"$f":"VLOOKUP($B$5,Klimadaten!$BD:$BE,2,FALSE)","v":{"$error":"#N/A"}},null,{"$f":"15 &\" \"& Translation!$A$43","v":"15 persons "},null,null,null,null,{"$f":"Leistungsdaten!A17","v":"WPL 47"}]
[{"$f":"Translation!A37","v":"Europe"},450,{"$f":"VLOOKUP($B$5,Klimadaten!$BG:$BH,2,FALSE)","v":{"$error":"#N/A"}},null,{"$f":"16 &\" \"& Translation!$A$43","v":"16 persons "},null,null,null,null,{"$f":"Leistungsdaten!A18","v":"WPL 57"}]
[{"$f":"Translation!A28","v":"Near East"},350,{"$f":"VLOOKUP($B$5,Klimadaten!$BJ:$BK,2,FALSE)","v":{"$error":"#N/A"}},null,{"$f":"17 &\" \"& Translation!$A$43","v":"17 persons "},null,null,null,null,{"$f":"Leistungsdaten!A19","v":"2 x WPL 23 E"}]
[null,null,null,null,{"$f":"18 &\" \"& Translation!$A$43","v":"18 persons "},null,null,null,null,{"$f":"Leistungsdaten!A20","v":"2 x WPL 34"},null,{"$f":"Translation!A163","v":"Restore to standard values ?"}]
[null,null,null,null,{"$f":"19 &\" \"& Translation!$A$43","v":"19 persons "},null,null,null,null,{"$f":"Leistungsdaten!A21","v":"2 x WPL 47"},null,{"$f":"Translation!A58","v":"Default values"}]
[null,null,null,null,{"$f":"20 &\" \"& Translation!$A$43","v":"20 persons "},null,null,null,null,{"$f":"Leistungsdaten!A22","v":"2 x WPL 57"}]
[null,null,null,null,{"$f":"21 &\" \"& Translation!$A$43","v":"21 persons "},null,null,null,null,{"$f":"Leistungsdaten!A23","v":"WPL 13 S basic"}]
[null,null,null,null,{"$f":"22 &\" \"& Translation!$A$43","v":"22 persons "},null,null,null,null,{"$f":"Leistungsdaten!A24","v":"WPL 18 S basic"}]
[null,null,null,null,{"$f":"23 &\" \"& Translation!$A$43","v":"23 persons "},null,null,null,null,{"$f":"Leistungsdaten!A51","v":"WPC 04 / WPC 04 cool"}]
[null,null,null,null,{"$f":"24 &\" \"& Translation!$A$43","v":"24 persons "},null,null,null,null,{"$f":"Leistungsdaten!A52","v":"WPC 05 / WPC 05 cool"}]
[null,null,null,null,{"$f":"25 &\" \"& Translation!$A$43","v":"25 persons "},null,null,null,null,{"$f":"Leistungsdaten!A53","v":"WPC 07 / WPC 07 cool"}]
[null,null,null,null,{"$f":"26 &\" \"& Translation!$A$43","v":"26 persons "},null,null,null,null,{"$f":"Leistungsdaten!A54","v":"WPC 10 / WPC 10 cool"}]
[null,null,null,null,{"$f":"27 &\" \"& Translation!$A$43","v":"27 persons "},null,null,null,null,{"$f":"Leistungsdaten!A55","v":"WPC 13 / WPC 13 cool"}]
[null,null,null,null,{"$f":"28 &\" \"& Translation!$A$43","v":"28 persons "},null,null,null,null,{"$f":"Leistungsdaten!A56","v":"WPF 04 / WPF 04 cool"}]
[null,null,null,null,{"$f":"29 &\" \"& Translation!$A$43","v":"29 persons "},null,null,null,null,{"$f":"Leistungsdaten!A57","v":"WPF 05 / WPF 05 cool"}]
[null,null,null,null,{"$f":"30 &\" \"& Translation!$A$43","v":"30 persons "},null,null,null,null,{"$f":"Leistungsdaten!A58","v":"WPF 07 / WPF 07 cool"}]
[null,null,null,null,{"$f":"31 &\" \"& Translation!$A$43","v":"31 persons "},null,null,null,null,{"$f":"Leistungsdaten!A59","v":"WPF 10 / WPF 10 cool"}]
[null,null,null,null,{"$f":"32 &\" \"& Translation!$A$43","v":"32 persons "},null,null,null,null,{"$f":"Leistungsdaten!A60","v":"WPF 13 / WPF 13 cool"}]
[null,null,null,null,{"$f":"33 &\" \"& Translation!$A$43","v":"33 persons "},null,null,null,null,{"$f":"Leistungsdaten!A61","v":"WPF 16 / WPF 16 cool"}]
[null,null,null,null,{"$f":"34 &\" \"& Translation!$A$43","v":"34 persons "},null,null,null,null,{"$f":"Leistungsdaten!A62","v":"WPF 5 basic"}]
[null,null,null,null,{"$f":"35 &\" \"& Translation!$A$43","v":"35 persons "},null,null,null,null,{"$f":"Leistungsdaten!A63","v":"WPF 7 basic"}]
[null,null,null,null,{"$f":"36 &\" \"& Translation!$A$43","v":"36 persons "},null,null,null,null,{"$f":"Leistungsdaten!A64","v":"WPF 10 basic"}]
[null,null,null,null,{"$f":"37 &\" \"& Translation!$A$43","v":"37 persons "},null,null,null,null,{"$f":"Leistungsdaten!A65","v":"WPF 13 basic"}]
[null,null,null,null,{"$f":"38 &\" \"& Translation!$A$43","v":"38 persons "},null,null,null,null,{"$f":"Leistungsdaten!A66","v":"WPF 16 basic"}]
[null,null,null,null,{"$f":"39 &\" \"& Translation!$A$43","v":"39 persons "},null,null,null,null,{"$f":"Leistungsdaten!A67","v":"WPF 10 M"}]
[null,null,null,null,{"$f":"40 &\" \"& Translation!$A$43","v":"40 persons "},null,null,null,null,{"$f":"Leistungsdaten!A68","v":"WPF 13 M"}]
[null,null,null,null,null,null,null,null,null,{"$f":"Leistungsdaten!A69","v":"WPF 16 M"}]
[null,null,null,null,null,null,null,null,null,{"$f":"Leistungsdaten!A70","v":"WPF 20"}]
[null,null,null,null,null,null,null,null,null,{"$f":"Leistungsdaten!A71","v":"WPF 27"}]
[null,null,null,null,null,null,null,null,null,{"$f":"Leistungsdaten!A72","v":"WPF 27 HT"}]
[null,null,null,null,null,null,null,null,null,{"$f":"Leistungsdaten!A73","v":"WPF 35"}]
[null,null,null,null,null,null,null,null,null,{"$f":"Leistungsdaten!A74","v":"WPF 40"}]
[null,null,null,null,null,null,null,null,null,{"$f":"Leistungsdaten!A75","v":"WPF 52"}]
[null,null,null,null,null,null,null,null,null,{"$f":"Leistungsdaten!A76","v":"WPF 66"}]
[null,null,null,null,null,null,null,null,null,{"$f":"Leistungsdaten!A77","v":"WPF 20 SET"}]
[null,null,null,null,null,null,null,null,null,{"$f":"Leistungsdaten!A78","v":"WPF 23 SET"}]
[null,null,null,null,null,null,null,null,null,{"$f":"Leistungsdaten!A79","v":"WPF 26 SET"}]
[null,null,null,null,null,null,null,null,null,{"$f":"Leistungsdaten!A80","v":"WPF 29 SET"}]
["Rechenwerte",null,null,null,null,null,null,null,null,{"$f":"Leistungsdaten!A81","v":"WPF 32 SET"}]
["Name fossiler Energieträger",null,{"$f":"Einstellungen!D5","v":"Gaskessel"},null,null,null,null,null,null,{"$f":"Leistungsdaten!A82","v":"3 x WPF 16 M"}]
["Personenzahl",null,{"$f":"IF(E5=E7,0,LEFT(E5,FIND(\" \",E5)-1)*1)","v":4},null,null,null,null,null,null,{"$f":"Leistungsdaten!A83","v":"4 x WPF 16 M"}]
["Norm-Außentemperatur",null,{"$f":"LEFT(C5,FIND(\" \",C5)-1)*1","v":-10},null,null,null,null,null,null,{"$f":"Leistungsdaten!A84","v":"5 x WPF 16 M"}]
["Heizgrenz-Temperatur",null,{"$f":"IF(D5=D7,12,IF(D5=D8,10,15))","v":12},null,null,null,null,null,null,{"$f":"Leistungsdaten!A85","v":"6 x WPF 16 M"}]
["Gebäudeheizlast",null,{"$f":"G5*1","v":6},null,null,null,null,null,null,{"$f":"Leistungsdaten!A86","v":"WPF 80 SET"}]
["Zugehörige Wetterstation",null,{"$f":"IF(A5=A7,VLOOKUP(B5,Klimadaten!B:D,3,FALSE),B5)","v":"Fritzlar"},null,null,null,null,null,null,{"$f":"Leistungsdaten!A87","v":"WPF 92 SET"}]
["Startzeile Klimadaten Land",null,{"$f":"VLOOKUP(A5,A6:B50,2,FALSE)","v":100},null,null,null,null,null,null,{"$f":"Leistungsdaten!A88","v":"WPF 104 SET"}]
["Max Einstellbereich Heizlast",null,{"$f":"Einstellungen!D7","v":100},null,null,null,null,null,null,{"$f":"Leistungsdaten!A89","v":"WPF 118 SET"}]
["CO2-Faktor Strom g/kWh",null,{"$f":"Einstellungen!D31","v":621},"Für Ausdruck",null,null,null,null,null,{"$f":"Leistungsdaten!A90","v":"WPF 132 SET"}]
["Energiepreis Öl/Gas/Fernwärme",null,{"$f":"Einstellungen!D12","v":85},{"$f":"IF(H5=H7,Translation!A189,IF(H5=H8,Translation!A188,Translation!A187))","v":"pence/kWh"},null,null,null,null,null,{"$f":"Leistungsdaten!A91","v":"WPC 5 S GB"}]
["Heizwert Öl/Gas/Fernwärme",null,{"$f":"IF(H5=H7,C101,IF(H5=H8,C102,1))","v":1},{"$f":"IF(H5=H7,Translation!A193,IF(H5=H8,Translation!A192,IF(H5=H9,Translation!A119,C61)))","v":"Gaskessel"},null,null,null,null,null,{"$f":"Leistungsdaten!A92","v":"WPC 7 S GB"}]
["Energiepreis [€/kWh]",null,{"$f":"(C70/C71)/100","v":0.85},null,null,null,null,null,null,{"$f":"Leistungsdaten!A93","v":"WPC 10 S GB"}]
["CO2 Öl/Gas/Fernwärme",null,{"$f":"Einstellungen!D16","v":253},null,null,null,null,null,null,{"$f":"Leistungsdaten!A94","v":"WPF 5 S"}]
["Preissteigerung Öl/Gas/FW",null,{"$f":"Einstellungen!D14","v":5},null,null,null,null,null,null,{"$f":"Leistungsdaten!A95","v":"WPF 7 S"}]
["Wärmebedarf WW kWh/P*d",null,{"$f":"Einstellungen!D38","v":1.8},null,null,null,null,null,null,{"$f":"Leistungsdaten!A96","v":"WPF 10 S"}]
["Wärmebedarf WW KWh/Jahr",null,{"$f":"C75*365*C62*(1+C83/100)","v":3285},null,null,null,null,null,null,{"$f":"Leistungsdaten!A97","v":"WPF 7 MS"}]
["Deckungsanteil Solaranlage",null,{"$f":"Einstellungen!D42","v":50},null,null,null,null,null,null,{"$f":"Leistungsdaten!A98","v":"WPF 10 MS"}]
["Strompreis Haushalt Cent/kWH",null,{"$f":"Einstellungen!D25","v":25},null,null,null,null,null,null,{"$f":"Leistungsdaten!A99","v":"WPF 14 Set (S)"}]
["Strompreis WP Cent/Kwh",null,{"$f":"Einstellungen!D27","v":18},null,null,null,null,null,null,{"$f":"Leistungsdaten!A100","v":"WPF 17 Set (S)"}]
["Preissteigerung Strom %/Jahr",null,{"$f":"Einstellungen!D29","v":3},null,null,null,null,null,null,{"$f":"Leistungsdaten!A101","v":"WPF 20 Set (S)"}]
["Eta Öl/Gas/FW Heizung in %",null,{"$f":"Einstellungen!D18","v":97},null,null,null,null,null,null,{"$f":"Leistungsdaten!A145","v":"WPW 06 Set"}]
["Eta Öl/Gas/FW Warmwasser in %",null,{"$f":"Einstellungen!D20","v":80},null,null,null,null,null,null,{"$f":"Leistungsdaten!A146","v":"WPW 07 Set"}]
["Verteilverluste Warmwasser in %",null,{"$f":"Einstellungen!D40","v":25},null,null,null,null,null,null,{"$f":"Leistungsdaten!A147","v":"WPW 10 Set"}]
["Auswahl Kategorie",null,null,null,null,null,null,null,null,{"$f":"Leistungsdaten!A148","v":"WPW 13 Set"}]
["Energiekosten",null,false,null,null,null,null,null,null,{"$f":"Leistungsdaten!A149","v":"WPW 18 Set"}]
["Kostenentwicklung",null,false,null,null,null,null,null,null,{"$f":"Leistungsdaten!A150","v":"WPW 22 Set"}]
["Heizlast/Bivpunkt",null,true,null,null,null,null,null,null,{"$f":"Leistungsdaten!A151","v":"WPW 7 basic Set"}]
["Jahresheizarbeit",null,false,null,null,null,null,null,null,{"$f":"Leistungsdaten!A152","v":"WPW 10 basic Set"}]
["CO2",null,false,null,null,null,null,null,null,{"$f":"Leistungsdaten!A153","v":"WPW 13 basic Set"}]
["Endenergie",null,false,null,null,null,null,null,null,{"$f":"Leistungsdaten!A154","v":"WPW 18 basic Set"}]
["Leistungszahl",null,false,"Ausgabe",null,null,null,null,null,{"$f":"Leistungsdaten!A155","v":"WPW 22 basic Set"}]
[null,null,1,null,null,null,null,null,null,{"$f":"Leistungsdaten!A156","v":"WPF 10 M (Water)"}]
[null,null,null,null,null,null,null,null,null,{"$f":"Leistungsdaten!A157","v":"WPF 13 M (Water)"}]
[null,null,null,null,null,null,null,null,null,{"$f":"Leistungsdaten!A158","v":"WPF 16 M (Water)"}]
["Einheit Endenergie Slot 1",null,1,null,null,null,null,null,null,{"$f":"Leistungsdaten!A159","v":"WPF 20 (Water)"}]
["Einheit Endenergie Slot 1",null,1,null,null,null,null,null,null,{"$f":"Leistungsdaten!A160","v":"WPF 27 (Water)"}]
["Einheit Endenergie Slot 1",null,1,null,null,null,null,null,null,{"$f":"Leistungsdaten!A161","v":"WPF 27 HT (Water)"}]
[null,null,null,null,null,null,null,null,null,{"$f":"Leistungsdaten!A162","v":"WPF 35 (Water)"}]
["EEWärmeG zeigen ?",null,{"$f":"IF(AND(A5=A7,D5=D7,L5=1),TRUE,FALSE)","v":false},null,null,null,null,null,null,{"$f":"Leistungsdaten!A163","v":"WPF 40 (Water)"}]
[null,null,null,null,null,null,null,null,null,{"$f":"Leistungsdaten!A164","v":"WPF 52 (Water)"}]
["Heizwert Gas",null,10.4,null,null,null,null,null,null,{"$f":"Leistungsdaten!A165","v":"WPF 66 (Water)"}]
["Heizwert Öl",null,10.08,null,null,null,null,null,null,{"$f":"Leistungsdaten!A166","v":"WPF 20 SET (Water)"}]
["Slot1 gewählt?",null,{"$f":"Slot1!C86","v":true},null,null,null,null,null,null,{"$f":"Leistungsdaten!A167","v":"WPF 23 SET (Water)"}]
["Slot 2 gewählt",null,{"$f":"Slot2!C86","v":false},null,null,null,null,null,null,{"$f":"Leistungsdaten!A168","v":"WPF 26 SET (Water)"}]
["Slot 3 gewählt",null,{"$f":"Slot3!C86","v":false},null,null,null,null,null,null,{"$f":"Leistungsdaten!A169","v":"WPF 29 SET (Water)"}]
["Slots gesamt","berechnet",{"$f":"COUNTIF(C103:C105,TRUE)","v":1},null,null,null,null,null,null,{"$f":"Leistungsdaten!A170","v":"WPF 32 SET (Water)"}]
["Slots gesamt","Anzeige",1,null,null,null,null,null,null,{"$f":"Leistungsdaten!A171","v":"WPF 80 SET (Water)"}]
[null,null,null,null,null,null,null,null,null,{"$f":"Leistungsdaten!A172","v":"WPF 92 SET (Water)"}]
[null,null,null,null,null,null,null,null,null,{"$f":"Leistungsdaten!A173","v":"WPF 104 SET (Water)"}]
[null,null,null,null,null,null,null,null,null,{"$f":"Leistungsdaten!A174","v":"WPF 118 SET (Water)"}]
[null,null,null,null,null,null,null,null,null,{"$f":"Leistungsdaten!A175","v":"WPF 132 SET (Water)"}]
[null,null,null,null,null,null,null,null,null,{"$f":"Leistungsdaten!A176","v":"WPF 7 MS (Water)"}]
[null,null,null,null,null,null,null,null,null,{"$f":"Leistungsdaten!A177","v":"WPF 10 MS (Water)"}]
[null,null,null,null,null,null,null,null,null,{"$f":"Leistungsdaten!A178","v":"WPF 20 Set (S) (Water)"}]
[]
[]
[]
[]
["RHI-COP"]
["Vorlauf","COP Luft-Wasser","COP Sole-Wasser","Sterne","Oversize-factor"]
[{"$f":"F7","v":"30 °C"},3.6,4.3,6,6.8]
["35 °C",3.6,4.3,6,6.8]
["40 °C",3.4,4.0999999999999996,5,4.3]
["45 °C",3,3.7,4,3.1]
["50 °C",2.7,3.4,3,2.4]
["55 °C",2.4,3.1,2,1.9]
["Gewählt",{"$f":"VLOOKUP(F5,A121:D126,2,FALSE)","v":3.6},{"$f":"VLOOKUP(F5,A121:D126,3,FALSE)","v":4.3},{"$f":"VLOOKUP(F5,A121:D126,4,FALSE)","v":6},{"$f":"VLOOKUP(F5,A121:E126,5,FALSE)","v":6.8}]

{"sheet":"Translation","index":3,"n_rows":234,"n_cols":8,"rows_kept":234,"cut":false,"hidden":true,"merged":[]}
[]
["English","Deutsch","English","Holländisch","Slovak","Dansk","Latvia","Italienisch"]
["en_DE","de_DE","en_DE","nl_NL","sk_SK","da_DK","en_DE","it_AT"]
["Bivalent heatpump systems","Bivalente Wärmepumpensysteme","Bivalent heatpump systems","Bivalent warmtepompsysteem","Bivalentný systém tepleného čerpadla","Bivalent varmepumpesystem","Bivalentas siltumsūkņu sistēmas","Sistema bivalente in pompa di calore"]
["Heat pump","Wärmepumpe","Heat pump","Warmtepomp","Tepelné čerpadlo","Varmepumpe","Siltumsūknis","Pompa di calore"]
["Operating mode","Betriebsweise","Operating mode","Werkwijze","Prevádzka","Driftsmåde","Darbības režīms","Modalità di funzionamento"]
["Mode","Betrieb","Mode","Werking","Režim","Tilstand","Režīms","Modalità"]
["Input values","Eingabewerte","Input values","Ingegeven waarde","Vstupné údaje","Input værdier","Ievadāmās vērtības","Valori ingresso"]
["No second heat source","Kein zweiter Wärmeerzeuger","No second heat source","Geen tweede verwarmingsbron","Žiadny druhý zdroj","Ingen anden varmekilde","Bez papildus siltumavota","Senza secondo generatore di calore"]
["Monoenergetic","Monoenergetisch","Monoenergetic","Monoenergetisch","Monoenergetický","Monoenergetisk","Mono enerģētisks","Monoenergetico"]
["Mono-Mode","Monovalent","Mono-Mode","Monovalent","Monovalnetná ","Monovalent","Monovalents","Monovalente"]
["Bivalent-parallel","Bivalent-Parallel","Bivalent-parallel","Bivalent-parallel","Bivalentná - pararelná","Bivalent-parallel","Bivalents-paralēls","Bivalente-parellelo"]
["Bivalent-alternativ","Bivalent-Alternativ","Bivalent-alternativ","Bivalent-alternatief","Bivalentná - alternatívna","Bivalent-alternativ","Bivalents-alternatīvs","Bivalente-alternativo"]
["Parallel","Parallelbetrieb","Parallel","Parallel","Paralelná","Parallel","Paralēla darbība","Parallelo"]
["Alternativ","Alternativbetrieb","Alternativ","Alternatief","Alternatívna","Alternativ","Alternatīva darbība","Alternativo"]
["2nd heat source","2. Wärmeerzeuger","2nd heat source","Additioneel toestel","Druhý zdroj","2. varmekilde","Papildus siltumavots","Secondo generatore di calore"]
["New building","Neubau","New building","Nieuwbouw","Nová budova","Nybyg","Jaunbūve","Edificio di nuova costruzione"]
["Not-renovated building","Altbau unsaniert","Not-renovated building","Bestaande bouw","Nerekonštruovaná budova","Ikke renoveret bygning","Nerenovēta ēka","Vecchio edificio non ristrutturato"]
["Passive house","Passivhaus","Passive house","Passiefhuis","Pasívny dom","Passivhus","Pasīvā ēka","Casa passiva"]
["Germany","Deutschland","Germany","Duitsland","Nemecko","Tyskland","Vācija","Germania"]
["Austria","Österreich","Austria","Oostenrijk","Rakúsko","Østrig","Austrija","Austria"]
["Switzerland","Schweiz","Switzerland","Zwitserland","Švajčiarsko","Schweiz","Šveice","Svizzera"]
["Great Britain","Großbritannien","Great Britain","Engeland","Veľká Británie","Storbritannien ","Lielbritānija","Gran Bretagna"]
["Netherlands","Niederlande","Netherlands","Nederland","Holandsko","Holland","Holande","Paesi Bassi"]
["Italy","Italien","Italy","Italie","Taliansko","Italien","Itālija","Italia"]
["Finland","Finnland","Finland","Finland ","Fínsko","Finland","Somija","Finlandia"]
["Spain","Spanien","Spain","Spanje","Španielsko","Spanien","Spānija","Spagna"]
["Near East","Naher Osten","Near East","Midden Oosten","Blízky Východ","Mellemøsten","Tuvie Austrumi","Vicino Oriente"]
["Morocco","Marokko","Morocco","Marokko","Maroko","Marokko","Maroka","Marocco"]
["Namibia","Namibia","Namibia","Namibië","Namibia","Namibia","Namībija","Namibia"]
["Russia","Russland","Russia","Russia","Rusko","Rusland","Krievija","Russia"]
["Bosnia-Herzegovina","Bosnien-Herzegowina","Bosnia-Herzegovina","Bosnie-Herzegovina","Bosna a Hercegovina","Bosnien-Herzegovina","Bosnija-Hercegovina","Bosnia-Erzegovina"]
["Slovakia","Slovakei","Slovakia","Slovakia","Slovensko","Slovakiet","Slovākija","Repubblica Slovacca"]
["Latvia","Lettland","Latvia","Letland","Lotyšsko","Litauen","Latvija","Lettonia"]
["Lithuania","Litauen","Lithuania","Litouwen","Lithuania","Lithuania","Lietuva","Lituania"]
["Denmark","Dänemark","Denmark","Denemarken","Dánsko","Danmark","Dānija","Danimarca"]
["Europe","Europa","Europe","Europa","Európa","Europa","Eiropa","Europa"]
["Dual-mode point","Bivalenzpunkt","Dual-mode point","Bivalentiepunt","Bivalentný bod","Bivalenspunkt","Bivalences punkts","Punto di bivalenza"]
["Energy prices","Energiepreise","Energy prices","Energieprijzen","Cena energie","Energipriser","Enerģijas cenas","Prezzi dell'energia"]
["DHW","Warmwasser","DHW","Tapwater","Teplá voda","Varmt brugsvand","Karstais ūdens","ACS"]
["without DHW","Ohne Warmwasser","without DHW","Zonder Tapwater","bez teplej vody","Uden varmt brugsvand","bez karstā ūdens","senza ACS"]
["person","Person","person","Persoon","osoba","Person","cilvēks","persona"]
["persons ","Personen","persons ","Personen","osoby","Personer","cilvēki","persone"]
["Options","Allgemeine Einstellungen","Options","Opties","Možnosti","Valgmuligheder","Vispārējie iestatījumi","Opzioni"]
["CO2-factor electricity","CO2-Faktor Strom","CO2-factor electricity","CO2-Factor Stroom","CO2-Faktor elektriny","CO2-faktor strøm","CO2-faktors elektrībai","Emissioni di CO2 dell'elettricità"]
["Electricity price heat pump","Strompreis Wärmepumpe","Electricity price heat pump","Prijs electra Warmtepomp","Cena elektriky pre tepel.čerpadlo","Elpris varmepumpe","Elektrības cena siltumsūknim","Prezzo dell'energia elettrica per la pompa di calore"]
["Oil price in pence/liter","Ölpreis in Cent/Liter","Oil price in pence/liter","Olieprijs in Cent/Liter","Cena vykur. oleja v cent/liter","Oliepris i øre/liter","Dīzeļdegvielas cena centi/litrā","Prezzo del gasolio in centesimi/litro"]
["Gas price in pence/m³","Gaspreis in Cent/m³","Gas price in pence/m³","Gasprijs in Cent/m³","Cena zem. plynu v cent/m³","Gaspris i øre/m³","Gāzes cena centi/m³","Prezzo del gas metano in centesimi/m³"]
["Yearly price increase","Preissteigerung","Yearly price increase","Jaarlijkse stijging","Ročná miera zdrženia ceny","Årlig prisstigning","Ikgadējais sadārdzinājums","Aumento annuo del costo"]
["Price increase electricity","Preissteigerung Strom","Price increase electricity","Stijging prijs electra","Zvýšenie ceny elektriny","Prisstigning el","Elektrības sadārdzinājums","Incremento di prezzo dell'energia elettrica"]
["oil/gas","Öl/Gas","oil/gas","Olie/Gas","olej/plyn","Olie/gas","dīzeļdegviela/gāze","gasolio / gas metano"]
["Efficiency","Wirkungsgrade","Efficiency","Rendement","Účinnosť","Effekttivitet","Lietderības koeficients","Rendimento"]
["Efficiency Heating","Wirkungsgrad Heizung","Efficiency Heating","Rendement verwarminging","Účinnosť vykurovanie","Effektivitet varme","Lietderības koeficients apkurei","Rendimento per riscaldamento"]
["Efficiency DHW","Wirkungsgrad Warmwasser","Efficiency DHW","Rendement tapwater","Účinnosť TUV","Effektivitet varmtvand","Lietderības koeficients karstajam ūdenim","Rendimento per ACS"]
["Hot water consumption","Warmwasserbedarf","Hot water consumption","Tapwaterbehoefte","Spotreba teplej vody","Varmtvandsforbrug","Karstā ūdens patēriņš","Consumo di acqua calda"]
["kWh/person x day","kWh/Person x Tag","kWh/person x day","kWh/pppd","kWh/osoba x deň","kWh/person x dag","kWh/personai dienā","kWh/persona al giorno"]
["Yearly heat demand","Jahresheizwärmebedarf","Yearly heat demand","Jaarlijks benodigde verwarmingsvermogen","Ročná potreba tepla","Årligt varmeforbrug","Gada siltumenerģijas patēriņš","Fabbisogno termico annuo"]
["Default values","Standardwerte","Default values","Standaardwaarden","Predvolené","Standard værdier","Pamatiestatījumi","Valori di default"]
["Save & Back","Speichern & Zurück","Save & Back","Terug","Späť","Tilbage","Saglabāt","Salva"]
["Settings","Einstellungen","Settings","Overige instellingen","Viac možností nastavenia","Flere indstillinger","Uzstādījumi","Impostazioni"]
["Print preview","Druckvorschau","Print preview","Afdrukvoorbeeld","tlačiť","Print","Drukas priekšskatījums","Anteprima di stampa"]
["Final energy","Endenergie","Final energy","Eindverbruik van energie","Celková energia","Slutenergi","Kopējais enerģijas patēriņš","Energia finale"]
["Years","Jahre","Years","Jaren","Roky","År","Gadi","Anni"]
["Oil boiler","Ölkessel","Oil boiler","Olieketel","Kotol na vykur. olej","Oliekeddel","Dīzeļdegvielas katls","Caldaia a gasolio"]
["Gas boiler","Gaskessel","Gas boiler","Gasketel","Plynový kotol","Gaskeddel","Gāzes katls","Caldaia a gas metano"]
["Annual heating ","Heizarbeit","Annual heating ","Verwarmingsvermogen ","Ročná spotreba","Årlig varme","Gada siltumenerģija","Riscaldamento annuale"]
["Final energy","Endenergie","Final energy","Eindverbruik van energie","Celková energia","Slutenergi","Kopējais enerģijas patēriņš","Energia finale"]
["Energy costs ","Energiekosten","Energy costs ","Energiekosten","Cena energie","Energiomkostninger","Enerģijas cena","Costi dell'energia"]
["CO2-emission","CO2-Emission","CO2-emission","CO2-Emissie","CO2 - emisie","CO2-emission","CO2-emisija","Emissioni di CO2"]
["Cost trend","Kostenentwicklung","Cost trend","Ontwikkeling kosten","Vývoj nákladov","Omkostninger udvikling","Izmaksu tendence","Andamento dei costi"]
["Heat demand | Dual-mode point","Heizlast | Bivalenzpunkt","Heat demand | Dual-mode point","Warmteverlies | Bivalentiepunt","Tepelná strata I bod bivalencie","Effektbehov | Bivalenspunkt","Siltumslodze | Bivalences punkts","Fabbisogno termico | Punto di bivalenza"]
["Heat demand","Heizlast","Heat demand","Warmteverlies","Tepelná strata","Effektbehov","Siltumslodze","Fabbisogno termico"]
["Heat demand | Heating power [KW]","Heizlast | Heizleistung [KW]","Heat demand | Heating power [KW]","Warmteverlies | Vermogen [KW]","Tepelná strata I tepelný príkon [KW]","Effektbehov | Varmeeffekt [kW]","Siltumslodze | Siltuma saražotais daudzums [KW]","Fabbisogno termico | Potenza termica [kW]"]
["Outside temperature [°C]","Außentemperatur [°C]","Outside temperature [°C]","Buitentemperatuur [°C]","Vonkjašia teplota [°C]","Udetemperatur [°C]","Ārgaisa temperatūra [°C]","Temperatura esterna [°C]"]
["Electric heating","Elektroheizung","Electric heating","Elektrische verwarming","Elektrické kúrenie","Elektrisk opvarmning","Elektriskā apkure","Riscaldamento elettrico"]
["Location","Standort","Location","Plaats object","Umiestnenie","Placering","Vieta","Località"]
["£/Year","€/Jahr","£/Year","Euro/Jaar","€/rok","DKK/år","€/Gadā","€/anno"]
["£/kWh","€/kWh","£/kWh","Euro/kWh","€/kWh","DKK/kWh","€/kWh","€/kWh"]
["kWh/Year","kWh/Jahr","kWh/Year","kWh/Jaar","kWh/rok","kWh/år","kWh/Gadā","kWh/anno"]
["kg/year","kg/Jahr","kg/year","kg/Jaar","kg/rok","kg/år","kg/Gadā","kg/anno"]
["%/year","% pro Jahr","%/year","%/Jaar","%/rok","%/år","% Gadā","%/anno"]
["Energy costs 15 years","Energiekosten 15 Jahre","Energy costs 15 years","Energiekosten 15 jaar","Cena energii za 15 rokov","Energiomkostninger 15 år","Enerģijas izmaksas 15 Gados","Costi dell'energia 15 anni"]
["Heat demand by consumption","Heizlast nach Verbrauchsdaten","Heat demand by consumption","Verwarmingsvermogen","Spotrebované teplo","Effektbehov efter forbrugsdata","Siltumslodze pēc iepriekšēja patēriņa","Fabbisogno termico per consumo"]
["Building","Gebäude","Building","Object","Budova","Bygning","Ēka","Edificio"]
["Year of build","Baujahr","Year of build","Bouwjaar","Rok výstavby","Bygningsår","Ēka uzbūvēta","Anno di costruzione"]
["From 2009","Ab 2009","From 2009","Vanaf 2009","od 2009","Fra 2009","Pēc 2009","Dal 2009"]
["1995 - 2008","1995 - 2008","1995 - 2008","1995-2008","1995 - 2008","1995 - 2008","1995 - 2008","1995 - 2008"]
["1980 - 1994","1980 - 1994","1980 - 1994","1980-1994","1980 - 1994","1980 - 1994","1980 - 1994","1980 - 1994"]
["Before 1980","Vor 1980","Before 1980","Voor 1980","pred 1980","Før 1980","Pirms 1980","Prima del 1980"]
["Type of building","Gebäudetyp","Type of building","Type Gebouw","Typ budovy","Bygningstype","Ēkas tips","Tipologia di edificio"]
["Single family house","Einfamilienhaus","Single family house","Einfamilienhaus","Einfamilienhaus","Einfamilienhaus","Einfamilienhaus","Einfamilienhaus"]
["Multi family house","Mehrfamilienhaus","Multi family house","Mehrfamilienhaus","Mehrfamilienhaus","Mehrfamilienhaus","Mehrfamilienhaus","Mehrfamilienhaus"]
["Office building","Bürogebäude","Office building","Utiliteit","Kancelárske priestory","Kontorbygning","Ofisu ēka","Palazzina uffici"]
["Hospital","Krankenhaus","Hospital","Ziekenhuis","Nemocnica","Hospital","Slimnīca","Ospedale"]
["School (without showers)","Schule (ohne Duschen)","School (without showers)","School","Škola (bez spŕch)","Skole (uden brusebad)","Skola (bez dušām)","Scuola (senza docce)"]
["School (with showers)","Schule (mit Duschen)","School (with showers)","School met douchefaciliteit","Škola (so sprchami)","Skole (med brusebad)","Skola (ar dušām)","Scuola (con docce)"]
["Retailer / Store","Einzelhandel/Kaufhaus","Retailer / Store","Handelsbedrijf","Predajňa / obchod","Detailhandel / stormagasin","Lielveikals / Noliktava","Rivendita / Negozio"]
["Garage (with showers)","Werkstatt (mit Duschen)","Garage (with showers)","Werkplaats met douchefaciliteit","Garáže (so sprchami)","Værksted (med brusebad)","Garāža (ar dušām)","Garage (con docce)"]
["Hotel (Standard)","Hotel (Standard)","Hotel (Standard)","Hotel (standaard)","Hotel (štandart)","Hotel (Standard)","Viesnīca (***)","Hotel (medio livello)"]
["Hotel (High standard)","Hotel (Gehobener Standard)","Hotel (High standard)","Hotel (bovengemiddeld Luxe)","Hotel (vysoký štandart)","Hotel (Høj standard)","Viesnīca (****)","Hotel (alto livello)"]
["Hotel (Luxury)","Hotel (Luxus)","Hotel (Luxury)","Hotel (luxe)","Hotel (luxusný)","Hotel (Luksus)","Viesnīca (*****)","Hotel (di lusso)"]
["Restaurant","Gaststätte","Restaurant","Gastenverblijf","Reštaurácia","Restaurant","Restorāns","Ristorante"]
["Nursing home","Heim","Nursing home","Bejaardenhuis","Sanatórium","Plejehjem","Pansionāts","Casa di cura"]
["Barracks","Kaserne","Barracks","Kazerne","Ubytovne","Kaserne","Kazarmas","Caserma"]
["Sports facility (with showers)","Sportanlage (Mit Dusche)","Sports facility (with showers)","Sporthal (Met douchefaciliteit)","Športový komplex (so sprchami)","Sportsanlæg (med brusbad)","Sporta iestāde (ar dušām)","Struttura sportiva (con docce)"]
["Bakery","Bäckerei","Bakery","Bakkerij","Pekáreň","Bageri","Maiznīca","Panificio"]
["Hairdresser","Friseur","Hairdresser","Kapper","Kaderníctvo","Frisør","Frizētava","Parrucchiere"]
["Butcher (with production)","Fleischerei mit Produktion","Butcher (with production)","Slager met slachterij","Mäsiarstvo (s výrobou)","Slagter (med produktion)","Miesnieks (ar ražošanu)","Macellaio (con produzione)"]
["Average room temperature","Mittlere Innentemperatur","Average room temperature","Gemmidelde Ruimtemperatuur","Priemerná teplota miestnosti","Middel rumtemperatur","Vidējā temperatūra telpās","Temperatura ambiente media"]
["Heating system","Heizungsanlage","Heating system","Verwarmingsinstallatie","Vykurovací systém","Varmesystem","Apkures sistēma","Sistema di riscaldamento"]
["Heat generator","Wärmeerzeuger","Heat generator","Verwarmingsbron","Zdroj tepla","Varmeanlæg","Siltuma avots","Generatore di calore"]
["Input Name","Eingabe Name","Input Name","Input Name","Input Name","Input Name","Input Name","Input Name"]
["Gas boiler","NT-Kessel Gas","Gas boiler","VR Gasketel","Plynový kotol","Gaskeddel","Gāzes katls","Caldaia a gas metano"]
["Oil boiler","NT-Kessel Öl","Oil boiler","VR Olieketel","Olejový kotol","Oliekeddel","Dīzeļdegvielas katls","Caldaia a gasolio"]
["Condensing gas boiler","Brennwertkessel Gas","Condensing gas boiler","HR gasketel","Kondenzačný kotol","Kondenserende gaskeddel","Gāzes kondensācijas katls","Caldaia a condensazione a gas metano"]
["Condensing oil boiler","Brennwertkessel Öl","Condensing oil boiler","HR Olieketel","Kondenzačný olejový kotol","Kondenserende oliekeddel","Dīzeļdegvielas kondensācijas katls","Caldaia a condensazione a gasolio"]
["Storage heater","Wärmespeicher","Storage heater","Buffervat","Akumulátor tepla","Storage heater","Krāsns apkure","Riscaldamento ad accumulo"]
["Electric heating","Elektro-Direktheizung","Electric heating","Directe Electrische verwarming","Elektrické kúrenie","Elektrisk opvarmning","Elektriskā apkure","Riscaldamento elettrico"]
["District heating","Fernwärme","District heating","Stadsverwarming","Centrálne vykurovanie","Fjernvarme","Pilsētas siltumtīkli","Teleriscaldamento"]
["Pellet","Pelletkessel","Pellet","Palletketel","Kotol na peletky","Pillefyr","Granulu/malkas katls","Pellet"]
["Other","Sonstige","Other","Overige soorten","Iný","Andet","Cits","Altro"]
["Usage","Nutzungsart","Usage","Bedrijfswijze","Požitie","Brug","Pielietojums","Utilizzo"]
["Heating only","Nur Heizung","Heating only","Alleen verwarming","Len kúrenie","Kun opvarmning","Tikai apkure","Solo riscaldamento"]
["Heating","Heizung","Heating","Verwarming","Kúrenie","Varme","Apkure","Riscaldamento"]
["Heating | DHW","Heizung | Warmwasserbereitung","Heating | DHW","Verwarming/tapwaterbereiding","Kúrenie I TUV","Opvarmning | Varmt brugsvand","Apkure | Karstais ūdens","Riscaldamento | ACS"]
["Age of heating system","Alter Heizungsanlage","Age of heating system","Bestaande Verwarmingsinstallatie","Vek vykurovacieho systému","Varmeanlæggets alder","Apkures sistēmas vecums","Età del sistema di riscaldamento"]
["Before 1980","Vor 1980","Before 1980","Voor 1980","pred 1980","Før 1980","Pirms 1980","Prima del 1980"]
["1980 - 1994","1980 - 1994","1980 - 1994","1980-1994","1980 - 1994","1980 - 1994","1980 - 1994","1980 - 1994"]
["From 1995","Ab 1995","From 1995","Vanaf 1994","od 1995","Fra 1995","Pēc 1995","Dal 1995"]
["DHW production","Warmwasserbereitung","DHW production","Tapwaterbereiding","Ohrev TUV","Varmtvandsproduktion","Karstā ūdens ražošana","Produzione di ACS"]
["DHW type","Art der Warmwasserbereitung","DHW type","Type tapwaterbereiding","typ ohrevu TUV","Type varmt brugsvand","Karstā ūdens cirkulācija","Tipologia di produzione ACS"]
["Building-central without circulation","Gebäudezentral ohne Zirkulation","Building-central without circulation","Centrale opwekking zonder circulatieleiding","Budova bez cirkulácie TUV","Centralt-bygning uden cirkulation","Centrālā ūdensapgāde bez cirkulācijas","Centralizzata nell'edificio senza ricircolo"]
["Building-central with circulation","Gebäudezentral mit Zirkulation","Building-central with circulation","Centrale opwekking met circulatieleiding","Budova s cirkulácie TUV","Centralt-bygning med cirkulation","Centrālā ūdensapgāde ar cirkulāciju","Centralizzata nell'edificio con ricircolo"]
["Apartment-central","Wohnungszentral","Apartment-central","Centrale opwekking","Byty s centrálnym zdrojom","centralt-lejlighed","Centrālā ūdensapgāde dzīvoklī","Centralizzata nell'appartamento"]
["Apartment-decentral","Dezentral (Einzelversorgung)","Apartment-decentral","Decentrale opwekking","Byty s vlastným zdrojom","Decentralt lejligheder","Lokāla ūdensapgāde dzīvoklī","Decentralizzata nell'appartamento"]
["Number of residents","Anzahl Personen","Number of residents","Aantal Personen","Počet osôb","Antal personer","iedzīvotāju skaits","Numero di residenti"]
["Demand period","Bedarfszeitraum","Demand period","Periode waarin behoefte is","Vykurovacie obdobie","Behovsperiode","Karstā ūdens sagatavošana","Periodo di fabbisogno"]
["All year","Ganzjährig","All year","Gehele jaar","Celý rok","Hele året","Visu gadu","Tutto anno"]
["1 month / year","1 Monat / Jahr","1 month / year","1 Maand/Jaar","1 mesiac / rok","1 måned / år","Mēnesi / gadā","1 mese / anno"]
["2 months / year","2 Monate / Jahr","2 months / year","2 Maanden/Jaar","2 mesiace / rok","2 måned / år","2 Mēnešus / gadā","2 mesi / anno"]
["3 months / year","3 Monate / Jahr","3 months / year","3 Maanden/Jaar","3 mesiace / rok","3 måned / år","3 Mēnešus / gadā","3 mesi / anno"]
["4 months / year","4 Monate / Jahr","4 months / year","4 Maanden/Jaar","4 mesiace / rok","4 måned / år","4 Mēnešus / gadā","4 mesi / anno"]
["5 months / year","5 Monate / Jahr","5 months / year","5 Maanden/Jaar","5 mesiacov / rok","5 måned / år","5 Mēnešus / gadā","5 mesi / anno"]
["6 months / year","6 Monate / Jahr","6 months / year","6 Maanden/Jaar","6 mesiacov / rok","6 måned / år","6 Mēnešus / gadā","6 mesi / anno"]
["7 months / year","7 Monate / Jahr","7 months / year","7 Maanden/Jaar","7 mesiacov / rok","7 måned / år","7 Mēnešus / gadā","7 mesi / anno"]
["8 months / year","8 Monate / Jahr","8 months / year","8 Maanden/Jaar","8 mesiacov / rok","8 måned / år","8 Mēnešus / gadā","8 mesi / anno"]
["9 months / year","9 Monate / Jahr","9 months / year","9 Maanden/Jaar","9 mesiacov / rok","9 måned / år","9 Mēnešus / gadā","9 mesi / anno"]
["10 months / year","10 Monate / Jahr","10 months / year","10 Maanden/Jaar","10 mesiacov / rok","10 måned / år","10 Mēnešus / gadā","10 mesi / anno"]
["11 months / year","11 Monate / Jahr","11 months / year","11 Maanden/Jaar","11 mesiacov / rok","11 måned / år","11 Mēnešus / gadā","11 mesi / anno"]
["Summary","Ergebnis","Summary","Uitkomst","Sumár","Sammendrag","Kopsavilkums","Sommario"]
["Heat demand *","Gebäudeheizlast *","Heat demand *","Warmteverlies","Tepelná strata","Effektbehov","Siltumslodze *","Fabbisogno termico | Punto di bivalenza"]
["Calculation based on DIN EN 12831 Supplement 2, may 2010","Entspricht der Wärmeerzeuger-Nennleistung. Die Norm-Gebäudeheizlast kann höher ausfallen, da interne und solare Wärmeeinträge (Fremdwärmegewinne) nicht berücksichtigt sind.","Calculation based on DIN EN 12831 Supplement 2, may 2010","Is volgens een normberekening, het officiele warmteverlies kan hoger zijn omdat interne warmtelast en externe invloeden zoals zonlichttoetreding niet meegenomen zijn.","  ","Svarer til den varmeproducerende mærkeeffekt. Standard bygning varmelasten kan være højere, da interne og solare varmeindfald (eksterne varmegevinster) ikke betragtes.","Aprēķinos norādītas siltuma ražošanas iekārtu nominālās jaudas. Kopējā siltumslodze ēkā var būt lielāka, jo netiek ņemti iekšējie siltuma pieplūdumi un saules enerģija","Calcli basati su norma DIN EN 12831 Supplemento 2, Maggio 2010"]
[null,"Berechnung nach DIN EN 12831 Beiblatt 2 (Stand Mai 2012)",null,"Berekening volgens DIN EN 12831 Tapblad 2, stand mei 2012","Návrh vypočítaný podľa DIN EN 12831 článok 2, máj 2010","Beregning baseret på DIN EN 12831 blad 2, maj 2012","Aprēķins pēc DIN EN 12831, 2 papildinājuma, 2010. gada Maijs","Calcli basati su norma DIN EN 12831 Supplemento 2, Maggio 2010"]
["Consumption in l/year","Verbrauch in Liter/Jahr","Consumption in l/year","Verbruik in l/jr","Spotreba v l/rok","Forbrug i liter/år","Patēriņš, l/gadā","Consumo in litri/anno"]
["Consumption in m³/year","Verbrauch in m³/Jahr","Consumption in m³/year","Verbruik in m3/jr","Spotreba v m3/rok","Forbrug i m³/år","Patēriņš, m³/gadā","Consumi m³/anno"]
["Consumption in kWh/year","Verbrauch in kWh/Jahr","Consumption in kWh/year","Verbruik in kWh/jr","Spotreba v kWh/rok","Forbrug i kWh/år","Patēriņš, kWh/gadā","Consumo in kWh/anno"]
["Consumption in kg/year","Verbrauch in kg/Jahr","Consumption in kg/year","Verbruik in kg/jr","Spotreba v kg/rok","Forbrug i kg/år","Patēriņš, kg/gadā","Consumo in kg/anno"]
["Number of persons","Anzahl Personen","Number of persons","Aantal Personen","Počet osôb","Antal personer","iedzīvotāju skaits","Numero di persone"]
["Number of beds","Anzahl Betten","Number of beds","Aantal bedden","Počet lôžok","Antal senge","Gultu skaits","Numero di letti"]
["Number of employees","Anzahl Beschäftigte","Number of employees","Aantal medewerkers","Počet zamestnancov","Antal ansatte","Darbinieku skaits","Numero di impiegati"]
["Number of seats","Anzahl Sitzplätze","Number of seats","Aantal zitplaatsen","Počet miest","Antal sæder","Sēdvietu skaits","Numero di posti a sedere"]
["| Back","| zurück","| Back","| terug","I späť","| Tilbage","| Atgriezties","Indietro"]
["Restore to standard values ?","Alle Änderungen werden verworfen. Fortfahren?","Restore to standard values ?","Alle ingegeven waarden worden gereset, doorgaan?","Obnoviť štandardné hodnoty?","Gendan til standard værdier ?","Atjaunot noklusētos iestatījumus ?","Ripristinare i valori standard"]
["Standard values","Standardwerte","Standard values","Standaardwaarden","Predvolené","Standard værdier","Pamatiestatījumi","Valori standard"]
["Select country","Auswahl Land","Select country","Voorlopige keuze land","Vyber krajnu","Vælg land","Izvēlaties valsti","Seleziona nazione"]
["Select fossil energy","Auswahl fossiler Energieträger","Select fossil energy","Keuze fossiele energiedrager","Vyber fosilné palivo","Udvælg fossile brændsler","Izvēlaties fosilo enerģiju","Seleziona energia fossile"]
["Max. setting range heat demand","Max. Einstellbereich Heizlast","Max. setting range heat demand","Max. Instelbereik Transmissieverlies","Max. rozsah tepelných strát","Max indstilling varmeeffekt","Max. setting range heat demand","Max. setting range heat demand"]
["Legal note","Rechtliche Hinweise","Legal note","Juridische informatie","Právna poznámka","Juridiske betingelser","Legal note","Nota legale"]
["Stiebel Eltron shall not provide any guarantees that the information, values and data provided, or values, information and recommendations determined with the aid or on the basis of such information, values and data, are complete, accurate, correct or current in every respect.\nStiebel Eltron shall reserve the right to make changes to the data, values and information provided at any time and without prior notification.\nErrors excepted. Subject to changes.\nNone of the information, values and data provided or the values, information and recommendations determined with the aid or on the basis of such information, values and data constitutes any basis for a financial decision or for any other purpose, but rather is merely initial non-binding information as an initial guide.\nUnder no circumstances should the following design tool be considered a substitute for consultation with Stiebel Eltron or another authorised expert engineer.\nPlease contact Stiebel Eltron or another authorised expert engineer in relation to specific project design.\nStiebel Eltron shall accept no liability for losses of any kind that may arise from the use of information, values and data provided, or values, information and recommendations determined with the aid or on the basis of such information, values and data. This exclusion of liability shall not apply if the loss is due to intent or gross negligence on the part of Stiebel Eltron or in the event of a fatality, physical injury or damage to health.\n","Stiebel Eltron übernimmt keinerlei Gewährleistung oder Garantie dafür, dass die bereitgestellten Angaben, Werte und Informationen oder die mit Hilfe bzw. anhand dieser Informationen, Werte und Angaben ermittelten Werte und Angaben in jeder Hinsicht vollständig, genau, richtig und aktuell sind. \n\nStiebel Eltron behält sich das Recht vor, jederzeit und ohne vorherige Ankündigung Änderungen der bereitgestellten Angaben, Werte und Informationen vorzunehmen.\nIrrtum und Änderungen sind ausdrücklich vorbehalten.\nKeine der bereitgestellten Angaben, Werte und Informationen oder der mit Hilfe bzw. anhand dieser Angaben, Werte und Informationen ermittelten Werte und Angaben sind als Grundlage für eine finanzielle Entscheidung oder für einen sonstigen Zweck anzusehen, sondern dienen vielmehr nur als eine erste unverbindliche Information und als Hilfe zur ersten Orientierung.\n\nUnter keinen Umständen ersetzt die Planungshilfe die Beratung durch Stiebel Eltron oder einen autorisierten Fachplaner.\n\nBitte wenden Sie sich für die konkrete Planung des Projektes an Stiebel Eltron oder einen anderen autorisierten Fachplaner.\n\nDie Haftung von Stiebel Eltron für Schäden jeglicher Art, die sich möglicherweise aus der Nutzung oder Verwendung der bereitgestellten Informationen, Werte und Angaben oder der mit Hilfe bzw. anhand dieser Angaben, Werte und Informationen ermittelten Werte und Angaben, ergeben, ist ausgeschlossen. Dieser Haftungsausschluss gilt nicht, wenn der Schaden auf Vorsatz oder grobe Fahrlässigkeit von Stiebel Eltron zurückzuführen ist sowie bei einer Verletzung des Lebens, des Körpers oder der Gesundheit.","Stiebel Eltron shall not provide any guarantees that the information, values and data provided, or values, information and recommendations determined with the aid or on the basis of such information, values and data, are complete, accurate, correct or current in every respect.\nStiebel Eltron shall reserve the right to make changes to the data, values and information provided at any time and without prior notification.\nErrors excepted. Subject to changes.\nNone of the information, values and data provided or the values, information and recommendations determined with the aid or on the basis of such information, values and data constitutes any basis for a financial decision or for any other purpose, but rather is merely initial non-binding information as an initial guide.\nUnder no circumstances should the following design tool be considered a substitute for consultation with Stiebel Eltron or another authorised expert engineer.\nPlease contact Stiebel Eltron or another authorised expert engineer in relation to specific project design.\nStiebel Eltron shall accept no liability for losses of any kind that may arise from the use of information, values and data provided, or values, information and recommendations determined with the aid or on the basis of such information, values and data. This exclusion of liability shall not apply if the loss is due to intent or gross negligence on the part of Stiebel Eltron or in the event of a fatality, physical injury or damage to health.\n","Stiebel Eltron geeft geen enkele garantie dat de aangeboden informatie, waarden en gegevens of de met behulp van of aan de hand van deze informatie, waarden en gegevens berekende waarden, informatie en aanbevelingen in elk opzicht volledig, nauwkeurig, juist en actueel zijn. \n\nStiebel Eltron behoudt zich het recht voor om op elk moment zonder voorafgaande kennisgeving wijzigingen aan te brengen in de aangeboden gegevens, waarden en informatie.\nVergissingen en wijzigingen worden door Stiebel Eltron uitdrukkelijk voorbehouden.\nDe aangeboden informatie, waarden en gegevens of de met behulp van of aan de hand van deze informatie, waarden en gegevens berekende waarden, informatie en aanbevelingen betreffen een eerste Stiebel Eltron niet-bindende informatie voorziening die niet kan worden gebruikt als basis voor een financiële beslissing of voor andere doeleinden dan een eerste oriëntatie. \n\nDeze planningshulp kan in geen geval dienen als vervanging voor het persoonlijke advies van Stiebel Eltron of een andere geautoriseerde systeemadviseur. \n\nVoor de concrete planning van uw project dient u zich te allen tijde te wenden tot Stiebel Eltron of een andere geautoriseerde systeemadviseur. \n\nStiebel Eltron aanvaardt op geen enkele wijze aansprakelijkheid voor schade en/of ander nadeel, direct dan wel indirect, die voortvloeit uit het gebruik of de toepassing van de aangeboden informatie, waarden en gegevens of de met behulp van of aan de hand van deze informatie, waarden en gegevens van berekende waarden, informatie en aanbevelingen. De hierboven omschreven uitsluitingen gelden niet in geval van grove nalatigheid, opzet of schade aan leven, lichaam of gezondheid.","Stiebel Eltron vil ikke give nogen garantier, at de oplysninger, værdier og data, eller værdier, information og anbefalinger der defineres ved hjælp eller på grundlag af disse oplysninger, værdier og data, er fuldstændige, nøjagtige, korrekte eller anvendelige i enhver henseende.\nStiebel Eltron forbeholder sig ret til at foretage ændringer af data, værdier og oplysninger på ethvert tidspunkt og uden varsel.\nFejl forbeholdes. Med forbehold for ændringer.\nIngen af ​​de oplysninger, værdier og data eller værdier, information og henstillinger bestemt ved hjælp eller på grundlag af disse oplysninger, værdier og data udgør noget grundlag for en økonomisk beslutning, eller til andre formål, men snarere blot ikke oprindeligt -bindende oplysninger som en indledende vejledning.\nUnder ingen omstændigheder bør følgende design værktøj betragtes som en erstatning for konsultation med Stiebel Eltron eller anden autoriseret ekspert ingeniør.\nKontakt venligst Stiebel Eltron eller anden autoriseret ekspert ingeniør i forhold til konkrete projekt design.\nStiebel Eltron påtager sig intet ansvar for tab af nogen art, der måtte opstå som følge af brugen af information, værdier og data, eller værdier, information og anbefalinger defineres ved hjælp eller på grundlag af disse oplysninger, værdier og data. Denne udelukkelse af ansvar gælder ikke, hvis tabet skyldes forsæt eller grov uagtsomhed på den del af Stiebel Eltron eller i tilfælde af en dødsulykke, fysisk skade eller skade på helbredet.\n","Stiebel Eltron vil ikke give nogen garantier, at de oplysninger, værdier og data, eller værdier, information og anbefalinger der defineres ved hjælp eller på grundlag af disse oplysninger, værdier og data, er fuldstændige, nøjagtige, korrekte eller anvendelige i enhver henseende.\nStiebel Eltron forbeholder sig ret til at foretage ændringer af data, værdier og oplysninger på ethvert tidspunkt og uden varsel.\nFejl forbeholdes. Med forbehold for ændringer.\nIngen af ​​de oplysninger, værdier og data eller værdier, information og henstillinger bestemt ved hjælp eller på grundlag af disse oplysninger, værdier og data udgør noget grundlag for en økonomisk beslutning, eller til andre formål, men snarere blot ikke oprindeligt -bindende oplysninger som en indledende vejledning.\nUnder ingen omstændigheder bør følgende design værktøj betragtes som en erstatning for konsultation med Stiebel Eltron eller anden autoriseret ekspert ingeniør.\nKontakt venligst Stiebel Eltron eller anden autoriseret ekspert ingeniør i forhold til konkrete projekt design.\nStiebel Eltron påtager sig intet ansvar for tab af nogen art, der måtte opstå som følge af brugen af information, værdier og data, eller værdier, information og anbefalinger defineres ved hjælp eller på grundlag af disse oplysninger, værdier og data. Denne udelukkelse af ansvar gælder ikke, hvis tabet skyldes forsæt eller grov uagtsomhed på den del af Stiebel Eltron eller i tilfælde af en dødsulykke, fysisk skade eller skade på helbredet.\n","\"Stiebel Eltron negarantē, ka informācija un dati ir pietiekami īpašajām klienta vai lietotāja vajadzībām un darbojas kombinācijā ar citu klienta programmatūru un aparatūru. Klients ir atbildīgs par uzstādīšanu, izmantošanu, un paredzēto rezultātu sasniegšanu. Nepastāv garantija par klienta vai lietotāja pārveidotu vai izmainītu programmas versiju vai klientu gatavotu kopiju, ja vien pircējs nepierāda, ka esošie defekti nav saistīti ar izmaiņām, kopiju vai atvasinātiem darbiem.\nStiebel Eltron neuzņemas atbildību un garantijas par piedāvāto informāciju, vērtībām, datiem vai ar to palīdzību iegūto rezultātu, datu un ieteikumu kuri noteikti, lai sniegtu informāciju, pilnīgi visos aspektos, kā arī to precizitāti, pareizību un aktualitāti.\nStiebel Eltron patur tiesības izdarīt izmaiņas jebkurā laikā un bez brīdinājuma par sniegto informāciju un rezultātiem. Kļūdas un izmaiņas ir skaidri atrunātas.\nSniegtie datiem, vērtības un informācija, kā arī no tās atvasinātās vērtības, nevar būt par pamatu finansiāliem lēmumiem vai citiem līdzīgiem mērķiem, bet gan tikai kā pirmā nesaistošā informācija un orientācijas palīgs.\nNekādos apstākļos sekojošais plānošanas palīgs neaizstāj Stiebel Eltron vai cita autorizēta partnera konsultāciju.\nKonkrēta projekta plānošanā, lūdzam, griezieties pie Stiebel Eltron vai cita autorizēta partnera.\nStiebel Eltron noraida atbildību par jebkāda veida zaudējumiem, kuri radušies izmantojot vai lietojot sniegto informāciju, vērtības un datus vai ar to palīdzību iegūto informāciju, vērtības, datus un ieteikumus.\"","Stiebel Eltron non può fornire alcuna garanzia che le informazioni, i valori ed i dati forniti da questo progamma o che i valori, le informazioni e le raccomandazioni determinati con il supporto o sulla base di essi siano completi, accurati, corretti o aggiornati sotto ogni aspetto. Stiebel Eltron si riserva di effettuare variazioni ai dati, ai valori ed alle informazioni forniti in qualsiasi momento e senza alcun preavviso. Salvo errori. Soggetto a cambbiamenti. I valori, i dati, le informazioni e le raccomandazioni determinati con il supporto o sulla base di informazioni, valori e dati forniti da questo progamma non devono in alcun modo costituire la base per una decisione di investimento o per qualsiasi altro scopo, ma piuttosto devono essere considerati una semplice stima preliminare non vincolante, utile come guida iniziale. In nessuna circostanza questo programma di dimensionamento può essere considerato sostitutivo di una consultazione diretta con Stiebel Eltron, con un partner autorizzato Stiebel Eltron o con un tecnico specializzato. Contattare Stiebel Eltron, un partner autorizzato Stiebel Eltron o un tecnico specializzato per avere un dimensionamento esatto del sistema. Stiebel Eltron non si assume alcuna responsabilità per danni o perdite di qualsiasi genere che possano derivare dall'utilizzo di informazioni, valori e dati forniti o da valori, informazioni o raccomandazioni determinati con il supporto o sulla base di essi. Questa esclusione di responsabilità non si applica se la perdita è dovuta a dolo o colpa grave da parte di Stiebel Eltron o in caso di fatalità, lesioni fisiche o danni alla salute. "]
["Outside temperature","Norm-Außentemperatur","Outside temperature","Buitentemperatuur","Vonkjašia teplota","Udetemperatur","Ārgaisa temperatūra","Temperatura esterna"]
["Forward flow temperature","Vorlauftemperatur","Forward flow temperature","Aanvoertemperatuur","Výstupná teplota","Fremløbstemperatur","Apkures turpgaitas temperatūra","Temperatura di mandata"]
["Boiler efficiency","Wirkungsgrad Kessel","Boiler efficiency","Rendement HR Gasketel","Účinnosť kotla","Virkningsgrad keddel","Katla lietderība","Rendimento della caldaia"]
["Distribution  losses DHW","Verteilverluste Warmwasser","Distribution  losses DHW","Leidingverlies warm  tapwater","Tepelná strata potrubia","Varmtvands distributionstab","Sadales siltumzudumi karstajam ūdenim","Perdite per distribuzione ACS"]
["SPF Heat Pump","Arbeitszahl Wärmepumpe","SPF Heat Pump","COP Warmtepomp","Výkonové číslo tepelného čerpadla","Varmepumpe koefficient","Siltumsūkņa sezonas lietderība [SPF]","Efficienza media stagionale pompa di calore"]
["Project data","Projektdaten","Project data","Projectdata","Dáta projetku","Projekt data","Projekta dati","Dati di progetto"]
["Total","Gesamt","Total","Totaal","Celkovo","Total","Kopā","Totale"]
["Costs per year","Kosten pro Jahr","Costs per year","Kosten per jaar","Náklady za rok","Omkostninger pr. år","Gada izmaksas","Costi annui"]
["Temperature","Temperatur","Temperature","Temperatuur","Teplota","Temperatur","Temperatūra","Temperatura"]
["Heating power","Heizleistung","Heating power","Vermogen","Tepelný príkon","Varmeeffekt","Apkures jauda","Potenza per riscaldamento"]
["Annual hours ","Jahresstunden","Annual hours ","Uren per jaar","Hodín ročne","Årlige timer","Gada apkures stundas","Ore annue"]
["Heat demand","Heizwärmebedarf","Heat demand","Benodigde verwarmingsvermogen","Potreba tepla","Effektbehov","Siltumslodze","Fabbisogno termico"]
["Electricity price","Strompreis Haushalt","Electricity price","Prijs Electra","Cena elektriky","Elpris husholdning","Elektrības cena","Costo dell'energia elettrica"]
["Electricity price heat pump","Strompreis Wärmepumpe","Electricity price heat pump","Prijs Electra Warmtepomp ","Cena elektriky pre tepel.čerpadlo","Elpris varmepumpe","Elektrības cena siltumsūknim","Prezzo dell'energia elettrica per la pompa di calore"]
["Heat pump","Wärmepumpe","Heat pump","Warmtepomp","Tepelné čerpadlo","Varmepumpe","Siltumsūknis","Pompa di calore"]
["Oil price","Ölpreis","Oil price","Olieprijs","Cena vykur. Oleja","Oliepris","Dīzeļdegvielas cena centi/litrā","Prezzo del gasolio"]
["Gas price","Gaspreis","Gas price","Gasprijs","Cena zem. Plynu","Gaspris","Gāzes cena","Prezzo del gas metano"]
["pence/kWh","Cent/kWh","pence/kWh","Cent/kWh","cent/kWh","kr./kWh","centi/kWh","centesimi/kWh"]
["pence/liter","Cent/Liter","pence/liter","Cent/Liter","cent/liter","kr./liter","centi/litrā","centesimi/litro"]
["pence/m³","Cent/m³","pence/m³","Cent/m³","cent/m³","kr./m³","centi/m³","centesimi/m³"]
["CO2-factor","CO2-Faktor","CO2-factor","CO2-Factor","CO2-Faktor","CO2-faktor","CO2-faktors","fattore CO2"]
["electricity","Strom","electricity","Stroom","elektriny","Elektricitet","Elektrība","elettricità"]
["Oil","Öl","Oil","Olie","Oleja","Olie","Dīzeļdegviela","Gasolio "]
["Gas","Gas","Gas","Gas","zem. plynu","Gas","Gāze","Gas metano"]
["Heating power 1. HS","Heizarbeit 1. WE","Heating power 1. HS","Verwarmingsvermogen toestel","Tepelný príkon 1. zdroja","Varmeeffekt 1. VK","Apkures jauda 1. siltumavots","Potenza termica 1° generatore di calore"]
["Heating power 2. HS","Heizarbeit 2. WE","Heating power 2. HS","Verwarmingsvermogen additioneel toestel","Tepelný príkon 2. zdroja","Varmeeffekt 2. VK","Apkures jauda 2. siltumavots","Potenza termica 2° generatore di calore"]
["m³ Gas/Year","m³ Gas/Jahr","m³ Gas/Year","m³ Gas/Jaar","m³ zem.plynu/rok","m³ gas/år","m³ Gāze/gadā","m³ di gas metano / anno"]
["Liter Oil/Year","Liter Öl/Jahr","Liter Oil/Year","Liter Olie/Jaar","Liter zem.plynu/rok","Liter olie/år","Litri Dīzeļdegviela/gadā","litri di gasolio / anno"]
["liter","Liter","liter","Liter","liter","Liter","Litri","litro"]
["Coefficient of Performance","Leistungszahl","Coefficient of Performance","Rendement","Koeficient účinnosti","Virkningsgrad","Lietderības koeficients","Coefficiente di rendimento"]
["COP [-]","COP [-]","COP [-]","COP [-]","COP [-]","COP [-]","COP [-]","COP [-]"]
["comparison","Vergleich","comparison","Vergelijking","Porovnanie","Sammenligning","salīdzinājums","confronto"]
["Heatpump","Wärmepumpe","Heatpump","Warmtepomp","Tepelné čerpadlo","Varmepumpe","Siltumsūknis","Pompa di calore"]
["Heating","Heizen","Heating","Verwarming","Kúrenie","Opvarming","Apkure","Riscaldamento"]
["Other values","Sonstige Werte","Other values","Andere waarden","Ostatné hodnoty","Andre værdier","Citas vērtības","Altri valori"]
["Water","Brunnen","Water","Grondwater ","Voda","Vand","Ūdens","Acqua"]
["Solar","Solar","Solar","Solar","Solár","Solar","Saules","Solare"]
["Solar fraction","Deckungsanteil Solaranlage","Solar fraction","Dekkingsgraad Thermische Solar","Podiel soláru","Solvarme dækningsgrad","Saules frakcija","Frazione solare"]
["Price district heating","Preis Fernwärme","Price district heating","Prijs","Cent/kWh","Pris","Cena","Prezzo"]
["£","€","£","€","€","DKK","€","€"]
["Cost trend 15 years","Kostenentwicklung 15 Jahre","Cost trend 15 years","Ontwikkeling kosten 15 jaar","Vývoj nákladov za 15 rokov","Energiomkostninger 15 år","Izmaksas 15 gados","Andamento del costo in 15 anni"]
["Annual heating DHW","Heizarbeit Warmwasser","Annual heating DHW","Verwarmingsvermogen tapwater","Ročná spotreba Teplá voda","Årlig varme Varmt brugsvand","Gada izmaksas karstajam ūdenim","Riscaldamento annuale ACS"]
["Subvention","Förderung","Subvention","Subsidie","Podpora","Tilskud","Subsīdijas","Sovvenzione"]
["Subvention Heat Pump","Förderung Wärmepumpe","Subvention Heat Pump","Subsidie warmtepomp","Dotácia tepelného čerpadla v € za rok","Tilskud til varmepumpe","Subsīdijas siltumsūknim","Sovvenzione pompa di calore"]
["Subvention Solar","Förderung Solar","Subvention Solar","Subsidie solar in euro per jaar","Dotácia soláru","Tilskud til solfangere","Subsīdijas saules sistēmai","Sovvenzione solare"]
["Termtime heat pump subvention","Laufzeit Wärmepumpenförderung","Termtime heat pump subvention","Looptijd subsidie warmtepomp","Dĺžka dotácie tepelných čerpadiel","Varmepumpetilskuddets løbetid","Siltumsūkņa subsīdiju termiņš","Periodo di scadenza sovvenzione pompa di calore"]
["Termtime Solar subvention","Laufzeit Solarförderung","Termtime Solar subvention","Looptijd subsidie solar","Dĺžka dotácie soláru v rokoch ","Solfangertilskuddets løbetid","Saules sistēmas subsīdiju termiņš","Periodo di scadenza sovvenzione solare"]
["Years","Jahre","Years","jaren","rokoch"," år","gadi","anni"]
["DHW demand","Vorgabe Warmwasserbedarf","DHW demand","Tapwater behoefte","Potreba TUV","Brugsvandsbehov","Karstā ūdens pieprasījums","Fabbisogno di ACS"]
["Demand low","Niedriger Bedarf","Demand low","Comfort laag","Nízka potreba","Lavt forbrug","Zems patēriņš","Bassa richiesta"]
["Demand medium","Normaler Bedarf","Demand medium","Comfort medium","Stredná potreba","Medium forbrug","Vidējs patēriņš","Media richiesta"]
["Demand high","Hoher Bedarf","Demand high","Comfort hoog","Vysoká potreba","Højt forbrug","Augsts patēriņš","Alta richiesta"]
["Price","Preis Energieträger","Price","Prijs","Cent/kWh","Pris","Price","Prezzo"]
["Name","Name","Name","Naam","Meno","Navn","Name","Nome"]
["Choose subvention program","Auswahl Förderprogramm","Choose subvention program","Auswahl Förderprogramm","Auswahl Förderprogramm","Auswahl Förderprogramm","Auswahl Förderprogramm","Auswahl Förderprogramm"]
["Manual input values","Eingabe Fördersummen","Manual input values","Manual input values","Manual input values","Manual input values","Manual input values","Manual input values"]
["Payment Air-Water-Heatpump","Fördersatz Luft-Wasser-Wärmepumpe","Payment Air-Water-Heatpump","Payment Air-Water-Heatpump","Payment Air-Water-Heatpump","Payment Air-Water-Heatpump","Payment Air-Water-Heatpump","Payment Air-Water-Heatpump"]
["Payment Brine-Water-Heatpump","Fördersatz Sole-Wasser-Wärmepumpe","Payment Brine-Water-Heatpump","Payment Brine-Water-Heatpump","Payment Brine-Water-Heatpump","Payment Brine-Water-Heatpump","Payment Brine-Water-Heatpump","Payment Brine-Water-Heatpump"]
["Installation costs heatpump","Installationskosten Wärmepumpe","Installation costs heatpump","Installation costs heatpump","Installation costs heatpump","Installation costs heatpump","Installation costs heatpump","Installation costs heatpump"]
["Print results","Ergebnisse drucken","Print results","Afdruk","Vytlač","Udskriv resultater","Izdruka","Area di stampa"]
["Full screen mode","Ganzer Bildschirm","Full screen mode","Full screen mode","Full screen mode","Full screen mode","Full screen mode","Full screen mode"]
["Send E-Mail","E-Mail an uns","Send E-Mail","Send E-Mail","Send E-Mail","Send E-Mail","Send E-Mail","Send E-Mail"]
["Exit program","Programm schließen","Exit program","Exit program","Exit program","Exit program","Exit program","Exit program"]
["Add system","System hinzufügen","Add system","Add system","Add system","Add system","Add system","Add system"]
["No. of systems","Systemvergleich","No. of systems","No. of systems","No. of systems","No. of systems","No. of systems","No. of systems"]

{"sheet":"Slot1","index":4,"n_rows":169,"n_cols":46,"rows_kept":169,"cut":false,"hidden":true,"merged":[[152,17,152,18],[99,14,99,17],[152,13,152,14],[152,15,152,16],[72,7,73,7],[99,9,99,13],[72,8,73,8],[2,4,3,4],[2,9,2,13],[2,5,3,5],[2,6,3,6],[2,7,3,7],[2,8,3,8],[152,1,153,1],[152,7,152,10],[152,11,152,12],[152,2,152,6],[72,6,73,6],[81,0,81,1],[82,0,82,1],[90,0,90,1],[77,0,77,1],[78,0,78,1],[79,0,79,1],[83,0,83,1],[72,0,72,1],[99,0,99,8],[94,0,94,1],[84,0,84,1],[85,0,85,1],[86,0,86,1],[87,0,87,1],[88,0,88,1],[89,0,89,1],[84,37,84,41],[2,3,3,3],[91,0,91,1],[92,0,92,1],[93,0,93,1],[2,0,3,0],[2,1,3,1],[2,2,3,2],[74,0,74,1],[75,0,75,1],[76,0,76,1],[73,0,73,1],[80,0,80,1],[2,20,3,23],[72,5,73,5],[2,18,3,19],[71,10,71,17],[80,10,80,17],[89,10,89,17],[99,28,99,31],[99,22,99,24],[99,25,99,27],[99,18,99,21],[71,26,71,33],[71,20,71,25]]}
[]
["Comboboxen"]
["Heizung","Betriebsweise","Warmwasser","Betrieb","Betriebsweise","Datenblatt",null,null,null,"Warmwasser",null,null,null,null,"EEWärmeG",null,null,null,null,null,"Berechnung Förderung"]
[null,null,null,null,null,null,null,null,null,"Art WWB","Index WWB","Endenergie kWh/a","Kosten €/Ja","CO2 kg/a","erfüllt ?"]
["WPL 25 A","Gaskessel | Parallel","WPL 25 A",{"$f":"IF(A5=A7,2,IF(B5=B7,1,3))","v":3},{"$f":"IF(C157=-30,Translation!A11,VLOOKUP(B5,B6:E50,4,FALSE))","v":"Mono-Mode"},{"$f":"\"http://tools.stiebel-eltron.de/pdf/apps/product/\"&VLOOKUP($A$5,Leistungsdaten!$A:$J,10,FALSE)&\"/\"&Translation!$A$3","v":"http://tools.stiebel-eltron.de/pdf/apps/product/8725/en_DE"},null,null,null,null,{"$f":"IF(C5=C9,0,IF(C5=C12,5,IF(C5=C11,2,IF(C5=C7,1,IF(C5=C16,3,4)))))","v":1},{"$f":"VLOOKUP(K5,K6:N50,2,FALSE)","v":1258.0333333333333},{"$f":"VLOOKUP(K5,K6:N50,3,FALSE)","v":231.04500000000002},{"$f":"VLOOKUP(K5,K6:N50,4,FALSE)","v":781.23869999999999},{"$f":"IF(OR(K5=K11,K5=K12),TRUE,IF(A5=A7,FALSE,IF(O15<0.5,FALSE,TRUE)))","v":true},null,null,null,null,null,"Jahr","Manuell","RHI","gewählt"]
[]
[{"$f":"Berechnung!C61","v":"Gaskessel"},{"$f":"Translation!A9","v":"No second heat source"},{"$f":"A5","v":"WPL 25 A"},"1=Nur WP",{"$f":"Translation!A10","v":"Monoenergetic"},null,null,null,null,"Ohne Warmwasser",0,0,0,0,null,null,null,null,null,null,1,{"$f":"IF(Berechnung!$N$5<>Berechnung!$N$7,0,IF($D$5=2,0,IF(Einstellungen!$D$51>=T74,Einstellungen!$D$49,0)))","v":0},{"$f":"IF($C$85=\"---\",0,IF(Berechnung!$N$5<>Berechnung!$N$8,0,IF(Einstellungen!$D$51>=T74,$W$63,0)))","v":0},{"$f":"IF(Berechnung!$N$5=Berechnung!$N$7,V7,W7)","v":0}]
[null,{"$f":"A7&\" | \"&Translation!$A$14","v":"Gaskessel | Parallel"},{"$f":"A5&\" | \"&Translation!$A$206","v":"WPL 25 A | Solar"},"2=nur Öl/Gas",{"$f":"Translation!A12","v":"Bivalent-parallel"},null,null,null,null,"Wärmepumpe",1,{"$f":"L13+L14","v":1258.0333333333333},{"$f":"M13+M14","v":231.04500000000002},{"$f":"N13+N14","v":781.23869999999999},"Wärmebedarf",null,null,null,null,null,2,{"$f":"IF(Berechnung!$N$5<>Berechnung!$N$7,0,IF($D$5=2,0,IF(Einstellungen!$D$51>=T75,Einstellungen!$D$49,0)))","v":0},{"$f":"IF($C$85=\"---\",0,IF(Berechnung!$N$5<>Berechnung!$N$8,0,IF(Einstellungen!$D$51>=T75,$W$63,0)))","v":0},{"$f":"IF(Berechnung!$N$5=Berechnung!$N$7,V8,W8)","v":0}]
[null,{"$f":"A7&\" | \"&Translation!$A$15","v":"Gaskessel | Alternativ"},{"$f":"Translation!A41","v":"without DHW"},"3=Bivalent",{"$f":"Translation!A13","v":"Bivalent-alternativ"},null,null,null,null,"Gas/Öl",2,{"$f":"Berechnung!$C$76/(Berechnung!$C$82/100)","v":4106.25},{"$f":"L9*Berechnung!$C$72","v":3490.3125},{"$f":"L9*Berechnung!$C$73/1000","v":1038.8812499999999},{"$f":"H146+Berechnung!C76","v":14311.636363636362},null,null,null,null,null,3,{"$f":"IF(Berechnung!$N$5<>Berechnung!$N$7,0,IF($D$5=2,0,IF(Einstellungen!$D$51>=T76,Einstellungen!$D$49,0)))","v":0},{"$f":"IF($C$85=\"---\",0,IF(Berechnung!$N$5<>Berechnung!$N$8,0,IF(Einstellungen!$D$51>=T76,$W$63,0)))","v":0},{"$f":"IF(Berechnung!$N$5=Berechnung!$N$7,V9,W9)","v":0}]
[null,null,null,null,null,null,null,null,null,"WP+Gas/Öl",3,{"$f":"L16+L17","v":2372.5},{"$f":"M16+M17","v":1527.5250000000001},{"$f":"N16+N17","v":868.88249999999994},null,null,null,null,null,null,4,{"$f":"IF(Berechnung!$N$5<>Berechnung!$N$7,0,IF($D$5=2,0,IF(Einstellungen!$D$51>=T77,Einstellungen!$D$49,0)))","v":0},{"$f":"IF($C$85=\"---\",0,IF(Berechnung!$N$5<>Berechnung!$N$8,0,IF(Einstellungen!$D$51>=T77,$W$63,0)))","v":0},{"$f":"IF(Berechnung!$N$5=Berechnung!$N$7,V10,W10)","v":0}]
[null,null,{"$f":"A7","v":"Gaskessel"},null,null,null,null,null,null,"WP+Solar",4,{"$f":"L19+L20","v":629.01666666666665},{"$f":"M19+M20","v":115.52250000000001},{"$f":"N19+N20","v":390.61935},"Umweltwärme",null,null,null,null,null,5,{"$f":"IF(Berechnung!$N$5<>Berechnung!$N$7,0,IF($D$5=2,0,IF(Einstellungen!$D$51>=T78,Einstellungen!$D$49,0)))","v":0},{"$f":"IF($C$85=\"---\",0,IF(Berechnung!$N$5<>Berechnung!$N$8,0,IF(Einstellungen!$D$51>=T78,$W$63,0)))","v":0},{"$f":"IF(Berechnung!$N$5=Berechnung!$N$7,V11,W11)","v":0}]
[null,null,{"$f":"A7&\" | \"&Translation!$A$206","v":"Gaskessel | Solar"},null,null,null,null,null,null,"Öl/Gas+Solar",5,{"$f":"$J$24*Berechnung!$C$76/(Berechnung!$C$82/100)","v":2053.125},{"$f":"L12*Berechnung!$C$72","v":1745.15625},{"$f":"L12*Berechnung!$C$73/1000","v":519.44062499999995},{"$f":"J146+K24*Berechnung!C76","v":14246.3},null,null,null,null,null,6,{"$f":"IF(Berechnung!$N$5<>Berechnung!$N$7,0,IF($D$5=2,0,IF(Einstellungen!$D$51>=T79,Einstellungen!$D$49,0)))","v":0},{"$f":"IF($C$85=\"---\",0,IF(Berechnung!$N$5<>Berechnung!$N$8,0,IF(Einstellungen!$D$51>=T79,$W$63,0)))","v":0},{"$f":"IF(Berechnung!$N$5=Berechnung!$N$7,V12,W12)","v":0}]
[null,null,{"$f":"Translation!A41","v":"without DHW"},null,null,null,null,null,null,"Nebenrechnung","Mononenerg. WP",{"$f":"$C$75*Berechnung!$C$76/$C$74","v":1192.3333333333333},{"$f":"L13*Berechnung!$C$79/100","v":214.62},{"$f":"L13*Berechnung!$C$69/1000","v":740.43899999999996},null,null,null,null,null,null,7,{"$f":"IF(Berechnung!$N$5<>Berechnung!$N$7,0,IF($D$5=2,0,IF(Einstellungen!$D$51>=T80,Einstellungen!$D$49,0)))","v":0},{"$f":"IF($C$85=\"---\",0,IF(Berechnung!$N$5<>Berechnung!$N$8,0,IF(Einstellungen!$D$51>=T80,$W$63,0)))","v":0},{"$f":"IF(Berechnung!$N$5=Berechnung!$N$7,V13,W13)","v":0}]
[null,null,null,null,null,null,null,null,null,"Nebenrechnung","Mononenerg. DHC",{"$f":"(1-$C$75)*Berechnung!$C$76","v":65.70000000000006},{"$f":"L14*Berechnung!$C$78/100","v":16.425000000000015},{"$f":"L14*Berechnung!$C$69/1000","v":40.799700000000037},"Anteil Umwelt",null,null,null,null,null,8,{"$f":"IF(Berechnung!$N$5<>Berechnung!$N$7,0,IF($D$5=2,0,IF(Einstellungen!$D$51>=T81,Einstellungen!$D$49,0)))","v":0},{"$f":"IF($C$85=\"---\",0,IF(Berechnung!$N$5<>Berechnung!$N$8,0,IF(Einstellungen!$D$51>=T81,$W$63,0)))","v":0},{"$f":"IF(Berechnung!$N$5=Berechnung!$N$7,V14,W14)","v":0}]
[null,null,{"$f":"C7","v":"WPL 25 A"},null,null,null,null,null,null,null,null,null,null,null,{"$f":"O12/O9","v":0.99543473842010322},null,null,null,null,null,9,{"$f":"IF(Berechnung!$N$5<>Berechnung!$N$7,0,IF($D$5=2,0,IF(Einstellungen!$D$51>=T82,Einstellungen!$D$49,0)))","v":0},{"$f":"IF($C$85=\"---\",0,IF(Berechnung!$N$5<>Berechnung!$N$8,0,IF(Einstellungen!$D$51>=T82,$W$63,0)))","v":0},{"$f":"IF(Berechnung!$N$5=Berechnung!$N$7,V15,W15)","v":0}]
[null,null,{"$f":"A5&\" | \"&A7","v":"WPL 25 A | Gaskessel"},null,null,null,null,null,null,"Nebenrechnung","Bivalent WP",{"$f":"$C$76*Berechnung!$C$76/$C$74","v":730},{"$f":"L16*Berechnung!$C$79/100","v":131.4},{"$f":"L16*Berechnung!$C$69/1000","v":453.33},null,null,null,null,null,null,10,{"$f":"IF(Berechnung!$N$5<>Berechnung!$N$7,0,IF($D$5=2,0,IF(Einstellungen!$D$51>=T83,Einstellungen!$D$49,0)))","v":0},{"$f":"IF($C$85=\"---\",0,IF(Berechnung!$N$5<>Berechnung!$N$8,0,IF(Einstellungen!$D$51>=T83,$W$63,0)))","v":0},{"$f":"IF(Berechnung!$N$5=Berechnung!$N$7,V16,W16)","v":0}]
[null,null,{"$f":"C11","v":"Gaskessel"},null,null,null,null,null,null,"Nebenrechnung","Bivalent Kessel",{"$f":"((1-$C$76)*Berechnung!$C$76)/(Berechnung!$C$82/100)","v":1642.5},{"$f":"L17*Berechnung!$C$72","v":1396.125},{"$f":"L17*Berechnung!$C$73/1000","v":415.55250000000001},null,null,null,null,null,null,11,{"$f":"IF(Berechnung!$N$5<>Berechnung!$N$7,0,IF($D$5=2,0,IF(Einstellungen!$D$51>=T84,Einstellungen!$D$49,0)))","v":0},{"$f":"IF($C$85=\"---\",0,IF(Berechnung!$N$5<>Berechnung!$N$8,0,IF(Einstellungen!$D$51>=T84,$W$63,0)))","v":0},{"$f":"IF(Berechnung!$N$5=Berechnung!$N$7,V17,W17)","v":0}]
[null,null,{"$f":"C8","v":"WPL 25 A | Solar"},null,null,null,null,null,null,null,null,null,null,null,null,null,null,null,null,null,12,{"$f":"IF(Berechnung!$N$5<>Berechnung!$N$7,0,IF($D$5=2,0,IF(Einstellungen!$D$51>=T85,Einstellungen!$D$49,0)))","v":0},{"$f":"IF($C$85=\"---\",0,IF(Berechnung!$N$5<>Berechnung!$N$8,0,IF(Einstellungen!$D$51>=T85,$W$63,0)))","v":0},{"$f":"IF(Berechnung!$N$5=Berechnung!$N$7,V18,W18)","v":0}]
[null,null,{"$f":"C12","v":"Gaskessel | Solar"},null,null,null,null,null,null,"Nebenrechnung","Monoenerg. WP+Solar",{"$f":"$C$75*$J$24*Berechnung!$C$76/$C$74","v":596.16666666666663},{"$f":"L19*Berechnung!$C$79/100","v":107.31},{"$f":"L19*Berechnung!$C$69/1000","v":370.21949999999998},null,null,null,null,null,null,13,{"$f":"IF(Berechnung!$N$5<>Berechnung!$N$7,0,IF($D$5=2,0,IF(Einstellungen!$D$51>=T86,Einstellungen!$D$49,0)))","v":0},{"$f":"IF($C$85=\"---\",0,IF(Berechnung!$N$5<>Berechnung!$N$8,0,IF(Einstellungen!$D$51>=T86,$W$63,0)))","v":0},{"$f":"IF(Berechnung!$N$5=Berechnung!$N$7,V19,W19)","v":0}]
[null,null,{"$f":"Translation!A41","v":"without DHW"},null,null,null,null,null,null,"Nebenrechnung","Mononenerg. DHC",{"$f":"(1-$C$75)*$J$24*Berechnung!$C$76","v":32.85000000000003},{"$f":"L20*Berechnung!$C$78/100","v":8.2125000000000075},{"$f":"L20*Berechnung!$C$69/1000","v":20.399850000000018},null,null,null,null,null,null,14,{"$f":"IF(Berechnung!$N$5<>Berechnung!$N$7,0,IF($D$5=2,0,IF(Einstellungen!$D$51>=T87,Einstellungen!$D$49,0)))","v":0},{"$f":"IF($C$85=\"---\",0,IF(Berechnung!$N$5<>Berechnung!$N$8,0,IF(Einstellungen!$D$51>=T87,$W$63,0)))","v":0},{"$f":"IF(Berechnung!$N$5=Berechnung!$N$7,V20,W20)","v":0}]
[null,null,null,null,null,null,null,null,null,null,null,null,null,null,null,null,null,null,null,null,15,{"$f":"IF(Berechnung!$N$5<>Berechnung!$N$7,0,IF($D$5=2,0,IF(Einstellungen!$D$51>=T88,Einstellungen!$D$49,0)))","v":0},{"$f":"IF($C$85=\"---\",0,IF(Berechnung!$N$5<>Berechnung!$N$8,0,IF(Einstellungen!$D$51>=T88,$W$63,0)))","v":0},{"$f":"IF(Berechnung!$N$5=Berechnung!$N$7,V21,W21)","v":0}]
[]
[null,null,null,null,null,null,null,null,null,"Faktor Solar","Deckung"]
[null,null,null,null,null,null,null,null,null,{"$f":"(100-Berechnung!$C$77)/100","v":0.5},{"$f":"IF(K5=3,C76,C75)","v":0.98}]
[]
[]
[]
[]
[]
[]
[]
[]
[]
[]
[]
[]
[]
[]
[]
[]
[]
[]
[]
[null,null,null,null,null,null,null,null,null,null,null,null,null,null,null,null,null,null,null,null,null,null,"Ersparnis Öl/Gas","Ausgabe"]
[null,null,null,null,null,null,null,null,null,null,null,null,null,null,null,null,null,null,null,null,null,null,{"$f":"ROUND((W89+AC89)-AI89+AA89+U89,-2)","v":271200},{"$f":"IF(ISERROR(W45),\"---\",IF(A5=A7,\"---\",\"approx. £\"&FIXED(W45,0)))","v":"approx. £271.200"}]
[]
[null,null,null,null,null,null,null,null,null,null,null,null,null,null,null,null,null,null,null,null,null,null,"Invest","Ausgabe"]
[null,null,null,null,null,null,null,null,null,null,null,null,null,null,null,null,null,null,null,null,null,null,{"$f":"VLOOKUP(A5,Leistungsdaten!$A:$K,11,FALSE)+Einstellungen!$D$57","v":11500},{"$f":"IF(ISERROR(W48),\"---\",IF(A5=A7,\"---\",\"approx. £\"&FIXED(W48,0)))","v":"approx. £11.500"}]
[]
[null,null,null,null,null,null,null,null,null,null,null,null,null,null,null,null,null,null,null,null,null,null,"QH"]
[null,null,null,null,null,null,null,null,null,null,null,null,null,null,null,null,null,null,null,null,null,null,{"$f":"IF(D5=2,0,J146)","v":11027},{"$f":"FIXED(W51,0)&\" kWh/year\"","v":"11.027 kWh/year"}]
[]
[null,null,null,null,null,null,null,null,null,null,null,null,null,null,null,null,null,null,null,null,null,null,"QWW"]
[null,null,null,null,null,null,null,null,null,null,null,null,null,null,null,null,null,null,null,null,null,null,{"$f":"IF(OR(K5=K8,K10,K5=K11),Berechnung!C76*K24,0)","v":3219.2999999999997},{"$f":"FIXED(W54,0)&\" kWh/year\"","v":"3.219 kWh/year"}]
[null,null,null,null,null,null,null,null,null,null,null,null,null,null,null,null,null,null,null,null,null,null,null,{"$f":"FIXED(W51+W54,0)&\" kWh/year\"","v":"14.246 kWh/year"}]
[null,null,null,null,null,null,null,null,null,null,null,null,null,null,null,null,null,null,null,null,null,null,"COP-RHI"]
[null,null,null,null,null,null,null,null,null,null,null,null,null,null,null,null,null,null,null,null,null,null,{"$f":"IF(C73=1,Berechnung!$B$127,Berechnung!$C$127)","v":3.6},{"$f":"IF(C73=0,\"---\",FIXED(W57,1))","v":"3,6"}]
[]
[null,null,null,null,null,null,null,null,null,null,null,null,null,null,null,null,null,null,null,null,null,null,"Fördersatz RHI"]
[null,null,null,null,null,null,null,null,null,null,null,null,null,null,null,null,null,null,null,null,null,null,{"$f":"IF($C$73=1,Einstellungen!$D$53,Einstellungen!$D$55)","v":0},{"$f":"IF(C73=0,\"---\",FIXED(W60*100,1)&\" p/kWh\")","v":"0,0 p/kWh"}]
[]
[null,null,null,null,null,null,null,null,null,null,null,null,null,null,null,null,null,null,null,null,null,null,"Fördersumme",{"$f":"IF(U89+AA89=0,\"---\",\"£\"&FIXED(U89+AA89,0))","v":"---"}]
[null,null,null,null,null,null,null,null,null,null,null,null,null,null,null,null,null,null,null,null,null,null,{"$f":"W60*(W51+W54)*(1-1/W57)","v":0},{"$f":"IF(W63=0,\"---\",\"£\"&FIXED(W63,0))","v":"---"}]
[]
[]
[]
[]
[]
[]
[]
[]
["Rechenwerte",null,null,null,null,"Import WP-Leistung",null,null,null,null,"Kosten",null,null,null,null,null,null,null,null,null,"Preisentwicklung Heizung",null,null,null,null,null,"Preisentwicklung Warmwasser",null,null,null,null,null,null,null,"Gesamt",null,"Ergebnisausgabe"]
["Wärmequelle",null,{"$f":"VLOOKUP(A5,Leistungsdaten!A:F,6,FALSE)","v":1},null,null,"Außentemp","Leistung WP","COP Rechnung",null,null,"Kategorie","Nur WP","Bivalent","Nur Öl/Gas","WP+Solar","Öl/Gas+Solar","Gewählt","Ausgabe",null,"Jahr","Förderung","Nur WP","Nur Öl/Gas","Bivalent WP","Bivalent Öl","Gewählt","Förderung","Nur WP","Nur Öl/Gas","Bivalent WP","Bivalent Öl","WP+Solar","Öl/Gas+Solar","Gewählt",null,null,"Auswahl","Gewählt ?","Text Hauptergebnis","Wert Hauptergebnis","Text Teilergebnis 1","Wert Teilergebnis 1","Text Teilergebnis 2","Wert Teilergebnis 2","Text Teilergebnis 3","Wert Teilergebnis 3"]
["JAZ-WWB",null,{"$f":"VLOOKUP(A5,Leistungsdaten!A:C,3,FALSE)","v":2.7},null,null,null,null,null,null,null,"1. WE",{"$f":"M146","v":445.86400669320523},{"$f":"L74","v":445.86400669320523},{"$f":"AE146","v":9662.5164011246507},{"$f":"L74","v":445.86400669320523},{"$f":"N74","v":9662.5164011246507},{"$f":"IF($D$5=1,L74,IF($D$5=2,N74,M74))","v":445.86400669320523},{"$f":"FIXED(Q74,0)&\" \"&Translation!$A$77","v":"446 £/Year"},null,1,{"$f":"X7","v":0},{"$f":"L74+L75","v":445.86400669320523},{"$f":"N74+N75","v":9662.5164011246507},{"$f":"M74","v":445.86400669320523},{"$f":"M75","v":0},{"$f":"(IF($D$5=1,V74,IF($D$5=2,W74,X74+Y74)))","v":445.86400669320523},{"$f":"IF($K$5<3,0,IF(Einstellungen!$D$55>=T74,Einstellungen!$D$53,0))","v":0},{"$f":"M8","v":231.04500000000002},{"$f":"M9","v":3490.3125},{"$f":"M16","v":131.4},{"$f":"M17","v":1396.125},{"$f":"M11","v":115.52250000000001},{"$f":"M12","v":1745.15625},{"$f":"IF($K$5=0,0,IF($K$5=1,AB74,IF($K$5=2,AC74,IF($K$5=3,AD74+AE74,IF($K$5=4,AF74,AG74)))))","v":231.04500000000002},{"$f":"Z74+AH74","v":676.90900669320524},null,"Energiekosten",{"$f":"Berechnung!C85","v":false},{"$f":"Translation!A68","v":"Energy costs "},{"$f":"R77","v":"677 £/Year"},{"$f":"C81","v":"WPL 25 A"},{"$f":"R74","v":"446 £/Year"},{"$f":"C82","v":"Gaskessel"},{"$f":"R75","v":"0 £/Year"},{"$f":"C83","v":"DHW"},{"$f":"R76","v":"231 £/Year"}]
["Deckung WP WW Monoenergetisch",null,{"$f":"VLOOKUP(A5,Leistungsdaten!A:D,4,FALSE)","v":0.98},null,null,-20,8.0000000000000071,2.5,null,null,"2. WE",{"$f":"Q146","v":0},{"$f":"U146","v":0},0,{"$f":"L75","v":0},{"$f":"N75","v":0},{"$f":"IF($D$5=1,L75,IF($D$5=2,N75,M75))","v":0},{"$f":"FIXED(Q75,0)&\" \"&Translation!$A$77","v":"0 £/Year"},null,2,{"$f":"X8","v":0},{"$f":"(1+Berechnung!$C$80/100)*V74","v":459.23992689400137},{"$f":"(1+Berechnung!$C$74/100)*W74","v":10145.642221180884},{"$f":"(1+Berechnung!$C$80/100)*X74","v":459.23992689400137},{"$f":"(1+Berechnung!$C$74/100)*Y74","v":0},{"$f":"(IF($D$5=1,V75,IF($D$5=2,W75,X75+Y75)))","v":459.23992689400137},{"$f":"IF($K$5<3,0,IF(Einstellungen!$D$55>=T75,Einstellungen!$D$53,0))","v":0},{"$f":"(1+Berechnung!$C$80/100)*AB74","v":237.97635000000002},{"$f":"(1+Berechnung!$C$74/100)*AC74","v":3664.828125},{"$f":"(1+Berechnung!$C$80/100)*AD74","v":135.34200000000001},{"$f":"(1+Berechnung!$C$74/100)*AE74","v":1465.9312500000001},{"$f":"(1+Berechnung!$C$80/100)*AF74","v":118.98817500000001},{"$f":"(1+Berechnung!$C$74/100)*AG74","v":1832.4140625},{"$f":"IF($K$5=0,0,IF($K$5=1,AB75,IF($K$5=2,AC75,IF($K$5=3,AD75+AE75,IF($K$5=4,AF75,AG75)))))","v":237.97635000000002},{"$f":"Z75+AH75","v":697.21627689400134},null,"Kostenentwicklung",{"$f":"Berechnung!C86","v":false},{"$f":"Translation!A82","v":"Energy costs 15 years"},{"$f":"FIXED(AI89-U89-AA89,0)&\" \"&Translation!$A$209","v":"12.590 £"},{"$f":"C80","v":"WPL 25 A | Gaskessel"},{"$f":"FIXED(Z89,0)&\" \"&Translation!$A$209","v":"8.293 £"},{"$f":"Translation!A40","v":"DHW"},{"$f":"FIXED(AH89,0)&\" \"&Translation!$A$209","v":"4.297 £"},{"$f":"Translation!A212","v":"Subvention"},{"$f":"FIXED(U89+AA89,0)&\" \"&Translation!$A$209","v":"0 £"}]
["Deckung WP WW Bivalent",null,{"$f":"VLOOKUP(A5,Leistungsdaten!$A:$E,5,FALSE)","v":0.6},null,null,-17.5,9.2000000000000064,2.7142857142857144,null,null,"Warmwasser",{"$f":"M8","v":231.04500000000002},{"$f":"M10","v":1527.5250000000001},{"$f":"M9","v":3490.3125},{"$f":"M11","v":115.52250000000001},{"$f":"M12","v":1745.15625},{"$f":"IF($K$5=0,0,IF($K$5=1,L76,IF($K$5=3,M76,IF($K$5=2,N76,IF($K$5=4,O76,P76)))))","v":231.04500000000002},{"$f":"IF($K$5=0,\"\",FIXED(Q76,0)&\" \"&Translation!$A$77)","v":"231 £/Year"},null,3,0,{"$f":"(1+Berechnung!$C$80/100)*V75","v":473.0171247008214},{"$f":"(1+Berechnung!$C$74/100)*W75","v":10652.924332239929},{"$f":"(1+Berechnung!$C$80/100)*X75","v":473.0171247008214},{"$f":"(1+Berechnung!$C$74/100)*Y75","v":0},473.0171247008214,{"$f":"IF($K$5<3,0,IF(Einstellungen!$D$55>=T76,Einstellungen!$D$53,0))","v":0},{"$f":"(1+Berechnung!$C$80/100)*AB75","v":245.11564050000004},{"$f":"(1+Berechnung!$C$74/100)*AC75","v":3848.0695312500002},{"$f":"(1+Berechnung!$C$80/100)*AD75","v":139.40226000000001},{"$f":"(1+Berechnung!$C$74/100)*AE75","v":1539.2278125000003},{"$f":"(1+Berechnung!$C$80/100)*AF75","v":122.55782025000002},{"$f":"(1+Berechnung!$C$74/100)*AG75","v":1924.0347656250001},245.11564050000004,{"$f":"Z76+AH76","v":718.1327652008215},null,"Heizlast/Bivpunkt",{"$f":"Berechnung!C87","v":true}," "," "," "," ",{"$f":"Translation!A6","v":"Operating mode"},{"$f":"E5","v":"Mono-Mode"},{"$f":"IF(C157=-30,\"\",Translation!A38)","v":""},{"$f":"IF(C157=-30,\"\",FIXED(C157,1)&\" °C\")","v":""}]
["Startzeile Leistungsdaten WP",null,{"$f":"VLOOKUP(A5,Leistungsdaten!$A:$G,7,FALSE)","v":235},null,null,-15,10.400000000000006,2.8571428571428572,null,null,"Summe",{"$f":"SUM(L74:L76)","v":676.90900669320524},{"$f":"SUM(M74:M76)","v":1973.3890066932054},{"$f":"SUM(N74:N76)","v":13152.828901124651},{"$f":"SUM(O74:O76)","v":561.38650669320521},{"$f":"SUM(P74:P76)","v":11407.672651124651},{"$f":"SUM(Q74:Q76)","v":676.90900669320524},{"$f":"FIXED(Q77,0)&\" \"&Translation!$A$77","v":"677 £/Year"},null,4,0,{"$f":"(1+Berechnung!$C$80/100)*V76","v":487.20763844184603},{"$f":"(1+Berechnung!$C$74/100)*W76","v":11185.570548851925},{"$f":"(1+Berechnung!$C$80/100)*X76","v":487.20763844184603},{"$f":"(1+Berechnung!$C$74/100)*Y76","v":0},487.20763844184603,{"$f":"IF($K$5<3,0,IF(Einstellungen!$D$55>=T77,Einstellungen!$D$53,0))","v":0},{"$f":"(1+Berechnung!$C$80/100)*AB76","v":252.46910971500006},{"$f":"(1+Berechnung!$C$74/100)*AC76","v":4040.4730078125003},{"$f":"(1+Berechnung!$C$80/100)*AD76","v":143.58432780000001},{"$f":"(1+Berechnung!$C$74/100)*AE76","v":1616.1892031250004},{"$f":"(1+Berechnung!$C$80/100)*AF76","v":126.23455485750003},{"$f":"(1+Berechnung!$C$74/100)*AG76","v":2020.2365039062502},252.46910971500006,739.67674815684609,null,"Jahresheizarbeit",{"$f":"Berechnung!C88","v":false},{"$f":"Translation!A57","v":"Yearly heat demand"},{"$f":"FIXED(H146,0)&\" kWh\"","v":"11.027 kWh"},{"$f":"Translation!A66&\" \"&C81","v":"Annual heating  WPL 25 A"},{"$f":"FIXED(S155,0)&\" kWh\"","v":"11.027 kWh"},{"$f":"Translation!A66&\" \"&C82","v":"Annual heating  Gaskessel"},{"$f":"FIXED(S156,0)&\" kWh\"","v":"0 kWh"},{"$f":"IF(K5=0,\"\",Translation!$A$211)","v":"Annual heating DHW"},{"$f":"IF(K5=0,\"\",FIXED(Berechnung!C76,0)&\" kWh\")","v":"3.285 kWh"}]
["Anzahl WP",null,{"$f":"VLOOKUP(A5,Leistungsdaten!$A:$H,8,FALSE)","v":1},null,null,-12.5,11.600000000000005,3.056338028169014,null,null,null,null,null,null,null,null,null,null,null,5,0,{"$f":"(1+Berechnung!$C$80/100)*V77","v":501.82386759510143},{"$f":"(1+Berechnung!$C$74/100)*W77","v":11744.849076294522},{"$f":"(1+Berechnung!$C$80/100)*X77","v":501.82386759510143},{"$f":"(1+Berechnung!$C$74/100)*Y77","v":0},501.82386759510143,{"$f":"IF($K$5<3,0,IF(Einstellungen!$D$55>=T78,Einstellungen!$D$53,0))","v":0},{"$f":"(1+Berechnung!$C$80/100)*AB77","v":260.04318300645008},{"$f":"(1+Berechnung!$C$74/100)*AC77","v":4242.4966582031257},{"$f":"(1+Berechnung!$C$80/100)*AD77","v":147.89185763400002},{"$f":"(1+Berechnung!$C$74/100)*AE77","v":1696.9986632812504},{"$f":"(1+Berechnung!$C$80/100)*AF77","v":130.02159150322504},{"$f":"(1+Berechnung!$C$74/100)*AG77","v":2121.2483291015628},260.04318300645008,761.86705060155145,null,"CO2",{"$f":"Berechnung!C89","v":false},{"$f":"Translation!A69","v":"CO2-emission"},{"$f":"R95","v":"2.319 kg/year"},{"$f":"AO74","v":"WPL 25 A"},{"$f":"R92","v":"1.538 kg/year"},{"$f":"AQ74","v":"Gaskessel"},{"$f":"R93","v":"0 kg/year"},{"$f":"AS74","v":"DHW"},{"$f":"R94","v":"781 kg/year"}]
["Bivalent einsetzbar ?",null,{"$f":"VLOOKUP(A5,Leistungsdaten!$A:$I,9,FALSE)","v":true},null,null,-10,12.800000000000004,3.1860465116279069,null,null,null,null,null,null,null,null,null,null,null,6,0,{"$f":"(1+Berechnung!$C$80/100)*V78","v":516.87858362295447},{"$f":"(1+Berechnung!$C$74/100)*W78","v":12332.091530109248},{"$f":"(1+Berechnung!$C$80/100)*X78","v":516.87858362295447},{"$f":"(1+Berechnung!$C$74/100)*Y78","v":0},516.87858362295447,{"$f":"IF($K$5<3,0,IF(Einstellungen!$D$55>=T79,Einstellungen!$D$53,0))","v":0},{"$f":"(1+Berechnung!$C$80/100)*AB78","v":267.8444784966436},{"$f":"(1+Berechnung!$C$74/100)*AC78","v":4454.621491113282},{"$f":"(1+Berechnung!$C$80/100)*AD78","v":152.32861336302003},{"$f":"(1+Berechnung!$C$74/100)*AE78","v":1781.848596445313},{"$f":"(1+Berechnung!$C$80/100)*AF78","v":133.9222392483218},{"$f":"(1+Berechnung!$C$74/100)*AG78","v":2227.310745556641},267.8444784966436,784.72306211959813,null,"Endenergie",{"$f":"Berechnung!C90","v":false},{"$f":"Translation!A62","v":"Final energy"},{"$f":"R86","v":"3.735 kWh/Year"},{"$f":"AO74","v":"WPL 25 A"},{"$f":"R83","v":"2.477 kWh/Year"},{"$f":"AQ74","v":"Gaskessel"},{"$f":"R84","v":"0 kWh/Year"},{"$f":"AS74","v":"DHW"},{"$f":"R85","v":"1.258 kWh/Year"}]
["Überschrift Slot",null,{"$f":"IF(C86=FALSE,\"-\",IF(D5=1,A5,IF(D5=2,A5,A5&\" | \"&A7)))","v":"WPL 25 A | Gaskessel"},null,null,-7.5,14.000000000000004,3.4174311926605503,null,null,null,null,null,null,null,null,null,null,null,7,0,{"$f":"(1+Berechnung!$C$80/100)*V79","v":532.38494113164313},{"$f":"(1+Berechnung!$C$74/100)*W79","v":12948.696106614711},{"$f":"(1+Berechnung!$C$80/100)*X79","v":532.38494113164313},{"$f":"(1+Berechnung!$C$74/100)*Y79","v":0},532.38494113164313,{"$f":"IF($K$5<3,0,IF(Einstellungen!$D$55>=T80,Einstellungen!$D$53,0))","v":0},{"$f":"(1+Berechnung!$C$80/100)*AB79","v":275.87981285154291},{"$f":"(1+Berechnung!$C$74/100)*AC79","v":4677.3525656689462},{"$f":"(1+Berechnung!$C$80/100)*AD79","v":156.89847176391063},{"$f":"(1+Berechnung!$C$74/100)*AE79","v":1870.9410262675788},{"$f":"(1+Berechnung!$C$80/100)*AF79","v":137.93990642577145},{"$f":"(1+Berechnung!$C$74/100)*AG79","v":2338.6762828344731},275.87981285154291,808.26475398318598,null,"COP",{"$f":"Berechnung!C91","v":false}," "," "," "," "," "," "," "," "]
["Ausgabe 1. WE",null,{"$f":"A5","v":"WPL 25 A"},null,null,-5,15.200000000000003,3.5681818181818179,null,null,"Endenergie",null,null,null,null,null,null,null,null,8,0,{"$f":"(1+Berechnung!$C$80/100)*V80","v":548.35648936559244},{"$f":"(1+Berechnung!$C$74/100)*W80","v":13596.130911945447},{"$f":"(1+Berechnung!$C$80/100)*X80","v":548.35648936559244},{"$f":"(1+Berechnung!$C$74/100)*Y80","v":0},548.35648936559244,{"$f":"IF($K$5<3,0,IF(Einstellungen!$D$55>=T81,Einstellungen!$D$53,0))","v":0},{"$f":"(1+Berechnung!$C$80/100)*AB80","v":284.15620723708918},{"$f":"(1+Berechnung!$C$74/100)*AC80","v":4911.2201939523939},{"$f":"(1+Berechnung!$C$80/100)*AD80","v":161.60542591682795},{"$f":"(1+Berechnung!$C$74/100)*AE80","v":1964.4880775809577},{"$f":"(1+Berechnung!$C$80/100)*AF80","v":142.07810361854459},{"$f":"(1+Berechnung!$C$74/100)*AG80","v":2455.6100969761969},284.15620723708918,832.51269660268167,null,"Ausgabe",null,{"$f":"VLOOKUP(TRUE,$AL$74:$AT$80,2,FALSE)","v":" "},{"$f":"VLOOKUP(TRUE,$AL$74:$AT$80,3,FALSE)","v":" "},{"$f":"VLOOKUP(TRUE,$AL$74:$AT$80,4,FALSE)","v":" "},{"$f":"VLOOKUP(TRUE,$AL$74:$AT$80,5,FALSE)","v":" "},{"$f":"VLOOKUP(TRUE,$AL$74:$AT$80,6,FALSE)","v":"Operating mode"},{"$f":"VLOOKUP(TRUE,$AL$74:$AT$80,7,FALSE)","v":"Mono-Mode"},{"$f":"VLOOKUP(TRUE,$AL$74:$AT$80,8,FALSE)","v":""},{"$f":"VLOOKUP(TRUE,$AL$74:$AT$80,9,FALSE)","v":""}]
["Ausgabe 2. WE",null,{"$f":"IF(D5=1,Translation!A75,IF(D5=2,Translation!A16,A7))","v":"Gaskessel"},null,null,-2.5,16.400000000000002,3.8818181818181818,null,null,"Kategorie","Nur WP","Bivalent","Nur Öl/Gas","WP+Solar","Öl/Gas+Solar","Gewählt","Ausgabe",null,9,0,{"$f":"(1+Berechnung!$C$80/100)*V81","v":564.80718404656022},{"$f":"(1+Berechnung!$C$74/100)*W81","v":14275.937457542721},{"$f":"(1+Berechnung!$C$80/100)*X81","v":564.80718404656022},{"$f":"(1+Berechnung!$C$74/100)*Y81","v":0},564.80718404656022,{"$f":"IF($K$5<3,0,IF(Einstellungen!$D$55>=T82,Einstellungen!$D$53,0))","v":0},{"$f":"(1+Berechnung!$C$80/100)*AB81","v":292.68089345420185},{"$f":"(1+Berechnung!$C$74/100)*AC81","v":5156.7812036500136},{"$f":"(1+Berechnung!$C$80/100)*AD81","v":166.45358869433281},{"$f":"(1+Berechnung!$C$74/100)*AE81","v":2062.7124814600056},{"$f":"(1+Berechnung!$C$80/100)*AF81","v":146.34044672710093},{"$f":"(1+Berechnung!$C$74/100)*AG81","v":2578.3906018250068},292.68089345420185,857.48807750076207]
["Ausgabe WWB",null,{"$f":"IF(K5=0,\"\",Translation!A40)","v":"DHW"},null,null,0,17.600000000000001,4.441919191919192,null,null,"1. WE",{"$f":"L146","v":2477.022259406695},{"$f":"L83","v":2477.022259406695},{"$f":"IF(Berechnung!H5=Berechnung!H7,IF(Berechnung!C95=2,AD146/Berechnung!C101,AD146),IF(Berechnung!C95=2,AD146/Berechnung!C102,AD146))","v":11367.666354264293},{"$f":"L83","v":2477.022259406695},{"$f":"N83","v":11367.666354264293},{"$f":"IF($D$5=1,L83,IF($D$5=2,N83,M83))","v":2477.022259406695},{"$f":"IF(Berechnung!H5=Berechnung!H7,IF(AND(D5=2,Berechnung!C95=2),FIXED(Q83,0)&\" \"&Translation!$A$196,FIXED(Q83,0)&\" \"&Translation!$A$79),IF(AND(D5=2,Berechnung!C95=2),FIXED(Q83,0)&\" \"&Translation!$A$197,FIXED(Q83,0)&\" \"&Translation!$A$79))","v":"2.477 kWh/Year"},null,10,0,{"$f":"(1+Berechnung!$C$80/100)*V82","v":581.75139956795704},{"$f":"(1+Berechnung!$C$74/100)*W82","v":14989.734330419858},{"$f":"(1+Berechnung!$C$80/100)*X82","v":581.75139956795704},{"$f":"(1+Berechnung!$C$74/100)*Y82","v":0},581.75139956795704,{"$f":"IF($K$5<3,0,IF(Einstellungen!$D$55>=T83,Einstellungen!$D$53,0))","v":0},{"$f":"(1+Berechnung!$C$80/100)*AB82","v":301.46132025782794},{"$f":"(1+Berechnung!$C$74/100)*AC82","v":5414.6202638325149},{"$f":"(1+Berechnung!$C$80/100)*AD82","v":171.44719635516279},{"$f":"(1+Berechnung!$C$74/100)*AE82","v":2165.8481055330062},{"$f":"(1+Berechnung!$C$80/100)*AF82","v":150.73066012891397},{"$f":"(1+Berechnung!$C$74/100)*AG82","v":2707.3101319162574},{"$f":"IF($K$5=0,0,IF($K$5=1,AB83,IF($K$5=2,AC83,IF($K$5=3,AD83+AE83,IF($K$5=4,AF83,AG83)))))","v":301.46132025782794},883.21271982578492]
["Ausgabe Wärmepume/Kessel",null,{"$f":"IF(A5=A7,A5,Translation!$A$5)","v":"Heat pump"},null,null,2.5,18.8,4.7599366204748099,null,null,"2. WE",{"$f":"P146","v":0},{"$f":"T146","v":0},0,{"$f":"L84","v":0},{"$f":"N84","v":0},{"$f":"IF($D$5=1,L84,IF($D$5=2,N84,M84))","v":0},{"$f":"IF(Berechnung!H5=Berechnung!H7,IF(AND(D5=2,Berechnung!C95=2),FIXED(Q84,0)&\" \"&Translation!$A$196,FIXED(Q84,0)&\" \"&Translation!$A$79),IF(AND(D5=2,Berechnung!C95=2),FIXED(Q84,0)&\" \"&Translation!$A$197,FIXED(Q84,0)&\" \"&Translation!$A$79))","v":"0 kWh/Year"},null,11,0,{"$f":"(1+Berechnung!$C$80/100)*V83","v":599.20394155499571},{"$f":"(1+Berechnung!$C$74/100)*W83","v":15739.221046940853},{"$f":"(1+Berechnung!$C$80/100)*X83","v":599.20394155499571},{"$f":"(1+Berechnung!$C$74/100)*Y83","v":0},599.20394155499571,{"$f":"IF($K$5<3,0,IF(Einstellungen!$D$55>=T84,Einstellungen!$D$53,0))","v":0},{"$f":"(1+Berechnung!$C$80/100)*AB83","v":310.5051598655628},{"$f":"(1+Berechnung!$C$74/100)*AC83","v":5685.3512770241405},{"$f":"(1+Berechnung!$C$80/100)*AD83","v":176.59061224581768},{"$f":"(1+Berechnung!$C$74/100)*AE83","v":2274.1405108096565},{"$f":"(1+Berechnung!$C$80/100)*AF83","v":155.2525799327814},{"$f":"(1+Berechnung!$C$74/100)*AG83","v":2842.6756385120702},310.5051598655628,909.70910142055845]
["Zertifikat MCS",null,{"$f":"VLOOKUP(A5,Leistungsdaten!A:L,12,FALSE)","v":"MCS HP 0046/38"},null,null,5,20,4.9810924369747891,null,null,"Warmwasser",{"$f":"L8","v":1258.0333333333333},{"$f":"L10","v":2372.5},{"$f":"IF(Berechnung!H5=Berechnung!H7,IF(Berechnung!C95=2,L9/Berechnung!C101,L9),IF(Berechnung!C95=2,L9/Berechnung!C102,L9))","v":4106.25},{"$f":"IF(Berechnung!H5=Berechnung!H7,IF(Berechnung!C95=2,L11/Berechnung!C101,L11),IF(Berechnung!C95=2,L11/Berechnung!C102,L11))","v":629.01666666666665},{"$f":"IF(Berechnung!H5=Berechnung!H7,IF(Berechnung!C95=2,L12/Berechnung!C101,L12),IF(Berechnung!C95=2,L12/Berechnung!C102,L12))","v":2053.125},{"$f":"IF($K$5=0,0,IF($K$5=1,L85,IF($K$5=3,M85,IF($K$5=2,N85,IF($K$5=4,O85,P85)))))","v":1258.0333333333333},{"$f":"IF(Berechnung!H5=Berechnung!H7,IF(AND(D5=2,Berechnung!C95=2),IF($K$5=0,\"\",FIXED(Q85,0)&\" \"&Translation!$A$196),IF($K$5=0,\"\",FIXED(Q85,0)&\" \"&Translation!$A$79)),IF(AND(D5=2,Berechnung!C95=2),IF($K$5=0,\"\",FIXED(Q85,0)&\" \"&Translation!$A$197),IF($K$5=0,\"\",FIXED(Q85,0)&\" \"&Translation!$A$79)))","v":"1.258 kWh/Year"},null,12,0,{"$f":"(1+Berechnung!$C$80/100)*V84","v":617.1800598016456},{"$f":"(1+Berechnung!$C$74/100)*W84","v":16526.182099287897},{"$f":"(1+Berechnung!$C$80/100)*X84","v":617.1800598016456},{"$f":"(1+Berechnung!$C$74/100)*Y84","v":0},617.1800598016456,{"$f":"IF($K$5<3,0,IF(Einstellungen!$D$55>=T85,Einstellungen!$D$53,0))","v":0},{"$f":"(1+Berechnung!$C$80/100)*AB84","v":319.82031466152972},{"$f":"(1+Berechnung!$C$74/100)*AC84","v":5969.6188408753478},{"$f":"(1+Berechnung!$C$80/100)*AD84","v":181.88833061319221},{"$f":"(1+Berechnung!$C$74/100)*AE84","v":2387.8475363501393},{"$f":"(1+Berechnung!$C$80/100)*AF84","v":159.91015733076486},{"$f":"(1+Berechnung!$C$74/100)*AG84","v":2984.8094204376739},319.82031466152972,937.00037446317538,null,null,"Diagramm Preisentwicklung"]
["Slot anzeigen ?",null,true,null,null,7.5,20.8,5.4048010222709033,null,null,"Summe",{"$f":"SUM(L83:L85)","v":3735.0555927400283},{"$f":"SUM(M83:M85)","v":4849.5222594066945},{"$f":"SUM(N83:N85)","v":15473.916354264293},3106.0389260733618,13420.791354264293,{"$f":"SUM(Q83:Q85)","v":3735.0555927400283},{"$f":"IF(Berechnung!H5=Berechnung!H7,IF(AND(D5=2,Berechnung!C95=2),FIXED(Q86,0)&\" \"&Translation!$A$196,FIXED(Q86,0)&\" \"&Translation!$A$79),IF(AND(D5=2,Berechnung!C95=2),FIXED(Q86,0)&\" \"&Translation!$A$197,FIXED(Q86,0)&\" \"&Translation!$A$79))","v":"3.735 kWh/Year"},null,13,0,{"$f":"(1+Berechnung!$C$80/100)*V85","v":635.69546159569495},{"$f":"(1+Berechnung!$C$74/100)*W85","v":17352.491204252292},{"$f":"(1+Berechnung!$C$80/100)*X85","v":635.69546159569495},{"$f":"(1+Berechnung!$C$74/100)*Y85","v":0},635.69546159569495,{"$f":"IF($K$5<3,0,IF(Einstellungen!$D$55>=T86,Einstellungen!$D$53,0))","v":0},{"$f":"(1+Berechnung!$C$80/100)*AB85","v":329.41492410137562},{"$f":"(1+Berechnung!$C$74/100)*AC85","v":6268.0997829191156},{"$f":"(1+Berechnung!$C$80/100)*AD85","v":187.34498053158799},{"$f":"(1+Berechnung!$C$74/100)*AE85","v":2507.2399131676466},{"$f":"(1+Berechnung!$C$80/100)*AF85","v":164.70746205068781},{"$f":"(1+Berechnung!$C$74/100)*AG85","v":3134.0498914595578},329.41492410137562,965.11038569707057,null,"Jahr","Gesamtkosten","Förderung","Heizung-Diagr.","WW-Diagr.","Förderung"]
[null,null,null,null,null,10,21,5.7226100966702464,null,null,null,null,null,null,null,null,null,null,null,14,0,{"$f":"(1+Berechnung!$C$80/100)*V86","v":654.76632544356585},{"$f":"(1+Berechnung!$C$74/100)*W86","v":18220.115764464907},{"$f":"(1+Berechnung!$C$80/100)*X86","v":654.76632544356585},{"$f":"(1+Berechnung!$C$74/100)*Y86","v":0},654.76632544356585,{"$f":"IF($K$5<3,0,IF(Einstellungen!$D$55>=T87,Einstellungen!$D$53,0))","v":0},{"$f":"(1+Berechnung!$C$80/100)*AB86","v":339.29737182441687},{"$f":"(1+Berechnung!$C$74/100)*AC86","v":6581.5047720650718},{"$f":"(1+Berechnung!$C$80/100)*AD86","v":192.96532994753565},{"$f":"(1+Berechnung!$C$74/100)*AE86","v":2632.6019088260291},{"$f":"(1+Berechnung!$C$80/100)*AF86","v":169.64868591220844},{"$f":"(1+Berechnung!$C$74/100)*AG86","v":3290.7523860325359},339.29737182441687,994.06369726798266,null,1,{"$f":"AI74","v":676.90900669320524},{"$f":"U74+AA74","v":0},{"$f":"IF(AM87>0,(AL87-AM87)*(Z74/AI74),Z74)","v":445.86400669320523},{"$f":"IF(AM87>0,(AL87-AM87)*(AH74/AI74),AH74)","v":231.04500000000002},{"$f":"MIN(AM87,AL87)","v":0}]
[null,null,null,null,null,12.5,21,6.1021739130434787,null,null,null,null,null,null,null,null,null,null,null,15,0,{"$f":"(1+Berechnung!$C$80/100)*V87","v":674.40931520687286},{"$f":"(1+Berechnung!$C$74/100)*W87","v":19131.121552688153},{"$f":"(1+Berechnung!$C$80/100)*X87","v":674.40931520687286},{"$f":"(1+Berechnung!$C$74/100)*Y87","v":0},674.40931520687286,{"$f":"IF($K$5<3,0,IF(Einstellungen!$D$55>=T88,Einstellungen!$D$53,0))","v":0},{"$f":"(1+Berechnung!$C$80/100)*AB87","v":349.47629297914938},{"$f":"(1+Berechnung!$C$74/100)*AC87","v":6910.5800106683255},{"$f":"(1+Berechnung!$C$80/100)*AD87","v":198.75428984596172},{"$f":"(1+Berechnung!$C$74/100)*AE87","v":2764.2320042673305},{"$f":"(1+Berechnung!$C$80/100)*AF87","v":174.73814648957469},{"$f":"(1+Berechnung!$C$74/100)*AG87","v":3455.2900053341627},349.47629297914938,1023.8856081860222,null,2,697.21627689400134,0,{"$f":"IF(AM88>0,(AL88-AM88)*(Z75/AI75),Z75)","v":459.23992689400137},{"$f":"IF(AM88>0,(AL88-AM88)*(AH75/AI75),AH75)","v":237.97635000000002},{"$f":"MIN(AM88,AL88)","v":0}]
[null,null,null,null,null,15,21,6.3636363636363633,null,null,null,null,null,null,null,null,null,null,null,"Summe",{"$f":"SUM(U74:U88)","v":0},{"$f":"SUM(V74:V88)","v":8292.5862656624577},{"$f":"SUM(W74:W88)","v":208503.22458395801},{"$f":"SUM(X74:X88)","v":8292.5862656624577},{"$f":"SUM(Y74:Y88)","v":0},{"$f":"SUM(Z74:Z88)","v":8292.5862656624577},{"$f":"SUM(AA74:AA88)","v":0},4297.1860589507905,{"$f":"SUM(AC74:AC88)","v":75315.93022403479},{"$f":"SUM(AD74:AD88)","v":2443.89728471135},{"$f":"SUM(AE74:AE88)","v":30126.372089613913},{"$f":"SUM(AF74:AF88)","v":2148.5930294753953},37657.965112017395,{"$f":"SUM(AH74:AH88)","v":4297.1860589507905},{"$f":"SUM(AI74:AI88)","v":12589.772324613248},null,3,718.1327652008215,0,473.0171247008214,245.11564050000004,{"$f":"MIN(AM89,AL89)","v":0}]
[null,null,null,null,null,17.5,21,6.7223746570217031,null,null,"CO2",null,null,null,null,null,null,null,null,null,null,null,null,null,null,null,null,null,null,null,null,null,null,null,null,null,4,739.67674815684609,0,487.20763844184603,252.46910971500006,0]
[null,null,null,null,null,20,21,6.9844789356984487,null,null,"Kategorie","Nur WP","Bivalent","Nur Öl/Gas","WP+Solar","Öl/Gas+Solar","Gewählt","Ausgabe",null,null,null,null,null,null,null,null,null,null,null,null,null,null,null,null,null,null,5,761.86705060155145,0,501.82386759510143,260.04318300645008,0]
[null,null,null,null,null,22.5,null,null,null,null,"1. WE",{"$f":"N146","v":1538.2308230915576},{"$f":"L92","v":1538.2308230915576},{"$f":"AF146","v":2876.0195876288662},{"$f":"L92","v":1538.2308230915576},{"$f":"N92","v":2876.0195876288662},{"$f":"IF($D$5=1,L92,IF($D$5=2,N92,M92))","v":1538.2308230915576},{"$f":"FIXED(Q92,0)&\" \"&Translation!$A$80","v":"1.538 kg/year"},null,null,null,null,null,null,null,null,null,null,null,null,null,null,null,null,null,null,6,784.72306211959813,0,516.87858362295447,267.8444784966436,0]
[null,null,null,null,null,25,null,null,null,null,"2. WE",{"$f":"R146","v":0},{"$f":"V146","v":0},0,{"$f":"L93","v":0},{"$f":"N93","v":0},{"$f":"IF($D$5=1,L93,IF($D$5=2,N93,M93))","v":0},{"$f":"FIXED(Q93,0)&\" \"&Translation!$A$80","v":"0 kg/year"},null,null,null,null,null,null,null,null,null,null,null,null,null,null,null,null,null,null,7,808.26475398318598,0,532.38494113164313,275.87981285154291,0]
[null,null,null,null,null,27.5,null,null,null,null,"Warmwasser",{"$f":"N8","v":781.23869999999999},{"$f":"N10","v":868.88249999999994},{"$f":"N9","v":1038.8812499999999},{"$f":"N11","v":390.61935},{"$f":"N12","v":519.44062499999995},{"$f":"IF($K$5=0,0,IF($K$5=1,L94,IF($K$5=3,M94,IF($K$5=2,N94,IF($K$5=4,O94,P94)))))","v":781.23869999999999},{"$f":"IF($K$5=0,\"\",FIXED(Q94,0)&\" \"&Translation!$A$80)","v":"781 kg/year"},null,null,null,null,null,null,null,null,null,null,null,null,null,null,null,null,null,null,8,832.51269660268167,0,{"$f":"IF(AM94>0,(AL94-AM94)*(Z81/AI81),Z81)","v":548.35648936559244},284.15620723708918,0]
[null,null,null,null,null,30,null,null,null,null,"Summe",{"$f":"SUM(L92:L94)","v":2319.4695230915577},{"$f":"SUM(M92:M94)","v":2407.1133230915575},{"$f":"SUM(N92:N94)","v":3914.9008376288662},1928.8501730915575,{"$f":"SUM(P92:P94)","v":3395.4602126288664},{"$f":"SUM(Q92:Q94)","v":2319.4695230915577},{"$f":"FIXED(Q95,0)&\" \"&Translation!$A$80","v":"2.319 kg/year"},null,null,null,null,null,null,null,null,null,null,null,null,null,null,null,null,null,null,9,857.48807750076207,0,564.80718404656022,292.68089345420185,0]
[null,null,null,null,null,null,null,null,null,null,null,null,null,null,null,null,null,null,null,null,null,null,null,null,null,null,null,null,null,null,null,null,null,null,null,null,10,883.21271982578492,0,581.75139956795704,301.46132025782794,0]
[null,null,null,null,null,null,null,null,null,null,null,null,null,null,null,null,null,null,null,null,null,null,null,null,null,null,null,null,null,null,null,null,null,null,null,null,11,909.70910142055845,0,599.20394155499571,310.5051598655628,0]
[null,null,null,null,null,null,null,null,null,null,null,null,null,null,null,null,null,null,null,null,null,null,null,null,null,null,null,null,null,null,null,null,null,null,null,null,12,937.00037446317538,0,617.1800598016456,319.82031466152972,0]
[null,null,null,null,null,null,null,null,null,null,null,null,null,null,null,null,null,null,null,null,null,null,null,null,null,null,null,null,null,null,null,null,null,null,null,null,13,965.11038569707057,0,635.69546159569495,329.41492410137562,0]
["Berechnung Jahresheizarbeit/Heizstunden",null,null,null,null,null,null,null,null,"Wärmepumpe",null,null,null,null,"2. WE - DHC monoenergetisch",null,null,null,"2. WE - Öl/Gas bivalent",null,null,null,"Gesamt Nur Wärmepumpe",null,null,"Gesamt Wärmepumpe+Öl/Gas",null,null,"Gasamt Nur Öl/Gas",null,null,null,null,null,null,null,14,994.06369726798266,0,654.76632544356585,339.29737182441687,0]
["Zähler","Außentemp","Heizlast","Leistung WP","Heizlast minus","Biv.punkt","Stunden bei tau","Heizwärmebedarf","Faktor","Heizarbeit","COP","Endenergie","Energiekosten","CO2-Emission","Heizarbeit","Endenergie","Energiekosten","CO2-Emission","Heizarbeit","Endenergie","Energiekosten","CO2-Emission","Endenergie","Energiekosten","CO2-Emission","Endenergie","Energiekosten","CO2-Emission","Heizarbeit","Endenergie","Energiekosten","CO2-Emission",null,null,null,null,15,1023.8856081860222,0,674.40931520687286,349.47629297914938,0]
[null,"°C","KW","KW","WP-Leistung",null,{"$f":"Berechnung!$B$5","v":"Holzminden"},"kWh/a","bivalenter Betrieb","kWh/a","-","kWh/a","€/a","kg/a","kWh/a","kWh/a","€/a","kg/a","kWh/a","kWh/a","€/a","kg/a",null,null,null,null,null,null,"kWh/a","kWh/a","€/a","kg/a"]
[3,"< -20",{"$f":"Berechnung!$C$65","v":6},{"$f":"D104-(D105-D104)","v":7.4000000000000075},{"$f":"C103-D103","v":-1.4000000000000075},-20,{"$f":"HLOOKUP(Berechnung!$C$66,INDIRECT(\"Klimadaten!M\"&Berechnung!$C$67&\":BM\"&Berechnung!$C$67+44),A103,FALSE)","v":0},{"$f":"C103*G103","v":0},{"$f":"I104","v":1},{"$f":"MIN(H103,I103*D103*G103)","v":0},{"$f":"K104-(K105-K104)","v":2.3928571428571428},{"$f":"J103/K103","v":0},{"$f":"L103*Berechnung!$C$79/100","v":0},{"$f":"(L103*Berechnung!$C$69/1000)","v":0},{"$f":"H103-J103","v":0},{"$f":"O103","v":0},{"$f":"P103*Berechnung!$C$78/100","v":0},{"$f":"P103*Berechnung!$C$69/1000","v":0},{"$f":"O103","v":0},{"$f":"S103/(Berechnung!$C$81/100)","v":0},{"$f":"T103*Berechnung!$C$72","v":0},{"$f":"T103*Berechnung!$C$73/1000","v":0},{"$f":"L103+P103","v":0},{"$f":"M103+Q103","v":0},{"$f":"N103+R103","v":0},{"$f":"L103+T103","v":0},{"$f":"M103+U103","v":0},{"$f":"N103+V103","v":0},{"$f":"H103","v":0},{"$f":"AC103/(Berechnung!$C$81/100)","v":0},{"$f":"AD103*Berechnung!$C$72","v":0},{"$f":"AD103*Berechnung!$C$73/1000","v":0}]
[4,-20,{"$f":"MAX(0,MIN(Berechnung!$C$65,Berechnung!$C$65*(B104-Berechnung!$C$64)/(Berechnung!$C$63-Berechnung!$C$64)))","v":6},{"$f":"G75","v":8.0000000000000071},{"$f":"C104-D104","v":-2.0000000000000071},{"$f":"IF(SIGN(E104)-SIGN(E105)<>0,B104,-20)","v":-20},{"$f":"HLOOKUP(Berechnung!$C$66,INDIRECT(\"Klimadaten!M\"&Berechnung!$C$67&\":BM\"&Berechnung!$C$67+44),A104,FALSE)","v":0},{"$f":"C104*G104","v":0},{"$f":"IF(OR($B$5=$B$7,$B$5=$B$8),1,IF(B104<=$F$146,0,1))","v":1},{"$f":"MIN(H104,I104*D104*G104)","v":0},{"$f":"H75","v":2.5},0,{"$f":"L104*Berechnung!$C$79/100","v":0},{"$f":"(L104*Berechnung!$C$69/1000)","v":0},0,{"$f":"O104","v":0},{"$f":"P104*Berechnung!$C$78/100","v":0},{"$f":"P104*Berechnung!$C$69/1000","v":0},{"$f":"O104","v":0},{"$f":"S104/(Berechnung!$C$81/100)","v":0},{"$f":"T104*Berechnung!$C$72","v":0},{"$f":"T104*Berechnung!$C$73/1000","v":0},0,0,0,{"$f":"L104+T104","v":0},{"$f":"M104+U104","v":0},{"$f":"N104+V104","v":0},{"$f":"H104","v":0},{"$f":"AC104/(Berechnung!$C$81/100)","v":0},{"$f":"AD104*Berechnung!$C$72","v":0},{"$f":"AD104*Berechnung!$C$73/1000","v":0}]
[5,-19,{"$f":"MAX(0,MIN(Berechnung!$C$65,Berechnung!$C$65*(B105-Berechnung!$C$64)/(Berechnung!$C$63-Berechnung!$C$64)))","v":6},{"$f":"AVERAGE(D104,D106)","v":8.6000000000000068},-2.6000000000000068,{"$f":"IF(SIGN(E105)-SIGN(E106)<>0,B105,-20)","v":-20},{"$f":"HLOOKUP(Berechnung!$C$66,INDIRECT(\"Klimadaten!M\"&Berechnung!$C$67&\":BM\"&Berechnung!$C$67+44),A105,FALSE)","v":0},{"$f":"C105*G105","v":0},1,0,{"$f":"AVERAGE(K104,K106)","v":2.6071428571428572},0,{"$f":"L105*Berechnung!$C$79/100","v":0},{"$f":"(L105*Berechnung!$C$69/1000)","v":0},0,0,{"$f":"P105*Berechnung!$C$78/100","v":0},{"$f":"P105*Berechnung!$C$69/1000","v":0},0,{"$f":"S105/(Berechnung!$C$81/100)","v":0},{"$f":"T105*Berechnung!$C$72","v":0},{"$f":"T105*Berechnung!$C$73/1000","v":0},0,0,0,0,0,0,0,{"$f":"AC105/(Berechnung!$C$81/100)","v":0},{"$f":"AD105*Berechnung!$C$72","v":0},{"$f":"AD105*Berechnung!$C$73/1000","v":0}]
[6,-18,{"$f":"MAX(0,MIN(Berechnung!$C$65,Berechnung!$C$65*(B106-Berechnung!$C$64)/(Berechnung!$C$63-Berechnung!$C$64)))","v":6},{"$f":"G76","v":9.2000000000000064},-3.2000000000000064,-20,{"$f":"HLOOKUP(Berechnung!$C$66,INDIRECT(\"Klimadaten!M\"&Berechnung!$C$67&\":BM\"&Berechnung!$C$67+44),A106,FALSE)","v":0},{"$f":"C106*G106","v":0},1,{"$f":"MIN(H106,I106*D106*G106)","v":0},{"$f":"H76","v":2.7142857142857144},0,{"$f":"L106*Berechnung!$C$79/100","v":0},{"$f":"(L106*Berechnung!$C$69/1000)","v":0},0,0,{"$f":"P106*Berechnung!$C$78/100","v":0},{"$f":"P106*Berechnung!$C$69/1000","v":0},0,{"$f":"S106/(Berechnung!$C$81/100)","v":0},{"$f":"T106*Berechnung!$C$72","v":0},{"$f":"T106*Berechnung!$C$73/1000","v":0},0,0,0,{"$f":"L106+T106","v":0},0,0,0,{"$f":"AC106/(Berechnung!$C$81/100)","v":0},{"$f":"AD106*Berechnung!$C$72","v":0},{"$f":"AD106*Berechnung!$C$73/1000","v":0}]
[7,-17,{"$f":"MAX(0,MIN(Berechnung!$C$65,Berechnung!$C$65*(B107-Berechnung!$C$64)/(Berechnung!$C$63-Berechnung!$C$64)))","v":6},{"$f":"G76","v":9.2000000000000064},-3.2000000000000064,{"$f":"IF(SIGN(E107)-SIGN(E108)<>0,B107,-20)","v":-20},{"$f":"HLOOKUP(Berechnung!$C$66,INDIRECT(\"Klimadaten!M\"&Berechnung!$C$67&\":BM\"&Berechnung!$C$67+44),A107,FALSE)","v":0},{"$f":"C107*G107","v":0},1,{"$f":"MIN(H107,I107*D107*G107)","v":0},{"$f":"H76","v":2.7142857142857144},0,{"$f":"L107*Berechnung!$C$79/100","v":0},{"$f":"(L107*Berechnung!$C$69/1000)","v":0},0,0,{"$f":"P107*Berechnung!$C$78/100","v":0},{"$f":"P107*Berechnung!$C$69/1000","v":0},0,{"$f":"S107/(Berechnung!$C$81/100)","v":0},{"$f":"T107*Berechnung!$C$72","v":0},{"$f":"T107*Berechnung!$C$73/1000","v":0},0,0,0,0,0,0,0,{"$f":"AC107/(Berechnung!$C$81/100)","v":0},{"$f":"AD107*Berechnung!$C$72","v":0},{"$f":"AD107*Berechnung!$C$73/1000","v":0}]
[8,-16,{"$f":"MAX(0,MIN(Berechnung!$C$65,Berechnung!$C$65*(B108-Berechnung!$C$64)/(Berechnung!$C$63-Berechnung!$C$64)))","v":6},{"$f":"AVERAGE(D107,D109)","v":9.800000000000006},-3.800000000000006,-20,{"$f":"HLOOKUP(Berechnung!$C$66,INDIRECT(\"Klimadaten!M\"&Berechnung!$C$67&\":BM\"&Berechnung!$C$67+44),A108,FALSE)","v":0},{"$f":"C108*G108","v":0},1,0,{"$f":"AVERAGE(K107,K109)","v":2.7857142857142856},0,{"$f":"L108*Berechnung!$C$79/100","v":0},{"$f":"(L108*Berechnung!$C$69/1000)","v":0},0,0,{"$f":"P108*Berechnung!$C$78/100","v":0},{"$f":"P108*Berechnung!$C$69/1000","v":0},0,{"$f":"S108/(Berechnung!$C$81/100)","v":0},{"$f":"T108*Berechnung!$C$72","v":0},{"$f":"T108*Berechnung!$C$73/1000","v":0},0,0,0,0,0,0,0,{"$f":"AC108/(Berechnung!$C$81/100)","v":0},{"$f":"AD108*Berechnung!$C$72","v":0},{"$f":"AD108*Berechnung!$C$73/1000","v":0}]
[9,-15,{"$f":"MAX(0,MIN(Berechnung!$C$65,Berechnung!$C$65*(B109-Berechnung!$C$64)/(Berechnung!$C$63-Berechnung!$C$64)))","v":6},{"$f":"G77","v":10.400000000000006},-4.4000000000000057,-20,{"$f":"HLOOKUP(Berechnung!$C$66,INDIRECT(\"Klimadaten!M\"&Berechnung!$C$67&\":BM\"&Berechnung!$C$67+44),A109,FALSE)","v":0},0,1,0,{"$f":"H77","v":2.8571428571428572},0,{"$f":"L109*Berechnung!$C$79/100","v":0},{"$f":"(L109*Berechnung!$C$69/1000)","v":0},0,0,{"$f":"P109*Berechnung!$C$78/100","v":0},{"$f":"P109*Berechnung!$C$69/1000","v":0},0,{"$f":"S109/(Berechnung!$C$81/100)","v":0},{"$f":"T109*Berechnung!$C$72","v":0},{"$f":"T109*Berechnung!$C$73/1000","v":0},0,0,0,0,0,0,{"$f":"H109","v":0},{"$f":"AC109/(Berechnung!$C$81/100)","v":0},{"$f":"AD109*Berechnung!$C$72","v":0},{"$f":"AD109*Berechnung!$C$73/1000","v":0}]
[10,-14,{"$f":"MAX(0,MIN(Berechnung!$C$65,Berechnung!$C$65*(B110-Berechnung!$C$64)/(Berechnung!$C$63-Berechnung!$C$64)))","v":6},{"$f":"AVERAGE(D109,D111)","v":11.000000000000005},-5.0000000000000053,{"$f":"IF(SIGN(E110)-SIGN(E111)<>0,B110,-20)","v":-20},{"$f":"HLOOKUP(Berechnung!$C$66,INDIRECT(\"Klimadaten!M\"&Berechnung!$C$67&\":BM\"&Berechnung!$C$67+44),A110,FALSE)","v":0},{"$f":"C110*G110","v":0},1,0,{"$f":"AVERAGE(K109,K111)","v":2.9567404426559358},0,{"$f":"L110*Berechnung!$C$79/100","v":0},{"$f":"(L110*Berechnung!$C$69/1000)","v":0},0,0,{"$f":"P110*Berechnung!$C$78/100","v":0},{"$f":"P110*Berechnung!$C$69/1000","v":0},{"$f":"O110","v":0},{"$f":"S110/(Berechnung!$C$81/100)","v":0},{"$f":"T110*Berechnung!$C$72","v":0},{"$f":"T110*Berechnung!$C$73/1000","v":0},0,0,0,0,0,0,0,{"$f":"AC110/(Berechnung!$C$81/100)","v":0},{"$f":"AD110*Berechnung!$C$72","v":0},{"$f":"AD110*Berechnung!$C$73/1000","v":0}]
[11,-13,{"$f":"MAX(0,MIN(Berechnung!$C$65,Berechnung!$C$65*(B111-Berechnung!$C$64)/(Berechnung!$C$63-Berechnung!$C$64)))","v":6},{"$f":"G78","v":11.600000000000005},-5.600000000000005,-20,{"$f":"HLOOKUP(Berechnung!$C$66,INDIRECT(\"Klimadaten!M\"&Berechnung!$C$67&\":BM\"&Berechnung!$C$67+44),A111,FALSE)","v":0},{"$f":"C111*G111","v":0},1,0,{"$f":"H78","v":3.056338028169014},0,{"$f":"L111*Berechnung!$C$79/100","v":0},{"$f":"(L111*Berechnung!$C$69/1000)","v":0},0,0,{"$f":"P111*Berechnung!$C$78/100","v":0},{"$f":"P111*Berechnung!$C$69/1000","v":0},0,{"$f":"S111/(Berechnung!$C$81/100)","v":0},{"$f":"T111*Berechnung!$C$72","v":0},{"$f":"T111*Berechnung!$C$73/1000","v":0},0,0,0,0,0,0,0,{"$f":"AC111/(Berechnung!$C$81/100)","v":0},{"$f":"AD111*Berechnung!$C$72","v":0},{"$f":"AD111*Berechnung!$C$73/1000","v":0}]
[12,-12,{"$f":"MAX(0,MIN(Berechnung!$C$65,Berechnung!$C$65*(B112-Berechnung!$C$64)/(Berechnung!$C$63-Berechnung!$C$64)))","v":6},{"$f":"G78","v":11.600000000000005},-5.600000000000005,-20,{"$f":"HLOOKUP(Berechnung!$C$66,INDIRECT(\"Klimadaten!M\"&Berechnung!$C$67&\":BM\"&Berechnung!$C$67+44),A112,FALSE)","v":0},0,1,{"$f":"MIN(H112,I112*D112*G112)","v":0},{"$f":"H78","v":3.056338028169014},0,{"$f":"L112*Berechnung!$C$79/100","v":0},{"$f":"(L112*Berechnung!$C$69/1000)","v":0},0,0,{"$f":"P112*Berechnung!$C$78/100","v":0},{"$f":"P112*Berechnung!$C$69/1000","v":0},0,{"$f":"S112/(Berechnung!$C$81/100)","v":0},{"$f":"T112*Berechnung!$C$72","v":0},{"$f":"T112*Berechnung!$C$73/1000","v":0},0,0,0,0,0,0,0,{"$f":"AC112/(Berechnung!$C$81/100)","v":0},{"$f":"AD112*Berechnung!$C$72","v":0},{"$f":"AD112*Berechnung!$C$73/1000","v":0}]
[13,-11,{"$f":"MAX(0,MIN(Berechnung!$C$65,Berechnung!$C$65*(B113-Berechnung!$C$64)/(Berechnung!$C$63-Berechnung!$C$64)))","v":6},{"$f":"AVERAGE(D112,D114)","v":12.200000000000005},-6.2000000000000046,-20,{"$f":"HLOOKUP(Berechnung!$C$66,INDIRECT(\"Klimadaten!M\"&Berechnung!$C$67&\":BM\"&Berechnung!$C$67+44),A113,FALSE)","v":6},36,1,36,{"$f":"AVERAGE(K112,K114)","v":3.1211922698984607},11.534053940602371,{"$f":"L113*Berechnung!$C$79/100","v":2.076129709308427},{"$f":"(L113*Berechnung!$C$69/1000)","v":7.1626474971140723},0,0,{"$f":"P113*Berechnung!$C$78/100","v":0},{"$f":"P113*Berechnung!$C$69/1000","v":0},0,{"$f":"S113/(Berechnung!$C$81/100)","v":0},{"$f":"T113*Berechnung!$C$72","v":0},{"$f":"T113*Berechnung!$C$73/1000","v":0},11.534053940602371,2.076129709308427,7.1626474971140723,11.534053940602371,2.076129709308427,7.1626474971140723,36,{"$f":"AC113/(Berechnung!$C$81/100)","v":37.113402061855673},{"$f":"AD113*Berechnung!$C$72","v":31.546391752577321},{"$f":"AD113*Berechnung!$C$73/1000","v":9.3896907216494849}]
[14,-10,{"$f":"MAX(0,MIN(Berechnung!$C$65,Berechnung!$C$65*(B114-Berechnung!$C$64)/(Berechnung!$C$63-Berechnung!$C$64)))","v":6},{"$f":"G79","v":12.800000000000004},-6.8000000000000043,-20,{"$f":"HLOOKUP(Berechnung!$C$66,INDIRECT(\"Klimadaten!M\"&Berechnung!$C$67&\":BM\"&Berechnung!$C$67+44),A114,FALSE)","v":32},192,1,{"$f":"MIN(H114,I114*D114*G114)","v":192},{"$f":"H79","v":3.1860465116279069},60.262773722627742,{"$f":"L114*Berechnung!$C$79/100","v":10.847299270072995},{"$f":"(L114*Berechnung!$C$69/1000)","v":37.42318248175183},0,0,{"$f":"P114*Berechnung!$C$78/100","v":0},{"$f":"P114*Berechnung!$C$69/1000","v":0},0,{"$f":"S114/(Berechnung!$C$81/100)","v":0},{"$f":"T114*Berechnung!$C$72","v":0},{"$f":"T114*Berechnung!$C$73/1000","v":0},60.262773722627742,10.847299270072995,37.42318248175183,60.262773722627742,10.847299270072995,37.42318248175183,192,{"$f":"AC114/(Berechnung!$C$81/100)","v":197.93814432989691},{"$f":"AD114*Berechnung!$C$72","v":168.24742268041237},{"$f":"AD114*Berechnung!$C$73/1000","v":50.078350515463917}]
[15,-9,{"$f":"MAX(0,MIN(Berechnung!$C$65,Berechnung!$C$65*(B115-Berechnung!$C$64)/(Berechnung!$C$63-Berechnung!$C$64)))","v":5.7272727272727275},{"$f":"AVERAGE(D114,D116)","v":13.400000000000004},-7.6727272727272764,-20,{"$f":"HLOOKUP(Berechnung!$C$66,INDIRECT(\"Klimadaten!M\"&Berechnung!$C$67&\":BM\"&Berechnung!$C$67+44),A115,FALSE)","v":14},80.181818181818187,1,80.181818181818187,{"$f":"AVERAGE(K114,K116)","v":3.3017388521442284},24.284724435352054,{"$f":"L115*Berechnung!$C$79/100","v":4.3712503983633697},{"$f":"(L115*Berechnung!$C$69/1000)","v":15.080813874353625},0,{"$f":"O115","v":0},{"$f":"P115*Berechnung!$C$78/100","v":0},{"$f":"P115*Berechnung!$C$69/1000","v":0},0,{"$f":"S115/(Berechnung!$C$81/100)","v":0},{"$f":"T115*Berechnung!$C$72","v":0},{"$f":"T115*Berechnung!$C$73/1000","v":0},24.284724435352054,4.3712503983633697,15.080813874353625,24.284724435352054,{"$f":"M115+U115","v":4.3712503983633697},15.080813874353625,80.181818181818187,{"$f":"AC115/(Berechnung!$C$81/100)","v":82.66166822867855},{"$f":"AD115*Berechnung!$C$72","v":70.262417994376761},{"$f":"AD115*Berechnung!$C$73/1000","v":20.91340206185567}]
[16,-8,{"$f":"MAX(0,MIN(Berechnung!$C$65,Berechnung!$C$65*(B116-Berechnung!$C$64)/(Berechnung!$C$63-Berechnung!$C$64)))","v":5.4545454545454541},{"$f":"G80","v":14.000000000000004},-8.5454545454545503,-20,{"$f":"HLOOKUP(Berechnung!$C$66,INDIRECT(\"Klimadaten!M\"&Berechnung!$C$67&\":BM\"&Berechnung!$C$67+44),A116,FALSE)","v":23},125.45454545454544,1,125.45454545454544,{"$f":"H80","v":3.4174311926605503},36.71018913971934,{"$f":"L116*Berechnung!$C$79/100","v":6.607834045149481},{"$f":"(L116*Berechnung!$C$69/1000)","v":22.797027455765711},0,0,{"$f":"P116*Berechnung!$C$78/100","v":0},{"$f":"P116*Berechnung!$C$69/1000","v":0},0,{"$f":"S116/(Berechnung!$C$81/100)","v":0},{"$f":"T116*Berechnung!$C$72","v":0},{"$f":"T116*Berechnung!$C$73/1000","v":0},36.71018913971934,6.607834045149481,22.797027455765711,36.71018913971934,6.607834045149481,22.797027455765711,125.45454545454544,{"$f":"AC116/(Berechnung!$C$81/100)","v":129.33458294283037},{"$f":"AD116*Berechnung!$C$72","v":109.9343955014058},{"$f":"AD116*Berechnung!$C$73/1000","v":32.72164948453608}]
[17,-7,{"$f":"MAX(0,MIN(Berechnung!$C$65,Berechnung!$C$65*(B117-Berechnung!$C$64)/(Berechnung!$C$63-Berechnung!$C$64)))","v":5.1818181818181817},{"$f":"G80","v":14.000000000000004},-8.8181818181818219,-20,{"$f":"HLOOKUP(Berechnung!$C$66,INDIRECT(\"Klimadaten!M\"&Berechnung!$C$67&\":BM\"&Berechnung!$C$67+44),A117,FALSE)","v":44},228,1,228,{"$f":"H80","v":3.4174311926605503},66.716778523489936,{"$f":"L117*Berechnung!$C$79/100","v":12.009020134228187},{"$f":"(L117*Berechnung!$C$69/1000)","v":41.431119463087249},0,0,{"$f":"P117*Berechnung!$C$78/100","v":0},{"$f":"P117*Berechnung!$C$69/1000","v":0},0,{"$f":"S117/(Berechnung!$C$81/100)","v":0},{"$f":"T117*Berechnung!$C$72","v":0},{"$f":"T117*Berechnung!$C$73/1000","v":0},66.716778523489936,12.009020134228187,41.431119463087249,66.716778523489936,12.009020134228187,41.431119463087249,228,{"$f":"AC117/(Berechnung!$C$81/100)","v":235.05154639175259},{"$f":"AD117*Berechnung!$C$72","v":199.79381443298971},{"$f":"AD117*Berechnung!$C$73/1000","v":59.468041237113411}]
[18,-6,{"$f":"MAX(0,MIN(Berechnung!$C$65,Berechnung!$C$65*(B118-Berechnung!$C$64)/(Berechnung!$C$63-Berechnung!$C$64)))","v":4.9090909090909092},{"$f":"AVERAGE(D117,D119)","v":14.600000000000003},-9.6909090909090949,-20,{"$f":"HLOOKUP(Berechnung!$C$66,INDIRECT(\"Klimadaten!M\"&Berechnung!$C$67&\":BM\"&Berechnung!$C$67+44),A118,FALSE)","v":49},240.54545454545456,1,240.54545454545456,{"$f":"AVERAGE(K117,K119)","v":3.4928065054211839},68.868817717816327,{"$f":"L118*Berechnung!$C$79/100","v":12.396387189206939},{"$f":"(L118*Berechnung!$C$69/1000)","v":42.767535802763938},0,0,{"$f":"P118*Berechnung!$C$78/100","v":0},{"$f":"P118*Berechnung!$C$69/1000","v":0},0,{"$f":"S118/(Berechnung!$C$81/100)","v":0},{"$f":"T118*Berechnung!$C$72","v":0},{"$f":"T118*Berechnung!$C$73/1000","v":0},68.868817717816327,12.396387189206939,42.767535802763938,68.868817717816327,12.396387189206939,42.767535802763938,240.54545454545456,{"$f":"AC118/(Berechnung!$C$81/100)","v":247.98500468603564},{"$f":"AD118*Berechnung!$C$72","v":210.78725398313028},{"$f":"AD118*Berechnung!$C$73/1000","v":62.740206185567018}]
[19,-5,{"$f":"MAX(0,MIN(Berechnung!$C$65,Berechnung!$C$65*(B119-Berechnung!$C$64)/(Berechnung!$C$63-Berechnung!$C$64)))","v":4.6363636363636367},{"$f":"G81","v":15.200000000000003},-10.563636363636366,-20,{"$f":"HLOOKUP(Berechnung!$C$66,INDIRECT(\"Klimadaten!M\"&Berechnung!$C$67&\":BM\"&Berechnung!$C$67+44),A119,FALSE)","v":41},190.09090909090909,1,190.09090909090909,{"$f":"H81","v":3.5681818181818179},53.273885350318473,{"$f":"L119*Berechnung!$C$79/100","v":9.5892993630573251},{"$f":"(L119*Berechnung!$C$69/1000)","v":33.083082802547771},0,0,{"$f":"P119*Berechnung!$C$78/100","v":0},{"$f":"P119*Berechnung!$C$69/1000","v":0},0,{"$f":"S119/(Berechnung!$C$81/100)","v":0},{"$f":"T119*Berechnung!$C$72","v":0},{"$f":"T119*Berechnung!$C$73/1000","v":0},53.273885350318473,9.5892993630573251,33.083082802547771,53.273885350318473,9.5892993630573251,33.083082802547771,190.09090909090909,{"$f":"AC119/(Berechnung!$C$81/100)","v":195.97000937207125},{"$f":"AD119*Berechnung!$C$72","v":166.57450796626054},{"$f":"AD119*Berechnung!$C$73/1000","v":49.580412371134024}]
[20,-4,{"$f":"MAX(0,MIN(Berechnung!$C$65,Berechnung!$C$65*(B120-Berechnung!$C$64)/(Berechnung!$C$63-Berechnung!$C$64)))","v":4.3636363636363633},{"$f":"AVERAGE(D119,D121)","v":15.800000000000002},-11.436363636363639,-20,{"$f":"HLOOKUP(Berechnung!$C$66,INDIRECT(\"Klimadaten!M\"&Berechnung!$C$67&\":BM\"&Berechnung!$C$67+44),A120,FALSE)","v":89},388.36363636363632,1,388.36363636363632,{"$f":"AVERAGE(K119,K121)","v":3.7249999999999996},104.25869432580842,{"$f":"L120*Berechnung!$C$79/100","v":18.766564978645516},{"$f":"(L120*Berechnung!$C$69/1000)","v":64.74464917632703},0,0,{"$f":"P120*Berechnung!$C$78/100","v":0},{"$f":"P120*Berechnung!$C$69/1000","v":0},0,{"$f":"S120/(Berechnung!$C$81/100)","v":0},{"$f":"T120*Berechnung!$C$72","v":0},{"$f":"T120*Berechnung!$C$73/1000","v":0},104.25869432580842,18.766564978645516,64.74464917632703,104.25869432580842,18.766564978645516,64.74464917632703,388.36363636363632,{"$f":"AC120/(Berechnung!$C$81/100)","v":400.37488284910961},{"$f":"AD120*Berechnung!$C$72","v":340.31865042174314},{"$f":"AD120*Berechnung!$C$73/1000","v":101.29484536082474}]
[21,-3,{"$f":"MAX(0,MIN(Berechnung!$C$65,Berechnung!$C$65*(B121-Berechnung!$C$64)/(Berechnung!$C$63-Berechnung!$C$64)))","v":4.0909090909090908},{"$f":"G82","v":16.400000000000002},-12.309090909090912,-20,{"$f":"HLOOKUP(Berechnung!$C$66,INDIRECT(\"Klimadaten!M\"&Berechnung!$C$67&\":BM\"&Berechnung!$C$67+44),A121,FALSE)","v":161},658.63636363636363,1,658.63636363636363,{"$f":"H82","v":3.8818181818181818},169.67213114754097,{"$f":"L121*Berechnung!$C$79/100","v":30.540983606557376},{"$f":"(L121*Berechnung!$C$69/1000)","v":105.36639344262294},0,0,{"$f":"P121*Berechnung!$C$78/100","v":0},{"$f":"P121*Berechnung!$C$69/1000","v":0},0,{"$f":"S121/(Berechnung!$C$81/100)","v":0},{"$f":"T121*Berechnung!$C$72","v":0},{"$f":"T121*Berechnung!$C$73/1000","v":0},169.67213114754097,30.540983606557376,105.36639344262294,169.67213114754097,30.540983606557376,105.36639344262294,658.63636363636363,{"$f":"AC121/(Berechnung!$C$81/100)","v":679.00656044985942},{"$f":"AD121*Berechnung!$C$72","v":577.15557638238045},{"$f":"AD121*Berechnung!$C$73/1000","v":171.78865979381445}]
[22,-2,{"$f":"MAX(0,MIN(Berechnung!$C$65,Berechnung!$C$65*(B122-Berechnung!$C$64)/(Berechnung!$C$63-Berechnung!$C$64)))","v":3.8181818181818183},{"$f":"G82","v":16.400000000000002},-12.581818181818184,-20,{"$f":"HLOOKUP(Berechnung!$C$66,INDIRECT(\"Klimadaten!M\"&Berechnung!$C$67&\":BM\"&Berechnung!$C$67+44),A122,FALSE)","v":207},790.36363636363637,1,{"$f":"MIN(H122,I122*D122*G122)","v":790.36363636363637},{"$f":"H82","v":3.8818181818181818},{"$f":"J122/K122","v":203.60655737704917},{"$f":"L122*Berechnung!$C$79/100","v":36.649180327868855},{"$f":"(L122*Berechnung!$C$69/1000)","v":126.43967213114755},0,0,{"$f":"P122*Berechnung!$C$78/100","v":0},{"$f":"P122*Berechnung!$C$69/1000","v":0},0,{"$f":"S122/(Berechnung!$C$81/100)","v":0},{"$f":"T122*Berechnung!$C$72","v":0},{"$f":"T122*Berechnung!$C$73/1000","v":0},203.60655737704917,36.649180327868855,126.43967213114755,203.60655737704917,36.649180327868855,126.43967213114755,790.36363636363637,{"$f":"AC122/(Berechnung!$C$81/100)","v":814.80787253983135},{"$f":"AD122*Berechnung!$C$72","v":692.58669165885658},{"$f":"AD122*Berechnung!$C$73/1000","v":206.14639175257733}]
[23,-1,{"$f":"MAX(0,MIN(Berechnung!$C$65,Berechnung!$C$65*(B123-Berechnung!$C$64)/(Berechnung!$C$63-Berechnung!$C$64)))","v":3.5454545454545454},{"$f":"AVERAGE(D122,D124)","v":17},-13.454545454545455,-20,{"$f":"HLOOKUP(Berechnung!$C$66,INDIRECT(\"Klimadaten!M\"&Berechnung!$C$67&\":BM\"&Berechnung!$C$67+44),A123,FALSE)","v":248},879.27272727272725,1,879.27272727272725,{"$f":"AVERAGE(K122,K124)","v":4.1618686868686865},211.26873369334388,{"$f":"L123*Berechnung!$C$79/100","v":38.0283720648019},{"$f":"(L123*Berechnung!$C$69/1000)","v":131.19788362356653},0,0,{"$f":"P123*Berechnung!$C$78/100","v":0},{"$f":"P123*Berechnung!$C$69/1000","v":0},0,{"$f":"S123/(Berechnung!$C$81/100)","v":0},{"$f":"T123*Berechnung!$C$72","v":0},{"$f":"T123*Berechnung!$C$73/1000","v":0},211.26873369334388,38.0283720648019,131.19788362356653,211.26873369334388,38.0283720648019,131.19788362356653,879.27272727272725,{"$f":"AC123/(Berechnung!$C$81/100)","v":906.46672914714156},{"$f":"AD123*Berechnung!$C$72","v":770.49671977507035},{"$f":"AD123*Berechnung!$C$73/1000","v":229.3360824742268}]
[24,0,{"$f":"MAX(0,MIN(Berechnung!$C$65,Berechnung!$C$65*(B124-Berechnung!$C$64)/(Berechnung!$C$63-Berechnung!$C$64)))","v":3.2727272727272729},{"$f":"G83","v":17.600000000000001},-14.327272727272728,-20,{"$f":"HLOOKUP(Berechnung!$C$66,INDIRECT(\"Klimadaten!M\"&Berechnung!$C$67&\":BM\"&Berechnung!$C$67+44),A124,FALSE)","v":263},860.72727272727275,1,860.72727272727275,{"$f":"H83","v":4.441919191919192},193.77373507674815,{"$f":"L124*Berechnung!$C$79/100","v":34.879272313814667},{"$f":"(L124*Berechnung!$C$69/1000)","v":120.33348948266061},0,0,{"$f":"P124*Berechnung!$C$78/100","v":0},{"$f":"P124*Berechnung!$C$69/1000","v":0},0,{"$f":"S124/(Berechnung!$C$81/100)","v":0},{"$f":"T124*Berechnung!$C$72","v":0},{"$f":"T124*Berechnung!$C$73/1000","v":0},193.77373507674815,34.879272313814667,120.33348948266061,193.77373507674815,34.879272313814667,120.33348948266061,860.72727272727275,{"$f":"AC124/(Berechnung!$C$81/100)","v":887.34770384254921},{"$f":"AD124*Berechnung!$C$72","v":754.24554826616679},{"$f":"AD124*Berechnung!$C$73/1000","v":224.49896907216493}]
[25,1,{"$f":"MAX(0,MIN(Berechnung!$C$65,Berechnung!$C$65*(B125-Berechnung!$C$64)/(Berechnung!$C$63-Berechnung!$C$64)))","v":3},{"$f":"AVERAGE(D124,D126)","v":18.200000000000003},-15.200000000000003,-20,{"$f":"HLOOKUP(Berechnung!$C$66,INDIRECT(\"Klimadaten!M\"&Berechnung!$C$67&\":BM\"&Berechnung!$C$67+44),A125,FALSE)","v":270},810,1,810,{"$f":"AVERAGE(K124,K126)","v":4.6009279061970005},176.05144364661945,{"$f":"L125*Berechnung!$C$79/100","v":31.689259856391502},{"$f":"(L125*Berechnung!$C$69/1000)","v":109.32794650455068},0,0,{"$f":"P125*Berechnung!$C$78/100","v":0},{"$f":"P125*Berechnung!$C$69/1000","v":0},0,{"$f":"S125/(Berechnung!$C$81/100)","v":0},{"$f":"T125*Berechnung!$C$72","v":0},{"$f":"T125*Berechnung!$C$73/1000","v":0},176.05144364661945,31.689259856391502,109.32794650455068,176.05144364661945,31.689259856391502,109.32794650455068,810,{"$f":"AC125/(Berechnung!$C$81/100)","v":835.05154639175259},{"$f":"AD125*Berechnung!$C$72","v":709.79381443298973},{"$f":"AD125*Berechnung!$C$73/1000","v":211.26804123711341}]
[26,2,{"$f":"MAX(0,MIN(Berechnung!$C$65,Berechnung!$C$65*(B126-Berechnung!$C$64)/(Berechnung!$C$63-Berechnung!$C$64)))","v":2.7272727272727271},{"$f":"G84","v":18.8},-16.072727272727274,-20,{"$f":"HLOOKUP(Berechnung!$C$66,INDIRECT(\"Klimadaten!M\"&Berechnung!$C$67&\":BM\"&Berechnung!$C$67+44),A126,FALSE)","v":328},894.5454545454545,1,894.5454545454545,{"$f":"H84","v":4.7599366204748099},187.93221966392957,{"$f":"L126*Berechnung!$C$79/100","v":33.827799539507325},{"$f":"(L126*Berechnung!$C$69/1000)","v":116.70590841130026},0,0,{"$f":"P126*Berechnung!$C$78/100","v":0},{"$f":"P126*Berechnung!$C$69/1000","v":0},0,{"$f":"S126/(Berechnung!$C$81/100)","v":0},{"$f":"T126*Berechnung!$C$72","v":0},{"$f":"T126*Berechnung!$C$73/1000","v":0},187.93221966392957,33.827799539507325,116.70590841130026,187.93221966392957,33.827799539507325,116.70590841130026,894.5454545454545,{"$f":"AC126/(Berechnung!$C$81/100)","v":922.21180880974691},{"$f":"AD126*Berechnung!$C$72","v":783.88003748828487},{"$f":"AD126*Berechnung!$C$73/1000","v":233.31958762886597}]
[27,3,{"$f":"MAX(0,MIN(Berechnung!$C$65,Berechnung!$C$65*(B127-Berechnung!$C$64)/(Berechnung!$C$63-Berechnung!$C$64)))","v":2.4545454545454546},{"$f":"G84","v":18.8},-16.345454545454547,-20,{"$f":"HLOOKUP(Berechnung!$C$66,INDIRECT(\"Klimadaten!M\"&Berechnung!$C$67&\":BM\"&Berechnung!$C$67+44),A127,FALSE)","v":344},844.36363636363637,1,844.36363636363637,{"$f":"H84","v":4.7599366204748099},177.3896805120506,{"$f":"L127*Berechnung!$C$79/100","v":31.930142492169107},{"$f":"(L127*Berechnung!$C$69/1000)","v":110.15899159798342},0,0,{"$f":"P127*Berechnung!$C$78/100","v":0},{"$f":"P127*Berechnung!$C$69/1000","v":0},0,{"$f":"S127/(Berechnung!$C$81/100)","v":0},{"$f":"T127*Berechnung!$C$72","v":0},{"$f":"T127*Berechnung!$C$73/1000","v":0},177.3896805120506,31.930142492169107,110.15899159798342,177.3896805120506,31.930142492169107,110.15899159798342,844.36363636363637,{"$f":"AC127/(Berechnung!$C$81/100)","v":870.47797563261486},{"$f":"AD127*Berechnung!$C$72","v":739.90627928772255},{"$f":"AD127*Berechnung!$C$73/1000","v":220.23092783505155}]
[28,4,{"$f":"MAX(0,MIN(Berechnung!$C$65,Berechnung!$C$65*(B128-Berechnung!$C$64)/(Berechnung!$C$63-Berechnung!$C$64)))","v":2.1818181818181817},{"$f":"AVERAGE(D127,D129)","v":19.399999999999999},-17.218181818181819,-20,{"$f":"HLOOKUP(Berechnung!$C$66,INDIRECT(\"Klimadaten!M\"&Berechnung!$C$67&\":BM\"&Berechnung!$C$67+44),A128,FALSE)","v":343},748.36363636363626,1,748.36363636363626,{"$f":"AVERAGE(K127,K129)","v":4.8705145287247991},153.65186407925023,{"$f":"L128*Berechnung!$C$79/100","v":27.657335534265041},{"$f":"(L128*Berechnung!$C$69/1000)","v":95.417807593214405},0,0,{"$f":"P128*Berechnung!$C$78/100","v":0},{"$f":"P128*Berechnung!$C$69/1000","v":0},0,{"$f":"S128/(Berechnung!$C$81/100)","v":0},{"$f":"T128*Berechnung!$C$72","v":0},{"$f":"T128*Berechnung!$C$73/1000","v":0},153.65186407925023,27.657335534265041,95.417807593214405,153.65186407925023,27.657335534265041,95.417807593214405,748.36363636363626,{"$f":"AC128/(Berechnung!$C$81/100)","v":771.5089034676663},{"$f":"AD128*Berechnung!$C$72","v":655.78256794751633},{"$f":"AD128*Berechnung!$C$73/1000","v":195.19175257731956}]
[29,5,{"$f":"MAX(0,MIN(Berechnung!$C$65,Berechnung!$C$65*(B129-Berechnung!$C$64)/(Berechnung!$C$63-Berechnung!$C$64)))","v":1.9090909090909092},{"$f":"G85","v":20},-18.09090909090909,-20,{"$f":"HLOOKUP(Berechnung!$C$66,INDIRECT(\"Klimadaten!M\"&Berechnung!$C$67&\":BM\"&Berechnung!$C$67+44),A129,FALSE)","v":414},790.36363636363637,1,790.36363636363637,{"$f":"H85","v":4.9810924369747891},158.67275027798016,{"$f":"L129*Berechnung!$C$79/100","v":28.561095050036428},{"$f":"(L129*Berechnung!$C$69/1000)","v":98.535777922625684},0,0,{"$f":"P129*Berechnung!$C$78/100","v":0},{"$f":"P129*Berechnung!$C$69/1000","v":0},0,{"$f":"S129/(Berechnung!$C$81/100)","v":0},{"$f":"T129*Berechnung!$C$72","v":0},{"$f":"T129*Berechnung!$C$73/1000","v":0},158.67275027798016,28.561095050036428,98.535777922625684,158.67275027798016,28.561095050036428,98.535777922625684,790.36363636363637,{"$f":"AC129/(Berechnung!$C$81/100)","v":814.80787253983135},{"$f":"AD129*Berechnung!$C$72","v":692.58669165885658},{"$f":"AD129*Berechnung!$C$73/1000","v":206.14639175257733}]
[30,6,{"$f":"MAX(0,MIN(Berechnung!$C$65,Berechnung!$C$65*(B130-Berechnung!$C$64)/(Berechnung!$C$63-Berechnung!$C$64)))","v":1.6363636363636365},{"$f":"AVERAGE(D129,D131)","v":20.399999999999999},-18.763636363636362,-20,{"$f":"HLOOKUP(Berechnung!$C$66,INDIRECT(\"Klimadaten!M\"&Berechnung!$C$67&\":BM\"&Berechnung!$C$67+44),A130,FALSE)","v":397},649.63636363636363,1,649.63636363636363,{"$f":"AVERAGE(K129,K131)","v":5.1929467296228466},125.09975500625738,{"$f":"L130*Berechnung!$C$79/100","v":22.517955901126328},{"$f":"(L130*Berechnung!$C$69/1000)","v":77.68694785888583},0,0,{"$f":"P130*Berechnung!$C$78/100","v":0},{"$f":"P130*Berechnung!$C$69/1000","v":0},{"$f":"O130","v":0},{"$f":"S130/(Berechnung!$C$81/100)","v":0},{"$f":"T130*Berechnung!$C$72","v":0},{"$f":"T130*Berechnung!$C$73/1000","v":0},125.09975500625738,22.517955901126328,77.68694785888583,125.09975500625738,22.517955901126328,77.68694785888583,649.63636363636363,{"$f":"AC130/(Berechnung!$C$81/100)","v":669.72820993439552},{"$f":"AD130*Berechnung!$C$72","v":569.26897844423615},{"$f":"AD130*Berechnung!$C$73/1000","v":169.44123711340208}]
[31,7,{"$f":"MAX(0,MIN(Berechnung!$C$65,Berechnung!$C$65*(B131-Berechnung!$C$64)/(Berechnung!$C$63-Berechnung!$C$64)))","v":1.3636363636363635},{"$f":"G86","v":20.8},-19.436363636363637,-20,{"$f":"HLOOKUP(Berechnung!$C$66,INDIRECT(\"Klimadaten!M\"&Berechnung!$C$67&\":BM\"&Berechnung!$C$67+44),A131,FALSE)","v":406},553.63636363636363,1,553.63636363636363,{"$f":"H86","v":5.4048010222709033},102.43418052858226,{"$f":"L131*Berechnung!$C$79/100","v":18.438152495144806},{"$f":"(L131*Berechnung!$C$69/1000)","v":63.611626108249581},0,0,{"$f":"P131*Berechnung!$C$78/100","v":0},{"$f":"P131*Berechnung!$C$69/1000","v":0},{"$f":"O131","v":0},{"$f":"S131/(Berechnung!$C$81/100)","v":0},{"$f":"T131*Berechnung!$C$72","v":0},{"$f":"T131*Berechnung!$C$73/1000","v":0},102.43418052858226,18.438152495144806,63.611626108249581,102.43418052858226,18.438152495144806,63.611626108249581,553.63636363636363,{"$f":"AC131/(Berechnung!$C$81/100)","v":570.75913776944708},{"$f":"AD131*Berechnung!$C$72","v":485.14526710402998},{"$f":"AD131*Berechnung!$C$73/1000","v":144.40206185567013}]
[32,8,{"$f":"MAX(0,MIN(Berechnung!$C$65,Berechnung!$C$65*(B132-Berechnung!$C$64)/(Berechnung!$C$63-Berechnung!$C$64)))","v":1.0909090909090908},{"$f":"G86","v":20.8},-19.709090909090911,-20,{"$f":"HLOOKUP(Berechnung!$C$66,INDIRECT(\"Klimadaten!M\"&Berechnung!$C$67&\":BM\"&Berechnung!$C$67+44),A132,FALSE)","v":378},412.36363636363632,1,412.36363636363632,{"$f":"H86","v":5.4048010222709033},76.295803428185394,{"$f":"L132*Berechnung!$C$79/100","v":13.733244617073371},{"$f":"(L132*Berechnung!$C$69/1000)","v":47.37969392890313},0,0,{"$f":"P132*Berechnung!$C$78/100","v":0},{"$f":"P132*Berechnung!$C$69/1000","v":0},0,{"$f":"S132/(Berechnung!$C$81/100)","v":0},{"$f":"T132*Berechnung!$C$72","v":0},{"$f":"T132*Berechnung!$C$73/1000","v":0},76.295803428185394,13.733244617073371,47.37969392890313,76.295803428185394,13.733244617073371,47.37969392890313,412.36363636363632,{"$f":"AC132/(Berechnung!$C$81/100)","v":425.11715089034675},{"$f":"AD132*Berechnung!$C$72","v":361.3495782567947},{"$f":"AD132*Berechnung!$C$73/1000","v":107.55463917525773}]
[33,9,{"$f":"MAX(0,MIN(Berechnung!$C$65,Berechnung!$C$65*(B133-Berechnung!$C$64)/(Berechnung!$C$63-Berechnung!$C$64)))","v":0.81818181818181823},{"$f":"AVERAGE(D132,D134)","v":20.9},-20.081818181818182,-20,{"$f":"HLOOKUP(Berechnung!$C$66,INDIRECT(\"Klimadaten!M\"&Berechnung!$C$67&\":BM\"&Berechnung!$C$67+44),A133,FALSE)","v":409},334.63636363636368,1,334.63636363636368,{"$f":"AVERAGE(K132,K134)","v":5.5637055594705753},60.14631077425431,{"$f":"L133*Berechnung!$C$79/100","v":10.826335939365777},{"$f":"(L133*Berechnung!$C$69/1000)","v":37.350858990811922},0,0,{"$f":"P133*Berechnung!$C$78/100","v":0},{"$f":"P133*Berechnung!$C$69/1000","v":0},0,{"$f":"S133/(Berechnung!$C$81/100)","v":0},{"$f":"T133*Berechnung!$C$72","v":0},{"$f":"T133*Berechnung!$C$73/1000","v":0},60.14631077425431,10.826335939365777,37.350858990811922,60.14631077425431,10.826335939365777,37.350858990811922,334.63636363636368,{"$f":"AC133/(Berechnung!$C$81/100)","v":344.98594189315844},{"$f":"AD133*Berechnung!$C$72","v":293.23805060918465},{"$f":"AD133*Berechnung!$C$73/1000","v":87.28144329896908}]
[34,10,{"$f":"MAX(0,MIN(Berechnung!$C$65,Berechnung!$C$65*(B134-Berechnung!$C$64)/(Berechnung!$C$63-Berechnung!$C$64)))","v":0.54545454545454541},{"$f":"G87","v":21},-20.454545454545453,-20,{"$f":"HLOOKUP(Berechnung!$C$66,INDIRECT(\"Klimadaten!M\"&Berechnung!$C$67&\":BM\"&Berechnung!$C$67+44),A134,FALSE)","v":375},204.54545454545453,1,{"$f":"MIN(H134,I134*D134*G134)","v":204.54545454545453},{"$f":"H87","v":5.7226100966702464},35.743384765016785,{"$f":"L134*Berechnung!$C$79/100","v":6.4338092577030217},{"$f":"(L134*Berechnung!$C$69/1000)","v":22.196641939075423},0,0,{"$f":"P134*Berechnung!$C$78/100","v":0},{"$f":"P134*Berechnung!$C$69/1000","v":0},0,{"$f":"S134/(Berechnung!$C$81/100)","v":0},{"$f":"T134*Berechnung!$C$72","v":0},{"$f":"T134*Berechnung!$C$73/1000","v":0},35.743384765016785,6.4338092577030217,22.196641939075423,35.743384765016785,6.4338092577030217,22.196641939075423,204.54545454545453,{"$f":"AC134/(Berechnung!$C$81/100)","v":210.87160262417993},{"$f":"AD134*Berechnung!$C$72","v":179.24086223055292},{"$f":"AD134*Berechnung!$C$73/1000","v":53.350515463917525}]
[35,11,{"$f":"MAX(0,MIN(Berechnung!$C$65,Berechnung!$C$65*(B135-Berechnung!$C$64)/(Berechnung!$C$63-Berechnung!$C$64)))","v":0.27272727272727271},{"$f":"AVERAGE(D134,D136)","v":21},-20.727272727272727,-20,{"$f":"HLOOKUP(Berechnung!$C$66,INDIRECT(\"Klimadaten!M\"&Berechnung!$C$67&\":BM\"&Berechnung!$C$67+44),A135,FALSE)","v":420},114.54545454545453,1,114.54545454545453,{"$f":"AVERAGE(K134,K136)","v":5.9123920048568621},19.373792274152102,{"$f":"L135*Berechnung!$C$79/100","v":3.4872826093473783},{"$f":"(L135*Berechnung!$C$69/1000)","v":12.031125002248455},0,0,{"$f":"P135*Berechnung!$C$78/100","v":0},{"$f":"P135*Berechnung!$C$69/1000","v":0},0,{"$f":"S135/(Berechnung!$C$81/100)","v":0},{"$f":"T135*Berechnung!$C$72","v":0},{"$f":"T135*Berechnung!$C$73/1000","v":0},19.373792274152102,3.4872826093473783,12.031125002248455,19.373792274152102,3.4872826093473783,12.031125002248455,114.54545454545453,{"$f":"AC135/(Berechnung!$C$81/100)","v":118.08809746954076},{"$f":"AD135*Berechnung!$C$72","v":100.37488284910964},{"$f":"AD135*Berechnung!$C$73/1000","v":29.876288659793811}]
[36,12,{"$f":"MAX(0,MIN(Berechnung!$C$65,Berechnung!$C$65*(B136-Berechnung!$C$64)/(Berechnung!$C$63-Berechnung!$C$64)))","v":0},{"$f":"G88","v":21},-21,-20,{"$f":"HLOOKUP(Berechnung!$C$66,INDIRECT(\"Klimadaten!M\"&Berechnung!$C$67&\":BM\"&Berechnung!$C$67+44),A136,FALSE)","v":378},0,1,0,{"$f":"H88","v":6.1021739130434787},0,{"$f":"L136*Berechnung!$C$79/100","v":0},{"$f":"(L136*Berechnung!$C$69/1000)","v":0},0,0,{"$f":"P136*Berechnung!$C$78/100","v":0},{"$f":"P136*Berechnung!$C$69/1000","v":0},0,{"$f":"S136/(Berechnung!$C$81/100)","v":0},{"$f":"T136*Berechnung!$C$72","v":0},{"$f":"T136*Berechnung!$C$73/1000","v":0},0,0,0,0,0,0,0,{"$f":"AC136/(Berechnung!$C$81/100)","v":0},{"$f":"AD136*Berechnung!$C$72","v":0},{"$f":"AD136*Berechnung!$C$73/1000","v":0}]
[37,13,{"$f":"MAX(0,MIN(Berechnung!$C$65,Berechnung!$C$65*(B137-Berechnung!$C$64)/(Berechnung!$C$63-Berechnung!$C$64)))","v":0},{"$f":"G88","v":21},-21,-20,{"$f":"HLOOKUP(Berechnung!$C$66,INDIRECT(\"Klimadaten!M\"&Berechnung!$C$67&\":BM\"&Berechnung!$C$67+44),A137,FALSE)","v":349},0,1,0,{"$f":"H88","v":6.1021739130434787},0,{"$f":"L137*Berechnung!$C$79/100","v":0},{"$f":"(L137*Berechnung!$C$69/1000)","v":0},0,0,{"$f":"P137*Berechnung!$C$78/100","v":0},{"$f":"P137*Berechnung!$C$69/1000","v":0},0,{"$f":"S137/(Berechnung!$C$81/100)","v":0},{"$f":"T137*Berechnung!$C$72","v":0},{"$f":"T137*Berechnung!$C$73/1000","v":0},0,0,0,0,0,0,0,{"$f":"AC137/(Berechnung!$C$81/100)","v":0},{"$f":"AD137*Berechnung!$C$72","v":0},{"$f":"AD137*Berechnung!$C$73/1000","v":0}]
[38,14,{"$f":"MAX(0,MIN(Berechnung!$C$65,Berechnung!$C$65*(B138-Berechnung!$C$64)/(Berechnung!$C$63-Berechnung!$C$64)))","v":0},{"$f":"AVERAGE(D137,D139)","v":21},-21,-20,{"$f":"HLOOKUP(Berechnung!$C$66,INDIRECT(\"Klimadaten!M\"&Berechnung!$C$67&\":BM\"&Berechnung!$C$67+44),A138,FALSE)","v":370},0,1,0,{"$f":"AVERAGE(K137,K139)","v":6.2329051383399214},0,{"$f":"L138*Berechnung!$C$79/100","v":0},{"$f":"(L138*Berechnung!$C$69/1000)","v":0},0,0,{"$f":"P138*Berechnung!$C$78/100","v":0},{"$f":"P138*Berechnung!$C$69/1000","v":0},0,{"$f":"S138/(Berechnung!$C$81/100)","v":0},{"$f":"T138*Berechnung!$C$72","v":0},{"$f":"T138*Berechnung!$C$73/1000","v":0},0,0,0,0,0,0,0,{"$f":"AC138/(Berechnung!$C$81/100)","v":0},{"$f":"AD138*Berechnung!$C$72","v":0},{"$f":"AD138*Berechnung!$C$73/1000","v":0}]
[39,15,{"$f":"MAX(0,MIN(Berechnung!$C$65,Berechnung!$C$65*(B139-Berechnung!$C$64)/(Berechnung!$C$63-Berechnung!$C$64)))","v":0},{"$f":"G89","v":21},-21,-20,{"$f":"HLOOKUP(Berechnung!$C$66,INDIRECT(\"Klimadaten!M\"&Berechnung!$C$67&\":BM\"&Berechnung!$C$67+44),A139,FALSE)","v":333},0,1,0,{"$f":"H89","v":6.3636363636363633},0,{"$f":"L139*Berechnung!$C$79/100","v":0},{"$f":"(L139*Berechnung!$C$69/1000)","v":0},0,0,{"$f":"P139*Berechnung!$C$78/100","v":0},{"$f":"P139*Berechnung!$C$69/1000","v":0},0,{"$f":"S139/(Berechnung!$C$81/100)","v":0},{"$f":"T139*Berechnung!$C$72","v":0},{"$f":"T139*Berechnung!$C$73/1000","v":0},0,0,0,0,0,0,0,{"$f":"AC139/(Berechnung!$C$81/100)","v":0},{"$f":"AD139*Berechnung!$C$72","v":0},{"$f":"AD139*Berechnung!$C$73/1000","v":0}]
[40,16,{"$f":"MAX(0,MIN(Berechnung!$C$65,Berechnung!$C$65*(B140-Berechnung!$C$64)/(Berechnung!$C$63-Berechnung!$C$64)))","v":0},{"$f":"AVERAGE(D139,D141)","v":21},-21,-20,{"$f":"HLOOKUP(Berechnung!$C$66,INDIRECT(\"Klimadaten!M\"&Berechnung!$C$67&\":BM\"&Berechnung!$C$67+44),A140,FALSE)","v":310},0,1,0,{"$f":"AVERAGE(K139,K141)","v":6.5430055103290332},0,{"$f":"L140*Berechnung!$C$79/100","v":0},{"$f":"(L140*Berechnung!$C$69/1000)","v":0},0,0,{"$f":"P140*Berechnung!$C$78/100","v":0},{"$f":"P140*Berechnung!$C$69/1000","v":0},0,{"$f":"S140/(Berechnung!$C$81/100)","v":0},{"$f":"T140*Berechnung!$C$72","v":0},{"$f":"T140*Berechnung!$C$73/1000","v":0},0,0,0,0,0,0,0,{"$f":"AC140/(Berechnung!$C$81/100)","v":0},{"$f":"AD140*Berechnung!$C$72","v":0},{"$f":"AD140*Berechnung!$C$73/1000","v":0}]
[41,17,{"$f":"MAX(0,MIN(Berechnung!$C$65,Berechnung!$C$65*(B141-Berechnung!$C$64)/(Berechnung!$C$63-Berechnung!$C$64)))","v":0},{"$f":"G90","v":21},-21,-20,{"$f":"HLOOKUP(Berechnung!$C$66,INDIRECT(\"Klimadaten!M\"&Berechnung!$C$67&\":BM\"&Berechnung!$C$67+44),A141,FALSE)","v":322},0,1,0,{"$f":"H90","v":6.7223746570217031},0,{"$f":"L141*Berechnung!$C$79/100","v":0},{"$f":"(L141*Berechnung!$C$69/1000)","v":0},0,0,{"$f":"P141*Berechnung!$C$78/100","v":0},{"$f":"P141*Berechnung!$C$69/1000","v":0},0,{"$f":"S141/(Berechnung!$C$81/100)","v":0},{"$f":"T141*Berechnung!$C$72","v":0},{"$f":"T141*Berechnung!$C$73/1000","v":0},0,0,0,0,0,0,0,{"$f":"AC141/(Berechnung!$C$81/100)","v":0},{"$f":"AD141*Berechnung!$C$72","v":0},{"$f":"AD141*Berechnung!$C$73/1000","v":0}]
[42,18,{"$f":"MAX(0,MIN(Berechnung!$C$65,Berechnung!$C$65*(B142-Berechnung!$C$64)/(Berechnung!$C$63-Berechnung!$C$64)))","v":0},{"$f":"G90","v":21},-21,-20,{"$f":"HLOOKUP(Berechnung!$C$66,INDIRECT(\"Klimadaten!M\"&Berechnung!$C$67&\":BM\"&Berechnung!$C$67+44),A142,FALSE)","v":280},0,1,0,{"$f":"H90","v":6.7223746570217031},0,{"$f":"L142*Berechnung!$C$79/100","v":0},{"$f":"(L142*Berechnung!$C$69/1000)","v":0},0,0,{"$f":"P142*Berechnung!$C$78/100","v":0},{"$f":"P142*Berechnung!$C$69/1000","v":0},0,{"$f":"S142/(Berechnung!$C$81/100)","v":0},{"$f":"T142*Berechnung!$C$72","v":0},{"$f":"T142*Berechnung!$C$73/1000","v":0},0,0,0,0,0,0,0,{"$f":"AC142/(Berechnung!$C$81/100)","v":0},{"$f":"AD142*Berechnung!$C$72","v":0},{"$f":"AD142*Berechnung!$C$73/1000","v":0}]
[43,19,{"$f":"MAX(0,MIN(Berechnung!$C$65,Berechnung!$C$65*(B143-Berechnung!$C$64)/(Berechnung!$C$63-Berechnung!$C$64)))","v":0},{"$f":"AVERAGE(D142,D144)","v":21},-21,-20,{"$f":"HLOOKUP(Berechnung!$C$66,INDIRECT(\"Klimadaten!M\"&Berechnung!$C$67&\":BM\"&Berechnung!$C$67+44),A143,FALSE)","v":217},{"$f":"C143*G143","v":0},1,0,{"$f":"AVERAGE(K142,K144)","v":6.8534267963600755},0,{"$f":"L143*Berechnung!$C$79/100","v":0},{"$f":"(L143*Berechnung!$C$69/1000)","v":0},0,0,{"$f":"P143*Berechnung!$C$78/100","v":0},{"$f":"P143*Berechnung!$C$69/1000","v":0},0,{"$f":"S143/(Berechnung!$C$81/100)","v":0},{"$f":"T143*Berechnung!$C$72","v":0},{"$f":"T143*Berechnung!$C$73/1000","v":0},0,0,0,0,0,0,0,{"$f":"AC143/(Berechnung!$C$81/100)","v":0},{"$f":"AD143*Berechnung!$C$72","v":0},{"$f":"AD143*Berechnung!$C$73/1000","v":0}]
[44,20,{"$f":"MAX(0,MIN(Berechnung!$C$65,Berechnung!$C$65*(B144-Berechnung!$C$64)/(Berechnung!$C$63-Berechnung!$C$64)))","v":0},{"$f":"G91","v":21},-21,-20,{"$f":"HLOOKUP(Berechnung!$C$66,INDIRECT(\"Klimadaten!M\"&Berechnung!$C$67&\":BM\"&Berechnung!$C$67+44),A144,FALSE)","v":196},0,1,0,{"$f":"H91","v":6.9844789356984487},0,{"$f":"L144*Berechnung!$C$79/100","v":0},{"$f":"(L144*Berechnung!$C$69/1000)","v":0},0,0,{"$f":"P144*Berechnung!$C$78/100","v":0},{"$f":"P144*Berechnung!$C$69/1000","v":0},0,{"$f":"S144/(Berechnung!$C$81/100)","v":0},{"$f":"T144*Berechnung!$C$72","v":0},{"$f":"T144*Berechnung!$C$73/1000","v":0},0,0,0,0,0,0,0,{"$f":"AC144/(Berechnung!$C$81/100)","v":0},{"$f":"AD144*Berechnung!$C$72","v":0},{"$f":"AD144*Berechnung!$C$73/1000","v":0}]
[45,"> 20",0,{"$f":"D144+(D144-D143)","v":21},-21,"> 20",{"$f":"HLOOKUP(Berechnung!$C$66,INDIRECT(\"Klimadaten!M\"&Berechnung!$C$67&\":BM\"&Berechnung!$C$67+44),A145,FALSE)","v":744},0,1,0,{"$f":"K144+(K144-K143)","v":7.1155310750368219},0,{"$f":"L145*Berechnung!$C$79/100","v":0},{"$f":"(L145*Berechnung!$C$69/1000)","v":0},0,0,{"$f":"P145*Berechnung!$C$78/100","v":0},{"$f":"P145*Berechnung!$C$69/1000","v":0},0,{"$f":"S145/(Berechnung!$C$81/100)","v":0},{"$f":"T145*Berechnung!$C$72","v":0},{"$f":"T145*Berechnung!$C$73/1000","v":0},0,0,0,0,0,0,0,{"$f":"AC145/(Berechnung!$C$81/100)","v":0},{"$f":"AD145*Berechnung!$C$72","v":0},{"$f":"AD145*Berechnung!$C$73/1000","v":0}]
[null,null,null,null,null,{"$f":"MAX(F103:F145)","v":-20},{"$f":"SUM(G103:G145)","v":8760},{"$f":"SUM(H104:H144)","v":11026.636363636362},null,{"$f":"ROUND(SUM(J103:J145),0)","v":11027},{"$f":"AVERAGE(K104:K144)","v":4.5035476815874915},{"$f":"SUM(L103:L145)","v":2477.022259406695},445.86400669320523,1538.2308230915576,0,0,0,0,{"$f":"SUM(S103:S145)","v":0},0,0,0,{"$f":"SUM(W103:W145)","v":2477.022259406695},445.86400669320523,1538.2308230915576,{"$f":"SUM(Z103:Z145)","v":2477.022259406695},{"$f":"SUM(AA103:AA145)","v":445.86400669320523},{"$f":"SUM(AB103:AB145)","v":1538.2308230915576},{"$f":"SUM(AC103:AC145)","v":11026.636363636362},{"$f":"SUM(AD103:AD145)","v":11367.666354264293},{"$f":"SUM(AE103:AE145)","v":9662.5164011246507},{"$f":"SUM(AF103:AF145)","v":2876.0195876288662}]
[]
[]
[]
[]
[]
[null,"Darstellung Diagramm Heizlast/Heizwärmebedarf"]
[null,null,"Bivalenzpunkt genauer berechnen für Darstellung",null,null,null,null,"Kennlinie Heizlast",null,null,null,"Hilfslinie Bivalenzpunkt",null,"Punktdarstellung Biv.Punkt",null,"Linie Bivalenzpunkt Heizarbeit",null,"Heizarbeit",null,"Ausdr. Vergleich","Ausdr. Preisentw."]
[null,null,"Temp","Differenz","Leistung WP","m","n","Temp","Leistung","m","n","Temp","Leistung","Temp","Leistung","Temp","kWh",null,null,null,"Öl/Gas"]
[null,"Heizgrenze",{"$f":"F146","v":-20},{"$f":"VLOOKUP(C155,$B$103:$E$145,4,FALSE)","v":-2.0000000000000071},{"$f":"VLOOKUP(C155,$B$103:$E$145,3,FALSE)","v":8.0000000000000071},{"$f":"(D156-D155)/(C156-C155)","v":-0.59999999999999964},{"$f":"D155-C155*F155","v":-14},{"$f":"IF(Berechnung!$C$65=0,-30,Berechnung!$C$64)","v":12},0,{"$f":"(M156-I155)/(L156-H155)","v":-0.27272727272727276},{"$f":"M156-J155*L156","v":3.2727272727272716},{"$f":"L156","v":-30},0,null,null,{"$f":"IF(OR(L156<-20,O146=0),0,ROUND(L156,0)+21)","v":0},0,"1. WE",{"$f":"IF(D5=2,AC146,J146)","v":11027},{"$f":"Translation!A203","v":"Heating"},{"$f":"W74+AC74","v":13152.828901124651}]
[null,"Außentemp",{"$f":"C155+1","v":-19},{"$f":"VLOOKUP(C156,$B$103:$E$145,4,FALSE)","v":-2.6000000000000068},{"$f":"VLOOKUP(C156,$B$103:$E$145,3,FALSE)","v":8.6000000000000068},null,null,{"$f":"IF(Berechnung!$C$65=0,-30,Berechnung!$C$63)","v":-10},{"$f":"Berechnung!$C$65","v":6},null,null,{"$f":"C157","v":-30},{"$f":"Berechnung!$C$65*(L156-Berechnung!$C$64)/(Berechnung!$C$63-Berechnung!$C$64)","v":11.454545454545455},{"$f":"C157","v":-30},{"$f":"M156","v":11.454545454545455},{"$f":"P155","v":0},{"$f":"IF(ISERROR(VLOOKUP(P156-21,B104:H144,7,FALSE)),0,VLOOKUP(P156-21,B104:H144,7,FALSE))","v":0},"2. WE",{"$f":"IF(D5=2,0,O146)","v":0},{"$f":"Translation!A16","v":"2nd heat source"},13810.470346180884]
[null,null,{"$f":"IF(OR(F155=0,F146<=Berechnung!$C$63),-30,ROUND(-G155/F155,1))","v":-30},0,{"$f":"IF(ROUND(C157/5,1)*5=C155,E155,IF(ROUND(C157/5,1)*5=C156,E156,AVERAGE(E155:E156)))","v":8.3000000000000078},null,null,null,null,null,null,null,null,null,null,null,null,null,null,{"$f":"Translation!A40","v":"DHW"},14500.99386348993]
[null,null,null,null,null,null,null,null,null,null,null,null,null,null,null,null,null,null,null,null,15226.043556664426]
[null,null,null,null,null,null,null,null,null,null,null,null,null,null,null,null,null,null,null,null,15987.345734497649]
[null,null,null,null,null,null,null,null,null,null,null,null,null,null,null,null,null,null,null,null,16786.713021222531]
[null,null,null,null,null,null,null,null,null,null,null,null,null,null,null,null,null,null,null,null,17626.048672283658]
[null,null,null,null,null,null,null,null,null,null,null,null,null,null,null,null,null,null,null,null,18507.35110589784]
[null,null,null,null,null,null,null,null,null,null,null,null,null,null,null,null,null,null,null,null,19432.718661192735]
[null,null,null,null,null,null,null,null,null,null,null,null,null,null,null,null,null,null,null,null,20404.354594252374]
[null,null,null,null,null,null,null,null,null,null,null,null,null,null,null,null,null,null,null,null,21424.572323964992]
[null,null,null,null,null,null,null,null,null,null,null,null,null,null,null,null,null,null,null,null,22495.800940163244]
[null,null,null,null,null,null,null,null,null,null,null,null,null,null,null,null,null,null,null,null,23620.590987171407]
[null,null,null,null,null,null,null,null,null,null,null,null,null,null,null,null,null,null,null,null,24801.620536529979]
[null,null,null,null,null,null,null,null,null,null,null,null,null,null,null,null,null,null,null,null,26041.701563356481]

{"sheet":"Slot2","index":5,"n_rows":169,"n_cols":46,"rows_kept":169,"cut":false,"hidden":true,"merged":[[152,17,152,18],[152,1,153,1],[152,2,152,6],[152,7,152,10],[152,11,152,12],[152,13,152,14],[152,15,152,16],[89,10,89,17],[99,28,99,31],[90,0,90,1],[91,0,91,1],[92,0,92,1],[93,0,93,1],[94,0,94,1],[99,0,99,8],[99,9,99,13],[99,14,99,17],[99,18,99,21],[99,22,99,24],[99,25,99,27],[78,0,78,1],[87,0,87,1],[88,0,88,1],[89,0,89,1],[80,0,80,1],[81,0,81,1],[82,0,82,1],[83,0,83,1],[84,0,84,1],[85,0,85,1],[86,0,86,1],[84,37,84,41],[2,0,3,0],[2,1,3,1],[2,2,3,2],[2,3,3,3],[2,4,3,4],[79,0,79,1],[72,0,72,1],[72,5,73,5],[72,6,73,6],[72,7,73,7],[73,0,73,1],[74,0,74,1],[75,0,75,1],[76,0,76,1],[77,0,77,1],[71,20,71,25],[71,26,71,33],[71,10,71,17],[72,8,73,8],[80,10,80,17],[2,18,3,19],[2,20,3,23],[2,5,3,5],[2,6,3,6],[2,7,3,7],[2,8,3,8],[2,9,2,13]]}
[]
["Comboboxen"]
["Heizung","Betriebsweise","Warmwasser","Betrieb","Betriebsweise","Datenblatt",null,null,null,"Warmwasser",null,null,null,null,"EEWärmeG",null,null,null,null,null,"Berechnung Förderung"]
[null,null,null,null,null,null,null,null,null,"Art WWB","Index WWB","Endenergie kWh/a","Kosten €/Ja","CO2 kg/a","erfüllt ?"]
["Gaskessel","No second heat source","Gaskessel",{"$f":"IF(A5=A7,2,IF(B5=B7,1,3))","v":2},{"$f":"IF(C157=-30,Translation!A11,VLOOKUP(B5,B6:E50,4,FALSE))","v":"Mono-Mode"},{"$f":"\"http://tools.stiebel-eltron.de/pdf/apps/product/\"&VLOOKUP($A$5,Leistungsdaten!$A:$J,10,FALSE)&\"/\"&Translation!$A$3","v":{"$error":"#N/A"}},null,null,null,null,{"$f":"IF(C5=C9,0,IF(C5=C12,5,IF(C5=C11,2,IF(C5=C7,1,IF(C5=C16,3,4)))))","v":2},{"$f":"VLOOKUP(K5,K6:N50,2,FALSE)","v":4106.25},{"$f":"VLOOKUP(K5,K6:N50,3,FALSE)","v":3490.3125},{"$f":"VLOOKUP(K5,K6:N50,4,FALSE)","v":1038.8812499999999},{"$f":"IF(OR(K5=K11,K5=K12),TRUE,IF(A5=A7,FALSE,IF(O15<0.5,FALSE,TRUE)))","v":false},null,null,null,null,null,"Jahr","Manuell","RHI","gewählt"]
[]
[{"$f":"Berechnung!C61","v":"Gaskessel"},{"$f":"Translation!A9","v":"No second heat source"},{"$f":"A5","v":"Gaskessel"},"1=Nur WP",{"$f":"Translation!A10","v":"Monoenergetic"},null,null,null,null,"Ohne Warmwasser",0,0,0,0,null,null,null,null,null,null,1,{"$f":"IF(Berechnung!$N$5<>Berechnung!$N$7,0,IF($D$5=2,0,IF(Einstellungen!$D$51>=T74,Einstellungen!$D$49,0)))","v":0},{"$f":"IF($C$85=\"---\",0,IF(Berechnung!$N$5<>Berechnung!$N$8,0,IF(Einstellungen!$D$51>=T74,$W$63,0)))","v":{"$error":"#N/A"}},{"$f":"IF(Berechnung!$N$5=Berechnung!$N$7,V7,W7)","v":{"$error":"#N/A"}}]
[null,{"$f":"A7&\" | \"&Translation!$A$14","v":"Gaskessel | Parallel"},{"$f":"A5&\" | \"&Translation!$A$206","v":"Gaskessel | Solar"},"2=nur Öl/Gas",{"$f":"Translation!A12","v":"Bivalent-parallel"},null,null,null,null,"Wärmepumpe",1,{"$f":"L13+L14","v":{"$error":"#N/A"}},{"$f":"M13+M14","v":{"$error":"#N/A"}},{"$f":"N13+N14","v":{"$error":"#N/A"}},"Wärmebedarf",null,null,null,null,null,2,{"$f":"IF(Berechnung!$N$5<>Berechnung!$N$7,0,IF($D$5=2,0,IF(Einstellungen!$D$51>=T75,Einstellungen!$D$49,0)))","v":0},{"$f":"IF($C$85=\"---\",0,IF(Berechnung!$N$5<>Berechnung!$N$8,0,IF(Einstellungen!$D$51>=T75,$W$63,0)))","v":{"$error":"#N/A"}},{"$f":"IF(Berechnung!$N$5=Berechnung!$N$7,V8,W8)","v":{"$error":"#N/A"}}]
[null,{"$f":"A7&\" | \"&Translation!$A$15","v":"Gaskessel | Alternativ"},{"$f":"Translation!A41","v":"without DHW"},"3=Bivalent",{"$f":"Translation!A13","v":"Bivalent-alternativ"},null,null,null,null,"Gas/Öl",2,{"$f":"Berechnung!$C$76/(Berechnung!$C$82/100)","v":4106.25},{"$f":"L9*Berechnung!$C$72","v":3490.3125},{"$f":"L9*Berechnung!$C$73/1000","v":1038.8812499999999},{"$f":"H146+Berechnung!C76","v":14311.636363636362},null,null,null,null,null,3,{"$f":"IF(Berechnung!$N$5<>Berechnung!$N$7,0,IF($D$5=2,0,IF(Einstellungen!$D$51>=T76,Einstellungen!$D$49,0)))","v":0},{"$f":"IF($C$85=\"---\",0,IF(Berechnung!$N$5<>Berechnung!$N$8,0,IF(Einstellungen!$D$51>=T76,$W$63,0)))","v":{"$error":"#N/A"}},{"$f":"IF(Berechnung!$N$5=Berechnung!$N$7,V9,W9)","v":{"$error":"#N/A"}}]
[null,null,null,null,null,null,null,null,null,"WP+Gas/Öl",3,{"$f":"L16+L17","v":{"$error":"#N/A"}},{"$f":"M16+M17","v":{"$error":"#N/A"}},{"$f":"N16+N17","v":{"$error":"#N/A"}},null,null,null,null,null,null,4,{"$f":"IF(Berechnung!$N$5<>Berechnung!$N$7,0,IF($D$5=2,0,IF(Einstellungen!$D$51>=T77,Einstellungen!$D$49,0)))","v":0},{"$f":"IF($C$85=\"---\",0,IF(Berechnung!$N$5<>Berechnung!$N$8,0,IF(Einstellungen!$D$51>=T77,$W$63,0)))","v":{"$error":"#N/A"}},{"$f":"IF(Berechnung!$N$5=Berechnung!$N$7,V10,W10)","v":{"$error":"#N/A"}}]
[null,null,{"$f":"A7","v":"Gaskessel"},null,null,null,null,null,null,"WP+Solar",4,{"$f":"L19+L20","v":{"$error":"#N/A"}},{"$f":"M19+M20","v":{"$error":"#N/A"}},{"$f":"N19+N20","v":{"$error":"#N/A"}},"Umweltwärme",null,null,null,null,null,5,{"$f":"IF(Berechnung!$N$5<>Berechnung!$N$7,0,IF($D$5=2,0,IF(Einstellungen!$D$51>=T78,Einstellungen!$D$49,0)))","v":0},{"$f":"IF($C$85=\"---\",0,IF(Berechnung!$N$5<>Berechnung!$N$8,0,IF(Einstellungen!$D$51>=T78,$W$63,0)))","v":{"$error":"#N/A"}},{"$f":"IF(Berechnung!$N$5=Berechnung!$N$7,V11,W11)","v":{"$error":"#N/A"}}]
[null,null,{"$f":"A7&\" | \"&Translation!$A$206","v":"Gaskessel | Solar"},null,null,null,null,null,null,"Öl/Gas+Solar",5,{"$f":"$J$24*Berechnung!$C$76/(Berechnung!$C$82/100)","v":2053.125},{"$f":"L12*Berechnung!$C$72","v":1745.15625},{"$f":"L12*Berechnung!$C$73/1000","v":519.44062499999995},{"$f":"J146+K24*Berechnung!C76","v":{"$error":"#N/A"}},null,null,null,null,null,6,{"$f":"IF(Berechnung!$N$5<>Berechnung!$N$7,0,IF($D$5=2,0,IF(Einstellungen!$D$51>=T79,Einstellungen!$D$49,0)))","v":0},{"$f":"IF($C$85=\"---\",0,IF(Berechnung!$N$5<>Berechnung!$N$8,0,IF(Einstellungen!$D$51>=T79,$W$63,0)))","v":{"$error":"#N/A"}},{"$f":"IF(Berechnung!$N$5=Berechnung!$N$7,V12,W12)","v":{"$error":"#N/A"}}]
[null,null,{"$f":"Translation!A41","v":"without DHW"},null,null,null,null,null,null,"Nebenrechnung","Mononenerg. WP",{"$f":"$C$75*Berechnung!$C$76/$C$74","v":{"$error":"#N/A"}},{"$f":"L13*Berechnung!$C$79/100","v":{"$error":"#N/A"}},{"$f":"L13*Berechnung!$C$69/1000","v":{"$error":"#N/A"}},null,null,null,null,null,null,7,{"$f":"IF(Berechnung!$N$5<>Berechnung!$N$7,0,IF($D$5=2,0,IF(Einstellungen!$D$51>=T80,Einstellungen!$D$49,0)))","v":0},{"$f":"IF($C$85=\"---\",0,IF(Berechnung!$N$5<>Berechnung!$N$8,0,IF(Einstellungen!$D$51>=T80,$W$63,0)))","v":{"$error":"#N/A"}},{"$f":"IF(Berechnung!$N$5=Berechnung!$N$7,V13,W13)","v":{"$error":"#N/A"}}]
[null,null,null,null,null,null,null,null,null,"Nebenrechnung","Mononenerg. DHC",{"$f":"(1-$C$75)*Berechnung!$C$76","v":{"$error":"#N/A"}},{"$f":"L14*Berechnung!$C$78/100","v":{"$error":"#N/A"}},{"$f":"L14*Berechnung!$C$69/1000","v":{"$error":"#N/A"}},"Anteil Umwelt",null,null,null,null,null,8,{"$f":"IF(Berechnung!$N$5<>Berechnung!$N$7,0,IF($D$5=2,0,IF(Einstellungen!$D$51>=T81,Einstellungen!$D$49,0)))","v":0},{"$f":"IF($C$85=\"---\",0,IF(Berechnung!$N$5<>Berechnung!$N$8,0,IF(Einstellungen!$D$51>=T81,$W$63,0)))","v":{"$error":"#N/A"}},{"$f":"IF(Berechnung!$N$5=Berechnung!$N$7,V14,W14)","v":{"$error":"#N/A"}}]
[null,null,{"$f":"C7","v":"Gaskessel"},null,null,null,null,null,null,null,null,null,null,null,{"$f":"O12/O9","v":{"$error":"#N/A"}},null,null,null,null,null,9,{"$f":"IF(Berechnung!$N$5<>Berechnung!$N$7,0,IF($D$5=2,0,IF(Einstellungen!$D$51>=T82,Einstellungen!$D$49,0)))","v":0},{"$f":"IF($C$85=\"---\",0,IF(Berechnung!$N$5<>Berechnung!$N$8,0,IF(Einstellungen!$D$51>=T82,$W$63,0)))","v":{"$error":"#N/A"}},{"$f":"IF(Berechnung!$N$5=Berechnung!$N$7,V15,W15)","v":{"$error":"#N/A"}}]
[null,null,{"$f":"A5&\" | \"&A7","v":"Gaskessel | Gaskessel"},null,null,null,null,null,null,"Nebenrechnung","Bivalent WP",{"$f":"$C$76*Berechnung!$C$76/$C$74","v":{"$error":"#N/A"}},{"$f":"L16*Berechnung!$C$79/100","v":{"$error":"#N/A"}},{"$f":"L16*Berechnung!$C$69/1000","v":{"$error":"#N/A"}},null,null,null,null,null,null,10,{"$f":"IF(Berechnung!$N$5<>Berechnung!$N$7,0,IF($D$5=2,0,IF(Einstellungen!$D$51>=T83,Einstellungen!$D$49,0)))","v":0},{"$f":"IF($C$85=\"---\",0,IF(Berechnung!$N$5<>Berechnung!$N$8,0,IF(Einstellungen!$D$51>=T83,$W$63,0)))","v":{"$error":"#N/A"}},{"$f":"IF(Berechnung!$N$5=Berechnung!$N$7,V16,W16)","v":{"$error":"#N/A"}}]
[null,null,{"$f":"C11","v":"Gaskessel"},null,null,null,null,null,null,"Nebenrechnung","Bivalent Kessel",{"$f":"((1-$C$76)*Berechnung!$C$76)/(Berechnung!$C$82/100)","v":{"$error":"#N/A"}},{"$f":"L17*Berechnung!$C$72","v":{"$error":"#N/A"}},{"$f":"L17*Berechnung!$C$73/1000","v":{"$error":"#N/A"}},null,null,null,null,null,null,11,{"$f":"IF(Berechnung!$N$5<>Berechnung!$N$7,0,IF($D$5=2,0,IF(Einstellungen!$D$51>=T84,Einstellungen!$D$49,0)))","v":0},{"$f":"IF($C$85=\"---\",0,IF(Berechnung!$N$5<>Berechnung!$N$8,0,IF(Einstellungen!$D$51>=T84,$W$63,0)))","v":{"$error":"#N/A"}},{"$f":"IF(Berechnung!$N$5=Berechnung!$N$7,V17,W17)","v":{"$error":"#N/A"}}]
[null,null,{"$f":"C8","v":"Gaskessel | Solar"},null,null,null,null,null,null,null,null,null,null,null,null,null,null,null,null,null,12,{"$f":"IF(Berechnung!$N$5<>Berechnung!$N$7,0,IF($D$5=2,0,IF(Einstellungen!$D$51>=T85,Einstellungen!$D$49,0)))","v":0},{"$f":"IF($C$85=\"---\",0,IF(Berechnung!$N$5<>Berechnung!$N$8,0,IF(Einstellungen!$D$51>=T85,$W$63,0)))","v":{"$error":"#N/A"}},{"$f":"IF(Berechnung!$N$5=Berechnung!$N$7,V18,W18)","v":{"$error":"#N/A"}}]
[null,null,{"$f":"C12","v":"Gaskessel | Solar"},null,null,null,null,null,null,"Nebenrechnung","Monoenerg. WP+Solar",{"$f":"$C$75*$J$24*Berechnung!$C$76/$C$74","v":{"$error":"#N/A"}},{"$f":"L19*Berechnung!$C$79/100","v":{"$error":"#N/A"}},{"$f":"L19*Berechnung!$C$69/1000","v":{"$error":"#N/A"}},null,null,null,null,null,null,13,{"$f":"IF(Berechnung!$N$5<>Berechnung!$N$7,0,IF($D$5=2,0,IF(Einstellungen!$D$51>=T86,Einstellungen!$D$49,0)))","v":0},{"$f":"IF($C$85=\"---\",0,IF(Berechnung!$N$5<>Berechnung!$N$8,0,IF(Einstellungen!$D$51>=T86,$W$63,0)))","v":{"$error":"#N/A"}},{"$f":"IF(Berechnung!$N$5=Berechnung!$N$7,V19,W19)","v":{"$error":"#N/A"}}]
[null,null,{"$f":"Translation!A41","v":"without DHW"},null,null,null,null,null,null,"Nebenrechnung","Mononenerg. DHC",{"$f":"(1-$C$75)*$J$24*Berechnung!$C$76","v":{"$error":"#N/A"}},{"$f":"L20*Berechnung!$C$78/100","v":{"$error":"#N/A"}},{"$f":"L20*Berechnung!$C$69/1000","v":{"$error":"#N/A"}},null,null,null,null,null,null,14,{"$f":"IF(Berechnung!$N$5<>Berechnung!$N$7,0,IF($D$5=2,0,IF(Einstellungen!$D$51>=T87,Einstellungen!$D$49,0)))","v":0},{"$f":"IF($C$85=\"---\",0,IF(Berechnung!$N$5<>Berechnung!$N$8,0,IF(Einstellungen!$D$51>=T87,$W$63,0)))","v":{"$error":"#N/A"}},{"$f":"IF(Berechnung!$N$5=Berechnung!$N$7,V20,W20)","v":{"$error":"#N/A"}}]
[null,null,null,null,null,null,null,null,null,null,null,null,null,null,null,null,null,null,null,null,15,{"$f":"IF(Berechnung!$N$5<>Berechnung!$N$7,0,IF($D$5=2,0,IF(Einstellungen!$D$51>=T88,Einstellungen!$D$49,0)))","v":0},{"$f":"IF($C$85=\"---\",0,IF(Berechnung!$N$5<>Berechnung!$N$8,0,IF(Einstellungen!$D$51>=T88,$W$63,0)))","v":{"$error":"#N/A"}},{"$f":"IF(Berechnung!$N$5=Berechnung!$N$7,V21,W21)","v":{"$error":"#N/A"}}]
[]
[null,null,null,null,null,null,null,null,null,"Faktor Solar","Deckung"]
[null,null,null,null,null,null,null,null,null,{"$f":"(100-Berechnung!$C$77)/100","v":0.5},{"$f":"IF(K5=3,C76,C75)","v":{"$error":"#N/A"}}]
[]
[]
[]
[]
[]
[]
[]
[]
[]
[]
[]
[]
[]
[]
[]
[]
[]
[]
[]
[null,null,null,null,null,null,null,null,null,null,null,null,null,null,null,null,null,null,null,null,null,null,"Ersparnis Öl/Gas","Ausgabe"]
[null,null,null,null,null,null,null,null,null,null,null,null,null,null,null,null,null,null,null,null,null,null,{"$f":"ROUND((W89+AC89)-AI89+AA89+U89,-2)","v":{"$error":"#N/A"}},{"$f":"IF(ISERROR(W45),\"---\",IF(A5=A7,\"---\",\"approx. £\"&FIXED(W45,0)))","v":"---"}]
[]
[null,null,null,null,null,null,null,null,null,null,null,null,null,null,null,null,null,null,null,null,null,null,"Invest","Ausgabe"]
[null,null,null,null,null,null,null,null,null,null,null,null,null,null,null,null,null,null,null,null,null,null,{"$f":"VLOOKUP(A5,Leistungsdaten!$A:$K,11,FALSE)+Einstellungen!$D$57","v":{"$error":"#N/A"}},{"$f":"IF(ISERROR(W48),\"---\",IF(A5=A7,\"---\",\"approx. £\"&FIXED(W48,0)))","v":"---"}]
[]
[null,null,null,null,null,null,null,null,null,null,null,null,null,null,null,null,null,null,null,null,null,null,"QH","Ausgabe"]
[null,null,null,null,null,null,null,null,null,null,null,null,null,null,null,null,null,null,null,null,null,null,{"$f":"IF(D5=2,0,J146)","v":0},{"$f":"FIXED(W51,0)&\" kWh/year\"","v":"0 kWh/year"}]
[]
[null,null,null,null,null,null,null,null,null,null,null,null,null,null,null,null,null,null,null,null,null,null,"QWW"]
[null,null,null,null,null,null,null,null,null,null,null,null,null,null,null,null,null,null,null,null,null,null,{"$f":"IF(OR(K5=K8,K10,K5=K11),Berechnung!C76*K24,0)","v":{"$error":"#N/A"}},{"$f":"FIXED(W54,0)&\" kWh/year\"","v":{"$error":"#N/A"}}]
[null,null,null,null,null,null,null,null,null,null,null,null,null,null,null,null,null,null,null,null,null,null,null,{"$f":"FIXED(W51+W54,0)&\" kWh/year\"","v":{"$error":"#N/A"}}]
[null,null,null,null,null,null,null,null,null,null,null,null,null,null,null,null,null,null,null,null,null,null,"COP-RHI"]
[null,null,null,null,null,null,null,null,null,null,null,null,null,null,null,null,null,null,null,null,null,null,{"$f":"IF(C73=1,Berechnung!$B$127,Berechnung!$C$127)","v":{"$error":"#N/A"}},{"$f":"IF(C73=0,\"---\",FIXED(W57,1))","v":{"$error":"#N/A"}}]
[]
[null,null,null,null,null,null,null,null,null,null,null,null,null,null,null,null,null,null,null,null,null,null,"Fördersatz RHI"]
[null,null,null,null,null,null,null,null,null,null,null,null,null,null,null,null,null,null,null,null,null,null,{"$f":"IF($C$73=1,Einstellungen!$D$53,Einstellungen!$D$55)","v":{"$error":"#N/A"}},{"$f":"IF(C73=0,\"---\",FIXED(W60*100,1)&\" p/kWh\")","v":{"$error":"#N/A"}}]
[]
[null,null,null,null,null,null,null,null,null,null,null,null,null,null,null,null,null,null,null,null,null,null,"Fördersumme",{"$f":"IF(U89+AA89=0,\"---\",\"£\"&FIXED(U89+AA89,0))","v":{"$error":"#N/A"}}]
[null,null,null,null,null,null,null,null,null,null,null,null,null,null,null,null,null,null,null,null,null,null,{"$f":"W60*(W51+W54)*(1-1/W57)","v":{"$error":"#N/A"}},{"$f":"IF(W63=0,\"---\",\"£\"&FIXED(W63,0))","v":{"$error":"#N/A"}}]
[]
[]
[]
[]
[]
[]
[]
[]
["Rechenwerte",null,null,null,null,"Import WP-Leistung",null,null,null,null,"Kosten",null,null,null,null,null,null,null,null,null,"Preisentwicklung Heizung",null,null,null,null,null,"Preisentwicklung Warmwasser",null,null,null,null,null,null,null,"Gesamt",null,"Ergebnisausgabe"]
["Wärmequelle",null,{"$f":"VLOOKUP(A5,Leistungsdaten!A:F,6,FALSE)","v":{"$error":"#N/A"}},null,null,"Außentemp","Leistung WP","COP WP",null,null,"Kategorie","Nur WP","Bivalent","Nur Öl/Gas","WP+Solar","Öl/Gas+Solar","Gewählt","Ausgabe",null,"Jahr","Förderung","Nur WP","Nur Öl/Gas","Bivalent WP","Bivalent Öl","Gewählt","Förderung","Nur WP","Nur Öl/Gas","Bivalent WP","Bivalent Öl","WP+Solar","Öl/Gas+Solar","Gewählt",null,null,"Auswahl","Gewählt ?","Text Hauptergebnis","Wert Hauptergebnis","Text Teilergebnis 1","Wert Teilergebnis 1","Text Teilergebnis 2","Wert Teilergebnis 2","Text Teilergebnis 3","Wert Teilergebnis 3"]
["JAZ-WWB",null,{"$f":"VLOOKUP(A5,Leistungsdaten!A:C,3,FALSE)","v":{"$error":"#N/A"}},null,null,null,null,null,null,null,"1. WE",{"$f":"M146","v":1984.7945454545454},{"$f":"L74","v":1984.7945454545454},{"$f":"AE146","v":9662.5164011246507},{"$f":"L74","v":1984.7945454545454},{"$f":"N74","v":9662.5164011246507},{"$f":"IF($D$5=1,L74,IF($D$5=2,N74,M74))","v":9662.5164011246507},{"$f":"FIXED(Q74,0)&\" \"&Translation!$A$77","v":"9.663 £/Year"},null,1,{"$f":"X7","v":{"$error":"#N/A"}},{"$f":"L74+L75","v":1984.7945454545454},{"$f":"N74+N75","v":9662.5164011246507},{"$f":"M74","v":1984.7945454545454},{"$f":"M75","v":0},{"$f":"IF($D$5=1,V74,IF($D$5=2,W74,X74+Y74))","v":9662.5164011246507},{"$f":"IF($K$5<3,0,IF(Einstellungen!$D$55>=T74,Einstellungen!$D$53,0))","v":0},{"$f":"M8","v":{"$error":"#N/A"}},{"$f":"M9","v":3490.3125},{"$f":"M16","v":{"$error":"#N/A"}},{"$f":"M17","v":{"$error":"#N/A"}},{"$f":"M11","v":{"$error":"#N/A"}},{"$f":"M12","v":1745.15625},{"$f":"IF($K$5=0,0,IF($K$5=1,AB74,IF($K$5=2,AC74,IF($K$5=3,AD74+AE74,IF($K$5=4,AF74,AG74)))))","v":3490.3125},{"$f":"Z74+AH74","v":13152.828901124651},null,"Energiekosten",{"$f":"Berechnung!C85","v":false},{"$f":"Translation!A68","v":"Energy costs "},{"$f":"R77","v":"13.153 £/Year"},{"$f":"C81","v":"Gaskessel"},{"$f":"R74","v":"9.663 £/Year"},{"$f":"C82","v":"2nd heat source"},{"$f":"R75","v":"0 £/Year"},{"$f":"C83","v":"DHW"},{"$f":"R76","v":"3.490 £/Year"}]
["Deckung WP WW Monoenergetisch",null,{"$f":"VLOOKUP(A5,Leistungsdaten!A:D,4,FALSE)","v":{"$error":"#N/A"}},null,null,-20,6,1,null,null,"2. WE",{"$f":"Q146","v":0},{"$f":"U146","v":0},0,{"$f":"L75","v":0},{"$f":"N75","v":0},{"$f":"IF($D$5=1,L75,IF($D$5=2,N75,M75))","v":0},{"$f":"FIXED(Q75,0)&\" \"&Translation!$A$77","v":"0 £/Year"},null,2,{"$f":"X8","v":{"$error":"#N/A"}},{"$f":"(1+Berechnung!$C$80/100)*V74","v":2044.3383818181819},{"$f":"(1+Berechnung!$C$74/100)*W74","v":10145.642221180884},{"$f":"(1+Berechnung!$C$80/100)*X74","v":2044.3383818181819},{"$f":"(1+Berechnung!$C$74/100)*Y74","v":0},{"$f":"IF($D$5=1,V75,IF($D$5=2,W75,X75+Y75))","v":10145.642221180884},{"$f":"IF($K$5<3,0,IF(Einstellungen!$D$55>=T75,Einstellungen!$D$53,0))","v":0},{"$f":"(1+Berechnung!$C$80/100)*AB74","v":{"$error":"#N/A"}},{"$f":"(1+Berechnung!$C$74/100)*AC74","v":3664.828125},{"$f":"(1+Berechnung!$C$80/100)*AD74","v":{"$error":"#N/A"}},{"$f":"(1+Berechnung!$C$74/100)*AE74","v":{"$error":"#N/A"}},{"$f":"(1+Berechnung!$C$80/100)*AF74","v":{"$error":"#N/A"}},{"$f":"(1+Berechnung!$C$74/100)*AG74","v":1832.4140625},{"$f":"IF($K$5=0,0,IF($K$5=1,AB75,IF($K$5=2,AC75,IF($K$5=3,AD75+AE75,IF($K$5=4,AF75,AG75)))))","v":3664.828125},13810.470346180884,null,"Kostenentwicklung",{"$f":"Berechnung!C86","v":false},{"$f":"Translation!A82","v":"Energy costs 15 years"},{"$f":"FIXED(AI89-U89-AA89,0)&\" \"&Translation!$A$209","v":{"$error":"#N/A"}},{"$f":"C80","v":"-"},{"$f":"FIXED(Z89,0)&\" \"&Translation!$A$209","v":"208.503 £"},{"$f":"Translation!A40","v":"DHW"},{"$f":"FIXED(AH89,0)&\" \"&Translation!$A$209","v":"75.316 £"},{"$f":"Translation!A212","v":"Subvention"},{"$f":"FIXED(U89+AA89,0)&\" \"&Translation!$A$209","v":{"$error":"#N/A"}}]
["Deckung WP WW Bivalent",null,{"$f":"VLOOKUP(A5,Leistungsdaten!$A:$E,5,FALSE)","v":{"$error":"#N/A"}},null,null,-17.5,6,1,null,null,"Warmwasser",{"$f":"M8","v":{"$error":"#N/A"}},{"$f":"M10","v":{"$error":"#N/A"}},{"$f":"M9","v":3490.3125},{"$f":"M11","v":{"$error":"#N/A"}},{"$f":"M12","v":1745.15625},{"$f":"IF($K$5=0,0,IF($K$5=1,L76,IF($K$5=3,M76,IF($K$5=2,N76,IF($K$5=4,O76,P76)))))","v":3490.3125},{"$f":"IF($K$5=0,\"\",FIXED(Q76,0)&\" \"&Translation!$A$77)","v":"3.490 £/Year"},null,3,{"$error":"#N/A"},{"$f":"(1+Berechnung!$C$80/100)*V75","v":2105.6685332727275},{"$f":"(1+Berechnung!$C$74/100)*W75","v":10652.924332239929},{"$f":"(1+Berechnung!$C$80/100)*X75","v":2105.6685332727275},{"$f":"(1+Berechnung!$C$74/100)*Y75","v":0},10652.924332239929,{"$f":"IF($K$5<3,0,IF(Einstellungen!$D$55>=T76,Einstellungen!$D$53,0))","v":0},{"$f":"(1+Berechnung!$C$80/100)*AB75","v":{"$error":"#N/A"}},{"$f":"(1+Berechnung!$C$74/100)*AC75","v":3848.0695312500002},{"$f":"(1+Berechnung!$C$80/100)*AD75","v":{"$error":"#N/A"}},{"$f":"(1+Berechnung!$C$74/100)*AE75","v":{"$error":"#N/A"}},{"$f":"(1+Berechnung!$C$80/100)*AF75","v":{"$error":"#N/A"}},{"$f":"(1+Berechnung!$C$74/100)*AG75","v":1924.0347656250001},3848.0695312500002,14500.99386348993,null,"Heizlast/Bivpunkt",{"$f":"Berechnung!C87","v":true}," "," "," "," ",{"$f":"Translation!A6","v":"Operating mode"},{"$f":"E5","v":"Mono-Mode"},{"$f":"IF(C157=-30,\"\",Translation!A38)","v":""},{"$f":"IF(C157=-30,\"\",FIXED(C157,1)&\" °C\")","v":""}]
["Startzeile Leistungsdaten WP",null,{"$f":"VLOOKUP(A5,Leistungsdaten!$A:$G,7,FALSE)","v":{"$error":"#N/A"}},null,null,-15,6,1,null,null,"Summe",{"$f":"SUM(L74:L76)","v":{"$error":"#N/A"}},{"$f":"SUM(M74:M76)","v":{"$error":"#N/A"}},{"$f":"SUM(N74:N76)","v":13152.828901124651},{"$f":"SUM(O74:O76)","v":{"$error":"#N/A"}},{"$f":"SUM(P74:P76)","v":11407.672651124651},{"$f":"SUM(Q74:Q76)","v":13152.828901124651},{"$f":"FIXED(Q77,0)&\" \"&Translation!$A$77","v":"13.153 £/Year"},null,4,{"$error":"#N/A"},{"$f":"(1+Berechnung!$C$80/100)*V76","v":2168.8385892709093},{"$f":"(1+Berechnung!$C$74/100)*W76","v":11185.570548851925},{"$f":"(1+Berechnung!$C$80/100)*X76","v":2168.8385892709093},{"$f":"(1+Berechnung!$C$74/100)*Y76","v":0},11185.570548851925,{"$f":"IF($K$5<3,0,IF(Einstellungen!$D$55>=T77,Einstellungen!$D$53,0))","v":0},{"$f":"(1+Berechnung!$C$80/100)*AB76","v":{"$error":"#N/A"}},{"$f":"(1+Berechnung!$C$74/100)*AC76","v":4040.4730078125003},{"$f":"(1+Berechnung!$C$80/100)*AD76","v":{"$error":"#N/A"}},{"$f":"(1+Berechnung!$C$74/100)*AE76","v":{"$error":"#N/A"}},{"$f":"(1+Berechnung!$C$80/100)*AF76","v":{"$error":"#N/A"}},{"$f":"(1+Berechnung!$C$74/100)*AG76","v":2020.2365039062502},{"$f":"IF($K$5=0,0,IF($K$5=1,AB77,IF($K$5=2,AC77,IF($K$5=3,AD77+AE77,IF($K$5=4,AF77,AG77)))))","v":4040.4730078125003},15226.043556664426,null,"Jahresheizarbeit",{"$f":"Berechnung!C88","v":false},{"$f":"Translation!A57","v":"Yearly heat demand"},{"$f":"FIXED(H146,0)&\" kWh\"","v":"11.027 kWh"},{"$f":"Translation!A66&\" \"&C81","v":"Annual heating  Gaskessel"},{"$f":"FIXED(S155,0)&\" kWh\"","v":"11.027 kWh"},{"$f":"Translation!A66&\" \"&C82","v":"Annual heating  2nd heat source"},{"$f":"FIXED(S156,0)&\" kWh\"","v":"0 kWh"},{"$f":"IF(K5=0,\"\",Translation!$A$211)","v":"Annual heating DHW"},{"$f":"IF(K5=0,\"\",FIXED(Berechnung!C76,0)&\" kWh\")","v":"3.285 kWh"}]
["Anzahl WP",null,{"$f":"VLOOKUP(A5,Leistungsdaten!$A:$H,8,FALSE)","v":{"$error":"#N/A"}},null,null,-12.5,6,1,null,null,null,null,null,null,null,null,null,null,null,5,{"$error":"#N/A"},{"$f":"(1+Berechnung!$C$80/100)*V77","v":2233.9037469490368},{"$f":"(1+Berechnung!$C$74/100)*W77","v":11744.849076294522},{"$f":"(1+Berechnung!$C$80/100)*X77","v":2233.9037469490368},{"$f":"(1+Berechnung!$C$74/100)*Y77","v":0},11744.849076294522,{"$f":"IF($K$5<3,0,IF(Einstellungen!$D$55>=T78,Einstellungen!$D$53,0))","v":0},{"$f":"(1+Berechnung!$C$80/100)*AB77","v":{"$error":"#N/A"}},{"$f":"(1+Berechnung!$C$74/100)*AC77","v":4242.4966582031257},{"$f":"(1+Berechnung!$C$80/100)*AD77","v":{"$error":"#N/A"}},{"$f":"(1+Berechnung!$C$74/100)*AE77","v":{"$error":"#N/A"}},{"$f":"(1+Berechnung!$C$80/100)*AF77","v":{"$error":"#N/A"}},{"$f":"(1+Berechnung!$C$74/100)*AG77","v":2121.2483291015628},4242.4966582031257,15987.345734497649,null,"CO2",{"$f":"Berechnung!C89","v":false},{"$f":"Translation!A69","v":"CO2-emission"},{"$f":"R95","v":"3.915 kg/year"},{"$f":"AO74","v":"Gaskessel"},{"$f":"R92","v":"2.876 kg/year"},{"$f":"AQ74","v":"2nd heat source"},{"$f":"R93","v":"0 kg/year"},{"$f":"AS74","v":"DHW"},{"$f":"R94","v":"1.039 kg/year"}]
["Bivalent einsetzbar ?",null,{"$f":"VLOOKUP(A5,Leistungsdaten!$A:$I,9,FALSE)","v":{"$error":"#N/A"}},null,null,-10,6,1,null,null,null,null,null,null,null,null,null,null,null,6,{"$error":"#N/A"},{"$f":"(1+Berechnung!$C$80/100)*V78","v":2300.9208593575081},{"$f":"(1+Berechnung!$C$74/100)*W78","v":12332.091530109248},{"$f":"(1+Berechnung!$C$80/100)*X78","v":2300.9208593575081},{"$f":"(1+Berechnung!$C$74/100)*Y78","v":0},12332.091530109248,{"$f":"IF($K$5<3,0,IF(Einstellungen!$D$55>=T79,Einstellungen!$D$53,0))","v":0},{"$f":"(1+Berechnung!$C$80/100)*AB78","v":{"$error":"#N/A"}},{"$f":"(1+Berechnung!$C$74/100)*AC78","v":4454.621491113282},{"$f":"(1+Berechnung!$C$80/100)*AD78","v":{"$error":"#N/A"}},{"$f":"(1+Berechnung!$C$74/100)*AE78","v":{"$error":"#N/A"}},{"$f":"(1+Berechnung!$C$80/100)*AF78","v":{"$error":"#N/A"}},{"$f":"(1+Berechnung!$C$74/100)*AG78","v":2227.310745556641},4454.621491113282,16786.713021222531,null,"Endenergie",{"$f":"Berechnung!C90","v":false},{"$f":"Translation!A62","v":"Final energy"},{"$f":"R86","v":"15.474 kWh/Year"},{"$f":"AO74","v":"Gaskessel"},{"$f":"R83","v":"11.368 kWh/Year"},{"$f":"AQ74","v":"2nd heat source"},{"$f":"R84","v":"0 kWh/Year"},{"$f":"AS74","v":"DHW"},{"$f":"R85","v":"4.106 kWh/Year"}]
["Überschrift Slot",null,{"$f":"IF(C86=FALSE,\"-\",IF(D5=1,A5,IF(D5=2,A5,A5&\" | \"&A7)))","v":"-"},null,null,-7.5,6,1,null,null,null,null,null,null,null,null,null,null,null,7,{"$error":"#N/A"},{"$f":"(1+Berechnung!$C$80/100)*V79","v":2369.9484851382335},{"$f":"(1+Berechnung!$C$74/100)*W79","v":12948.696106614711},{"$f":"(1+Berechnung!$C$80/100)*X79","v":2369.9484851382335},{"$f":"(1+Berechnung!$C$74/100)*Y79","v":0},12948.696106614711,{"$f":"IF($K$5<3,0,IF(Einstellungen!$D$55>=T80,Einstellungen!$D$53,0))","v":0},{"$f":"(1+Berechnung!$C$80/100)*AB79","v":{"$error":"#N/A"}},{"$f":"(1+Berechnung!$C$74/100)*AC79","v":4677.3525656689462},{"$f":"(1+Berechnung!$C$80/100)*AD79","v":{"$error":"#N/A"}},{"$f":"(1+Berechnung!$C$74/100)*AE79","v":{"$error":"#N/A"}},{"$f":"(1+Berechnung!$C$80/100)*AF79","v":{"$error":"#N/A"}},{"$f":"(1+Berechnung!$C$74/100)*AG79","v":2338.6762828344731},4677.3525656689462,17626.048672283658,null,"COP",{"$f":"Berechnung!C91","v":false}," "," "," "," "," "," "," "," "]
["Ausgabe 1. WE",null,{"$f":"A5","v":"Gaskessel"},null,null,-5,6,1,null,null,"Endenergie",null,null,null,null,null,null,null,null,8,{"$error":"#N/A"},{"$f":"(1+Berechnung!$C$80/100)*V80","v":2441.0469396923804},{"$f":"(1+Berechnung!$C$74/100)*W80","v":13596.130911945447},{"$f":"(1+Berechnung!$C$80/100)*X80","v":2441.0469396923804},{"$f":"(1+Berechnung!$C$74/100)*Y80","v":0},13596.130911945447,{"$f":"IF($K$5<3,0,IF(Einstellungen!$D$55>=T81,Einstellungen!$D$53,0))","v":0},{"$f":"(1+Berechnung!$C$80/100)*AB80","v":{"$error":"#N/A"}},{"$f":"(1+Berechnung!$C$74/100)*AC80","v":4911.2201939523939},{"$f":"(1+Berechnung!$C$80/100)*AD80","v":{"$error":"#N/A"}},{"$f":"(1+Berechnung!$C$74/100)*AE80","v":{"$error":"#N/A"}},{"$f":"(1+Berechnung!$C$80/100)*AF80","v":{"$error":"#N/A"}},{"$f":"(1+Berechnung!$C$74/100)*AG80","v":2455.6100969761969},4911.2201939523939,18507.35110589784,null,"Ausgabe",null,{"$f":"VLOOKUP(TRUE,$AL$74:$AT$80,2,FALSE)","v":" "},{"$f":"VLOOKUP(TRUE,$AL$74:$AT$80,3,FALSE)","v":" "},{"$f":"VLOOKUP(TRUE,$AL$74:$AT$80,4,FALSE)","v":" "},{"$f":"VLOOKUP(TRUE,$AL$74:$AT$80,5,FALSE)","v":" "},{"$f":"VLOOKUP(TRUE,$AL$74:$AT$80,6,FALSE)","v":"Operating mode"},{"$f":"VLOOKUP(TRUE,$AL$74:$AT$80,7,FALSE)","v":"Mono-Mode"},{"$f":"VLOOKUP(TRUE,$AL$74:$AT$80,8,FALSE)","v":""},{"$f":"VLOOKUP(TRUE,$AL$74:$AT$80,9,FALSE)","v":""}]
["Ausgabe 2. WE",null,{"$f":"IF(D5=1,Translation!A75,IF(D5=2,Translation!A16,A7))","v":"2nd heat source"},null,null,-2.5,6,1,null,null,"Kategorie","Nur WP","Bivalent","Nur Öl/Gas","WP+Solar","Öl/Gas+Solar","Gewählt","Ausgabe",null,9,{"$error":"#N/A"},{"$f":"(1+Berechnung!$C$80/100)*V81","v":2514.278347883152},{"$f":"(1+Berechnung!$C$74/100)*W81","v":14275.937457542721},{"$f":"(1+Berechnung!$C$80/100)*X81","v":2514.278347883152},{"$f":"(1+Berechnung!$C$74/100)*Y81","v":0},14275.937457542721,{"$f":"IF($K$5<3,0,IF(Einstellungen!$D$55>=T82,Einstellungen!$D$53,0))","v":0},{"$f":"(1+Berechnung!$C$80/100)*AB81","v":{"$error":"#N/A"}},{"$f":"(1+Berechnung!$C$74/100)*AC81","v":5156.7812036500136},{"$f":"(1+Berechnung!$C$80/100)*AD81","v":{"$error":"#N/A"}},{"$f":"(1+Berechnung!$C$74/100)*AE81","v":{"$error":"#N/A"}},{"$f":"(1+Berechnung!$C$80/100)*AF81","v":{"$error":"#N/A"}},{"$f":"(1+Berechnung!$C$74/100)*AG81","v":2578.3906018250068},5156.7812036500136,19432.718661192735]
["Ausgabe WWB",null,{"$f":"IF(K5=0,\"\",Translation!A40)","v":"DHW"},null,null,0,6,1,null,null,"1. WE",{"$f":"L146","v":11026.636363636362},{"$f":"L83","v":11026.636363636362},{"$f":"IF(Berechnung!H5=Berechnung!H7,IF(Berechnung!C95=2,AD146/Berechnung!C101,AD146),IF(Berechnung!C95=2,AD146/Berechnung!C102,AD146))","v":11367.666354264293},{"$f":"L83","v":11026.636363636362},{"$f":"N83","v":11367.666354264293},{"$f":"IF($D$5=1,L83,IF($D$5=2,N83,M83))","v":11367.666354264293},{"$f":"IF(Berechnung!H5=Berechnung!H7,IF(AND(D5=2,Berechnung!C96=2),FIXED(Q83,0)&\" \"&Translation!$A$196,FIXED(Q83,0)&\" \"&Translation!$A$79),IF(AND(D5=2,Berechnung!C96=2),FIXED(Q83,0)&\" \"&Translation!$A$197,FIXED(Q83,0)&\" \"&Translation!$A$79))","v":"11.368 kWh/Year"},null,10,{"$error":"#N/A"},{"$f":"(1+Berechnung!$C$80/100)*V82","v":2589.7066983196469},{"$f":"(1+Berechnung!$C$74/100)*W82","v":14989.734330419858},{"$f":"(1+Berechnung!$C$80/100)*X82","v":2589.7066983196469},{"$f":"(1+Berechnung!$C$74/100)*Y82","v":0},14989.734330419858,{"$f":"IF($K$5<3,0,IF(Einstellungen!$D$55>=T83,Einstellungen!$D$53,0))","v":0},{"$f":"(1+Berechnung!$C$80/100)*AB82","v":{"$error":"#N/A"}},{"$f":"(1+Berechnung!$C$74/100)*AC82","v":5414.6202638325149},{"$f":"(1+Berechnung!$C$80/100)*AD82","v":{"$error":"#N/A"}},{"$f":"(1+Berechnung!$C$74/100)*AE82","v":{"$error":"#N/A"}},{"$f":"(1+Berechnung!$C$80/100)*AF82","v":{"$error":"#N/A"}},{"$f":"(1+Berechnung!$C$74/100)*AG82","v":2707.3101319162574},5414.6202638325149,20404.354594252374]
["Ausgabe Wärmepume/Kessel",null,{"$f":"IF(A5=A7,A5,Translation!$A$5)","v":"Gaskessel"},null,null,2.5,6,1,null,null,"2. WE",{"$f":"P146","v":0},{"$f":"T146","v":0},0,{"$f":"L84","v":0},{"$f":"N84","v":0},{"$f":"IF($D$5=1,L84,IF($D$5=2,N84,M84))","v":0},{"$f":"IF(Berechnung!H5=Berechnung!H7,IF(AND(D5=2,Berechnung!C96=2),FIXED(Q84,0)&\" \"&Translation!$A$196,FIXED(Q84,0)&\" \"&Translation!$A$79),IF(AND(D5=2,Berechnung!C96=2),FIXED(Q84,0)&\" \"&Translation!$A$197,FIXED(Q84,0)&\" \"&Translation!$A$79))","v":"0 kWh/Year"},null,11,{"$error":"#N/A"},{"$f":"(1+Berechnung!$C$80/100)*V83","v":2667.3978992692364},{"$f":"(1+Berechnung!$C$74/100)*W83","v":15739.221046940853},{"$f":"(1+Berechnung!$C$80/100)*X83","v":2667.3978992692364},{"$f":"(1+Berechnung!$C$74/100)*Y83","v":0},15739.221046940853,{"$f":"IF($K$5<3,0,IF(Einstellungen!$D$55>=T84,Einstellungen!$D$53,0))","v":0},{"$f":"(1+Berechnung!$C$80/100)*AB83","v":{"$error":"#N/A"}},{"$f":"(1+Berechnung!$C$74/100)*AC83","v":5685.3512770241405},{"$f":"(1+Berechnung!$C$80/100)*AD83","v":{"$error":"#N/A"}},{"$f":"(1+Berechnung!$C$74/100)*AE83","v":{"$error":"#N/A"}},{"$f":"(1+Berechnung!$C$80/100)*AF83","v":{"$error":"#N/A"}},{"$f":"(1+Berechnung!$C$74/100)*AG83","v":2842.6756385120702},5685.3512770241405,21424.572323964992]
["Zertifikat MCS",null,{"$f":"VLOOKUP(A5,Leistungsdaten!A:L,12,FALSE)","v":{"$error":"#N/A"}},null,null,5,6,1,null,null,"Warmwasser",{"$f":"L8","v":{"$error":"#N/A"}},{"$f":"L10","v":{"$error":"#N/A"}},{"$f":"IF(Berechnung!H5=Berechnung!H7,IF(Berechnung!C95=2,L9/Berechnung!C101,L9),IF(Berechnung!C95=2,L9/Berechnung!C102,L9))","v":4106.25},{"$f":"IF(Berechnung!H5=Berechnung!H7,IF(Berechnung!C95=2,L11/Berechnung!C101,L11),IF(Berechnung!C95=2,L11/Berechnung!C102,L11))","v":{"$error":"#N/A"}},{"$f":"IF(Berechnung!H5=Berechnung!H7,IF(Berechnung!C95=2,L12/Berechnung!C101,L12),IF(Berechnung!C95=2,L12/Berechnung!C102,L12))","v":2053.125},{"$f":"IF($K$5=1,L85,IF($K$5=3,M85,IF($K$5=2,N85,IF($K$5=4,O85,P85))))","v":4106.25},{"$f":"IF(Berechnung!H5=Berechnung!H7,IF(AND(D5=2,Berechnung!C96=2),IF($K$5=0,\"\",FIXED(Q85,0)&\" \"&Translation!$A$196),IF($K$5=0,\"\",FIXED(Q85,0)&\" \"&Translation!$A$79)),IF(AND(D5=2,Berechnung!C96=2),IF($K$5=0,\"\",FIXED(Q85,0)&\" \"&Translation!$A$197),IF($K$5=0,\"\",FIXED(Q85,0)&\" \"&Translation!$A$79)))","v":"4.106 kWh/Year"},null,12,{"$error":"#N/A"},{"$f":"(1+Berechnung!$C$80/100)*V84","v":2747.4198362473135},{"$f":"(1+Berechnung!$C$74/100)*W84","v":16526.182099287897},{"$f":"(1+Berechnung!$C$80/100)*X84","v":2747.4198362473135},{"$f":"(1+Berechnung!$C$74/100)*Y84","v":0},16526.182099287897,{"$f":"IF($K$5<3,0,IF(Einstellungen!$D$55>=T85,Einstellungen!$D$53,0))","v":0},{"$f":"(1+Berechnung!$C$80/100)*AB84","v":{"$error":"#N/A"}},{"$f":"(1+Berechnung!$C$74/100)*AC84","v":5969.6188408753478},{"$f":"(1+Berechnung!$C$80/100)*AD84","v":{"$error":"#N/A"}},{"$f":"(1+Berechnung!$C$74/100)*AE84","v":{"$error":"#N/A"}},{"$f":"(1+Berechnung!$C$80/100)*AF84","v":{"$error":"#N/A"}},{"$f":"(1+Berechnung!$C$74/100)*AG84","v":2984.8094204376739},5969.6188408753478,22495.800940163244,null,null,"Diagramm Preisentwicklung"]
["Slot anzeigen ?",null,false,null,null,7.5,6,1,null,null,"Summe",{"$f":"SUM(L83:L85)","v":{"$error":"#N/A"}},{"$f":"SUM(M83:M85)","v":{"$error":"#N/A"}},15473.916354264293,{"$error":"#N/A"},13420.791354264293,{"$f":"SUM(Q83:Q85)","v":15473.916354264293},{"$f":"IF(Berechnung!H5=Berechnung!H7,IF(AND(D5=2,Berechnung!C96=2),FIXED(Q86,0)&\" \"&Translation!$A$196,FIXED(Q86,0)&\" \"&Translation!$A$79),IF(AND(D5=2,Berechnung!C96=2),FIXED(Q86,0)&\" \"&Translation!$A$197,FIXED(Q86,0)&\" \"&Translation!$A$79))","v":"15.474 kWh/Year"},null,13,{"$error":"#N/A"},{"$f":"(1+Berechnung!$C$80/100)*V85","v":2829.8424313347327},{"$f":"(1+Berechnung!$C$74/100)*W85","v":17352.491204252292},{"$f":"(1+Berechnung!$C$80/100)*X85","v":2829.8424313347327},{"$f":"(1+Berechnung!$C$74/100)*Y85","v":0},17352.491204252292,{"$f":"IF($K$5<3,0,IF(Einstellungen!$D$55>=T86,Einstellungen!$D$53,0))","v":0},{"$f":"(1+Berechnung!$C$80/100)*AB85","v":{"$error":"#N/A"}},{"$f":"(1+Berechnung!$C$74/100)*AC85","v":6268.0997829191156},{"$f":"(1+Berechnung!$C$80/100)*AD85","v":{"$error":"#N/A"}},{"$f":"(1+Berechnung!$C$74/100)*AE85","v":{"$error":"#N/A"}},{"$f":"(1+Berechnung!$C$80/100)*AF85","v":{"$error":"#N/A"}},{"$f":"(1+Berechnung!$C$74/100)*AG85","v":3134.0498914595578},6268.0997829191156,23620.590987171407,null,"Jahr","Gesamtkosten","Förderung","Heizung-Diagr.","WW-Diagr.","Förderung"]
[null,null,null,null,null,10,6,1,null,null,null,null,null,null,null,null,null,null,null,14,{"$error":"#N/A"},{"$f":"(1+Berechnung!$C$80/100)*V86","v":2914.7377042747748},{"$f":"(1+Berechnung!$C$74/100)*W86","v":18220.115764464907},{"$f":"(1+Berechnung!$C$80/100)*X86","v":2914.7377042747748},{"$f":"(1+Berechnung!$C$74/100)*Y86","v":0},18220.115764464907,{"$f":"IF($K$5<3,0,IF(Einstellungen!$D$55>=T87,Einstellungen!$D$53,0))","v":0},{"$f":"(1+Berechnung!$C$80/100)*AB86","v":{"$error":"#N/A"}},{"$f":"(1+Berechnung!$C$74/100)*AC86","v":6581.5047720650718},{"$f":"(1+Berechnung!$C$80/100)*AD86","v":{"$error":"#N/A"}},{"$f":"(1+Berechnung!$C$74/100)*AE86","v":{"$error":"#N/A"}},{"$f":"(1+Berechnung!$C$80/100)*AF86","v":{"$error":"#N/A"}},{"$f":"(1+Berechnung!$C$74/100)*AG86","v":3290.7523860325359},6581.5047720650718,24801.620536529979,null,1,{"$f":"AI74","v":13152.828901124651},{"$f":"U74+AA74","v":{"$error":"#N/A"}},{"$f":"IF(AM87>0,(AL87-AM87)*(Z74/AI74),Z74)","v":{"$error":"#N/A"}},{"$f":"IF(AM87>0,(AL87-AM87)*(AH74/AI74),AH74)","v":{"$error":"#N/A"}},{"$f":"MIN(AM87,AL87)","v":{"$error":"#N/A"}}]
[null,null,null,null,null,12.5,6,1,null,null,null,null,null,null,null,null,null,null,null,15,{"$error":"#N/A"},{"$f":"(1+Berechnung!$C$80/100)*V87","v":3002.1798354030184},{"$f":"(1+Berechnung!$C$74/100)*W87","v":19131.121552688153},{"$f":"(1+Berechnung!$C$80/100)*X87","v":3002.1798354030184},{"$f":"(1+Berechnung!$C$74/100)*Y87","v":0},19131.121552688153,{"$f":"IF($K$5<3,0,IF(Einstellungen!$D$55>=T88,Einstellungen!$D$53,0))","v":0},{"$f":"(1+Berechnung!$C$80/100)*AB87","v":{"$error":"#N/A"}},{"$f":"(1+Berechnung!$C$74/100)*AC87","v":6910.5800106683255},{"$f":"(1+Berechnung!$C$80/100)*AD87","v":{"$error":"#N/A"}},{"$f":"(1+Berechnung!$C$74/100)*AE87","v":{"$error":"#N/A"}},{"$f":"(1+Berechnung!$C$80/100)*AF87","v":{"$error":"#N/A"}},{"$f":"(1+Berechnung!$C$74/100)*AG87","v":3455.2900053341627},6910.5800106683255,26041.701563356481,null,2,13810.470346180884,{"$error":"#N/A"},{"$f":"IF(AM88>0,(AL88-AM88)*(Z75/AI75),Z75)","v":{"$error":"#N/A"}},{"$f":"IF(AM88>0,(AL88-AM88)*(AH75/AI75),AH75)","v":{"$error":"#N/A"}},{"$f":"MIN(AM88,AL88)","v":{"$error":"#N/A"}}]
[null,null,null,null,null,15,6,1,null,null,null,null,null,null,null,null,null,null,null,"Summe",{"$f":"SUM(U74:U88)","v":{"$error":"#N/A"}},{"$f":"SUM(V74:V88)","v":36915.022833685391},{"$f":"SUM(W74:W88)","v":208503.22458395801},{"$f":"SUM(X74:X88)","v":36915.022833685391},{"$f":"SUM(Y74:Y88)","v":0},{"$f":"SUM(Z74:Z88)","v":208503.22458395801},{"$f":"SUM(AA74:AA88)","v":0},{"$error":"#N/A"},{"$f":"SUM(AC74:AC88)","v":75315.93022403479},{"$f":"SUM(AD74:AD88)","v":{"$error":"#N/A"}},{"$f":"SUM(AE74:AE88)","v":{"$error":"#N/A"}},{"$f":"SUM(AF74:AF88)","v":{"$error":"#N/A"}},37657.965112017395,{"$f":"SUM(AH74:AH88)","v":75315.93022403479},{"$f":"SUM(AI74:AI88)","v":283819.1548079928},null,3,14500.99386348993,{"$error":"#N/A"},{"$error":"#N/A"},{"$error":"#N/A"},{"$error":"#N/A"}]
[null,null,null,null,null,17.5,6,1,null,null,"CO2",null,null,null,null,null,null,null,null,null,null,null,null,null,null,null,null,null,null,null,null,null,null,null,null,null,4,15226.043556664426,{"$error":"#N/A"},{"$error":"#N/A"},{"$error":"#N/A"},{"$error":"#N/A"}]
[null,null,null,null,null,20,6,1,null,null,"Kategorie","Nur WP","Bivalent","Nur Öl/Gas","WP+Solar","Öl/Gas+Solar","Gewählt","Ausgabe",null,null,null,null,null,null,null,null,null,null,null,null,null,null,null,null,null,null,5,15987.345734497649,{"$error":"#N/A"},{"$error":"#N/A"},{"$error":"#N/A"},{"$error":"#N/A"}]
[null,null,null,null,null,22.5,6,1,null,null,"1. WE",{"$f":"N146","v":6847.541181818181},{"$f":"L92","v":6847.541181818181},{"$f":"AF146","v":2876.0195876288662},{"$f":"L92","v":6847.541181818181},{"$f":"N92","v":2876.0195876288662},{"$f":"IF($D$5=1,L92,IF($D$5=2,N92,M92))","v":2876.0195876288662},{"$f":"FIXED(Q92,0)&\" \"&Translation!$A$80","v":"2.876 kg/year"},null,null,null,null,null,null,null,null,null,null,null,null,null,null,null,null,null,null,6,16786.713021222531,{"$error":"#N/A"},{"$error":"#N/A"},{"$error":"#N/A"},{"$error":"#N/A"}]
[null,null,null,null,null,25,6,1,null,null,"2. WE",{"$f":"R146","v":0},{"$f":"V146","v":0},0,{"$f":"L93","v":0},{"$f":"N93","v":0},{"$f":"IF($D$5=1,L93,IF($D$5=2,N93,M93))","v":0},{"$f":"FIXED(Q93,0)&\" \"&Translation!$A$80","v":"0 kg/year"},null,null,null,null,null,null,null,null,null,null,null,null,null,null,null,null,null,null,7,17626.048672283658,{"$error":"#N/A"},{"$error":"#N/A"},{"$error":"#N/A"},{"$error":"#N/A"}]
[null,null,null,null,null,27.5,6,1,null,null,"Warmwasser",{"$f":"N8","v":{"$error":"#N/A"}},{"$f":"N10","v":{"$error":"#N/A"}},{"$f":"N9","v":1038.8812499999999},{"$f":"N11","v":{"$error":"#N/A"}},{"$f":"N12","v":519.44062499999995},{"$f":"IF($K$5=1,L94,IF($K$5=3,M94,IF($K$5=2,N94,IF($K$5=4,O94,P94))))","v":1038.8812499999999},{"$f":"IF($K$5=0,\"\",FIXED(Q94,0)&\" \"&Translation!$A$80)","v":"1.039 kg/year"},null,null,null,null,null,null,null,null,null,null,null,null,null,null,null,null,null,null,8,18507.35110589784,{"$error":"#N/A"},{"$f":"IF(AM94>0,(AL94-AM94)*(Z81/AI81),Z81)","v":{"$error":"#N/A"}},{"$error":"#N/A"},{"$error":"#N/A"}]
[null,null,null,null,null,30,6,1,null,null,"Summe",{"$f":"SUM(L92:L94)","v":{"$error":"#N/A"}},{"$f":"SUM(M92:M94)","v":{"$error":"#N/A"}},3914.9008376288662,{"$error":"#N/A"},{"$f":"SUM(P92:P94)","v":3395.4602126288664},{"$f":"SUM(Q92:Q94)","v":3914.9008376288662},{"$f":"FIXED(Q95,0)&\" \"&Translation!$A$80","v":"3.915 kg/year"},null,null,null,null,null,null,null,null,null,null,null,null,null,null,null,null,null,null,9,19432.718661192735,{"$error":"#N/A"},{"$error":"#N/A"},{"$error":"#N/A"},{"$error":"#N/A"}]
[null,null,null,null,null,null,null,null,null,null,null,null,null,null,null,null,null,null,null,null,null,null,null,null,null,null,null,null,null,null,null,null,null,null,null,null,10,20404.354594252374,{"$error":"#N/A"},{"$error":"#N/A"},{"$error":"#N/A"},{"$error":"#N/A"}]
[null,null,null,null,null,null,null,null,null,null,null,null,null,null,null,null,null,null,null,null,null,null,null,null,null,null,null,null,null,null,null,null,null,null,null,null,11,21424.572323964992,{"$error":"#N/A"},{"$error":"#N/A"},{"$error":"#N/A"},{"$error":"#N/A"}]
[null,null,null,null,null,null,null,null,null,null,null,null,null,null,null,null,null,null,null,null,null,null,null,null,null,null,null,null,null,null,null,null,null,null,null,null,12,22495.800940163244,{"$error":"#N/A"},{"$error":"#N/A"},{"$error":"#N/A"},{"$error":"#N/A"}]
[null,null,null,null,null,null,null,null,null,null,null,null,null,null,null,null,null,null,null,null,null,null,null,null,null,null,null,null,null,null,null,null,null,null,null,null,13,23620.590987171407,{"$error":"#N/A"},{"$error":"#N/A"},{"$error":"#N/A"},{"$error":"#N/A"}]
["Berechnung Jahresheizarbeit/Heizstunden",null,null,null,null,null,null,null,null,"Wärmepumpe",null,null,null,null,"2. WE - DHC monoenergetisch",null,null,null,"2. WE - Öl/Gas bivalent",null,null,null,"Gesamt Nur Wärmepumpe",null,null,"Gesamt Wärmepumpe+Öl/Gas",null,null,"Gasamt Nur Öl/Gas",null,null,null,null,null,null,null,14,24801.620536529979,{"$error":"#N/A"},{"$error":"#N/A"},{"$error":"#N/A"},{"$error":"#N/A"}]
["Zähler","Außentemp","Heizlast","Leistung WP","Heizlast minus","Biv.punkt","Stunden bei tau","Heizwärmebedarf","Faktor","Heizarbeit","COP","Endenergie","Energiekosten","CO2-Emission","Heizarbeit","Endenergie","Energiekosten","CO2-Emission","Heizarbeit","Endenergie","Energiekosten","CO2-Emission","Endenergie","Energiekosten","CO2-Emission","Endenergie","Energiekosten","CO2-Emission","Heizarbeit","Endenergie","Energiekosten","CO2-Emission",null,null,null,null,15,26041.701563356481,{"$error":"#N/A"},{"$error":"#N/A"},{"$error":"#N/A"},{"$error":"#N/A"}]
[null,"°C","KW","KW","WP-Leistung",null,{"$f":"Berechnung!$B$5","v":"Holzminden"},"kWh/a","bivalenter Betrieb","kWh/a","-","kWh/a","€/a","kg/a","kWh/a","kWh/a","€/a","kg/a","kWh/a","kWh/a","€/a","kg/a",null,null,null,null,null,null,"kWh/a","kWh/a","€/a","kg/a"]
[3,"< -20",{"$f":"Berechnung!$C$65","v":6},{"$f":"D104-(D105-D104)","v":6},{"$f":"C103-D103","v":0},-20,{"$f":"HLOOKUP(Berechnung!$C$66,INDIRECT(\"Klimadaten!M\"&Berechnung!$C$67&\":BM\"&Berechnung!$C$67+44),A103,FALSE)","v":0},{"$f":"C103*G103","v":0},{"$f":"I104","v":1},{"$f":"MIN(H103,I103*D103*G103)","v":0},{"$f":"K104-(K105-K104)","v":1},{"$f":"J103/K103","v":0},{"$f":"L103*Berechnung!$C$79/100","v":0},{"$f":"(L103*Berechnung!$C$69/1000)","v":0},{"$f":"H103-J103","v":0},{"$f":"O103","v":0},{"$f":"P103*Berechnung!$C$78/100","v":0},{"$f":"P103*Berechnung!$C$69/1000","v":0},{"$f":"O103","v":0},{"$f":"S103/(Berechnung!$C$81/100)","v":0},{"$f":"T103*Berechnung!$C$72","v":0},{"$f":"T103*Berechnung!$C$73/1000","v":0},{"$f":"L103+P103","v":0},0,0,{"$f":"L103+T103","v":0},{"$f":"M103+U103","v":0},{"$f":"N103+V103","v":0},{"$f":"H103","v":0},{"$f":"AC103/(Berechnung!$C$81/100)","v":0},{"$f":"AD103*Berechnung!$C$72","v":0},{"$f":"AD103*Berechnung!$C$73/1000","v":0}]
[4,-20,{"$f":"MAX(0,MIN(Berechnung!$C$65,Berechnung!$C$65*(B104-Berechnung!$C$64)/(Berechnung!$C$63-Berechnung!$C$64)))","v":6},{"$f":"G75","v":6},{"$f":"C104-D104","v":0},{"$f":"IF(SIGN(E104)-SIGN(E105)<>0,B104,-20)","v":-20},{"$f":"HLOOKUP(Berechnung!$C$66,INDIRECT(\"Klimadaten!M\"&Berechnung!$C$67&\":BM\"&Berechnung!$C$67+44),A104,FALSE)","v":0},{"$f":"C104*G104","v":0},{"$f":"IF(OR($B$5=$B$7,$B$5=$B$8),1,IF(B104<=$F$146,0,1))","v":1},{"$f":"MIN(H104,I104*D104*G104)","v":0},{"$f":"H75","v":1},0,{"$f":"L104*Berechnung!$C$79/100","v":0},{"$f":"(L104*Berechnung!$C$69/1000)","v":0},0,{"$f":"O104","v":0},{"$f":"P104*Berechnung!$C$78/100","v":0},{"$f":"P104*Berechnung!$C$69/1000","v":0},{"$f":"O104","v":0},{"$f":"S104/(Berechnung!$C$81/100)","v":0},{"$f":"T104*Berechnung!$C$72","v":0},{"$f":"T104*Berechnung!$C$73/1000","v":0},0,0,0,{"$f":"L104+T104","v":0},0,0,{"$f":"H104","v":0},{"$f":"AC104/(Berechnung!$C$81/100)","v":0},{"$f":"AD104*Berechnung!$C$72","v":0},{"$f":"AD104*Berechnung!$C$73/1000","v":0}]
[5,-19,{"$f":"MAX(0,MIN(Berechnung!$C$65,Berechnung!$C$65*(B105-Berechnung!$C$64)/(Berechnung!$C$63-Berechnung!$C$64)))","v":6},{"$f":"AVERAGE(D104,D106)","v":6},0,{"$f":"IF(SIGN(E105)-SIGN(E106)<>0,B105,-20)","v":-20},{"$f":"HLOOKUP(Berechnung!$C$66,INDIRECT(\"Klimadaten!M\"&Berechnung!$C$67&\":BM\"&Berechnung!$C$67+44),A105,FALSE)","v":0},{"$f":"C105*G105","v":0},1,0,{"$f":"AVERAGE(K104,K106)","v":1},0,{"$f":"L105*Berechnung!$C$79/100","v":0},{"$f":"(L105*Berechnung!$C$69/1000)","v":0},0,0,{"$f":"P105*Berechnung!$C$78/100","v":0},{"$f":"P105*Berechnung!$C$69/1000","v":0},0,{"$f":"S105/(Berechnung!$C$81/100)","v":0},{"$f":"T105*Berechnung!$C$72","v":0},{"$f":"T105*Berechnung!$C$73/1000","v":0},0,0,0,0,0,0,0,{"$f":"AC105/(Berechnung!$C$81/100)","v":0},{"$f":"AD105*Berechnung!$C$72","v":0},{"$f":"AD105*Berechnung!$C$73/1000","v":0}]
[6,-18,{"$f":"MAX(0,MIN(Berechnung!$C$65,Berechnung!$C$65*(B106-Berechnung!$C$64)/(Berechnung!$C$63-Berechnung!$C$64)))","v":6},{"$f":"G76","v":6},0,-20,{"$f":"HLOOKUP(Berechnung!$C$66,INDIRECT(\"Klimadaten!M\"&Berechnung!$C$67&\":BM\"&Berechnung!$C$67+44),A106,FALSE)","v":0},{"$f":"C106*G106","v":0},1,{"$f":"MIN(H106,I106*D106*G106)","v":0},{"$f":"H76","v":1},0,{"$f":"L106*Berechnung!$C$79/100","v":0},{"$f":"(L106*Berechnung!$C$69/1000)","v":0},0,0,{"$f":"P106*Berechnung!$C$78/100","v":0},{"$f":"P106*Berechnung!$C$69/1000","v":0},0,{"$f":"S106/(Berechnung!$C$81/100)","v":0},{"$f":"T106*Berechnung!$C$72","v":0},{"$f":"T106*Berechnung!$C$73/1000","v":0},0,0,0,0,0,0,0,{"$f":"AC106/(Berechnung!$C$81/100)","v":0},{"$f":"AD106*Berechnung!$C$72","v":0},{"$f":"AD106*Berechnung!$C$73/1000","v":0}]
[7,-17,{"$f":"MAX(0,MIN(Berechnung!$C$65,Berechnung!$C$65*(B107-Berechnung!$C$64)/(Berechnung!$C$63-Berechnung!$C$64)))","v":6},{"$f":"G76","v":6},0,{"$f":"IF(SIGN(E107)-SIGN(E108)<>0,B107,-20)","v":-20},{"$f":"HLOOKUP(Berechnung!$C$66,INDIRECT(\"Klimadaten!M\"&Berechnung!$C$67&\":BM\"&Berechnung!$C$67+44),A107,FALSE)","v":0},{"$f":"C107*G107","v":0},1,{"$f":"MIN(H107,I107*D107*G107)","v":0},{"$f":"H76","v":1},0,{"$f":"L107*Berechnung!$C$79/100","v":0},{"$f":"(L107*Berechnung!$C$69/1000)","v":0},0,0,{"$f":"P107*Berechnung!$C$78/100","v":0},{"$f":"P107*Berechnung!$C$69/1000","v":0},0,{"$f":"S107/(Berechnung!$C$81/100)","v":0},{"$f":"T107*Berechnung!$C$72","v":0},{"$f":"T107*Berechnung!$C$73/1000","v":0},0,0,0,0,0,0,0,{"$f":"AC107/(Berechnung!$C$81/100)","v":0},{"$f":"AD107*Berechnung!$C$72","v":0},{"$f":"AD107*Berechnung!$C$73/1000","v":0}]
[8,-16,{"$f":"MAX(0,MIN(Berechnung!$C$65,Berechnung!$C$65*(B108-Berechnung!$C$64)/(Berechnung!$C$63-Berechnung!$C$64)))","v":6},{"$f":"AVERAGE(D107,D109)","v":6},0,-20,{"$f":"HLOOKUP(Berechnung!$C$66,INDIRECT(\"Klimadaten!M\"&Berechnung!$C$67&\":BM\"&Berechnung!$C$67+44),A108,FALSE)","v":0},{"$f":"C108*G108","v":0},1,0,{"$f":"AVERAGE(K107,K109)","v":1},0,{"$f":"L108*Berechnung!$C$79/100","v":0},{"$f":"(L108*Berechnung!$C$69/1000)","v":0},0,0,{"$f":"P108*Berechnung!$C$78/100","v":0},{"$f":"P108*Berechnung!$C$69/1000","v":0},0,{"$f":"S108/(Berechnung!$C$81/100)","v":0},{"$f":"T108*Berechnung!$C$72","v":0},{"$f":"T108*Berechnung!$C$73/1000","v":0},0,0,0,0,0,0,0,{"$f":"AC108/(Berechnung!$C$81/100)","v":0},{"$f":"AD108*Berechnung!$C$72","v":0},{"$f":"AD108*Berechnung!$C$73/1000","v":0}]
[9,-15,{"$f":"MAX(0,MIN(Berechnung!$C$65,Berechnung!$C$65*(B109-Berechnung!$C$64)/(Berechnung!$C$63-Berechnung!$C$64)))","v":6},{"$f":"G77","v":6},0,-20,{"$f":"HLOOKUP(Berechnung!$C$66,INDIRECT(\"Klimadaten!M\"&Berechnung!$C$67&\":BM\"&Berechnung!$C$67+44),A109,FALSE)","v":0},0,1,0,{"$f":"H77","v":1},0,{"$f":"L109*Berechnung!$C$79/100","v":0},{"$f":"(L109*Berechnung!$C$69/1000)","v":0},0,0,{"$f":"P109*Berechnung!$C$78/100","v":0},{"$f":"P109*Berechnung!$C$69/1000","v":0},0,{"$f":"S109/(Berechnung!$C$81/100)","v":0},{"$f":"T109*Berechnung!$C$72","v":0},{"$f":"T109*Berechnung!$C$73/1000","v":0},0,0,0,0,0,0,0,{"$f":"AC109/(Berechnung!$C$81/100)","v":0},{"$f":"AD109*Berechnung!$C$72","v":0},{"$f":"AD109*Berechnung!$C$73/1000","v":0}]
[10,-14,{"$f":"MAX(0,MIN(Berechnung!$C$65,Berechnung!$C$65*(B110-Berechnung!$C$64)/(Berechnung!$C$63-Berechnung!$C$64)))","v":6},{"$f":"AVERAGE(D109,D111)","v":6},0,{"$f":"IF(SIGN(E110)-SIGN(E111)<>0,B110,-20)","v":-20},{"$f":"HLOOKUP(Berechnung!$C$66,INDIRECT(\"Klimadaten!M\"&Berechnung!$C$67&\":BM\"&Berechnung!$C$67+44),A110,FALSE)","v":0},{"$f":"C110*G110","v":0},1,0,{"$f":"AVERAGE(K109,K111)","v":1},0,{"$f":"L110*Berechnung!$C$79/100","v":0},{"$f":"(L110*Berechnung!$C$69/1000)","v":0},0,0,{"$f":"P110*Berechnung!$C$78/100","v":0},{"$f":"P110*Berechnung!$C$69/1000","v":0},{"$f":"O110","v":0},{"$f":"S110/(Berechnung!$C$81/100)","v":0},{"$f":"T110*Berechnung!$C$72","v":0},{"$f":"T110*Berechnung!$C$73/1000","v":0},0,0,0,0,0,0,0,{"$f":"AC110/(Berechnung!$C$81/100)","v":0},{"$f":"AD110*Berechnung!$C$72","v":0},{"$f":"AD110*Berechnung!$C$73/1000","v":0}]
[11,-13,{"$f":"MAX(0,MIN(Berechnung!$C$65,Berechnung!$C$65*(B111-Berechnung!$C$64)/(Berechnung!$C$63-Berechnung!$C$64)))","v":6},{"$f":"G78","v":6},0,-20,{"$f":"HLOOKUP(Berechnung!$C$66,INDIRECT(\"Klimadaten!M\"&Berechnung!$C$67&\":BM\"&Berechnung!$C$67+44),A111,FALSE)","v":0},{"$f":"C111*G111","v":0},1,0,{"$f":"H78","v":1},0,{"$f":"L111*Berechnung!$C$79/100","v":0},{"$f":"(L111*Berechnung!$C$69/1000)","v":0},0,0,{"$f":"P111*Berechnung!$C$78/100","v":0},{"$f":"P111*Berechnung!$C$69/1000","v":0},0,{"$f":"S111/(Berechnung!$C$81/100)","v":0},{"$f":"T111*Berechnung!$C$72","v":0},{"$f":"T111*Berechnung!$C$73/1000","v":0},0,0,0,0,0,0,0,{"$f":"AC111/(Berechnung!$C$81/100)","v":0},{"$f":"AD111*Berechnung!$C$72","v":0},{"$f":"AD111*Berechnung!$C$73/1000","v":0}]
[12,-12,{"$f":"MAX(0,MIN(Berechnung!$C$65,Berechnung!$C$65*(B112-Berechnung!$C$64)/(Berechnung!$C$63-Berechnung!$C$64)))","v":6},{"$f":"G78","v":6},0,-20,{"$f":"HLOOKUP(Berechnung!$C$66,INDIRECT(\"Klimadaten!M\"&Berechnung!$C$67&\":BM\"&Berechnung!$C$67+44),A112,FALSE)","v":0},0,1,{"$f":"MIN(H112,I112*D112*G112)","v":0},{"$f":"H78","v":1},0,{"$f":"L112*Berechnung!$C$79/100","v":0},{"$f":"(L112*Berechnung!$C$69/1000)","v":0},0,0,{"$f":"P112*Berechnung!$C$78/100","v":0},{"$f":"P112*Berechnung!$C$69/1000","v":0},0,{"$f":"S112/(Berechnung!$C$81/100)","v":0},{"$f":"T112*Berechnung!$C$72","v":0},{"$f":"T112*Berechnung!$C$73/1000","v":0},0,0,0,0,0,0,0,{"$f":"AC112/(Berechnung!$C$81/100)","v":0},{"$f":"AD112*Berechnung!$C$72","v":0},{"$f":"AD112*Berechnung!$C$73/1000","v":0}]
[13,-11,{"$f":"MAX(0,MIN(Berechnung!$C$65,Berechnung!$C$65*(B113-Berechnung!$C$64)/(Berechnung!$C$63-Berechnung!$C$64)))","v":6},{"$f":"AVERAGE(D112,D114)","v":6},0,-20,{"$f":"HLOOKUP(Berechnung!$C$66,INDIRECT(\"Klimadaten!M\"&Berechnung!$C$67&\":BM\"&Berechnung!$C$67+44),A113,FALSE)","v":6},36,1,36,{"$f":"AVERAGE(K112,K114)","v":1},36,{"$f":"L113*Berechnung!$C$79/100","v":6.48},{"$f":"(L113*Berechnung!$C$69/1000)","v":22.356000000000002},0,0,{"$f":"P113*Berechnung!$C$78/100","v":0},{"$f":"P113*Berechnung!$C$69/1000","v":0},0,{"$f":"S113/(Berechnung!$C$81/100)","v":0},{"$f":"T113*Berechnung!$C$72","v":0},{"$f":"T113*Berechnung!$C$73/1000","v":0},36,6.48,22.356000000000002,36,6.48,22.356000000000002,36,{"$f":"AC113/(Berechnung!$C$81/100)","v":37.113402061855673},{"$f":"AD113*Berechnung!$C$72","v":31.546391752577321},{"$f":"AD113*Berechnung!$C$73/1000","v":9.3896907216494849}]
[14,-10,{"$f":"MAX(0,MIN(Berechnung!$C$65,Berechnung!$C$65*(B114-Berechnung!$C$64)/(Berechnung!$C$63-Berechnung!$C$64)))","v":6},{"$f":"G79","v":6},0,-10,{"$f":"HLOOKUP(Berechnung!$C$66,INDIRECT(\"Klimadaten!M\"&Berechnung!$C$67&\":BM\"&Berechnung!$C$67+44),A114,FALSE)","v":32},192,1,{"$f":"MIN(H114,I114*D114*G114)","v":192},{"$f":"H79","v":1},192,{"$f":"L114*Berechnung!$C$79/100","v":34.56},{"$f":"(L114*Berechnung!$C$69/1000)","v":119.232},0,0,{"$f":"P114*Berechnung!$C$78/100","v":0},{"$f":"P114*Berechnung!$C$69/1000","v":0},0,{"$f":"S114/(Berechnung!$C$81/100)","v":0},{"$f":"T114*Berechnung!$C$72","v":0},{"$f":"T114*Berechnung!$C$73/1000","v":0},192,34.56,119.232,192,34.56,119.232,192,{"$f":"AC114/(Berechnung!$C$81/100)","v":197.93814432989691},{"$f":"AD114*Berechnung!$C$72","v":168.24742268041237},{"$f":"AD114*Berechnung!$C$73/1000","v":50.078350515463917}]
[15,-9,{"$f":"MAX(0,MIN(Berechnung!$C$65,Berechnung!$C$65*(B115-Berechnung!$C$64)/(Berechnung!$C$63-Berechnung!$C$64)))","v":5.7272727272727275},{"$f":"AVERAGE(D114,D116)","v":6},-0.27272727272727249,-20,{"$f":"HLOOKUP(Berechnung!$C$66,INDIRECT(\"Klimadaten!M\"&Berechnung!$C$67&\":BM\"&Berechnung!$C$67+44),A115,FALSE)","v":14},80.181818181818187,1,80.181818181818187,{"$f":"AVERAGE(K114,K116)","v":1},80.181818181818187,{"$f":"L115*Berechnung!$C$79/100","v":14.432727272727275},{"$f":"(L115*Berechnung!$C$69/1000)","v":49.792909090909099},0,{"$f":"O115","v":0},{"$f":"P115*Berechnung!$C$78/100","v":0},{"$f":"P115*Berechnung!$C$69/1000","v":0},0,{"$f":"S115/(Berechnung!$C$81/100)","v":0},{"$f":"T115*Berechnung!$C$72","v":0},{"$f":"T115*Berechnung!$C$73/1000","v":0},80.181818181818187,14.432727272727275,49.792909090909099,80.181818181818187,{"$f":"M115+U115","v":14.432727272727275},49.792909090909099,80.181818181818187,{"$f":"AC115/(Berechnung!$C$81/100)","v":82.66166822867855},{"$f":"AD115*Berechnung!$C$72","v":70.262417994376761},{"$f":"AD115*Berechnung!$C$73/1000","v":20.91340206185567}]
[16,-8,{"$f":"MAX(0,MIN(Berechnung!$C$65,Berechnung!$C$65*(B116-Berechnung!$C$64)/(Berechnung!$C$63-Berechnung!$C$64)))","v":5.4545454545454541},{"$f":"G80","v":6},-0.54545454545454586,-20,{"$f":"HLOOKUP(Berechnung!$C$66,INDIRECT(\"Klimadaten!M\"&Berechnung!$C$67&\":BM\"&Berechnung!$C$67+44),A116,FALSE)","v":23},125.45454545454544,1,125.45454545454544,{"$f":"H80","v":1},125.45454545454544,{"$f":"L116*Berechnung!$C$79/100","v":22.581818181818178},{"$f":"(L116*Berechnung!$C$69/1000)","v":77.907272727272726},0,0,{"$f":"P116*Berechnung!$C$78/100","v":0},{"$f":"P116*Berechnung!$C$69/1000","v":0},0,{"$f":"S116/(Berechnung!$C$81/100)","v":0},{"$f":"T116*Berechnung!$C$72","v":0},{"$f":"T116*Berechnung!$C$73/1000","v":0},125.45454545454544,22.581818181818178,77.907272727272726,125.45454545454544,22.581818181818178,77.907272727272726,125.45454545454544,{"$f":"AC116/(Berechnung!$C$81/100)","v":129.33458294283037},{"$f":"AD116*Berechnung!$C$72","v":109.9343955014058},{"$f":"AD116*Berechnung!$C$73/1000","v":32.72164948453608}]
[17,-7,{"$f":"MAX(0,MIN(Berechnung!$C$65,Berechnung!$C$65*(B117-Berechnung!$C$64)/(Berechnung!$C$63-Berechnung!$C$64)))","v":5.1818181818181817},{"$f":"G80","v":6},-0.81818181818181834,-20,{"$f":"HLOOKUP(Berechnung!$C$66,INDIRECT(\"Klimadaten!M\"&Berechnung!$C$67&\":BM\"&Berechnung!$C$67+44),A117,FALSE)","v":44},228,1,228,{"$f":"H80","v":1},228,{"$f":"L117*Berechnung!$C$79/100","v":41.04},{"$f":"(L117*Berechnung!$C$69/1000)","v":141.58799999999999},0,0,{"$f":"P117*Berechnung!$C$78/100","v":0},{"$f":"P117*Berechnung!$C$69/1000","v":0},0,{"$f":"S117/(Berechnung!$C$81/100)","v":0},{"$f":"T117*Berechnung!$C$72","v":0},{"$f":"T117*Berechnung!$C$73/1000","v":0},228,{"$f":"M117+Q117","v":41.04},141.58799999999999,228,41.04,141.58799999999999,228,{"$f":"AC117/(Berechnung!$C$81/100)","v":235.05154639175259},{"$f":"AD117*Berechnung!$C$72","v":199.79381443298971},{"$f":"AD117*Berechnung!$C$73/1000","v":59.468041237113411}]
[18,-6,{"$f":"MAX(0,MIN(Berechnung!$C$65,Berechnung!$C$65*(B118-Berechnung!$C$64)/(Berechnung!$C$63-Berechnung!$C$64)))","v":4.9090909090909092},{"$f":"AVERAGE(D117,D119)","v":6},-1.0909090909090908,-20,{"$f":"HLOOKUP(Berechnung!$C$66,INDIRECT(\"Klimadaten!M\"&Berechnung!$C$67&\":BM\"&Berechnung!$C$67+44),A118,FALSE)","v":49},240.54545454545456,1,240.54545454545456,{"$f":"AVERAGE(K117,K119)","v":1},240.54545454545456,{"$f":"L118*Berechnung!$C$79/100","v":43.298181818181817},{"$f":"(L118*Berechnung!$C$69/1000)","v":149.3787272727273},0,0,{"$f":"P118*Berechnung!$C$78/100","v":0},{"$f":"P118*Berechnung!$C$69/1000","v":0},0,{"$f":"S118/(Berechnung!$C$81/100)","v":0},{"$f":"T118*Berechnung!$C$72","v":0},{"$f":"T118*Berechnung!$C$73/1000","v":0},240.54545454545456,43.298181818181817,149.3787272727273,240.54545454545456,43.298181818181817,149.3787272727273,240.54545454545456,{"$f":"AC118/(Berechnung!$C$81/100)","v":247.98500468603564},{"$f":"AD118*Berechnung!$C$72","v":210.78725398313028},{"$f":"AD118*Berechnung!$C$73/1000","v":62.740206185567018}]
[19,-5,{"$f":"MAX(0,MIN(Berechnung!$C$65,Berechnung!$C$65*(B119-Berechnung!$C$64)/(Berechnung!$C$63-Berechnung!$C$64)))","v":4.6363636363636367},{"$f":"G81","v":6},-1.3636363636363633,-20,{"$f":"HLOOKUP(Berechnung!$C$66,INDIRECT(\"Klimadaten!M\"&Berechnung!$C$67&\":BM\"&Berechnung!$C$67+44),A119,FALSE)","v":41},190.09090909090909,1,190.09090909090909,{"$f":"H81","v":1},190.09090909090909,{"$f":"L119*Berechnung!$C$79/100","v":34.216363636363639},{"$f":"(L119*Berechnung!$C$69/1000)","v":118.04645454545454},0,0,{"$f":"P119*Berechnung!$C$78/100","v":0},{"$f":"P119*Berechnung!$C$69/1000","v":0},0,{"$f":"S119/(Berechnung!$C$81/100)","v":0},{"$f":"T119*Berechnung!$C$72","v":0},{"$f":"T119*Berechnung!$C$73/1000","v":0},190.09090909090909,34.216363636363639,118.04645454545454,190.09090909090909,34.216363636363639,118.04645454545454,190.09090909090909,{"$f":"AC119/(Berechnung!$C$81/100)","v":195.97000937207125},{"$f":"AD119*Berechnung!$C$72","v":166.57450796626054},{"$f":"AD119*Berechnung!$C$73/1000","v":49.580412371134024}]
[20,-4,{"$f":"MAX(0,MIN(Berechnung!$C$65,Berechnung!$C$65*(B120-Berechnung!$C$64)/(Berechnung!$C$63-Berechnung!$C$64)))","v":4.3636363636363633},{"$f":"AVERAGE(D119,D121)","v":6},-1.6363636363636367,-20,{"$f":"HLOOKUP(Berechnung!$C$66,INDIRECT(\"Klimadaten!M\"&Berechnung!$C$67&\":BM\"&Berechnung!$C$67+44),A120,FALSE)","v":89},388.36363636363632,1,{"$f":"MIN(H120,I120*D120*G120)","v":388.36363636363632},{"$f":"AVERAGE(K119,K121)","v":1},388.36363636363632,{"$f":"L120*Berechnung!$C$79/100","v":69.905454545454546},{"$f":"(L120*Berechnung!$C$69/1000)","v":241.17381818181815},0,0,{"$f":"P120*Berechnung!$C$78/100","v":0},{"$f":"P120*Berechnung!$C$69/1000","v":0},0,{"$f":"S120/(Berechnung!$C$81/100)","v":0},{"$f":"T120*Berechnung!$C$72","v":0},{"$f":"T120*Berechnung!$C$73/1000","v":0},388.36363636363632,69.905454545454546,241.17381818181815,388.36363636363632,69.905454545454546,241.17381818181815,388.36363636363632,{"$f":"AC120/(Berechnung!$C$81/100)","v":400.37488284910961},{"$f":"AD120*Berechnung!$C$72","v":340.31865042174314},{"$f":"AD120*Berechnung!$C$73/1000","v":101.29484536082474}]
[21,-3,{"$f":"MAX(0,MIN(Berechnung!$C$65,Berechnung!$C$65*(B121-Berechnung!$C$64)/(Berechnung!$C$63-Berechnung!$C$64)))","v":4.0909090909090908},{"$f":"G82","v":6},-1.9090909090909092,-20,{"$f":"HLOOKUP(Berechnung!$C$66,INDIRECT(\"Klimadaten!M\"&Berechnung!$C$67&\":BM\"&Berechnung!$C$67+44),A121,FALSE)","v":161},658.63636363636363,1,658.63636363636363,{"$f":"H82","v":1},658.63636363636363,{"$f":"L121*Berechnung!$C$79/100","v":118.55454545454546},{"$f":"(L121*Berechnung!$C$69/1000)","v":409.01318181818181},0,0,{"$f":"P121*Berechnung!$C$78/100","v":0},{"$f":"P121*Berechnung!$C$69/1000","v":0},0,{"$f":"S121/(Berechnung!$C$81/100)","v":0},{"$f":"T121*Berechnung!$C$72","v":0},{"$f":"T121*Berechnung!$C$73/1000","v":0},658.63636363636363,118.55454545454546,409.01318181818181,658.63636363636363,118.55454545454546,409.01318181818181,658.63636363636363,{"$f":"AC121/(Berechnung!$C$81/100)","v":679.00656044985942},{"$f":"AD121*Berechnung!$C$72","v":577.15557638238045},{"$f":"AD121*Berechnung!$C$73/1000","v":171.78865979381445}]
[22,-2,{"$f":"MAX(0,MIN(Berechnung!$C$65,Berechnung!$C$65*(B122-Berechnung!$C$64)/(Berechnung!$C$63-Berechnung!$C$64)))","v":3.8181818181818183},{"$f":"G82","v":6},-2.1818181818181817,-20,{"$f":"HLOOKUP(Berechnung!$C$66,INDIRECT(\"Klimadaten!M\"&Berechnung!$C$67&\":BM\"&Berechnung!$C$67+44),A122,FALSE)","v":207},790.36363636363637,1,{"$f":"MIN(H122,I122*D122*G122)","v":790.36363636363637},{"$f":"H82","v":1},790.36363636363637,{"$f":"L122*Berechnung!$C$79/100","v":142.26545454545453},{"$f":"(L122*Berechnung!$C$69/1000)","v":490.8158181818182},0,0,{"$f":"P122*Berechnung!$C$78/100","v":0},{"$f":"P122*Berechnung!$C$69/1000","v":0},0,{"$f":"S122/(Berechnung!$C$81/100)","v":0},{"$f":"T122*Berechnung!$C$72","v":0},{"$f":"T122*Berechnung!$C$73/1000","v":0},790.36363636363637,142.26545454545453,490.8158181818182,790.36363636363637,142.26545454545453,490.8158181818182,790.36363636363637,{"$f":"AC122/(Berechnung!$C$81/100)","v":814.80787253983135},{"$f":"AD122*Berechnung!$C$72","v":692.58669165885658},{"$f":"AD122*Berechnung!$C$73/1000","v":206.14639175257733}]
[23,-1,{"$f":"MAX(0,MIN(Berechnung!$C$65,Berechnung!$C$65*(B123-Berechnung!$C$64)/(Berechnung!$C$63-Berechnung!$C$64)))","v":3.5454545454545454},{"$f":"AVERAGE(D122,D124)","v":6},-2.4545454545454546,-20,{"$f":"HLOOKUP(Berechnung!$C$66,INDIRECT(\"Klimadaten!M\"&Berechnung!$C$67&\":BM\"&Berechnung!$C$67+44),A123,FALSE)","v":248},879.27272727272725,1,879.27272727272725,{"$f":"AVERAGE(K122,K124)","v":1},879.27272727272725,{"$f":"L123*Berechnung!$C$79/100","v":158.26909090909089},{"$f":"(L123*Berechnung!$C$69/1000)","v":546.02836363636368},0,0,{"$f":"P123*Berechnung!$C$78/100","v":0},{"$f":"P123*Berechnung!$C$69/1000","v":0},0,{"$f":"S123/(Berechnung!$C$81/100)","v":0},{"$f":"T123*Berechnung!$C$72","v":0},{"$f":"T123*Berechnung!$C$73/1000","v":0},879.27272727272725,158.26909090909089,546.02836363636368,879.27272727272725,158.26909090909089,546.02836363636368,879.27272727272725,{"$f":"AC123/(Berechnung!$C$81/100)","v":906.46672914714156},{"$f":"AD123*Berechnung!$C$72","v":770.49671977507035},{"$f":"AD123*Berechnung!$C$73/1000","v":229.3360824742268}]
[24,0,{"$f":"MAX(0,MIN(Berechnung!$C$65,Berechnung!$C$65*(B124-Berechnung!$C$64)/(Berechnung!$C$63-Berechnung!$C$64)))","v":3.2727272727272729},{"$f":"G83","v":6},-2.7272727272727271,-20,{"$f":"HLOOKUP(Berechnung!$C$66,INDIRECT(\"Klimadaten!M\"&Berechnung!$C$67&\":BM\"&Berechnung!$C$67+44),A124,FALSE)","v":263},860.72727272727275,1,860.72727272727275,{"$f":"H83","v":1},860.72727272727275,{"$f":"L124*Berechnung!$C$79/100","v":154.9309090909091},{"$f":"(L124*Berechnung!$C$69/1000)","v":534.5116363636364},0,0,{"$f":"P124*Berechnung!$C$78/100","v":0},{"$f":"P124*Berechnung!$C$69/1000","v":0},0,{"$f":"S124/(Berechnung!$C$81/100)","v":0},{"$f":"T124*Berechnung!$C$72","v":0},{"$f":"T124*Berechnung!$C$73/1000","v":0},860.72727272727275,154.9309090909091,534.5116363636364,860.72727272727275,154.9309090909091,534.5116363636364,860.72727272727275,{"$f":"AC124/(Berechnung!$C$81/100)","v":887.34770384254921},{"$f":"AD124*Berechnung!$C$72","v":754.24554826616679},{"$f":"AD124*Berechnung!$C$73/1000","v":224.49896907216493}]
[25,1,{"$f":"MAX(0,MIN(Berechnung!$C$65,Berechnung!$C$65*(B125-Berechnung!$C$64)/(Berechnung!$C$63-Berechnung!$C$64)))","v":3},{"$f":"AVERAGE(D124,D126)","v":6},-3,-20,{"$f":"HLOOKUP(Berechnung!$C$66,INDIRECT(\"Klimadaten!M\"&Berechnung!$C$67&\":BM\"&Berechnung!$C$67+44),A125,FALSE)","v":270},810,1,810,{"$f":"AVERAGE(K124,K126)","v":1},810,{"$f":"L125*Berechnung!$C$79/100","v":145.80000000000001},{"$f":"(L125*Berechnung!$C$69/1000)","v":503.01},0,0,{"$f":"P125*Berechnung!$C$78/100","v":0},{"$f":"P125*Berechnung!$C$69/1000","v":0},0,{"$f":"S125/(Berechnung!$C$81/100)","v":0},{"$f":"T125*Berechnung!$C$72","v":0},{"$f":"T125*Berechnung!$C$73/1000","v":0},810,145.80000000000001,503.01,810,145.80000000000001,503.01,810,{"$f":"AC125/(Berechnung!$C$81/100)","v":835.05154639175259},{"$f":"AD125*Berechnung!$C$72","v":709.79381443298973},{"$f":"AD125*Berechnung!$C$73/1000","v":211.26804123711341}]
[26,2,{"$f":"MAX(0,MIN(Berechnung!$C$65,Berechnung!$C$65*(B126-Berechnung!$C$64)/(Berechnung!$C$63-Berechnung!$C$64)))","v":2.7272727272727271},{"$f":"G84","v":6},-3.2727272727272729,-20,{"$f":"HLOOKUP(Berechnung!$C$66,INDIRECT(\"Klimadaten!M\"&Berechnung!$C$67&\":BM\"&Berechnung!$C$67+44),A126,FALSE)","v":328},894.5454545454545,1,894.5454545454545,{"$f":"H84","v":1},894.5454545454545,{"$f":"L126*Berechnung!$C$79/100","v":161.0181818181818},{"$f":"(L126*Berechnung!$C$69/1000)","v":555.51272727272726},0,0,{"$f":"P126*Berechnung!$C$78/100","v":0},{"$f":"P126*Berechnung!$C$69/1000","v":0},0,{"$f":"S126/(Berechnung!$C$81/100)","v":0},{"$f":"T126*Berechnung!$C$72","v":0},{"$f":"T126*Berechnung!$C$73/1000","v":0},894.5454545454545,161.0181818181818,555.51272727272726,894.5454545454545,161.0181818181818,555.51272727272726,894.5454545454545,{"$f":"AC126/(Berechnung!$C$81/100)","v":922.21180880974691},{"$f":"AD126*Berechnung!$C$72","v":783.88003748828487},{"$f":"AD126*Berechnung!$C$73/1000","v":233.31958762886597}]
[27,3,{"$f":"MAX(0,MIN(Berechnung!$C$65,Berechnung!$C$65*(B127-Berechnung!$C$64)/(Berechnung!$C$63-Berechnung!$C$64)))","v":2.4545454545454546},{"$f":"G84","v":6},-3.5454545454545454,-20,{"$f":"HLOOKUP(Berechnung!$C$66,INDIRECT(\"Klimadaten!M\"&Berechnung!$C$67&\":BM\"&Berechnung!$C$67+44),A127,FALSE)","v":344},844.36363636363637,1,844.36363636363637,{"$f":"H84","v":1},844.36363636363637,{"$f":"L127*Berechnung!$C$79/100","v":151.98545454545453},{"$f":"(L127*Berechnung!$C$69/1000)","v":524.34981818181825},0,0,{"$f":"P127*Berechnung!$C$78/100","v":0},{"$f":"P127*Berechnung!$C$69/1000","v":0},0,{"$f":"S127/(Berechnung!$C$81/100)","v":0},{"$f":"T127*Berechnung!$C$72","v":0},{"$f":"T127*Berechnung!$C$73/1000","v":0},844.36363636363637,151.98545454545453,524.34981818181825,844.36363636363637,151.98545454545453,524.34981818181825,844.36363636363637,{"$f":"AC127/(Berechnung!$C$81/100)","v":870.47797563261486},{"$f":"AD127*Berechnung!$C$72","v":739.90627928772255},{"$f":"AD127*Berechnung!$C$73/1000","v":220.23092783505155}]
[28,4,{"$f":"MAX(0,MIN(Berechnung!$C$65,Berechnung!$C$65*(B128-Berechnung!$C$64)/(Berechnung!$C$63-Berechnung!$C$64)))","v":2.1818181818181817},{"$f":"AVERAGE(D127,D129)","v":6},-3.8181818181818183,-20,{"$f":"HLOOKUP(Berechnung!$C$66,INDIRECT(\"Klimadaten!M\"&Berechnung!$C$67&\":BM\"&Berechnung!$C$67+44),A128,FALSE)","v":343},748.36363636363626,1,748.36363636363626,{"$f":"AVERAGE(K127,K129)","v":1},748.36363636363626,{"$f":"L128*Berechnung!$C$79/100","v":134.70545454545453},{"$f":"(L128*Berechnung!$C$69/1000)","v":464.73381818181809},0,0,{"$f":"P128*Berechnung!$C$78/100","v":0},{"$f":"P128*Berechnung!$C$69/1000","v":0},0,{"$f":"S128/(Berechnung!$C$81/100)","v":0},{"$f":"T128*Berechnung!$C$72","v":0},{"$f":"T128*Berechnung!$C$73/1000","v":0},748.36363636363626,134.70545454545453,464.73381818181809,748.36363636363626,134.70545454545453,464.73381818181809,748.36363636363626,{"$f":"AC128/(Berechnung!$C$81/100)","v":771.5089034676663},{"$f":"AD128*Berechnung!$C$72","v":655.78256794751633},{"$f":"AD128*Berechnung!$C$73/1000","v":195.19175257731956}]
[29,5,{"$f":"MAX(0,MIN(Berechnung!$C$65,Berechnung!$C$65*(B129-Berechnung!$C$64)/(Berechnung!$C$63-Berechnung!$C$64)))","v":1.9090909090909092},{"$f":"G85","v":6},-4.0909090909090908,-20,{"$f":"HLOOKUP(Berechnung!$C$66,INDIRECT(\"Klimadaten!M\"&Berechnung!$C$67&\":BM\"&Berechnung!$C$67+44),A129,FALSE)","v":414},790.36363636363637,1,790.36363636363637,{"$f":"H85","v":1},790.36363636363637,{"$f":"L129*Berechnung!$C$79/100","v":142.26545454545453},{"$f":"(L129*Berechnung!$C$69/1000)","v":490.8158181818182},0,0,{"$f":"P129*Berechnung!$C$78/100","v":0},{"$f":"P129*Berechnung!$C$69/1000","v":0},0,{"$f":"S129/(Berechnung!$C$81/100)","v":0},{"$f":"T129*Berechnung!$C$72","v":0},{"$f":"T129*Berechnung!$C$73/1000","v":0},790.36363636363637,142.26545454545453,490.8158181818182,790.36363636363637,142.26545454545453,490.8158181818182,{"$f":"H129","v":790.36363636363637},{"$f":"AC129/(Berechnung!$C$81/100)","v":814.80787253983135},{"$f":"AD129*Berechnung!$C$72","v":692.58669165885658},{"$f":"AD129*Berechnung!$C$73/1000","v":206.14639175257733}]
[30,6,{"$f":"MAX(0,MIN(Berechnung!$C$65,Berechnung!$C$65*(B130-Berechnung!$C$64)/(Berechnung!$C$63-Berechnung!$C$64)))","v":1.6363636363636365},{"$f":"AVERAGE(D129,D131)","v":6},-4.3636363636363633,-20,{"$f":"HLOOKUP(Berechnung!$C$66,INDIRECT(\"Klimadaten!M\"&Berechnung!$C$67&\":BM\"&Berechnung!$C$67+44),A130,FALSE)","v":397},649.63636363636363,1,649.63636363636363,{"$f":"AVERAGE(K129,K131)","v":1},649.63636363636363,{"$f":"L130*Berechnung!$C$79/100","v":116.93454545454546},{"$f":"(L130*Berechnung!$C$69/1000)","v":403.42418181818181},0,0,{"$f":"P130*Berechnung!$C$78/100","v":0},{"$f":"P130*Berechnung!$C$69/1000","v":0},{"$f":"O130","v":0},{"$f":"S130/(Berechnung!$C$81/100)","v":0},{"$f":"T130*Berechnung!$C$72","v":0},{"$f":"T130*Berechnung!$C$73/1000","v":0},649.63636363636363,116.93454545454546,403.42418181818181,649.63636363636363,116.93454545454546,403.42418181818181,649.63636363636363,{"$f":"AC130/(Berechnung!$C$81/100)","v":669.72820993439552},{"$f":"AD130*Berechnung!$C$72","v":569.26897844423615},{"$f":"AD130*Berechnung!$C$73/1000","v":169.44123711340208}]
[31,7,{"$f":"MAX(0,MIN(Berechnung!$C$65,Berechnung!$C$65*(B131-Berechnung!$C$64)/(Berechnung!$C$63-Berechnung!$C$64)))","v":1.3636363636363635},{"$f":"G86","v":6},-4.6363636363636367,-20,{"$f":"HLOOKUP(Berechnung!$C$66,INDIRECT(\"Klimadaten!M\"&Berechnung!$C$67&\":BM\"&Berechnung!$C$67+44),A131,FALSE)","v":406},553.63636363636363,1,553.63636363636363,{"$f":"H86","v":1},553.63636363636363,{"$f":"L131*Berechnung!$C$79/100","v":99.654545454545456},{"$f":"(L131*Berechnung!$C$69/1000)","v":343.80818181818182},0,0,{"$f":"P131*Berechnung!$C$78/100","v":0},{"$f":"P131*Berechnung!$C$69/1000","v":0},{"$f":"O131","v":0},{"$f":"S131/(Berechnung!$C$81/100)","v":0},{"$f":"T131*Berechnung!$C$72","v":0},{"$f":"T131*Berechnung!$C$73/1000","v":0},553.63636363636363,99.654545454545456,343.80818181818182,553.63636363636363,99.654545454545456,343.80818181818182,553.63636363636363,{"$f":"AC131/(Berechnung!$C$81/100)","v":570.75913776944708},{"$f":"AD131*Berechnung!$C$72","v":485.14526710402998},{"$f":"AD131*Berechnung!$C$73/1000","v":144.40206185567013}]
[32,8,{"$f":"MAX(0,MIN(Berechnung!$C$65,Berechnung!$C$65*(B132-Berechnung!$C$64)/(Berechnung!$C$63-Berechnung!$C$64)))","v":1.0909090909090908},{"$f":"G86","v":6},-4.9090909090909092,-20,{"$f":"HLOOKUP(Berechnung!$C$66,INDIRECT(\"Klimadaten!M\"&Berechnung!$C$67&\":BM\"&Berechnung!$C$67+44),A132,FALSE)","v":378},412.36363636363632,1,412.36363636363632,{"$f":"H86","v":1},412.36363636363632,{"$f":"L132*Berechnung!$C$79/100","v":74.225454545454539},{"$f":"(L132*Berechnung!$C$69/1000)","v":256.07781818181815},0,0,{"$f":"P132*Berechnung!$C$78/100","v":0},{"$f":"P132*Berechnung!$C$69/1000","v":0},0,{"$f":"S132/(Berechnung!$C$81/100)","v":0},{"$f":"T132*Berechnung!$C$72","v":0},{"$f":"T132*Berechnung!$C$73/1000","v":0},412.36363636363632,74.225454545454539,256.07781818181815,412.36363636363632,74.225454545454539,256.07781818181815,412.36363636363632,{"$f":"AC132/(Berechnung!$C$81/100)","v":425.11715089034675},{"$f":"AD132*Berechnung!$C$72","v":361.3495782567947},{"$f":"AD132*Berechnung!$C$73/1000","v":107.55463917525773}]
[33,9,{"$f":"MAX(0,MIN(Berechnung!$C$65,Berechnung!$C$65*(B133-Berechnung!$C$64)/(Berechnung!$C$63-Berechnung!$C$64)))","v":0.81818181818181823},{"$f":"AVERAGE(D132,D134)","v":6},-5.1818181818181817,-20,{"$f":"HLOOKUP(Berechnung!$C$66,INDIRECT(\"Klimadaten!M\"&Berechnung!$C$67&\":BM\"&Berechnung!$C$67+44),A133,FALSE)","v":409},334.63636363636368,1,334.63636363636368,{"$f":"AVERAGE(K132,K134)","v":1},334.63636363636368,{"$f":"L133*Berechnung!$C$79/100","v":60.234545454545461},{"$f":"(L133*Berechnung!$C$69/1000)","v":207.80918181818186},0,0,{"$f":"P133*Berechnung!$C$78/100","v":0},{"$f":"P133*Berechnung!$C$69/1000","v":0},0,{"$f":"S133/(Berechnung!$C$81/100)","v":0},{"$f":"T133*Berechnung!$C$72","v":0},{"$f":"T133*Berechnung!$C$73/1000","v":0},334.63636363636368,60.234545454545461,207.80918181818186,334.63636363636368,60.234545454545461,207.80918181818186,334.63636363636368,{"$f":"AC133/(Berechnung!$C$81/100)","v":344.98594189315844},{"$f":"AD133*Berechnung!$C$72","v":293.23805060918465},{"$f":"AD133*Berechnung!$C$73/1000","v":87.28144329896908}]
[34,10,{"$f":"MAX(0,MIN(Berechnung!$C$65,Berechnung!$C$65*(B134-Berechnung!$C$64)/(Berechnung!$C$63-Berechnung!$C$64)))","v":0.54545454545454541},{"$f":"G87","v":6},-5.454545454545455,-20,{"$f":"HLOOKUP(Berechnung!$C$66,INDIRECT(\"Klimadaten!M\"&Berechnung!$C$67&\":BM\"&Berechnung!$C$67+44),A134,FALSE)","v":375},204.54545454545453,1,204.54545454545453,{"$f":"H87","v":1},204.54545454545453,{"$f":"L134*Berechnung!$C$79/100","v":36.818181818181813},{"$f":"(L134*Berechnung!$C$69/1000)","v":127.02272727272727},0,0,{"$f":"P134*Berechnung!$C$78/100","v":0},{"$f":"P134*Berechnung!$C$69/1000","v":0},0,{"$f":"S134/(Berechnung!$C$81/100)","v":0},{"$f":"T134*Berechnung!$C$72","v":0},{"$f":"T134*Berechnung!$C$73/1000","v":0},204.54545454545453,36.818181818181813,127.02272727272727,204.54545454545453,36.818181818181813,127.02272727272727,204.54545454545453,{"$f":"AC134/(Berechnung!$C$81/100)","v":210.87160262417993},{"$f":"AD134*Berechnung!$C$72","v":179.24086223055292},{"$f":"AD134*Berechnung!$C$73/1000","v":53.350515463917525}]
[35,11,{"$f":"MAX(0,MIN(Berechnung!$C$65,Berechnung!$C$65*(B135-Berechnung!$C$64)/(Berechnung!$C$63-Berechnung!$C$64)))","v":0.27272727272727271},{"$f":"AVERAGE(D134,D136)","v":6},-5.7272727272727275,-20,{"$f":"HLOOKUP(Berechnung!$C$66,INDIRECT(\"Klimadaten!M\"&Berechnung!$C$67&\":BM\"&Berechnung!$C$67+44),A135,FALSE)","v":420},114.54545454545453,1,114.54545454545453,{"$f":"AVERAGE(K134,K136)","v":1},114.54545454545453,{"$f":"L135*Berechnung!$C$79/100","v":20.618181818181814},{"$f":"(L135*Berechnung!$C$69/1000)","v":71.132727272727266},0,0,{"$f":"P135*Berechnung!$C$78/100","v":0},{"$f":"P135*Berechnung!$C$69/1000","v":0},0,{"$f":"S135/(Berechnung!$C$81/100)","v":0},{"$f":"T135*Berechnung!$C$72","v":0},{"$f":"T135*Berechnung!$C$73/1000","v":0},114.54545454545453,20.618181818181814,71.132727272727266,114.54545454545453,20.618181818181814,71.132727272727266,114.54545454545453,{"$f":"AC135/(Berechnung!$C$81/100)","v":118.08809746954076},{"$f":"AD135*Berechnung!$C$72","v":100.37488284910964},{"$f":"AD135*Berechnung!$C$73/1000","v":29.876288659793811}]
[36,12,{"$f":"MAX(0,MIN(Berechnung!$C$65,Berechnung!$C$65*(B136-Berechnung!$C$64)/(Berechnung!$C$63-Berechnung!$C$64)))","v":0},{"$f":"G88","v":6},-6,-20,{"$f":"HLOOKUP(Berechnung!$C$66,INDIRECT(\"Klimadaten!M\"&Berechnung!$C$67&\":BM\"&Berechnung!$C$67+44),A136,FALSE)","v":378},0,1,0,{"$f":"H88","v":1},0,{"$f":"L136*Berechnung!$C$79/100","v":0},{"$f":"(L136*Berechnung!$C$69/1000)","v":0},0,0,{"$f":"P136*Berechnung!$C$78/100","v":0},{"$f":"P136*Berechnung!$C$69/1000","v":0},0,{"$f":"S136/(Berechnung!$C$81/100)","v":0},{"$f":"T136*Berechnung!$C$72","v":0},{"$f":"T136*Berechnung!$C$73/1000","v":0},0,0,0,0,0,0,0,{"$f":"AC136/(Berechnung!$C$81/100)","v":0},{"$f":"AD136*Berechnung!$C$72","v":0},{"$f":"AD136*Berechnung!$C$73/1000","v":0}]
[37,13,{"$f":"MAX(0,MIN(Berechnung!$C$65,Berechnung!$C$65*(B137-Berechnung!$C$64)/(Berechnung!$C$63-Berechnung!$C$64)))","v":0},{"$f":"G88","v":6},-6,-20,{"$f":"HLOOKUP(Berechnung!$C$66,INDIRECT(\"Klimadaten!M\"&Berechnung!$C$67&\":BM\"&Berechnung!$C$67+44),A137,FALSE)","v":349},0,1,0,{"$f":"H88","v":1},0,{"$f":"L137*Berechnung!$C$79/100","v":0},{"$f":"(L137*Berechnung!$C$69/1000)","v":0},0,0,{"$f":"P137*Berechnung!$C$78/100","v":0},{"$f":"P137*Berechnung!$C$69/1000","v":0},0,{"$f":"S137/(Berechnung!$C$81/100)","v":0},{"$f":"T137*Berechnung!$C$72","v":0},{"$f":"T137*Berechnung!$C$73/1000","v":0},0,0,0,0,0,0,0,{"$f":"AC137/(Berechnung!$C$81/100)","v":0},{"$f":"AD137*Berechnung!$C$72","v":0},{"$f":"AD137*Berechnung!$C$73/1000","v":0}]
[38,14,{"$f":"MAX(0,MIN(Berechnung!$C$65,Berechnung!$C$65*(B138-Berechnung!$C$64)/(Berechnung!$C$63-Berechnung!$C$64)))","v":0},{"$f":"AVERAGE(D137,D139)","v":6},-6,-20,{"$f":"HLOOKUP(Berechnung!$C$66,INDIRECT(\"Klimadaten!M\"&Berechnung!$C$67&\":BM\"&Berechnung!$C$67+44),A138,FALSE)","v":370},0,1,0,{"$f":"AVERAGE(K137,K139)","v":1},0,{"$f":"L138*Berechnung!$C$79/100","v":0},{"$f":"(L138*Berechnung!$C$69/1000)","v":0},0,0,{"$f":"P138*Berechnung!$C$78/100","v":0},{"$f":"P138*Berechnung!$C$69/1000","v":0},0,{"$f":"S138/(Berechnung!$C$81/100)","v":0},{"$f":"T138*Berechnung!$C$72","v":0},{"$f":"T138*Berechnung!$C$73/1000","v":0},0,0,0,0,0,0,0,{"$f":"AC138/(Berechnung!$C$81/100)","v":0},{"$f":"AD138*Berechnung!$C$72","v":0},{"$f":"AD138*Berechnung!$C$73/1000","v":0}]
[39,15,{"$f":"MAX(0,MIN(Berechnung!$C$65,Berechnung!$C$65*(B139-Berechnung!$C$64)/(Berechnung!$C$63-Berechnung!$C$64)))","v":0},{"$f":"G89","v":6},-6,-20,{"$f":"HLOOKUP(Berechnung!$C$66,INDIRECT(\"Klimadaten!M\"&Berechnung!$C$67&\":BM\"&Berechnung!$C$67+44),A139,FALSE)","v":333},0,1,0,{"$f":"H89","v":1},0,{"$f":"L139*Berechnung!$C$79/100","v":0},{"$f":"(L139*Berechnung!$C$69/1000)","v":0},0,0,{"$f":"P139*Berechnung!$C$78/100","v":0},{"$f":"P139*Berechnung!$C$69/1000","v":0},0,{"$f":"S139/(Berechnung!$C$81/100)","v":0},{"$f":"T139*Berechnung!$C$72","v":0},{"$f":"T139*Berechnung!$C$73/1000","v":0},0,0,0,0,0,0,0,{"$f":"AC139/(Berechnung!$C$81/100)","v":0},{"$f":"AD139*Berechnung!$C$72","v":0},{"$f":"AD139*Berechnung!$C$73/1000","v":0}]
[40,16,{"$f":"MAX(0,MIN(Berechnung!$C$65,Berechnung!$C$65*(B140-Berechnung!$C$64)/(Berechnung!$C$63-Berechnung!$C$64)))","v":0},{"$f":"AVERAGE(D139,D141)","v":6},-6,-20,{"$f":"HLOOKUP(Berechnung!$C$66,INDIRECT(\"Klimadaten!M\"&Berechnung!$C$67&\":BM\"&Berechnung!$C$67+44),A140,FALSE)","v":310},0,1,0,{"$f":"AVERAGE(K139,K141)","v":1},0,{"$f":"L140*Berechnung!$C$79/100","v":0},{"$f":"(L140*Berechnung!$C$69/1000)","v":0},0,0,{"$f":"P140*Berechnung!$C$78/100","v":0},{"$f":"P140*Berechnung!$C$69/1000","v":0},0,{"$f":"S140/(Berechnung!$C$81/100)","v":0},{"$f":"T140*Berechnung!$C$72","v":0},{"$f":"T140*Berechnung!$C$73/1000","v":0},0,0,0,0,0,0,0,{"$f":"AC140/(Berechnung!$C$81/100)","v":0},{"$f":"AD140*Berechnung!$C$72","v":0},{"$f":"AD140*Berechnung!$C$73/1000","v":0}]
[41,17,{"$f":"MAX(0,MIN(Berechnung!$C$65,Berechnung!$C$65*(B141-Berechnung!$C$64)/(Berechnung!$C$63-Berechnung!$C$64)))","v":0},{"$f":"G90","v":6},-6,-20,{"$f":"HLOOKUP(Berechnung!$C$66,INDIRECT(\"Klimadaten!M\"&Berechnung!$C$67&\":BM\"&Berechnung!$C$67+44),A141,FALSE)","v":322},0,1,0,{"$f":"H90","v":1},0,{"$f":"L141*Berechnung!$C$79/100","v":0},{"$f":"(L141*Berechnung!$C$69/1000)","v":0},0,0,{"$f":"P141*Berechnung!$C$78/100","v":0},{"$f":"P141*Berechnung!$C$69/1000","v":0},0,{"$f":"S141/(Berechnung!$C$81/100)","v":0},{"$f":"T141*Berechnung!$C$72","v":0},{"$f":"T141*Berechnung!$C$73/1000","v":0},0,0,0,0,0,0,0,{"$f":"AC141/(Berechnung!$C$81/100)","v":0},{"$f":"AD141*Berechnung!$C$72","v":0},{"$f":"AD141*Berechnung!$C$73/1000","v":0}]
[42,18,{"$f":"MAX(0,MIN(Berechnung!$C$65,Berechnung!$C$65*(B142-Berechnung!$C$64)/(Berechnung!$C$63-Berechnung!$C$64)))","v":0},{"$f":"G90","v":6},-6,-20,{"$f":"HLOOKUP(Berechnung!$C$66,INDIRECT(\"Klimadaten!M\"&Berechnung!$C$67&\":BM\"&Berechnung!$C$67+44),A142,FALSE)","v":280},0,1,0,{"$f":"H90","v":1},0,{"$f":"L142*Berechnung!$C$79/100","v":0},{"$f":"(L142*Berechnung!$C$69/1000)","v":0},0,0,{"$f":"P142*Berechnung!$C$78/100","v":0},{"$f":"P142*Berechnung!$C$69/1000","v":0},0,{"$f":"S142/(Berechnung!$C$81/100)","v":0},{"$f":"T142*Berechnung!$C$72","v":0},{"$f":"T142*Berechnung!$C$73/1000","v":0},0,0,0,0,0,0,0,{"$f":"AC142/(Berechnung!$C$81/100)","v":0},{"$f":"AD142*Berechnung!$C$72","v":0},{"$f":"AD142*Berechnung!$C$73/1000","v":0}]
[43,19,{"$f":"MAX(0,MIN(Berechnung!$C$65,Berechnung!$C$65*(B143-Berechnung!$C$64)/(Berechnung!$C$63-Berechnung!$C$64)))","v":0},{"$f":"AVERAGE(D142,D144)","v":6},-6,-20,{"$f":"HLOOKUP(Berechnung!$C$66,INDIRECT(\"Klimadaten!M\"&Berechnung!$C$67&\":BM\"&Berechnung!$C$67+44),A143,FALSE)","v":217},{"$f":"C143*G143","v":0},1,0,{"$f":"AVERAGE(K142,K144)","v":1},0,{"$f":"L143*Berechnung!$C$79/100","v":0},{"$f":"(L143*Berechnung!$C$69/1000)","v":0},0,0,{"$f":"P143*Berechnung!$C$78/100","v":0},{"$f":"P143*Berechnung!$C$69/1000","v":0},0,{"$f":"S143/(Berechnung!$C$81/100)","v":0},{"$f":"T143*Berechnung!$C$72","v":0},{"$f":"T143*Berechnung!$C$73/1000","v":0},0,0,0,0,0,0,0,{"$f":"AC143/(Berechnung!$C$81/100)","v":0},{"$f":"AD143*Berechnung!$C$72","v":0},{"$f":"AD143*Berechnung!$C$73/1000","v":0}]
[44,20,{"$f":"MAX(0,MIN(Berechnung!$C$65,Berechnung!$C$65*(B144-Berechnung!$C$64)/(Berechnung!$C$63-Berechnung!$C$64)))","v":0},{"$f":"G91","v":6},-6,-20,{"$f":"HLOOKUP(Berechnung!$C$66,INDIRECT(\"Klimadaten!M\"&Berechnung!$C$67&\":BM\"&Berechnung!$C$67+44),A144,FALSE)","v":196},0,1,0,{"$f":"H91","v":1},0,{"$f":"L144*Berechnung!$C$79/100","v":0},{"$f":"(L144*Berechnung!$C$69/1000)","v":0},0,0,{"$f":"P144*Berechnung!$C$78/100","v":0},{"$f":"P144*Berechnung!$C$69/1000","v":0},0,{"$f":"S144/(Berechnung!$C$81/100)","v":0},{"$f":"T144*Berechnung!$C$72","v":0},{"$f":"T144*Berechnung!$C$73/1000","v":0},0,0,0,0,0,0,0,{"$f":"AC144/(Berechnung!$C$81/100)","v":0},{"$f":"AD144*Berechnung!$C$72","v":0},{"$f":"AD144*Berechnung!$C$73/1000","v":0}]
[45,"> 20",0,{"$f":"D144+(D144-D143)","v":6},-6,"> 20",{"$f":"HLOOKUP(Berechnung!$C$66,INDIRECT(\"Klimadaten!M\"&Berechnung!$C$67&\":BM\"&Berechnung!$C$67+44),A145,FALSE)","v":744},0,1,0,{"$f":"K144+(K144-K143)","v":1},0,{"$f":"L145*Berechnung!$C$79/100","v":0},{"$f":"(L145*Berechnung!$C$69/1000)","v":0},0,0,{"$f":"P145*Berechnung!$C$78/100","v":0},{"$f":"P145*Berechnung!$C$69/1000","v":0},0,{"$f":"S145/(Berechnung!$C$81/100)","v":0},{"$f":"T145*Berechnung!$C$72","v":0},{"$f":"T145*Berechnung!$C$73/1000","v":0},0,0,0,0,0,0,0,{"$f":"AC145/(Berechnung!$C$81/100)","v":0},{"$f":"AD145*Berechnung!$C$72","v":0},{"$f":"AD145*Berechnung!$C$73/1000","v":0}]
[null,null,null,null,null,{"$f":"MAX(F103:F145)","v":-10},{"$f":"SUM(G103:G145)","v":8760},{"$f":"SUM(H104:H144)","v":11026.636363636362},null,{"$f":"ROUND(SUM(J103:J145),0)","v":11027},{"$f":"AVERAGE(K104:K144)","v":1},{"$f":"SUM(L103:L145)","v":11026.636363636362},1984.7945454545454,6847.541181818181,0,0,0,0,0,0,0,0,11026.636363636362,1984.7945454545454,6847.541181818181,11026.636363636362,1984.7945454545454,6847.541181818181,11026.636363636362,11367.666354264293,9662.5164011246507,2876.0195876288662]
[]
[]
[]
[]
[]
[null,"Darstellung Diagramm Heizlast/Heizwärmebedarf"]
[null,null,"Bivalenzpunkt genauer berechnen für Darstellung",null,null,null,null,"Kennlinie Heizlast",null,null,null,"Hilfslinie Bivalenzpunkt",null,"Punktdarstellung Biv.Punkt",null,"Linie Bivalenzpunkt Heizarbeit",null,"Heizarbeit",null,"Ausdr. Vergleich","Ausdr. Preisentw."]
[null,null,"Temp","Differenz","Leistung WP","m","n","Temp","Leistung","m","n","Temp","Leistung","Temp","Leistung","Temp","kWh",null,null,null,"Öl/Gas"]
[null,"Heizgrenze",{"$f":"F146","v":-10},{"$f":"VLOOKUP(C155,$B$103:$E$145,4,FALSE)","v":0},{"$f":"VLOOKUP(C155,$B$103:$E$145,3,FALSE)","v":6},{"$f":"(D156-D155)/(C156-C155)","v":-0.27272727272727249},{"$f":"D155-C155*F155","v":-2.7272727272727249},{"$f":"IF(Berechnung!$C$65=0,-30,Berechnung!$C$64)","v":12},0,{"$f":"(M156-I155)/(L156-H155)","v":-0.27272727272727276},{"$f":"M156-J155*L156","v":3.2727272727272716},{"$f":"L156","v":-30},0,null,null,{"$f":"IF(OR(L156<-20,O146=0),0,ROUND(L156,0)+21)","v":0},0,"1. WE",{"$f":"IF(D5=2,AC146,J146)","v":11026.636363636362},{"$f":"Translation!A203","v":"Heating"},{"$f":"W74+AC74","v":13152.828901124651}]
[null,"Außentemp",{"$f":"C155+1","v":-9},{"$f":"VLOOKUP(C156,$B$103:$E$145,4,FALSE)","v":-0.27272727272727249},{"$f":"VLOOKUP(C156,$B$103:$E$145,3,FALSE)","v":6},null,null,{"$f":"IF(Berechnung!$C$65=0,-30,Berechnung!$C$63)","v":-10},{"$f":"Berechnung!$C$65","v":6},null,null,{"$f":"C157","v":-30},{"$f":"Berechnung!$C$65*(L156-Berechnung!$C$64)/(Berechnung!$C$63-Berechnung!$C$64)","v":11.454545454545455},{"$f":"C157","v":-30},{"$f":"M156","v":11.454545454545455},{"$f":"P155","v":0},{"$f":"IF(ISERROR(VLOOKUP(P156-21,B104:H144,7,FALSE)),0,VLOOKUP(P156-21,B104:H144,7,FALSE))","v":0},"2. WE",{"$f":"IF(D5=2,0,O146)","v":0},{"$f":"Translation!A16","v":"2nd heat source"},13810.470346180884]
[null,null,{"$f":"IF(OR(F155=0,F146<=Berechnung!$C$63),-30,ROUND(-G155/F155,1))","v":-30},0,{"$f":"IF(ROUND(C157/5,1)*5=C155,E155,IF(ROUND(C157/5,1)*5=C156,E156,AVERAGE(E155:E156)))","v":6},null,null,null,null,null,null,null,null,null,null,null,null,null,null,{"$f":"Translation!A40","v":"DHW"},14500.99386348993]
[null,null,null,null,null,null,null,null,null,null,null,null,null,null,null,null,null,null,null,null,15226.043556664426]
[null,null,null,null,null,null,null,null,null,null,null,null,null,null,null,null,null,null,null,null,15987.345734497649]
[null,null,null,null,null,null,null,null,null,null,null,null,null,null,null,null,null,null,null,null,16786.713021222531]
[null,null,null,null,null,null,null,null,null,null,null,null,null,null,null,null,null,null,null,null,17626.048672283658]
[null,null,null,null,null,null,null,null,null,null,null,null,null,null,null,null,null,null,null,null,18507.35110589784]
[null,null,null,null,null,null,null,null,null,null,null,null,null,null,null,null,null,null,null,null,19432.718661192735]
[null,null,null,null,null,null,null,null,null,null,null,null,null,null,null,null,null,null,null,null,20404.354594252374]
[null,null,null,null,null,null,null,null,null,null,null,null,null,null,null,null,null,null,null,null,21424.572323964992]
[null,null,null,null,null,null,null,null,null,null,null,null,null,null,null,null,null,null,null,null,22495.800940163244]
[null,null,null,null,null,null,null,null,null,null,null,null,null,null,null,null,null,null,null,null,23620.590987171407]
[null,null,null,null,null,null,null,null,null,null,null,null,null,null,null,null,null,null,null,null,24801.620536529979]
[null,null,null,null,null,null,null,null,null,null,null,null,null,null,null,null,null,null,null,null,26041.701563356481]

{"sheet":"Slot3","index":6,"n_rows":169,"n_cols":46,"rows_kept":169,"cut":false,"hidden":true,"merged":[[2,0,3,0],[2,1,3,1],[2,2,3,2],[2,3,3,3],[2,4,3,4],[2,5,3,5],[2,6,3,6],[2,7,3,7],[2,8,3,8],[2,9,2,13],[2,18,3,19],[2,20,3,23],[71,26,71,33],[71,10,71,17],[85,0,85,1],[71,20,71,25],[79,0,79,1],[72,0,72,1],[72,5,73,5],[72,6,73,6],[72,7,73,7],[73,0,73,1],[74,0,74,1],[75,0,75,1],[76,0,76,1],[77,0,77,1],[99,28,99,31],[90,0,90,1],[91,0,91,1],[92,0,92,1],[93,0,93,1],[94,0,94,1],[99,0,99,8],[99,9,99,13],[99,14,99,17],[99,18,99,21],[99,22,99,24],[99,25,99,27],[152,17,152,18],[152,1,153,1],[152,2,152,6],[152,7,152,10],[152,11,152,12],[152,13,152,14],[152,15,152,16],[80,10,80,17],[89,10,89,17],[86,0,86,1],[87,0,87,1],[84,37,84,41],[72,8,73,8],[89,0,89,1],[80,0,80,1],[81,0,81,1],[82,0,82,1],[83,0,83,1],[84,0,84,1],[88,0,88,1],[78,0,78,1]]}
[]
["Comboboxen"]
["Heizung","Betriebsweise","Warmwasser","Betrieb","Betriebsweise","Datenblatt",null,null,null,"Warmwasser",null,null,null,null,"EEWärmeG",null,null,null,null,null,"Berechnung Förderung"]
[null,null,null,null,null,null,null,null,null,"Art WWB","Index WWB","Endenergie kWh/a","Kosten €/Ja","CO2 kg/a","erfüllt ?"]
["WPL 10 AC","Gaskessel | Parallel","Gaskessel",{"$f":"IF(A5=A7,2,IF(B5=B7,1,3))","v":3},{"$f":"IF(C157=-30,Translation!A11,VLOOKUP(B5,B6:E50,4,FALSE))","v":"Bivalent-parallel"},{"$f":"\"http://tools.stiebel-eltron.de/pdf/apps/product/\"&VLOOKUP($A$5,Leistungsdaten!$A:$J,10,FALSE)&\"/\"&Translation!$A$3","v":"http://tools.stiebel-eltron.de/pdf/apps/product/8427/en_DE"},null,null,null,null,{"$f":"IF(C5=C9,0,IF(C5=C12,5,IF(C5=C11,2,IF(C5=C7,1,IF(C5=C16,3,4)))))","v":2},{"$f":"VLOOKUP(K5,K6:N50,2,FALSE)","v":4106.25},{"$f":"VLOOKUP(K5,K6:N50,3,FALSE)","v":3490.3125},{"$f":"VLOOKUP(K5,K6:N50,4,FALSE)","v":1038.8812499999999},{"$f":"IF(OR(K5=K11,K5=K12),TRUE,IF(A5=A7,FALSE,IF(O15<0.5,FALSE,TRUE)))","v":true},null,null,null,null,null,"Jahr","Manuell","RHI","gewählt"]
[]
[{"$f":"Berechnung!C61","v":"Gaskessel"},{"$f":"Translation!A9","v":"No second heat source"},{"$f":"A5","v":"WPL 10 AC"},"1=Nur WP",{"$f":"Translation!A10","v":"Monoenergetic"},null,null,null,null,"Ohne Warmwasser",0,0,0,0,null,null,null,null,null,null,1,{"$f":"IF(Berechnung!$N$5<>Berechnung!$N$7,0,IF($D$5=2,0,IF(Einstellungen!$D$51>=T74,Einstellungen!$D$49,0)))","v":0},{"$f":"IF($C$85=\"---\",0,IF(Berechnung!$N$5<>Berechnung!$N$8,0,IF(Einstellungen!$D$51>=T74,$W$63,0)))","v":0},{"$f":"IF(Berechnung!$N$5=Berechnung!$N$7,V7,W7)","v":0}]
[null,{"$f":"A7&\" | \"&Translation!$A$14","v":"Gaskessel | Parallel"},{"$f":"A5&\" | \"&Translation!$A$206","v":"WPL 10 AC | Solar"},"2=nur Öl/Gas",{"$f":"Translation!A12","v":"Bivalent-parallel"},null,null,null,null,"Wärmepumpe",1,{"$f":"L13+L14","v":1320.0833333333335},{"$f":"M13+M14","v":249.11250000000004},{"$f":"N13+N14","v":819.77175000000011},"Wärmebedarf",null,null,null,null,null,2,{"$f":"IF(Berechnung!$N$5<>Berechnung!$N$7,0,IF($D$5=2,0,IF(Einstellungen!$D$51>=T75,Einstellungen!$D$49,0)))","v":0},{"$f":"IF($C$85=\"---\",0,IF(Berechnung!$N$5<>Berechnung!$N$8,0,IF(Einstellungen!$D$51>=T75,$W$63,0)))","v":0},{"$f":"IF(Berechnung!$N$5=Berechnung!$N$7,V8,W8)","v":0}]
[null,{"$f":"A7&\" | \"&Translation!$A$15","v":"Gaskessel | Alternativ"},{"$f":"Translation!A41","v":"without DHW"},"3=Bivalent",{"$f":"Translation!A13","v":"Bivalent-alternativ"},null,null,null,null,"Gas/Öl",2,{"$f":"Berechnung!$C$76/(Berechnung!$C$82/100)","v":4106.25},{"$f":"L9*Berechnung!$C$72","v":3490.3125},{"$f":"L9*Berechnung!$C$73/1000","v":1038.8812499999999},{"$f":"H146+Berechnung!C76","v":14311.636363636362},null,null,null,null,null,3,{"$f":"IF(Berechnung!$N$5<>Berechnung!$N$7,0,IF($D$5=2,0,IF(Einstellungen!$D$51>=T76,Einstellungen!$D$49,0)))","v":0},{"$f":"IF($C$85=\"---\",0,IF(Berechnung!$N$5<>Berechnung!$N$8,0,IF(Einstellungen!$D$51>=T76,$W$63,0)))","v":0},{"$f":"IF(Berechnung!$N$5=Berechnung!$N$7,V9,W9)","v":0}]
[null,null,null,null,null,null,null,null,null,"WP+Gas/Öl",3,{"$f":"L16+L17","v":2372.5},{"$f":"M16+M17","v":1527.5250000000001},{"$f":"N16+N17","v":868.88249999999994},null,null,null,null,null,null,4,{"$f":"IF(Berechnung!$N$5<>Berechnung!$N$7,0,IF($D$5=2,0,IF(Einstellungen!$D$51>=T77,Einstellungen!$D$49,0)))","v":0},{"$f":"IF($C$85=\"---\",0,IF(Berechnung!$N$5<>Berechnung!$N$8,0,IF(Einstellungen!$D$51>=T77,$W$63,0)))","v":0},{"$f":"IF(Berechnung!$N$5=Berechnung!$N$7,V10,W10)","v":0}]
[null,null,{"$f":"A7","v":"Gaskessel"},null,null,null,null,null,null,"WP+Solar",4,{"$f":"L19+L20","v":660.04166666666674},{"$f":"M19+M20","v":124.55625000000002},{"$f":"N19+N20","v":409.88587500000006},"Umweltwärme",null,null,null,null,null,5,{"$f":"IF(Berechnung!$N$5<>Berechnung!$N$7,0,IF($D$5=2,0,IF(Einstellungen!$D$51>=T78,Einstellungen!$D$49,0)))","v":0},{"$f":"IF($C$85=\"---\",0,IF(Berechnung!$N$5<>Berechnung!$N$8,0,IF(Einstellungen!$D$51>=T78,$W$63,0)))","v":0},{"$f":"IF(Berechnung!$N$5=Berechnung!$N$7,V11,W11)","v":0}]
[null,null,{"$f":"A7&\" | \"&Translation!$A$206","v":"Gaskessel | Solar"},null,null,null,null,null,null,"Öl/Gas+Solar",5,{"$f":"$J$24*Berechnung!$C$76/(Berechnung!$C$82/100)","v":2053.125},{"$f":"L12*Berechnung!$C$72","v":1745.15625},{"$f":"L12*Berechnung!$C$73/1000","v":519.44062499999995},{"$f":"J146+K24*Berechnung!C76","v":14013.75},null,null,null,null,null,6,{"$f":"IF(Berechnung!$N$5<>Berechnung!$N$7,0,IF($D$5=2,0,IF(Einstellungen!$D$51>=T79,Einstellungen!$D$49,0)))","v":0},{"$f":"IF($C$85=\"---\",0,IF(Berechnung!$N$5<>Berechnung!$N$8,0,IF(Einstellungen!$D$51>=T79,$W$63,0)))","v":0},{"$f":"IF(Berechnung!$N$5=Berechnung!$N$7,V12,W12)","v":0}]
[null,null,{"$f":"Translation!A41","v":"without DHW"},null,null,null,null,null,null,"Nebenrechnung","Mononenerg. WP",{"$f":"$C$75*Berechnung!$C$76/$C$74","v":1155.8333333333333},{"$f":"L13*Berechnung!$C$79/100","v":208.05},{"$f":"L13*Berechnung!$C$69/1000","v":717.77250000000004},null,null,null,null,null,null,7,{"$f":"IF(Berechnung!$N$5<>Berechnung!$N$7,0,IF($D$5=2,0,IF(Einstellungen!$D$51>=T80,Einstellungen!$D$49,0)))","v":0},{"$f":"IF($C$85=\"---\",0,IF(Berechnung!$N$5<>Berechnung!$N$8,0,IF(Einstellungen!$D$51>=T80,$W$63,0)))","v":0},{"$f":"IF(Berechnung!$N$5=Berechnung!$N$7,V13,W13)","v":0}]
[null,null,null,null,null,null,null,null,null,"Nebenrechnung","Mononenerg. DHC",{"$f":"(1-$C$75)*Berechnung!$C$76","v":164.25000000000014},{"$f":"L14*Berechnung!$C$78/100","v":41.062500000000036},{"$f":"L14*Berechnung!$C$69/1000","v":101.99925000000009},"Anteil Umwelt",null,null,null,null,null,8,{"$f":"IF(Berechnung!$N$5<>Berechnung!$N$7,0,IF($D$5=2,0,IF(Einstellungen!$D$51>=T81,Einstellungen!$D$49,0)))","v":0},{"$f":"IF($C$85=\"---\",0,IF(Berechnung!$N$5<>Berechnung!$N$8,0,IF(Einstellungen!$D$51>=T81,$W$63,0)))","v":0},{"$f":"IF(Berechnung!$N$5=Berechnung!$N$7,V14,W14)","v":0}]
[null,null,{"$f":"C7","v":"WPL 10 AC"},null,null,null,null,null,null,null,null,null,null,null,{"$f":"O12/O9","v":0.97918572299717976},null,null,null,null,null,9,{"$f":"IF(Berechnung!$N$5<>Berechnung!$N$7,0,IF($D$5=2,0,IF(Einstellungen!$D$51>=T82,Einstellungen!$D$49,0)))","v":0},{"$f":"IF($C$85=\"---\",0,IF(Berechnung!$N$5<>Berechnung!$N$8,0,IF(Einstellungen!$D$51>=T82,$W$63,0)))","v":0},{"$f":"IF(Berechnung!$N$5=Berechnung!$N$7,V15,W15)","v":0}]
[null,null,{"$f":"A5&\" | \"&A7","v":"WPL 10 AC | Gaskessel"},null,null,null,null,null,null,"Nebenrechnung","Bivalent WP",{"$f":"$C$76*Berechnung!$C$76/$C$74","v":730},{"$f":"L16*Berechnung!$C$79/100","v":131.4},{"$f":"L16*Berechnung!$C$69/1000","v":453.33},null,null,null,null,null,null,10,{"$f":"IF(Berechnung!$N$5<>Berechnung!$N$7,0,IF($D$5=2,0,IF(Einstellungen!$D$51>=T83,Einstellungen!$D$49,0)))","v":0},{"$f":"IF($C$85=\"---\",0,IF(Berechnung!$N$5<>Berechnung!$N$8,0,IF(Einstellungen!$D$51>=T83,$W$63,0)))","v":0},{"$f":"IF(Berechnung!$N$5=Berechnung!$N$7,V16,W16)","v":0}]
[null,null,{"$f":"C11","v":"Gaskessel"},null,null,null,null,null,null,"Nebenrechnung","Bivalent Kessel",{"$f":"((1-$C$76)*Berechnung!$C$76)/(Berechnung!$C$82/100)","v":1642.5},{"$f":"L17*Berechnung!$C$72","v":1396.125},{"$f":"L17*Berechnung!$C$73/1000","v":415.55250000000001},null,null,null,null,null,null,11,{"$f":"IF(Berechnung!$N$5<>Berechnung!$N$7,0,IF($D$5=2,0,IF(Einstellungen!$D$51>=T84,Einstellungen!$D$49,0)))","v":0},{"$f":"IF($C$85=\"---\",0,IF(Berechnung!$N$5<>Berechnung!$N$8,0,IF(Einstellungen!$D$51>=T84,$W$63,0)))","v":0},{"$f":"IF(Berechnung!$N$5=Berechnung!$N$7,V17,W17)","v":0}]
[null,null,{"$f":"C8","v":"WPL 10 AC | Solar"},null,null,null,null,null,null,null,null,null,null,null,null,null,null,null,null,null,12,{"$f":"IF(Berechnung!$N$5<>Berechnung!$N$7,0,IF($D$5=2,0,IF(Einstellungen!$D$51>=T85,Einstellungen!$D$49,0)))","v":0},{"$f":"IF($C$85=\"---\",0,IF(Berechnung!$N$5<>Berechnung!$N$8,0,IF(Einstellungen!$D$51>=T85,$W$63,0)))","v":0},{"$f":"IF(Berechnung!$N$5=Berechnung!$N$7,V18,W18)","v":0}]
[null,null,{"$f":"C12","v":"Gaskessel | Solar"},null,null,null,null,null,null,"Nebenrechnung","Monoenerg. WP+Solar",{"$f":"$C$75*$J$24*Berechnung!$C$76/$C$74","v":577.91666666666663},{"$f":"L19*Berechnung!$C$79/100","v":104.02500000000001},{"$f":"L19*Berechnung!$C$69/1000","v":358.88625000000002},null,null,null,null,null,null,13,{"$f":"IF(Berechnung!$N$5<>Berechnung!$N$7,0,IF($D$5=2,0,IF(Einstellungen!$D$51>=T86,Einstellungen!$D$49,0)))","v":0},{"$f":"IF($C$85=\"---\",0,IF(Berechnung!$N$5<>Berechnung!$N$8,0,IF(Einstellungen!$D$51>=T86,$W$63,0)))","v":0},{"$f":"IF(Berechnung!$N$5=Berechnung!$N$7,V19,W19)","v":0}]
[null,null,{"$f":"Translation!A41","v":"without DHW"},null,null,null,null,null,null,"Nebenrechnung","Mononenerg. DHC",{"$f":"(1-$C$75)*$J$24*Berechnung!$C$76","v":82.125000000000071},{"$f":"L20*Berechnung!$C$78/100","v":20.531250000000018},{"$f":"L20*Berechnung!$C$69/1000","v":50.999625000000044},null,null,null,null,null,null,14,{"$f":"IF(Berechnung!$N$5<>Berechnung!$N$7,0,IF($D$5=2,0,IF(Einstellungen!$D$51>=T87,Einstellungen!$D$49,0)))","v":0},{"$f":"IF($C$85=\"---\",0,IF(Berechnung!$N$5<>Berechnung!$N$8,0,IF(Einstellungen!$D$51>=T87,$W$63,0)))","v":0},{"$f":"IF(Berechnung!$N$5=Berechnung!$N$7,V20,W20)","v":0}]
[null,null,null,null,null,null,null,null,null,null,null,null,null,null,null,null,null,null,null,null,15,{"$f":"IF(Berechnung!$N$5<>Berechnung!$N$7,0,IF($D$5=2,0,IF(Einstellungen!$D$51>=T88,Einstellungen!$D$49,0)))","v":0},{"$f":"IF($C$85=\"---\",0,IF(Berechnung!$N$5<>Berechnung!$N$8,0,IF(Einstellungen!$D$51>=T88,$W$63,0)))","v":0},{"$f":"IF(Berechnung!$N$5=Berechnung!$N$7,V21,W21)","v":0}]
[]
[null,null,null,null,null,null,null,null,null,"Faktor Solar","Deckung"]
[null,null,null,null,null,null,null,null,null,{"$f":"(100-Berechnung!$C$77)/100","v":0.5},{"$f":"IF(K5=3,C76,C75)","v":0.95}]
[]
[]
[]
[]
[]
[]
[]
[]
[]
[]
[]
[]
[]
[]
[]
[]
[]
[]
[]
[null,null,null,null,null,null,null,null,null,null,null,null,null,null,null,null,null,null,null,null,null,null,"Ersparnis Öl/Gas","Ausgabe"]
[null,null,null,null,null,null,null,null,null,null,null,null,null,null,null,null,null,null,null,null,null,null,{"$f":"ROUND((W89+AC89)-AI89+AA89+U89,-2)","v":196200},{"$f":"IF(ISERROR(W45),\"---\",IF(A5=A7,\"---\",\"approx. £\"&FIXED(W45,0)))","v":"approx. £196.200"}]
[]
[null,null,null,null,null,null,null,null,null,null,null,null,null,null,null,null,null,null,null,null,null,null,"Invest","Ausgabe"]
[null,null,null,null,null,null,null,null,null,null,null,null,null,null,null,null,null,null,null,null,null,null,{"$f":"VLOOKUP(A5,Leistungsdaten!$A:$K,11,FALSE)+Einstellungen!$D$57","v":4900},{"$f":"IF(ISERROR(W48),\"---\",IF(A5=A7,\"---\",\"approx. £\"&FIXED(W48,0)))","v":"approx. £4.900"}]
[]
[null,null,null,null,null,null,null,null,null,null,null,null,null,null,null,null,null,null,null,null,null,null,"QH","Ausgabe"]
[null,null,null,null,null,null,null,null,null,null,null,null,null,null,null,null,null,null,null,null,null,null,{"$f":"IF(D5=2,0,J146)","v":10893},{"$f":"FIXED(W51,0)&\" kWh/year\"","v":"10.893 kWh/year"}]
[]
[null,null,null,null,null,null,null,null,null,null,null,null,null,null,null,null,null,null,null,null,null,null,"QWW"]
[null,null,null,null,null,null,null,null,null,null,null,null,null,null,null,null,null,null,null,null,null,null,{"$f":"IF(OR(K5=K8,K10,K5=K11),Berechnung!C76*K24,0)","v":3120.75},{"$f":"FIXED(W54,0)&\" kWh/year\"","v":"3.121 kWh/year"}]
[null,null,null,null,null,null,null,null,null,null,null,null,null,null,null,null,null,null,null,null,null,null,null,{"$f":"FIXED(W51+W54,0)&\" kWh/year\"","v":"14.014 kWh/year"}]
[null,null,null,null,null,null,null,null,null,null,null,null,null,null,null,null,null,null,null,null,null,null,"COP-RHI"]
[null,null,null,null,null,null,null,null,null,null,null,null,null,null,null,null,null,null,null,null,null,null,{"$f":"IF(C73=1,Berechnung!$B$127,Berechnung!$C$127)","v":3.6},{"$f":"IF(C73=0,\"---\",FIXED(W57,1))","v":"3,6"}]
[]
[null,null,null,null,null,null,null,null,null,null,null,null,null,null,null,null,null,null,null,null,null,null,"Fördersatz RHI"]
[null,null,null,null,null,null,null,null,null,null,null,null,null,null,null,null,null,null,null,null,null,null,{"$f":"IF($C$73=1,Einstellungen!$D$53,Einstellungen!$D$55)","v":0},{"$f":"IF(C73=0,\"---\",FIXED(W60*100,1)&\" p/kWh\")","v":"0,0 p/kWh"}]
[]
[null,null,null,null,null,null,null,null,null,null,null,null,null,null,null,null,null,null,null,null,null,null,"Fördersumme",{"$f":"IF(U89+AA89=0,\"---\",\"£\"&FIXED(U89+AA89,0))","v":"---"}]
[null,null,null,null,null,null,null,null,null,null,null,null,null,null,null,null,null,null,null,null,null,null,{"$f":"W60*(W51+W54)*(1-1/W57)","v":0},{"$f":"IF(W63=0,\"---\",\"£\"&FIXED(W63,0))","v":"---"}]
[]
[]
[]
[]
[]
[]
[]
[]
["Rechenwerte",null,null,null,null,"Import WP-Leistung",null,null,null,null,"Kosten",null,null,null,null,null,null,null,null,null,"Preisentwicklung Heizung",null,null,null,null,null,"Preisentwicklung Warmwasser",null,null,null,null,null,null,null,"Gesamt",null,"Ergebnisausgabe"]
["Wärmequelle",null,{"$f":"VLOOKUP(A5,Leistungsdaten!A:F,6,FALSE)","v":1},null,null,"Außentemp","Leistung WP","COP WP",null,null,"Kategorie","Nur WP","Bivalent","Nur Öl/Gas","WP+Solar","Öl/Gas+Solar","Gewählt","Ausgabe",null,"Jahr","Förderung","Nur WP","Nur Öl/Gas","Bivalent WP","Bivalent Öl","Gewählt","Förderung","Nur WP","Nur Öl/Gas","Bivalent WP","Bivalent Öl","WP+Solar","Öl/Gas+Solar","Gewählt",null,null,"Auswahl","Gewählt ?","Text Hauptergebnis","Wert Hauptergebnis","Text Teilergebnis 1","Wert Teilergebnis 1","Text Teilergebnis 2","Wert Teilergebnis 2","Text Teilergebnis 3","Wert Teilergebnis 3"]
["JAZ-WWB",null,{"$f":"VLOOKUP(A5,Leistungsdaten!A:C,3,FALSE)","v":2.7},null,null,null,null,null,null,null,"1. WE",{"$f":"M146","v":523.28465157375933},{"$f":"L74","v":523.28465157375933},{"$f":"AE146","v":9662.5164011246507},{"$f":"L74","v":523.28465157375933},{"$f":"N74","v":9662.5164011246507},{"$f":"IF($D$5=1,L74,IF($D$5=2,N74,M74))","v":523.28465157375933},{"$f":"FIXED(Q74,0)&\" \"&Translation!$A$77","v":"523 £/Year"},null,1,{"$f":"X7","v":0},{"$f":"L74+L75","v":556.81760611921391},{"$f":"N74+N75","v":9662.5164011246507},{"$f":"M74","v":523.28465157375933},{"$f":"M75","v":117.53819119025309},{"$f":"IF($D$5=1,V74,IF($D$5=2,W74,X74+Y74))","v":640.82284276401242},{"$f":"IF($K$5<3,0,IF(Einstellungen!$D$55>=T74,Einstellungen!$D$53,0))","v":0},{"$f":"M8","v":249.11250000000004},{"$f":"M9","v":3490.3125},{"$f":"M16","v":131.4},{"$f":"M17","v":1396.125},{"$f":"M11","v":124.55625000000002},{"$f":"M12","v":1745.15625},{"$f":"IF($K$5=0,0,IF($K$5=1,AB74,IF($K$5=2,AC74,IF($K$5=3,AD74+AE74,IF($K$5=4,AF74,AG74)))))","v":3490.3125},{"$f":"Z74+AH74","v":4131.1353427640124},null,"Energiekosten",{"$f":"Berechnung!C85","v":false},{"$f":"Translation!A68","v":"Energy costs "},{"$f":"R77","v":"4.131 £/Year"},{"$f":"C81","v":"WPL 10 AC"},{"$f":"R74","v":"523 £/Year"},{"$f":"C82","v":"Gaskessel"},{"$f":"R75","v":"118 £/Year"},{"$f":"C83","v":"DHW"},{"$f":"R76","v":"3.490 £/Year"}]
["Deckung WP WW Monoenergetisch",null,{"$f":"VLOOKUP(A5,Leistungsdaten!A:D,4,FALSE)","v":0.95},null,null,-20,2.4,2.2307692307692308,null,null,"2. WE",{"$f":"Q146","v":33.532954545454558},{"$f":"U146","v":117.53819119025309},0,{"$f":"L75","v":33.532954545454558},{"$f":"N75","v":0},{"$f":"IF($D$5=1,L75,IF($D$5=2,N75,M75))","v":117.53819119025309},{"$f":"FIXED(Q75,0)&\" \"&Translation!$A$77","v":"118 £/Year"},null,2,{"$f":"X8","v":0},{"$f":"(1+Berechnung!$C$80/100)*V74","v":573.52213430279039},{"$f":"(1+Berechnung!$C$74/100)*W74","v":10145.642221180884},{"$f":"(1+Berechnung!$C$80/100)*X74","v":538.98319112097215},{"$f":"(1+Berechnung!$C$74/100)*Y74","v":123.41510074976574},{"$f":"IF($D$5=1,V75,IF($D$5=2,W75,X75+Y75))","v":662.39829187073792},{"$f":"IF($K$5<3,0,IF(Einstellungen!$D$55>=T75,Einstellungen!$D$53,0))","v":0},{"$f":"(1+Berechnung!$C$80/100)*AB74","v":256.58587500000004},{"$f":"(1+Berechnung!$C$74/100)*AC74","v":3664.828125},{"$f":"(1+Berechnung!$C$80/100)*AD74","v":135.34200000000001},{"$f":"(1+Berechnung!$C$74/100)*AE74","v":1465.9312500000001},{"$f":"(1+Berechnung!$C$80/100)*AF74","v":128.29293750000002},{"$f":"(1+Berechnung!$C$74/100)*AG74","v":1832.4140625},{"$f":"IF($K$5=0,0,IF($K$5=1,AB75,IF($K$5=2,AC75,IF($K$5=3,AD75+AE75,IF($K$5=4,AF75,AG75)))))","v":3664.828125},4327.2264168707379,null,"Kostenentwicklung",{"$f":"Berechnung!C86","v":false},{"$f":"Translation!A82","v":"Energy costs 15 years"},{"$f":"FIXED(AI89-U89-AA89,0)&\" \"&Translation!$A$209","v":"87.585 £"},{"$f":"C80","v":"-"},{"$f":"FIXED(Z89,0)&\" \"&Translation!$A$209","v":"12.269 £"},{"$f":"Translation!A40","v":"DHW"},{"$f":"FIXED(AH89,0)&\" \"&Translation!$A$209","v":"75.316 £"},{"$f":"Translation!A212","v":"Subvention"},{"$f":"FIXED(U89+AA89,0)&\" \"&Translation!$A$209","v":"0 £"}]
["Deckung WP WW Bivalent",null,{"$f":"VLOOKUP(A5,Leistungsdaten!$A:$E,5,FALSE)","v":0.6},null,null,-17.5,3,2.5294117647058827,null,null,"Warmwasser",{"$f":"M8","v":249.11250000000004},{"$f":"M10","v":1527.5250000000001},{"$f":"M9","v":3490.3125},{"$f":"M11","v":124.55625000000002},{"$f":"M12","v":1745.15625},{"$f":"IF($K$5=0,0,IF($K$5=1,L76,IF($K$5=3,M76,IF($K$5=2,N76,IF($K$5=4,O76,P76)))))","v":3490.3125},{"$f":"IF($K$5=0,\"\",FIXED(Q76,0)&\" \"&Translation!$A$77)","v":"3.490 £/Year"},null,3,0,{"$f":"(1+Berechnung!$C$80/100)*V75","v":590.72779833187417},{"$f":"(1+Berechnung!$C$74/100)*W75","v":10652.924332239929},{"$f":"(1+Berechnung!$C$80/100)*X75","v":555.15268685460137},{"$f":"(1+Berechnung!$C$74/100)*Y75","v":129.58585578725405},684.73854264185547,{"$f":"IF($K$5<3,0,IF(Einstellungen!$D$55>=T76,Einstellungen!$D$53,0))","v":0},{"$f":"(1+Berechnung!$C$80/100)*AB75","v":264.28345125000004},{"$f":"(1+Berechnung!$C$74/100)*AC75","v":3848.0695312500002},{"$f":"(1+Berechnung!$C$80/100)*AD75","v":139.40226000000001},{"$f":"(1+Berechnung!$C$74/100)*AE75","v":1539.2278125000003},{"$f":"(1+Berechnung!$C$80/100)*AF75","v":132.14172562500002},{"$f":"(1+Berechnung!$C$74/100)*AG75","v":1924.0347656250001},3848.0695312500002,4532.8080738918561,null,"Heizlast/Bivpunkt",{"$f":"Berechnung!C87","v":true}," "," "," "," ",{"$f":"Translation!A6","v":"Operating mode"},{"$f":"E5","v":"Bivalent-parallel"},{"$f":"IF(C157=-30,\"\",Translation!A38)","v":"Dual-mode point"},{"$f":"IF(C157=-30,\"\",FIXED(C157,1)&\" °C\")","v":"-5,8 °C"}]
["Startzeile Leistungsdaten WP",null,{"$f":"VLOOKUP(A5,Leistungsdaten!$A:$G,7,FALSE)","v":5},null,null,-15,3.5,2.7142857142857144,null,null,"Summe",{"$f":"SUM(L74:L76)","v":805.93010611921397},{"$f":"SUM(M74:M76)","v":2168.3478427640125},{"$f":"SUM(N74:N76)","v":13152.828901124651},{"$f":"SUM(O74:O76)","v":681.37385611921388},{"$f":"SUM(P74:P76)","v":11407.672651124651},{"$f":"SUM(Q74:Q76)","v":4131.1353427640124},{"$f":"FIXED(Q77,0)&\" \"&Translation!$A$77","v":"4.131 £/Year"},null,4,0,{"$f":"(1+Berechnung!$C$80/100)*V76","v":608.44963228183042},{"$f":"(1+Berechnung!$C$74/100)*W76","v":11185.570548851925},{"$f":"(1+Berechnung!$C$80/100)*X76","v":571.80726746023947},{"$f":"(1+Berechnung!$C$74/100)*Y76","v":136.06514857661676},707.87241603685629,{"$f":"IF($K$5<3,0,IF(Einstellungen!$D$55>=T77,Einstellungen!$D$53,0))","v":0},{"$f":"(1+Berechnung!$C$80/100)*AB76","v":272.21195478750008},{"$f":"(1+Berechnung!$C$74/100)*AC76","v":4040.4730078125003},{"$f":"(1+Berechnung!$C$80/100)*AD76","v":143.58432780000001},{"$f":"(1+Berechnung!$C$74/100)*AE76","v":1616.1892031250004},{"$f":"(1+Berechnung!$C$80/100)*AF76","v":136.10597739375004},{"$f":"(1+Berechnung!$C$74/100)*AG76","v":2020.2365039062502},{"$f":"IF($K$5=0,0,IF($K$5=1,AB77,IF($K$5=2,AC77,IF($K$5=3,AD77+AE77,IF($K$5=4,AF77,AG77)))))","v":4040.4730078125003},4748.3454238493568,null,"Jahresheizarbeit",{"$f":"Berechnung!C88","v":false},{"$f":"Translation!A57","v":"Yearly heat demand"},{"$f":"FIXED(H146,0)&\" kWh\"","v":"11.027 kWh"},{"$f":"Translation!A66&\" \"&C81","v":"Annual heating  WPL 10 AC"},{"$f":"FIXED(S155,0)&\" kWh\"","v":"10.893 kWh"},{"$f":"Translation!A66&\" \"&C82","v":"Annual heating  Gaskessel"},{"$f":"FIXED(S156,0)&\" kWh\"","v":"134 kWh"},{"$f":"IF(K5=0,\"\",Translation!$A$211)","v":"Annual heating DHW"},{"$f":"IF(K5=0,\"\",FIXED(Berechnung!C76,0)&\" kWh\")","v":"3.285 kWh"}]
["Anzahl WP",null,{"$f":"VLOOKUP(A5,Leistungsdaten!$A:$H,8,FALSE)","v":1},null,null,-12.5,3.95,2.8157894736842102,null,null,null,null,null,null,null,null,null,null,null,5,0,{"$f":"(1+Berechnung!$C$80/100)*V77","v":626.70312125028534},{"$f":"(1+Berechnung!$C$74/100)*W77","v":11744.849076294522},{"$f":"(1+Berechnung!$C$80/100)*X77","v":588.96148548404665},{"$f":"(1+Berechnung!$C$74/100)*Y77","v":142.86840600544761},731.82989148949423,{"$f":"IF($K$5<3,0,IF(Einstellungen!$D$55>=T78,Einstellungen!$D$53,0))","v":0},{"$f":"(1+Berechnung!$C$80/100)*AB77","v":280.37831343112509},{"$f":"(1+Berechnung!$C$74/100)*AC77","v":4242.4966582031257},{"$f":"(1+Berechnung!$C$80/100)*AD77","v":147.89185763400002},{"$f":"(1+Berechnung!$C$74/100)*AE77","v":1696.9986632812504},{"$f":"(1+Berechnung!$C$80/100)*AF77","v":140.18915671556255},{"$f":"(1+Berechnung!$C$74/100)*AG77","v":2121.2483291015628},4242.4966582031257,4974.3265496926197,null,"CO2",{"$f":"Berechnung!C89","v":false},{"$f":"Translation!A69","v":"CO2-emission"},{"$f":"R95","v":"2.879 kg/year"},{"$f":"AO74","v":"WPL 10 AC"},{"$f":"R92","v":"1.805 kg/year"},{"$f":"AQ74","v":"Gaskessel"},{"$f":"R93","v":"35 kg/year"},{"$f":"AS74","v":"DHW"},{"$f":"R94","v":"1.039 kg/year"}]
["Bivalent einsetzbar ?",null,{"$f":"VLOOKUP(A5,Leistungsdaten!$A:$I,9,FALSE)","v":true},null,null,-10,4.3,2.8749999999999996,null,null,null,null,null,null,null,null,null,null,null,6,0,{"$f":"(1+Berechnung!$C$80/100)*V78","v":645.50421488779386},{"$f":"(1+Berechnung!$C$74/100)*W78","v":12332.091530109248},{"$f":"(1+Berechnung!$C$80/100)*X78","v":606.63033004856811},{"$f":"(1+Berechnung!$C$74/100)*Y78","v":150.01182630572001},756.64215635428809,{"$f":"IF($K$5<3,0,IF(Einstellungen!$D$55>=T79,Einstellungen!$D$53,0))","v":0},{"$f":"(1+Berechnung!$C$80/100)*AB78","v":288.78966283405884},{"$f":"(1+Berechnung!$C$74/100)*AC78","v":4454.621491113282},{"$f":"(1+Berechnung!$C$80/100)*AD78","v":152.32861336302003},{"$f":"(1+Berechnung!$C$74/100)*AE78","v":1781.848596445313},{"$f":"(1+Berechnung!$C$80/100)*AF78","v":144.39483141702942},{"$f":"(1+Berechnung!$C$74/100)*AG78","v":2227.310745556641},4454.621491113282,5211.2636474675701,null,"Endenergie",{"$f":"Berechnung!C90","v":false},{"$f":"Translation!A62","v":"Final energy"},{"$f":"R86","v":"7.152 kWh/Year"},{"$f":"AO74","v":"WPL 10 AC"},{"$f":"R83","v":"2.907 kWh/Year"},{"$f":"AQ74","v":"Gaskessel"},{"$f":"R84","v":"138 kWh/Year"},{"$f":"AS74","v":"DHW"},{"$f":"R85","v":"4.106 kWh/Year"}]
["Überschrift Slot",null,{"$f":"IF(C86=FALSE,\"-\",IF(D5=1,A5,IF(D5=2,A5,A5&\" | \"&A7)))","v":"-"},null,null,-7.5,4.5999999999999996,3,null,null,null,null,null,null,null,null,null,null,null,7,0,{"$f":"(1+Berechnung!$C$80/100)*V79","v":664.86934133442765},{"$f":"(1+Berechnung!$C$74/100)*W79","v":12948.696106614711},{"$f":"(1+Berechnung!$C$80/100)*X79","v":624.82923995002523},{"$f":"(1+Berechnung!$C$74/100)*Y79","v":157.51241762100602},782.34165757103119,{"$f":"IF($K$5<3,0,IF(Einstellungen!$D$55>=T80,Einstellungen!$D$53,0))","v":0},{"$f":"(1+Berechnung!$C$80/100)*AB79","v":297.45335271908061},{"$f":"(1+Berechnung!$C$74/100)*AC79","v":4677.3525656689462},{"$f":"(1+Berechnung!$C$80/100)*AD79","v":156.89847176391063},{"$f":"(1+Berechnung!$C$74/100)*AE79","v":1870.9410262675788},{"$f":"(1+Berechnung!$C$80/100)*AF79","v":148.72667635954031},{"$f":"(1+Berechnung!$C$74/100)*AG79","v":2338.6762828344731},4677.3525656689462,5459.6942232399779,null,"COP",{"$f":"Berechnung!C91","v":false}," "," "," "," "," "," "," "," "]
["Ausgabe 1. WE",null,{"$f":"A5","v":"WPL 10 AC"},null,null,-5,5,3.1273885350318467,null,null,"Endenergie",null,null,null,null,null,null,null,null,8,0,{"$f":"(1+Berechnung!$C$80/100)*V80","v":684.81542157446052},{"$f":"(1+Berechnung!$C$74/100)*W80","v":13596.130911945447},{"$f":"(1+Berechnung!$C$80/100)*X80","v":643.57411714852594},{"$f":"(1+Berechnung!$C$74/100)*Y80","v":165.38803850205633},808.9621556505823,{"$f":"IF($K$5<3,0,IF(Einstellungen!$D$55>=T81,Einstellungen!$D$53,0))","v":0},{"$f":"(1+Berechnung!$C$80/100)*AB80","v":306.37695330065304},{"$f":"(1+Berechnung!$C$74/100)*AC80","v":4911.2201939523939},{"$f":"(1+Berechnung!$C$80/100)*AD80","v":161.60542591682795},{"$f":"(1+Berechnung!$C$74/100)*AE80","v":1964.4880775809577},{"$f":"(1+Berechnung!$C$80/100)*AF80","v":153.18847665032652},{"$f":"(1+Berechnung!$C$74/100)*AG80","v":2455.6100969761969},4911.2201939523939,5720.1823496029765,null,"Ausgabe",null,{"$f":"VLOOKUP(TRUE,$AL$74:$AT$80,2,FALSE)","v":" "},{"$f":"VLOOKUP(TRUE,$AL$74:$AT$80,3,FALSE)","v":" "},{"$f":"VLOOKUP(TRUE,$AL$74:$AT$80,4,FALSE)","v":" "},{"$f":"VLOOKUP(TRUE,$AL$74:$AT$80,5,FALSE)","v":" "},{"$f":"VLOOKUP(TRUE,$AL$74:$AT$80,6,FALSE)","v":"Operating mode"},{"$f":"VLOOKUP(TRUE,$AL$74:$AT$80,7,FALSE)","v":"Bivalent-parallel"},{"$f":"VLOOKUP(TRUE,$AL$74:$AT$80,8,FALSE)","v":"Dual-mode point"},{"$f":"VLOOKUP(TRUE,$AL$74:$AT$80,9,FALSE)","v":"-5,8 °C"}]
["Ausgabe 2. WE",null,{"$f":"IF(D5=1,Translation!A75,IF(D5=2,Translation!A16,A7))","v":"Gaskessel"},null,null,-2.5,5.4,3.3067484662576687,null,null,"Kategorie","Nur WP","Bivalent","Nur Öl/Gas","WP+Solar","Öl/Gas+Solar","Gewählt","Ausgabe",null,9,0,{"$f":"(1+Berechnung!$C$80/100)*V81","v":705.3598842216943},{"$f":"(1+Berechnung!$C$74/100)*W81","v":14275.937457542721},{"$f":"(1+Berechnung!$C$80/100)*X81","v":662.88134066298176},{"$f":"(1+Berechnung!$C$74/100)*Y81","v":173.65744042715914},836.5387810901409,{"$f":"IF($K$5<3,0,IF(Einstellungen!$D$55>=T82,Einstellungen!$D$53,0))","v":0},{"$f":"(1+Berechnung!$C$80/100)*AB81","v":315.56826189967262},{"$f":"(1+Berechnung!$C$74/100)*AC81","v":5156.7812036500136},{"$f":"(1+Berechnung!$C$80/100)*AD81","v":166.45358869433281},{"$f":"(1+Berechnung!$C$74/100)*AE81","v":2062.7124814600056},{"$f":"(1+Berechnung!$C$80/100)*AF81","v":157.78413094983631},{"$f":"(1+Berechnung!$C$74/100)*AG81","v":2578.3906018250068},5156.7812036500136,5993.3199847401547]
["Ausgabe WWB",null,{"$f":"IF(K5=0,\"\",Translation!A40)","v":"DHW"},null,null,0,5.95,3.7585767691137062,null,null,"1. WE",{"$f":"L146","v":2907.1369531875512},{"$f":"L83","v":2907.1369531875512},{"$f":"IF(Berechnung!H5=Berechnung!H7,IF(Berechnung!C95=2,AD146/Berechnung!C101,AD146),IF(Berechnung!C95=2,AD146/Berechnung!C102,AD146))","v":11367.666354264293},{"$f":"L83","v":2907.1369531875512},{"$f":"N83","v":11367.666354264293},{"$f":"IF($D$5=1,L83,IF($D$5=2,N83,M83))","v":2907.1369531875512},{"$f":"IF(Berechnung!H5=Berechnung!H7,IF(AND(D5=2,Berechnung!C97=2),FIXED(Q83,0)&\" \"&Translation!$A$196,FIXED(Q83,0)&\" \"&Translation!$A$79),IF(AND(D5=2,Berechnung!C97=2),FIXED(Q83,0)&\" \"&Translation!$A$197,FIXED(Q83,0)&\" \"&Translation!$A$79))","v":"2.907 kWh/Year"},null,10,0,{"$f":"(1+Berechnung!$C$80/100)*V82","v":726.52068074834517},{"$f":"(1+Berechnung!$C$74/100)*W82","v":14989.734330419858},{"$f":"(1+Berechnung!$C$80/100)*X82","v":682.76778088287119},{"$f":"(1+Berechnung!$C$74/100)*Y82","v":182.3403124485171},865.10809333138832,{"$f":"IF($K$5<3,0,IF(Einstellungen!$D$55>=T83,Einstellungen!$D$53,0))","v":0},{"$f":"(1+Berechnung!$C$80/100)*AB82","v":325.0353097566628},{"$f":"(1+Berechnung!$C$74/100)*AC82","v":5414.6202638325149},{"$f":"(1+Berechnung!$C$80/100)*AD82","v":171.44719635516279},{"$f":"(1+Berechnung!$C$74/100)*AE82","v":2165.8481055330062},{"$f":"(1+Berechnung!$C$80/100)*AF82","v":162.5176548783314},{"$f":"(1+Berechnung!$C$74/100)*AG82","v":2707.3101319162574},5414.6202638325149,6279.7283571639036]
["Ausgabe Wärmepume/Kessel",null,{"$f":"IF(A5=A7,A5,Translation!$A$5)","v":"Heat pump"},null,null,2.5,6.45,3.9747663551401868,null,null,"2. WE",{"$f":"P146","v":134.13181818181823},{"$f":"T146","v":138.28022492970953},0,{"$f":"L84","v":134.13181818181823},{"$f":"N84","v":0},{"$f":"IF($D$5=1,L84,IF($D$5=2,N84,M84))","v":138.28022492970953},{"$f":"IF(Berechnung!H5=Berechnung!H7,IF(AND(D5=2,Berechnung!C97=2),FIXED(Q84,0)&\" \"&Translation!$A$196,FIXED(Q84,0)&\" \"&Translation!$A$79),IF(AND(D5=2,Berechnung!C97=2),FIXED(Q84,0)&\" \"&Translation!$A$197,FIXED(Q84,0)&\" \"&Translation!$A$79))","v":"138 kWh/Year"},null,11,0,{"$f":"(1+Berechnung!$C$80/100)*V83","v":748.31630117079555},{"$f":"(1+Berechnung!$C$74/100)*W83","v":15739.221046940853},{"$f":"(1+Berechnung!$C$80/100)*X83","v":703.25081430935734},{"$f":"(1+Berechnung!$C$74/100)*Y83","v":191.45732807094296},894.70814238030027,{"$f":"IF($K$5<3,0,IF(Einstellungen!$D$55>=T84,Einstellungen!$D$53,0))","v":0},{"$f":"(1+Berechnung!$C$80/100)*AB83","v":334.78636904936269},{"$f":"(1+Berechnung!$C$74/100)*AC83","v":5685.3512770241405},{"$f":"(1+Berechnung!$C$80/100)*AD83","v":176.59061224581768},{"$f":"(1+Berechnung!$C$74/100)*AE83","v":2274.1405108096565},{"$f":"(1+Berechnung!$C$80/100)*AF83","v":167.39318452468135},{"$f":"(1+Berechnung!$C$74/100)*AG83","v":2842.6756385120702},5685.3512770241405,6580.0594194044406]
["Zertifikat MCS",null,{"$f":"VLOOKUP(A5,Leistungsdaten!A:L,12,FALSE)","v":"---"},null,null,5,7.1,4.1909909909909908,null,null,"Warmwasser",{"$f":"L8","v":1320.0833333333335},{"$f":"L10","v":2372.5},{"$f":"IF(Berechnung!H5=Berechnung!H7,IF(Berechnung!C95=2,L9/Berechnung!C101,L9),IF(Berechnung!C95=2,L9/Berechnung!C102,L9))","v":4106.25},{"$f":"IF(Berechnung!H5=Berechnung!H7,IF(Berechnung!C95=2,L11/Berechnung!C101,L11),IF(Berechnung!C95=2,L11/Berechnung!C102,L11))","v":660.04166666666674},{"$f":"IF(Berechnung!H5=Berechnung!H7,IF(Berechnung!C95=2,L12/Berechnung!C101,L12),IF(Berechnung!C95=2,L12/Berechnung!C102,L12))","v":2053.125},{"$f":"IF($K$5=1,L85,IF($K$5=3,M85,IF($K$5=2,N85,IF($K$5=4,O85,P85))))","v":4106.25},{"$f":"IF(Berechnung!H5=Berechnung!H7,IF(AND(D5=2,Berechnung!C97=2),IF($K$5=0,\"\",FIXED(Q85,0)&\" \"&Translation!$A$196),IF($K$5=0,\"\",FIXED(Q85,0)&\" \"&Translation!$A$79)),IF(AND(D5=2,Berechnung!C97=2),IF($K$5=0,\"\",FIXED(Q85,0)&\" \"&Translation!$A$197),IF($K$5=0,\"\",FIXED(Q85,0)&\" \"&Translation!$A$79)))","v":"4.106 kWh/Year"},null,12,0,{"$f":"(1+Berechnung!$C$80/100)*V84","v":770.76579020591942},{"$f":"(1+Berechnung!$C$74/100)*W84","v":16526.182099287897},{"$f":"(1+Berechnung!$C$80/100)*X84","v":724.34833873863806},{"$f":"(1+Berechnung!$C$74/100)*Y84","v":201.03019447449012},925.37853321312821,{"$f":"IF($K$5<3,0,IF(Einstellungen!$D$55>=T85,Einstellungen!$D$53,0))","v":0},{"$f":"(1+Berechnung!$C$80/100)*AB84","v":344.82996012084357},{"$f":"(1+Berechnung!$C$74/100)*AC84","v":5969.6188408753478},{"$f":"(1+Berechnung!$C$80/100)*AD84","v":181.88833061319221},{"$f":"(1+Berechnung!$C$74/100)*AE84","v":2387.8475363501393},{"$f":"(1+Berechnung!$C$80/100)*AF84","v":172.41498006042178},{"$f":"(1+Berechnung!$C$74/100)*AG84","v":2984.8094204376739},5969.6188408753478,6894.9973740884761,null,null,"Diagramm Preisentwicklung"]
["Slot eingeblendet ?",null,false,null,null,7.5,7.8,4.2627634660421538,null,null,"Summe",{"$f":"SUM(L83:L85)","v":4361.3521047027025},{"$f":"SUM(M83:M85)","v":5417.9171781172608},15473.916354264293,3701.3104380360364,13420.791354264293,{"$f":"SUM(Q83:Q85)","v":7151.6671781172608},{"$f":"IF(Berechnung!H5=Berechnung!H7,IF(AND(D5=2,Berechnung!C97=2),FIXED(Q86,0)&\" \"&Translation!$A$196,FIXED(Q86,0)&\" \"&Translation!$A$79),IF(AND(D5=2,Berechnung!C97=2),FIXED(Q86,0)&\" \"&Translation!$A$197,FIXED(Q86,0)&\" \"&Translation!$A$79))","v":"7.152 kWh/Year"},null,13,0,{"$f":"(1+Berechnung!$C$80/100)*V85","v":793.88876391209703},{"$f":"(1+Berechnung!$C$74/100)*W85","v":17352.491204252292},{"$f":"(1+Berechnung!$C$80/100)*X85","v":746.07878890079724},{"$f":"(1+Berechnung!$C$74/100)*Y85","v":211.08170419821462},957.16049309901189,{"$f":"IF($K$5<3,0,IF(Einstellungen!$D$55>=T86,Einstellungen!$D$53,0))","v":0},{"$f":"(1+Berechnung!$C$80/100)*AB85","v":355.17485892446888},{"$f":"(1+Berechnung!$C$74/100)*AC85","v":6268.0997829191156},{"$f":"(1+Berechnung!$C$80/100)*AD85","v":187.34498053158799},{"$f":"(1+Berechnung!$C$74/100)*AE85","v":2507.2399131676466},{"$f":"(1+Berechnung!$C$80/100)*AF85","v":177.58742946223444},{"$f":"(1+Berechnung!$C$74/100)*AG85","v":3134.0498914595578},6268.0997829191156,7225.2602760181271,null,"Jahr","Gesamtkosten","Förderung","Heizung-Diagr.","WW-Diagr.","Förderung"]
[null,null,null,null,null,10,8.3000000000000007,4.2619047619047619,null,null,null,null,null,null,null,null,null,null,null,14,0,{"$f":"(1+Berechnung!$C$80/100)*V86","v":817.70542682945995},{"$f":"(1+Berechnung!$C$74/100)*W86","v":18220.115764464907},{"$f":"(1+Berechnung!$C$80/100)*X86","v":768.46115256782116},{"$f":"(1+Berechnung!$C$74/100)*Y86","v":221.63578940812536},990.09694197594649,{"$f":"IF($K$5<3,0,IF(Einstellungen!$D$55>=T87,Einstellungen!$D$53,0))","v":0},{"$f":"(1+Berechnung!$C$80/100)*AB86","v":365.83010469220295},{"$f":"(1+Berechnung!$C$74/100)*AC86","v":6581.5047720650718},{"$f":"(1+Berechnung!$C$80/100)*AD86","v":192.96532994753565},{"$f":"(1+Berechnung!$C$74/100)*AE86","v":2632.6019088260291},{"$f":"(1+Berechnung!$C$80/100)*AF86","v":182.91505234610148},{"$f":"(1+Berechnung!$C$74/100)*AG86","v":3290.7523860325359},6581.5047720650718,7571.6017140410186,null,1,{"$f":"AI74","v":4131.1353427640124},{"$f":"U74+AA74","v":0},{"$f":"IF(AM87>0,(AL87-AM87)*(Z74/AI74),Z74)","v":640.82284276401242},{"$f":"IF(AM87>0,(AL87-AM87)*(AH74/AI74),AH74)","v":3490.3125},{"$f":"MIN(AM87,AL87)","v":0}]
[null,null,null,null,null,12.5,8.8625000000000007,4.3477048477048488,null,null,null,null,null,null,null,null,null,null,null,15,0,{"$f":"(1+Berechnung!$C$80/100)*V87","v":842.23658963434377},{"$f":"(1+Berechnung!$C$74/100)*W87","v":19131.121552688153},{"$f":"(1+Berechnung!$C$80/100)*X87","v":791.51498714485581},{"$f":"(1+Berechnung!$C$74/100)*Y87","v":232.71757887853164},1024.2325660233873,{"$f":"IF($K$5<3,0,IF(Einstellungen!$D$55>=T88,Einstellungen!$D$53,0))","v":0},{"$f":"(1+Berechnung!$C$80/100)*AB87","v":376.80500783296907},{"$f":"(1+Berechnung!$C$74/100)*AC87","v":6910.5800106683255},{"$f":"(1+Berechnung!$C$80/100)*AD87","v":198.75428984596172},{"$f":"(1+Berechnung!$C$74/100)*AE87","v":2764.2320042673305},{"$f":"(1+Berechnung!$C$80/100)*AF87","v":188.40250391648453},{"$f":"(1+Berechnung!$C$74/100)*AG87","v":3455.2900053341627},6910.5800106683255,7934.8125766917128,null,2,4327.2264168707379,0,{"$f":"IF(AM88>0,(AL88-AM88)*(Z75/AI75),Z75)","v":662.39829187073792},{"$f":"IF(AM88>0,(AL88-AM88)*(AH75/AI75),AH75)","v":3664.828125},{"$f":"MIN(AM88,AL88)","v":0}]
[null,null,null,null,null,15,9.4250000000000007,4.3996655518394654,null,null,null,null,null,null,null,null,null,null,null,"Summe",{"$f":"SUM(U74:U88)","v":0},10356.20270680533,{"$f":"SUM(W74:W88)","v":208503.22458395801},{"$f":"SUM(X74:X88)","v":9732.52617284806},{"$f":"SUM(Y74:Y88)","v":2536.3053326441004},{"$f":"SUM(Z74:Z88)","v":12268.831505492162},{"$f":"SUM(AA74:AA88)","v":0},4633.2219355986008,{"$f":"SUM(AC74:AC88)","v":75315.93022403479},{"$f":"SUM(AD74:AD88)","v":2443.89728471135},{"$f":"SUM(AE74:AE88)","v":30126.372089613913},{"$f":"SUM(AF74:AF88)","v":2316.6109677993004},37657.965112017395,{"$f":"SUM(AH74:AH88)","v":75315.93022403479},{"$f":"SUM(AI74:AI88)","v":87584.761729526945},null,3,4532.8080738918561,0,684.73854264185547,3848.0695312500002,0]
[null,null,null,null,null,17.5,9.9875000000000007,4.878914835164835,null,null,"CO2",null,null,null,null,null,null,null,null,null,null,null,null,null,null,null,null,null,null,null,null,null,null,null,null,null,4,4748.3454238493568,0,707.87241603685629,4040.4730078125003,0]
[null,null,null,null,null,20,10.55,5.2167832167832167,null,null,"Kategorie","Nur WP","Bivalent","Nur Öl/Gas","WP+Solar","Öl/Gas+Solar","Gewählt","Ausgabe",null,null,null,null,null,null,null,null,null,null,null,null,null,null,null,null,null,null,5,4974.3265496926197,0,731.82989148949423,4242.4966582031257,0]
[null,null,null,null,null,22.5,11.112500000000001,null,null,null,"1. WE",{"$f":"N146","v":1805.3320479294694},{"$f":"L92","v":1805.3320479294694},{"$f":"AF146","v":2876.0195876288662},{"$f":"L92","v":1805.3320479294694},{"$f":"N92","v":2876.0195876288662},{"$f":"IF($D$5=1,L92,IF($D$5=2,N92,M92))","v":1805.3320479294694},{"$f":"FIXED(Q92,0)&\" \"&Translation!$A$80","v":"1.805 kg/year"},null,null,null,null,null,null,null,null,null,null,null,null,null,null,null,null,null,null,6,5211.2636474675701,0,756.64215635428809,4454.621491113282,0]
[null,null,null,null,null,25,11.675000000000001,null,null,null,"2. WE",{"$f":"R146","v":83.295859090909119},{"$f":"V146","v":34.984896907216509},0,{"$f":"L93","v":83.295859090909119},{"$f":"N93","v":0},{"$f":"IF($D$5=1,L93,IF($D$5=2,N93,M93))","v":34.984896907216509},{"$f":"FIXED(Q93,0)&\" \"&Translation!$A$80","v":"35 kg/year"},null,null,null,null,null,null,null,null,null,null,null,null,null,null,null,null,null,null,7,5459.6942232399779,0,782.34165757103119,4677.3525656689462,0]
[null,null,null,null,null,27.5,12.237500000000001,null,null,null,"Warmwasser",{"$f":"N8","v":819.77175000000011},{"$f":"N10","v":868.88249999999994},{"$f":"N9","v":1038.8812499999999},{"$f":"N11","v":409.88587500000006},{"$f":"N12","v":519.44062499999995},{"$f":"IF($K$5=1,L94,IF($K$5=3,M94,IF($K$5=2,N94,IF($K$5=4,O94,P94))))","v":1038.8812499999999},{"$f":"IF($K$5=0,\"\",FIXED(Q94,0)&\" \"&Translation!$A$80)","v":"1.039 kg/year"},null,null,null,null,null,null,null,null,null,null,null,null,null,null,null,null,null,null,8,5720.1823496029765,0,{"$f":"IF(AM94>0,(AL94-AM94)*(Z81/AI81),Z81)","v":808.9621556505823},4911.2201939523939,0]
[null,null,null,null,null,30,12.8,null,null,null,"Summe",{"$f":"SUM(L92:L94)","v":2708.3996570203785},{"$f":"SUM(M92:M94)","v":2709.1994448366859},3914.9008376288662,2298.5137820203786,{"$f":"SUM(P92:P94)","v":3395.4602126288664},{"$f":"SUM(Q92:Q94)","v":2879.1981948366856},{"$f":"FIXED(Q95,0)&\" \"&Translation!$A$80","v":"2.879 kg/year"},null,null,null,null,null,null,null,null,null,null,null,null,null,null,null,null,null,null,9,5993.3199847401547,0,836.5387810901409,5156.7812036500136,0]
[null,null,null,null,null,null,null,null,null,null,null,null,null,null,null,null,null,null,null,null,null,null,null,null,null,null,null,null,null,null,null,null,null,null,null,null,10,6279.7283571639036,0,865.10809333138832,5414.6202638325149,0]
[null,null,null,null,null,null,null,null,null,null,null,null,null,null,null,null,null,null,null,null,null,null,null,null,null,null,null,null,null,null,null,null,null,null,null,null,11,6580.0594194044406,0,894.70814238030027,5685.3512770241405,0]
[null,null,null,null,null,null,null,null,null,null,null,null,null,null,null,null,null,null,null,null,null,null,null,null,null,null,null,null,null,null,null,null,null,null,null,null,12,6894.9973740884761,0,925.37853321312821,5969.6188408753478,0]
[null,null,null,null,null,null,null,null,null,null,null,null,null,null,null,null,null,null,null,null,null,null,null,null,null,null,null,null,null,null,null,null,null,null,null,null,13,7225.2602760181271,0,957.16049309901189,6268.0997829191156,0]
["Berechnung Jahresheizarbeit/Heizstunden",null,null,null,null,null,null,null,null,"Wärmepumpe",null,null,null,null,"2. WE - DHC monoenergetisch",null,null,null,"2. WE - Öl/Gas bivalent",null,null,null,"Gesamt Nur Wärmepumpe",null,null,"Gesamt Wärmepumpe+Öl/Gas",null,null,"Gasamt Nur Öl/Gas",null,null,null,null,null,null,null,14,7571.6017140410186,0,990.09694197594649,6581.5047720650718,0]
["Zähler","Außentemp","Heizlast","Leistung WP","Heizlast minus","Biv.punkt","Stunden bei tau","Heizwärmebedarf","Faktor","Heizarbeit","COP","Endenergie","Energiekosten","CO2-Emission","Heizarbeit","Endenergie","Energiekosten","CO2-Emission","Heizarbeit","Endenergie","Energiekosten","CO2-Emission","Endenergie","Energiekosten","CO2-Emission","Endenergie","Energiekosten","CO2-Emission","Heizarbeit","Endenergie","Energiekosten","CO2-Emission",null,null,null,null,15,7934.8125766917128,0,1024.2325660233873,6910.5800106683255,0]
[null,"°C","KW","KW","WP-Leistung",null,{"$f":"Berechnung!$B$5","v":"Holzminden"},"kWh/a","bivalenter Betrieb","kWh/a","-","kWh/a","€/a","kg/a","kWh/a","kWh/a","€/a","kg/a","kWh/a","kWh/a","€/a","kg/a",null,null,null,null,null,null,"kWh/a","kWh/a","€/a","kg/a"]
[3,"< -20",{"$f":"Berechnung!$C$65","v":6},{"$f":"D104-(D105-D104)","v":2.0999999999999996},{"$f":"C103-D103","v":3.9000000000000004},-20,{"$f":"HLOOKUP(Berechnung!$C$66,INDIRECT(\"Klimadaten!M\"&Berechnung!$C$67&\":BM\"&Berechnung!$C$67+44),A103,FALSE)","v":0},{"$f":"C103*G103","v":0},{"$f":"I104","v":1},{"$f":"MIN(H103,I103*D103*G103)","v":0},{"$f":"K104-(K105-K104)","v":2.0814479638009047},{"$f":"J103/K103","v":0},{"$f":"L103*Berechnung!$C$79/100","v":0},{"$f":"(L103*Berechnung!$C$69/1000)","v":0},{"$f":"H103-J103","v":0},{"$f":"O103","v":0},{"$f":"P103*Berechnung!$C$78/100","v":0},{"$f":"P103*Berechnung!$C$69/1000","v":0},{"$f":"O103","v":0},{"$f":"S103/(Berechnung!$C$81/100)","v":0},{"$f":"T103*Berechnung!$C$72","v":0},{"$f":"T103*Berechnung!$C$73/1000","v":0},{"$f":"L103+P103","v":0},0,0,{"$f":"L103+T103","v":0},{"$f":"M103+U103","v":0},{"$f":"N103+V103","v":0},{"$f":"H103","v":0},{"$f":"AC103/(Berechnung!$C$81/100)","v":0},{"$f":"AD103*Berechnung!$C$72","v":0},{"$f":"AD103*Berechnung!$C$73/1000","v":0}]
[4,-20,{"$f":"MAX(0,MIN(Berechnung!$C$65,Berechnung!$C$65*(B104-Berechnung!$C$64)/(Berechnung!$C$63-Berechnung!$C$64)))","v":6},{"$f":"G75","v":2.4},{"$f":"C104-D104","v":3.6},{"$f":"IF(SIGN(E104)-SIGN(E105)<>0,B104,-20)","v":-20},{"$f":"HLOOKUP(Berechnung!$C$66,INDIRECT(\"Klimadaten!M\"&Berechnung!$C$67&\":BM\"&Berechnung!$C$67+44),A104,FALSE)","v":0},{"$f":"C104*G104","v":0},{"$f":"IF(OR($B$5=$B$7,$B$5=$B$8),1,IF(B104<=$F$146,0,1))","v":1},{"$f":"MIN(H104,I104*D104*G104)","v":0},{"$f":"H75","v":2.2307692307692308},0,{"$f":"L104*Berechnung!$C$79/100","v":0},{"$f":"(L104*Berechnung!$C$69/1000)","v":0},0,{"$f":"O104","v":0},{"$f":"P104*Berechnung!$C$78/100","v":0},{"$f":"P104*Berechnung!$C$69/1000","v":0},{"$f":"O104","v":0},{"$f":"S104/(Berechnung!$C$81/100)","v":0},{"$f":"T104*Berechnung!$C$72","v":0},{"$f":"T104*Berechnung!$C$73/1000","v":0},0,0,0,{"$f":"L104+T104","v":0},0,0,{"$f":"H104","v":0},{"$f":"AC104/(Berechnung!$C$81/100)","v":0},{"$f":"AD104*Berechnung!$C$72","v":0},{"$f":"AD104*Berechnung!$C$73/1000","v":0}]
[5,-19,{"$f":"MAX(0,MIN(Berechnung!$C$65,Berechnung!$C$65*(B105-Berechnung!$C$64)/(Berechnung!$C$63-Berechnung!$C$64)))","v":6},{"$f":"AVERAGE(D104,D106)","v":2.7},3.3,{"$f":"IF(SIGN(E105)-SIGN(E106)<>0,B105,-20)","v":-20},{"$f":"HLOOKUP(Berechnung!$C$66,INDIRECT(\"Klimadaten!M\"&Berechnung!$C$67&\":BM\"&Berechnung!$C$67+44),A105,FALSE)","v":0},{"$f":"C105*G105","v":0},1,0,{"$f":"AVERAGE(K104,K106)","v":2.380090497737557},0,{"$f":"L105*Berechnung!$C$79/100","v":0},{"$f":"(L105*Berechnung!$C$69/1000)","v":0},0,0,{"$f":"P105*Berechnung!$C$78/100","v":0},{"$f":"P105*Berechnung!$C$69/1000","v":0},0,{"$f":"S105/(Berechnung!$C$81/100)","v":0},{"$f":"T105*Berechnung!$C$72","v":0},{"$f":"T105*Berechnung!$C$73/1000","v":0},0,0,0,0,0,0,0,{"$f":"AC105/(Berechnung!$C$81/100)","v":0},{"$f":"AD105*Berechnung!$C$72","v":0},{"$f":"AD105*Berechnung!$C$73/1000","v":0}]
[6,-18,{"$f":"MAX(0,MIN(Berechnung!$C$65,Berechnung!$C$65*(B106-Berechnung!$C$64)/(Berechnung!$C$63-Berechnung!$C$64)))","v":6},{"$f":"G76","v":3},3,-20,{"$f":"HLOOKUP(Berechnung!$C$66,INDIRECT(\"Klimadaten!M\"&Berechnung!$C$67&\":BM\"&Berechnung!$C$67+44),A106,FALSE)","v":0},{"$f":"C106*G106","v":0},1,{"$f":"MIN(H106,I106*D106*G106)","v":0},{"$f":"H76","v":2.5294117647058827},0,{"$f":"L106*Berechnung!$C$79/100","v":0},{"$f":"(L106*Berechnung!$C$69/1000)","v":0},0,0,{"$f":"P106*Berechnung!$C$78/100","v":0},{"$f":"P106*Berechnung!$C$69/1000","v":0},0,{"$f":"S106/(Berechnung!$C$81/100)","v":0},{"$f":"T106*Berechnung!$C$72","v":0},{"$f":"T106*Berechnung!$C$73/1000","v":0},0,0,0,0,0,0,0,{"$f":"AC106/(Berechnung!$C$81/100)","v":0},{"$f":"AD106*Berechnung!$C$72","v":0},{"$f":"AD106*Berechnung!$C$73/1000","v":0}]
[7,-17,{"$f":"MAX(0,MIN(Berechnung!$C$65,Berechnung!$C$65*(B107-Berechnung!$C$64)/(Berechnung!$C$63-Berechnung!$C$64)))","v":6},{"$f":"G76","v":3},3,{"$f":"IF(SIGN(E107)-SIGN(E108)<>0,B107,-20)","v":-20},{"$f":"HLOOKUP(Berechnung!$C$66,INDIRECT(\"Klimadaten!M\"&Berechnung!$C$67&\":BM\"&Berechnung!$C$67+44),A107,FALSE)","v":0},{"$f":"C107*G107","v":0},1,{"$f":"MIN(H107,I107*D107*G107)","v":0},{"$f":"H76","v":2.5294117647058827},0,{"$f":"L107*Berechnung!$C$79/100","v":0},{"$f":"(L107*Berechnung!$C$69/1000)","v":0},0,0,{"$f":"P107*Berechnung!$C$78/100","v":0},{"$f":"P107*Berechnung!$C$69/1000","v":0},0,{"$f":"S107/(Berechnung!$C$81/100)","v":0},{"$f":"T107*Berechnung!$C$72","v":0},{"$f":"T107*Berechnung!$C$73/1000","v":0},0,0,0,0,0,0,0,{"$f":"AC107/(Berechnung!$C$81/100)","v":0},{"$f":"AD107*Berechnung!$C$72","v":0},{"$f":"AD107*Berechnung!$C$73/1000","v":0}]
[8,-16,{"$f":"MAX(0,MIN(Berechnung!$C$65,Berechnung!$C$65*(B108-Berechnung!$C$64)/(Berechnung!$C$63-Berechnung!$C$64)))","v":6},{"$f":"AVERAGE(D107,D109)","v":3.25},2.75,-20,{"$f":"HLOOKUP(Berechnung!$C$66,INDIRECT(\"Klimadaten!M\"&Berechnung!$C$67&\":BM\"&Berechnung!$C$67+44),A108,FALSE)","v":0},{"$f":"C108*G108","v":0},1,0,{"$f":"AVERAGE(K107,K109)","v":2.6218487394957988},0,{"$f":"L108*Berechnung!$C$79/100","v":0},{"$f":"(L108*Berechnung!$C$69/1000)","v":0},0,0,{"$f":"P108*Berechnung!$C$78/100","v":0},{"$f":"P108*Berechnung!$C$69/1000","v":0},0,{"$f":"S108/(Berechnung!$C$81/100)","v":0},{"$f":"T108*Berechnung!$C$72","v":0},{"$f":"T108*Berechnung!$C$73/1000","v":0},0,0,0,0,0,0,0,{"$f":"AC108/(Berechnung!$C$81/100)","v":0},{"$f":"AD108*Berechnung!$C$72","v":0},{"$f":"AD108*Berechnung!$C$73/1000","v":0}]
[9,-15,{"$f":"MAX(0,MIN(Berechnung!$C$65,Berechnung!$C$65*(B109-Berechnung!$C$64)/(Berechnung!$C$63-Berechnung!$C$64)))","v":6},{"$f":"G77","v":3.5},2.5,-20,{"$f":"HLOOKUP(Berechnung!$C$66,INDIRECT(\"Klimadaten!M\"&Berechnung!$C$67&\":BM\"&Berechnung!$C$67+44),A109,FALSE)","v":0},0,1,0,{"$f":"H77","v":2.7142857142857144},0,{"$f":"L109*Berechnung!$C$79/100","v":0},{"$f":"(L109*Berechnung!$C$69/1000)","v":0},0,0,{"$f":"P109*Berechnung!$C$78/100","v":0},{"$f":"P109*Berechnung!$C$69/1000","v":0},0,{"$f":"S109/(Berechnung!$C$81/100)","v":0},{"$f":"T109*Berechnung!$C$72","v":0},{"$f":"T109*Berechnung!$C$73/1000","v":0},0,0,0,0,0,0,0,{"$f":"AC109/(Berechnung!$C$81/100)","v":0},{"$f":"AD109*Berechnung!$C$72","v":0},{"$f":"AD109*Berechnung!$C$73/1000","v":0}]
[10,-14,{"$f":"MAX(0,MIN(Berechnung!$C$65,Berechnung!$C$65*(B110-Berechnung!$C$64)/(Berechnung!$C$63-Berechnung!$C$64)))","v":6},{"$f":"AVERAGE(D109,D111)","v":3.7250000000000001},2.2749999999999999,{"$f":"IF(SIGN(E110)-SIGN(E111)<>0,B110,-20)","v":-20},{"$f":"HLOOKUP(Berechnung!$C$66,INDIRECT(\"Klimadaten!M\"&Berechnung!$C$67&\":BM\"&Berechnung!$C$67+44),A110,FALSE)","v":0},{"$f":"C110*G110","v":0},1,0,{"$f":"AVERAGE(K109,K111)","v":2.7650375939849621},0,{"$f":"L110*Berechnung!$C$79/100","v":0},{"$f":"(L110*Berechnung!$C$69/1000)","v":0},0,0,{"$f":"P110*Berechnung!$C$78/100","v":0},{"$f":"P110*Berechnung!$C$69/1000","v":0},{"$f":"O110","v":0},{"$f":"S110/(Berechnung!$C$81/100)","v":0},{"$f":"T110*Berechnung!$C$72","v":0},{"$f":"T110*Berechnung!$C$73/1000","v":0},0,0,0,0,0,0,0,{"$f":"AC110/(Berechnung!$C$81/100)","v":0},{"$f":"AD110*Berechnung!$C$72","v":0},{"$f":"AD110*Berechnung!$C$73/1000","v":0}]
[11,-13,{"$f":"MAX(0,MIN(Berechnung!$C$65,Berechnung!$C$65*(B111-Berechnung!$C$64)/(Berechnung!$C$63-Berechnung!$C$64)))","v":6},{"$f":"G78","v":3.95},2.0499999999999998,-20,{"$f":"HLOOKUP(Berechnung!$C$66,INDIRECT(\"Klimadaten!M\"&Berechnung!$C$67&\":BM\"&Berechnung!$C$67+44),A111,FALSE)","v":0},{"$f":"C111*G111","v":0},1,0,{"$f":"H78","v":2.8157894736842102},0,{"$f":"L111*Berechnung!$C$79/100","v":0},{"$f":"(L111*Berechnung!$C$69/1000)","v":0},0,0,{"$f":"P111*Berechnung!$C$78/100","v":0},{"$f":"P111*Berechnung!$C$69/1000","v":0},0,{"$f":"S111/(Berechnung!$C$81/100)","v":0},{"$f":"T111*Berechnung!$C$72","v":0},{"$f":"T111*Berechnung!$C$73/1000","v":0},0,0,0,0,0,0,0,{"$f":"AC111/(Berechnung!$C$81/100)","v":0},{"$f":"AD111*Berechnung!$C$72","v":0},{"$f":"AD111*Berechnung!$C$73/1000","v":0}]
[12,-12,{"$f":"MAX(0,MIN(Berechnung!$C$65,Berechnung!$C$65*(B112-Berechnung!$C$64)/(Berechnung!$C$63-Berechnung!$C$64)))","v":6},{"$f":"G78","v":3.95},2.0499999999999998,-20,{"$f":"HLOOKUP(Berechnung!$C$66,INDIRECT(\"Klimadaten!M\"&Berechnung!$C$67&\":BM\"&Berechnung!$C$67+44),A112,FALSE)","v":0},0,1,{"$f":"MIN(H112,I112*D112*G112)","v":0},{"$f":"H78","v":2.8157894736842102},0,{"$f":"L112*Berechnung!$C$79/100","v":0},{"$f":"(L112*Berechnung!$C$69/1000)","v":0},0,0,{"$f":"P112*Berechnung!$C$78/100","v":0},{"$f":"P112*Berechnung!$C$69/1000","v":0},0,{"$f":"S112/(Berechnung!$C$81/100)","v":0},{"$f":"T112*Berechnung!$C$72","v":0},{"$f":"T112*Berechnung!$C$73/1000","v":0},0,0,0,0,0,0,0,{"$f":"AC112/(Berechnung!$C$81/100)","v":0},{"$f":"AD112*Berechnung!$C$72","v":0},{"$f":"AD112*Berechnung!$C$73/1000","v":0}]
[13,-11,{"$f":"MAX(0,MIN(Berechnung!$C$65,Berechnung!$C$65*(B113-Berechnung!$C$64)/(Berechnung!$C$63-Berechnung!$C$64)))","v":6},{"$f":"AVERAGE(D112,D114)","v":4.125},1.875,-20,{"$f":"HLOOKUP(Berechnung!$C$66,INDIRECT(\"Klimadaten!M\"&Berechnung!$C$67&\":BM\"&Berechnung!$C$67+44),A113,FALSE)","v":6},36,1,24.75,{"$f":"AVERAGE(K112,K114)","v":2.8453947368421049},8.6982658959537584,{"$f":"L113*Berechnung!$C$79/100","v":1.5656878612716765},{"$f":"(L113*Berechnung!$C$69/1000)","v":5.4016231213872841},11.25,11.25,{"$f":"P113*Berechnung!$C$78/100","v":2.8125},{"$f":"P113*Berechnung!$C$69/1000","v":6.9862500000000001},11.25,{"$f":"S113/(Berechnung!$C$81/100)","v":11.597938144329897},{"$f":"T113*Berechnung!$C$72","v":9.858247422680412},{"$f":"T113*Berechnung!$C$73/1000","v":2.9342783505154637},19.94826589595376,4.3781878612716767,12.387873121387283,20.296204040283655,11.423935283952089,8.3359014719027478,36,{"$f":"AC113/(Berechnung!$C$81/100)","v":37.113402061855673},{"$f":"AD113*Berechnung!$C$72","v":31.546391752577321},{"$f":"AD113*Berechnung!$C$73/1000","v":9.3896907216494849}]
[14,-10,{"$f":"MAX(0,MIN(Berechnung!$C$65,Berechnung!$C$65*(B114-Berechnung!$C$64)/(Berechnung!$C$63-Berechnung!$C$64)))","v":6},{"$f":"G79","v":4.3},1.7000000000000002,-20,{"$f":"HLOOKUP(Berechnung!$C$66,INDIRECT(\"Klimadaten!M\"&Berechnung!$C$67&\":BM\"&Berechnung!$C$67+44),A114,FALSE)","v":32},192,1,{"$f":"MIN(H114,I114*D114*G114)","v":137.6},{"$f":"H79","v":2.8749999999999996},47.860869565217399,{"$f":"L114*Berechnung!$C$79/100","v":8.6149565217391313},{"$f":"(L114*Berechnung!$C$69/1000)","v":29.721600000000006},54.400000000000006,54.400000000000006,{"$f":"P114*Berechnung!$C$78/100","v":13.600000000000001},{"$f":"P114*Berechnung!$C$69/1000","v":33.782400000000003},54.400000000000006,{"$f":"S114/(Berechnung!$C$81/100)","v":56.082474226804131},{"$f":"T114*Berechnung!$C$72","v":47.670103092783506},{"$f":"T114*Berechnung!$C$73/1000","v":14.188865979381445},102.2608695652174,22.214956521739133,63.504000000000005,103.94334379202152,56.285059614522638,43.910465979381449,192,{"$f":"AC114/(Berechnung!$C$81/100)","v":197.93814432989691},{"$f":"AD114*Berechnung!$C$72","v":168.24742268041237},{"$f":"AD114*Berechnung!$C$73/1000","v":50.078350515463917}]
[15,-9,{"$f":"MAX(0,MIN(Berechnung!$C$65,Berechnung!$C$65*(B115-Berechnung!$C$64)/(Berechnung!$C$63-Berechnung!$C$64)))","v":5.7272727272727275},{"$f":"AVERAGE(D114,D116)","v":4.4499999999999993},1.2772727272727282,-20,{"$f":"HLOOKUP(Berechnung!$C$66,INDIRECT(\"Klimadaten!M\"&Berechnung!$C$67&\":BM\"&Berechnung!$C$67+44),A115,FALSE)","v":14},80.181818181818187,1,62.29999999999999,{"$f":"AVERAGE(K114,K116)","v":2.9375},21.20851063829787,{"$f":"L115*Berechnung!$C$79/100","v":3.8175319148936167},{"$f":"(L115*Berechnung!$C$69/1000)","v":13.170485106382978},17.881818181818197,{"$f":"O115","v":17.881818181818197},{"$f":"P115*Berechnung!$C$78/100","v":4.4704545454545492},{"$f":"P115*Berechnung!$C$69/1000","v":11.104609090909101},17.881818181818197,{"$f":"S115/(Berechnung!$C$81/100)","v":18.434864104967215},{"$f":"T115*Berechnung!$C$72","v":15.669634489222132},{"$f":"T115*Berechnung!$C$73/1000","v":4.6640206185567052},39.090328820116071,8.287986460348165,24.275094197292077,39.643374743265085,{"$f":"M115+U115","v":19.487166404115747},17.834505724939682,80.181818181818187,{"$f":"AC115/(Berechnung!$C$81/100)","v":82.66166822867855},{"$f":"AD115*Berechnung!$C$72","v":70.262417994376761},{"$f":"AD115*Berechnung!$C$73/1000","v":20.91340206185567}]
[16,-8,{"$f":"MAX(0,MIN(Berechnung!$C$65,Berechnung!$C$65*(B116-Berechnung!$C$64)/(Berechnung!$C$63-Berechnung!$C$64)))","v":5.4545454545454541},{"$f":"G80","v":4.5999999999999996},0.8545454545454545,-20,{"$f":"HLOOKUP(Berechnung!$C$66,INDIRECT(\"Klimadaten!M\"&Berechnung!$C$67&\":BM\"&Berechnung!$C$67+44),A116,FALSE)","v":23},125.45454545454544,1,105.8,{"$f":"H80","v":3},35.266666666666666,{"$f":"L116*Berechnung!$C$79/100","v":6.3479999999999999},{"$f":"(L116*Berechnung!$C$69/1000)","v":21.900599999999997},19.654545454545442,19.654545454545442,{"$f":"P116*Berechnung!$C$78/100","v":4.9136363636363605},{"$f":"P116*Berechnung!$C$69/1000","v":12.205472727272719},19.654545454545442,{"$f":"S116/(Berechnung!$C$81/100)","v":20.262417994376744},{"$f":"T116*Berechnung!$C$72","v":17.223055295220231},{"$f":"T116*Berechnung!$C$73/1000","v":5.1263917525773159},54.921212121212108,11.261636363636359,34.106072727272718,55.529084661043413,23.57105529522023,27.026991752577313,125.45454545454544,{"$f":"AC116/(Berechnung!$C$81/100)","v":129.33458294283037},{"$f":"AD116*Berechnung!$C$72","v":109.9343955014058},{"$f":"AD116*Berechnung!$C$73/1000","v":32.72164948453608}]
[17,-7,{"$f":"MAX(0,MIN(Berechnung!$C$65,Berechnung!$C$65*(B117-Berechnung!$C$64)/(Berechnung!$C$63-Berechnung!$C$64)))","v":5.1818181818181817},{"$f":"G80","v":4.5999999999999996},0.58181818181818201,-20,{"$f":"HLOOKUP(Berechnung!$C$66,INDIRECT(\"Klimadaten!M\"&Berechnung!$C$67&\":BM\"&Berechnung!$C$67+44),A117,FALSE)","v":44},228,1,202.39999999999998,{"$f":"H80","v":3},67.466666666666654,{"$f":"L117*Berechnung!$C$79/100","v":12.143999999999998},{"$f":"(L117*Berechnung!$C$69/1000)","v":41.896799999999999},25.600000000000023,25.600000000000023,{"$f":"P117*Berechnung!$C$78/100","v":6.4000000000000057},{"$f":"P117*Berechnung!$C$69/1000","v":15.897600000000015},25.600000000000023,{"$f":"S117/(Berechnung!$C$81/100)","v":26.391752577319611},{"$f":"T117*Berechnung!$C$72","v":22.432989690721669},{"$f":"T117*Berechnung!$C$73/1000","v":6.6771134020618623},93.066666666666677,18.544000000000004,57.79440000000001,93.858419243986262,34.576989690721668,48.573913402061862,228,{"$f":"AC117/(Berechnung!$C$81/100)","v":235.05154639175259},{"$f":"AD117*Berechnung!$C$72","v":199.79381443298971},{"$f":"AD117*Berechnung!$C$73/1000","v":59.468041237113411}]
[18,-6,{"$f":"MAX(0,MIN(Berechnung!$C$65,Berechnung!$C$65*(B118-Berechnung!$C$64)/(Berechnung!$C$63-Berechnung!$C$64)))","v":4.9090909090909092},{"$f":"AVERAGE(D117,D119)","v":4.8},0.10909090909090935,-6,{"$f":"HLOOKUP(Berechnung!$C$66,INDIRECT(\"Klimadaten!M\"&Berechnung!$C$67&\":BM\"&Berechnung!$C$67+44),A118,FALSE)","v":49},240.54545454545456,1,235.2,{"$f":"AVERAGE(K117,K119)","v":3.0636942675159231},76.770062370062377,{"$f":"L118*Berechnung!$C$79/100","v":13.818611226611228},{"$f":"(L118*Berechnung!$C$69/1000)","v":47.674208731808733},5.3454545454545723,5.3454545454545723,{"$f":"P118*Berechnung!$C$78/100","v":1.3363636363636431},{"$f":"P118*Berechnung!$C$69/1000","v":3.3195272727272895},5.3454545454545723,{"$f":"S118/(Berechnung!$C$81/100)","v":5.5107778819119302},{"$f":"T118*Berechnung!$C$72","v":4.6841611996251409},{"$f":"T118*Berechnung!$C$73/1000","v":1.3942268041237182},82.115516915516949,15.154974862974871,50.993736004536025,82.280840251974311,18.502772426236369,49.068435535932451,240.54545454545456,{"$f":"AC118/(Berechnung!$C$81/100)","v":247.98500468603564},{"$f":"AD118*Berechnung!$C$72","v":210.78725398313028},{"$f":"AD118*Berechnung!$C$73/1000","v":62.740206185567018}]
[19,-5,{"$f":"MAX(0,MIN(Berechnung!$C$65,Berechnung!$C$65*(B119-Berechnung!$C$64)/(Berechnung!$C$63-Berechnung!$C$64)))","v":4.6363636363636367},{"$f":"G81","v":5},-0.36363636363636331,-20,{"$f":"HLOOKUP(Berechnung!$C$66,INDIRECT(\"Klimadaten!M\"&Berechnung!$C$67&\":BM\"&Berechnung!$C$67+44),A119,FALSE)","v":41},190.09090909090909,1,190.09090909090909,{"$f":"H81","v":3.1273885350318467},60.782632845769314,{"$f":"L119*Berechnung!$C$79/100","v":10.940873912238477},{"$f":"(L119*Berechnung!$C$69/1000)","v":37.746014997222744},0,0,{"$f":"P119*Berechnung!$C$78/100","v":0},{"$f":"P119*Berechnung!$C$69/1000","v":0},0,{"$f":"S119/(Berechnung!$C$81/100)","v":0},{"$f":"T119*Berechnung!$C$72","v":0},{"$f":"T119*Berechnung!$C$73/1000","v":0},60.782632845769314,10.940873912238477,37.746014997222744,60.782632845769314,10.940873912238477,37.746014997222744,190.09090909090909,{"$f":"AC119/(Berechnung!$C$81/100)","v":195.97000937207125},{"$f":"AD119*Berechnung!$C$72","v":166.57450796626054},{"$f":"AD119*Berechnung!$C$73/1000","v":49.580412371134024}]
[20,-4,{"$f":"MAX(0,MIN(Berechnung!$C$65,Berechnung!$C$65*(B120-Berechnung!$C$64)/(Berechnung!$C$63-Berechnung!$C$64)))","v":4.3636363636363633},{"$f":"AVERAGE(D119,D121)","v":5.2},-0.83636363636363686,-20,{"$f":"HLOOKUP(Berechnung!$C$66,INDIRECT(\"Klimadaten!M\"&Berechnung!$C$67&\":BM\"&Berechnung!$C$67+44),A120,FALSE)","v":89},388.36363636363632,1,388.36363636363632,{"$f":"AVERAGE(K119,K121)","v":3.2170685006447579},120.71972862430542,{"$f":"L120*Berechnung!$C$79/100","v":21.729551152374974},{"$f":"(L120*Berechnung!$C$69/1000)","v":74.966951475693676},0,0,{"$f":"P120*Berechnung!$C$78/100","v":0},{"$f":"P120*Berechnung!$C$69/1000","v":0},0,{"$f":"S120/(Berechnung!$C$81/100)","v":0},{"$f":"T120*Berechnung!$C$72","v":0},{"$f":"T120*Berechnung!$C$73/1000","v":0},120.71972862430542,21.729551152374974,74.966951475693676,120.71972862430542,21.729551152374974,74.966951475693676,388.36363636363632,{"$f":"AC120/(Berechnung!$C$81/100)","v":400.37488284910961},{"$f":"AD120*Berechnung!$C$72","v":340.31865042174314},{"$f":"AD120*Berechnung!$C$73/1000","v":101.29484536082474}]
[21,-3,{"$f":"MAX(0,MIN(Berechnung!$C$65,Berechnung!$C$65*(B121-Berechnung!$C$64)/(Berechnung!$C$63-Berechnung!$C$64)))","v":4.0909090909090908},{"$f":"G82","v":5.4},-1.3090909090909095,-20,{"$f":"HLOOKUP(Berechnung!$C$66,INDIRECT(\"Klimadaten!M\"&Berechnung!$C$67&\":BM\"&Berechnung!$C$67+44),A121,FALSE)","v":161},658.63636363636363,1,658.63636363636363,{"$f":"H82","v":3.3067484662576687},199.17945690672963,{"$f":"L121*Berechnung!$C$79/100","v":35.852302243211334},{"$f":"(L121*Berechnung!$C$69/1000)","v":123.69044273907909},0,0,{"$f":"P121*Berechnung!$C$78/100","v":0},{"$f":"P121*Berechnung!$C$69/1000","v":0},0,{"$f":"S121/(Berechnung!$C$81/100)","v":0},{"$f":"T121*Berechnung!$C$72","v":0},{"$f":"T121*Berechnung!$C$73/1000","v":0},199.17945690672963,35.852302243211334,123.69044273907909,199.17945690672963,35.852302243211334,123.69044273907909,658.63636363636363,{"$f":"AC121/(Berechnung!$C$81/100)","v":679.00656044985942},{"$f":"AD121*Berechnung!$C$72","v":577.15557638238045},{"$f":"AD121*Berechnung!$C$73/1000","v":171.78865979381445}]
[22,-2,{"$f":"MAX(0,MIN(Berechnung!$C$65,Berechnung!$C$65*(B122-Berechnung!$C$64)/(Berechnung!$C$63-Berechnung!$C$64)))","v":3.8181818181818183},{"$f":"G82","v":5.4},-1.581818181818182,-20,{"$f":"HLOOKUP(Berechnung!$C$66,INDIRECT(\"Klimadaten!M\"&Berechnung!$C$67&\":BM\"&Berechnung!$C$67+44),A122,FALSE)","v":207},790.36363636363637,1,{"$f":"MIN(H122,I122*D122*G122)","v":790.36363636363637},{"$f":"H82","v":3.3067484662576687},239.01534828807556,{"$f":"L122*Berechnung!$C$79/100","v":43.022762691853607},{"$f":"(L122*Berechnung!$C$69/1000)","v":148.42853128689492},0,0,{"$f":"P122*Berechnung!$C$78/100","v":0},{"$f":"P122*Berechnung!$C$69/1000","v":0},0,{"$f":"S122/(Berechnung!$C$81/100)","v":0},{"$f":"T122*Berechnung!$C$72","v":0},{"$f":"T122*Berechnung!$C$73/1000","v":0},239.01534828807556,43.022762691853607,148.42853128689492,239.01534828807556,43.022762691853607,148.42853128689492,790.36363636363637,{"$f":"AC122/(Berechnung!$C$81/100)","v":814.80787253983135},{"$f":"AD122*Berechnung!$C$72","v":692.58669165885658},{"$f":"AD122*Berechnung!$C$73/1000","v":206.14639175257733}]
[23,-1,{"$f":"MAX(0,MIN(Berechnung!$C$65,Berechnung!$C$65*(B123-Berechnung!$C$64)/(Berechnung!$C$63-Berechnung!$C$64)))","v":3.5454545454545454},{"$f":"AVERAGE(D122,D124)","v":5.6750000000000007},-2.1295454545454553,-20,{"$f":"HLOOKUP(Berechnung!$C$66,INDIRECT(\"Klimadaten!M\"&Berechnung!$C$67&\":BM\"&Berechnung!$C$67+44),A123,FALSE)","v":248},879.27272727272725,1,879.27272727272725,{"$f":"AVERAGE(K122,K124)","v":3.5326626176856877},248.89801898171498,{"$f":"L123*Berechnung!$C$79/100","v":44.801643416708693},{"$f":"(L123*Berechnung!$C$69/1000)","v":154.56566978764499},0,0,{"$f":"P123*Berechnung!$C$78/100","v":0},{"$f":"P123*Berechnung!$C$69/1000","v":0},0,{"$f":"S123/(Berechnung!$C$81/100)","v":0},{"$f":"T123*Berechnung!$C$72","v":0},{"$f":"T123*Berechnung!$C$73/1000","v":0},248.89801898171498,44.801643416708693,154.56566978764499,248.89801898171498,44.801643416708693,154.56566978764499,879.27272727272725,{"$f":"AC123/(Berechnung!$C$81/100)","v":906.46672914714156},{"$f":"AD123*Berechnung!$C$72","v":770.49671977507035},{"$f":"AD123*Berechnung!$C$73/1000","v":229.3360824742268}]
[24,0,{"$f":"MAX(0,MIN(Berechnung!$C$65,Berechnung!$C$65*(B124-Berechnung!$C$64)/(Berechnung!$C$63-Berechnung!$C$64)))","v":3.2727272727272729},{"$f":"G83","v":5.95},-2.6772727272727272,-20,{"$f":"HLOOKUP(Berechnung!$C$66,INDIRECT(\"Klimadaten!M\"&Berechnung!$C$67&\":BM\"&Berechnung!$C$67+44),A124,FALSE)","v":263},860.72727272727275,1,860.72727272727275,{"$f":"H83","v":3.7585767691137062},229.00350999887576,{"$f":"L124*Berechnung!$C$79/100","v":41.220631799797637},{"$f":"(L124*Berechnung!$C$69/1000)","v":142.21117970930186},0,0,{"$f":"P124*Berechnung!$C$78/100","v":0},{"$f":"P124*Berechnung!$C$69/1000","v":0},0,{"$f":"S124/(Berechnung!$C$81/100)","v":0},{"$f":"T124*Berechnung!$C$72","v":0},{"$f":"T124*Berechnung!$C$73/1000","v":0},229.00350999887576,41.220631799797637,142.21117970930186,229.00350999887576,41.220631799797637,142.21117970930186,860.72727272727275,{"$f":"AC124/(Berechnung!$C$81/100)","v":887.34770384254921},{"$f":"AD124*Berechnung!$C$72","v":754.24554826616679},{"$f":"AD124*Berechnung!$C$73/1000","v":224.49896907216493}]
[25,1,{"$f":"MAX(0,MIN(Berechnung!$C$65,Berechnung!$C$65*(B125-Berechnung!$C$64)/(Berechnung!$C$63-Berechnung!$C$64)))","v":3},{"$f":"AVERAGE(D124,D126)","v":6.2},-3.2,-20,{"$f":"HLOOKUP(Berechnung!$C$66,INDIRECT(\"Klimadaten!M\"&Berechnung!$C$67&\":BM\"&Berechnung!$C$67+44),A125,FALSE)","v":270},810,1,810,{"$f":"AVERAGE(K124,K126)","v":3.8666715621269465},209.48249340175195,{"$f":"L125*Berechnung!$C$79/100","v":37.70684881231535},{"$f":"(L125*Berechnung!$C$69/1000)","v":130.08862840248796},0,0,{"$f":"P125*Berechnung!$C$78/100","v":0},{"$f":"P125*Berechnung!$C$69/1000","v":0},0,{"$f":"S125/(Berechnung!$C$81/100)","v":0},{"$f":"T125*Berechnung!$C$72","v":0},{"$f":"T125*Berechnung!$C$73/1000","v":0},209.48249340175195,37.70684881231535,130.08862840248796,209.48249340175195,37.70684881231535,130.08862840248796,810,{"$f":"AC125/(Berechnung!$C$81/100)","v":835.05154639175259},{"$f":"AD125*Berechnung!$C$72","v":709.79381443298973},{"$f":"AD125*Berechnung!$C$73/1000","v":211.26804123711341}]
[26,2,{"$f":"MAX(0,MIN(Berechnung!$C$65,Berechnung!$C$65*(B126-Berechnung!$C$64)/(Berechnung!$C$63-Berechnung!$C$64)))","v":2.7272727272727271},{"$f":"G84","v":6.45},-3.7227272727272731,-20,{"$f":"HLOOKUP(Berechnung!$C$66,INDIRECT(\"Klimadaten!M\"&Berechnung!$C$67&\":BM\"&Berechnung!$C$67+44),A126,FALSE)","v":328},894.5454545454545,1,894.5454545454545,{"$f":"H84","v":3.9747663551401868},225.05611012547291,{"$f":"L126*Berechnung!$C$79/100","v":40.510099822585126},{"$f":"(L126*Berechnung!$C$69/1000)","v":139.75984438791869},0,0,{"$f":"P126*Berechnung!$C$78/100","v":0},{"$f":"P126*Berechnung!$C$69/1000","v":0},0,{"$f":"S126/(Berechnung!$C$81/100)","v":0},{"$f":"T126*Berechnung!$C$72","v":0},{"$f":"T126*Berechnung!$C$73/1000","v":0},225.05611012547291,40.510099822585126,139.75984438791869,225.05611012547291,40.510099822585126,139.75984438791869,894.5454545454545,{"$f":"AC126/(Berechnung!$C$81/100)","v":922.21180880974691},{"$f":"AD126*Berechnung!$C$72","v":783.88003748828487},{"$f":"AD126*Berechnung!$C$73/1000","v":233.31958762886597}]
[27,3,{"$f":"MAX(0,MIN(Berechnung!$C$65,Berechnung!$C$65*(B127-Berechnung!$C$64)/(Berechnung!$C$63-Berechnung!$C$64)))","v":2.4545454545454546},{"$f":"G84","v":6.45},-3.9954545454545456,-20,{"$f":"HLOOKUP(Berechnung!$C$66,INDIRECT(\"Klimadaten!M\"&Berechnung!$C$67&\":BM\"&Berechnung!$C$67+44),A127,FALSE)","v":344},844.36363636363637,1,844.36363636363637,{"$f":"H84","v":3.9747663551401868},212.43101126477566,{"$f":"L127*Berechnung!$C$79/100","v":38.23758202765962},{"$f":"(L127*Berechnung!$C$69/1000)","v":131.91965799542569},0,0,{"$f":"P127*Berechnung!$C$78/100","v":0},{"$f":"P127*Berechnung!$C$69/1000","v":0},0,{"$f":"S127/(Berechnung!$C$81/100)","v":0},{"$f":"T127*Berechnung!$C$72","v":0},{"$f":"T127*Berechnung!$C$73/1000","v":0},212.43101126477566,38.23758202765962,131.91965799542569,212.43101126477566,38.23758202765962,131.91965799542569,844.36363636363637,{"$f":"AC127/(Berechnung!$C$81/100)","v":870.47797563261486},{"$f":"AD127*Berechnung!$C$72","v":739.90627928772255},{"$f":"AD127*Berechnung!$C$73/1000","v":220.23092783505155}]
[28,4,{"$f":"MAX(0,MIN(Berechnung!$C$65,Berechnung!$C$65*(B128-Berechnung!$C$64)/(Berechnung!$C$63-Berechnung!$C$64)))","v":2.1818181818181817},{"$f":"AVERAGE(D127,D129)","v":6.7750000000000004},-4.5931818181818187,-20,{"$f":"HLOOKUP(Berechnung!$C$66,INDIRECT(\"Klimadaten!M\"&Berechnung!$C$67&\":BM\"&Berechnung!$C$67+44),A128,FALSE)","v":343},748.36363636363626,1,748.36363636363626,{"$f":"AVERAGE(K127,K129)","v":4.082878673065589},183.29313611509667,{"$f":"L128*Berechnung!$C$79/100","v":32.992764500717406},{"$f":"(L128*Berechnung!$C$69/1000)","v":113.82503752747505},0,0,{"$f":"P128*Berechnung!$C$78/100","v":0},{"$f":"P128*Berechnung!$C$69/1000","v":0},0,{"$f":"S128/(Berechnung!$C$81/100)","v":0},{"$f":"T128*Berechnung!$C$72","v":0},{"$f":"T128*Berechnung!$C$73/1000","v":0},183.29313611509667,32.992764500717406,113.82503752747505,183.29313611509667,32.992764500717406,113.82503752747505,748.36363636363626,{"$f":"AC128/(Berechnung!$C$81/100)","v":771.5089034676663},{"$f":"AD128*Berechnung!$C$72","v":655.78256794751633},{"$f":"AD128*Berechnung!$C$73/1000","v":195.19175257731956}]
[29,5,{"$f":"MAX(0,MIN(Berechnung!$C$65,Berechnung!$C$65*(B129-Berechnung!$C$64)/(Berechnung!$C$63-Berechnung!$C$64)))","v":1.9090909090909092},{"$f":"G85","v":7.1},-5.1909090909090905,-20,{"$f":"HLOOKUP(Berechnung!$C$66,INDIRECT(\"Klimadaten!M\"&Berechnung!$C$67&\":BM\"&Berechnung!$C$67+44),A129,FALSE)","v":414},790.36363636363637,1,790.36363636363637,{"$f":"H85","v":4.1909909909909908},188.58633627765184,{"$f":"L129*Berechnung!$C$79/100","v":33.945540529977329},{"$f":"(L129*Berechnung!$C$69/1000)","v":117.1121148284218},0,0,{"$f":"P129*Berechnung!$C$78/100","v":0},{"$f":"P129*Berechnung!$C$69/1000","v":0},0,{"$f":"S129/(Berechnung!$C$81/100)","v":0},{"$f":"T129*Berechnung!$C$72","v":0},{"$f":"T129*Berechnung!$C$73/1000","v":0},188.58633627765184,33.945540529977329,117.1121148284218,188.58633627765184,33.945540529977329,117.1121148284218,790.36363636363637,{"$f":"AC129/(Berechnung!$C$81/100)","v":814.80787253983135},{"$f":"AD129*Berechnung!$C$72","v":692.58669165885658},{"$f":"AD129*Berechnung!$C$73/1000","v":206.14639175257733}]
[30,6,{"$f":"MAX(0,MIN(Berechnung!$C$65,Berechnung!$C$65*(B130-Berechnung!$C$64)/(Berechnung!$C$63-Berechnung!$C$64)))","v":1.6363636363636365},{"$f":"AVERAGE(D129,D131)","v":7.4499999999999993},-5.8136363636363626,-20,{"$f":"HLOOKUP(Berechnung!$C$66,INDIRECT(\"Klimadaten!M\"&Berechnung!$C$67&\":BM\"&Berechnung!$C$67+44),A130,FALSE)","v":397},649.63636363636363,1,649.63636363636363,{"$f":"AVERAGE(K129,K131)","v":4.2268772285165728},153.69179858208332,{"$f":"L130*Berechnung!$C$79/100","v":27.664523744774996},{"$f":"(L130*Berechnung!$C$69/1000)","v":95.442606919473747},0,0,{"$f":"P130*Berechnung!$C$78/100","v":0},{"$f":"P130*Berechnung!$C$69/1000","v":0},{"$f":"O130","v":0},{"$f":"S130/(Berechnung!$C$81/100)","v":0},{"$f":"T130*Berechnung!$C$72","v":0},{"$f":"T130*Berechnung!$C$73/1000","v":0},153.69179858208332,27.664523744774996,95.442606919473747,153.69179858208332,27.664523744774996,95.442606919473747,649.63636363636363,{"$f":"AC130/(Berechnung!$C$81/100)","v":669.72820993439552},{"$f":"AD130*Berechnung!$C$72","v":569.26897844423615},{"$f":"AD130*Berechnung!$C$73/1000","v":169.44123711340208}]
[31,7,{"$f":"MAX(0,MIN(Berechnung!$C$65,Berechnung!$C$65*(B131-Berechnung!$C$64)/(Berechnung!$C$63-Berechnung!$C$64)))","v":1.3636363636363635},{"$f":"G86","v":7.8},-6.4363636363636365,-20,{"$f":"HLOOKUP(Berechnung!$C$66,INDIRECT(\"Klimadaten!M\"&Berechnung!$C$67&\":BM\"&Berechnung!$C$67+44),A131,FALSE)","v":406},553.63636363636363,1,553.63636363636363,{"$f":"H86","v":4.2627634660421538},129.87733615686591,{"$f":"L131*Berechnung!$C$79/100","v":23.377920508235867},{"$f":"(L131*Berechnung!$C$69/1000)","v":80.653825753413727},0,0,{"$f":"P131*Berechnung!$C$78/100","v":0},{"$f":"P131*Berechnung!$C$69/1000","v":0},{"$f":"O131","v":0},{"$f":"S131/(Berechnung!$C$81/100)","v":0},{"$f":"T131*Berechnung!$C$72","v":0},{"$f":"T131*Berechnung!$C$73/1000","v":0},129.87733615686591,23.377920508235867,80.653825753413727,129.87733615686591,23.377920508235867,80.653825753413727,553.63636363636363,{"$f":"AC131/(Berechnung!$C$81/100)","v":570.75913776944708},{"$f":"AD131*Berechnung!$C$72","v":485.14526710402998},{"$f":"AD131*Berechnung!$C$73/1000","v":144.40206185567013}]
[32,8,{"$f":"MAX(0,MIN(Berechnung!$C$65,Berechnung!$C$65*(B132-Berechnung!$C$64)/(Berechnung!$C$63-Berechnung!$C$64)))","v":1.0909090909090908},{"$f":"G86","v":7.8},-6.709090909090909,-20,{"$f":"HLOOKUP(Berechnung!$C$66,INDIRECT(\"Klimadaten!M\"&Berechnung!$C$67&\":BM\"&Berechnung!$C$67+44),A132,FALSE)","v":378},412.36363636363632,1,412.36363636363632,{"$f":"H86","v":4.2627634660421538},96.736222792700104,{"$f":"L132*Berechnung!$C$79/100","v":17.41252010268602},{"$f":"(L132*Berechnung!$C$69/1000)","v":60.073194354266768},0,0,{"$f":"P132*Berechnung!$C$78/100","v":0},{"$f":"P132*Berechnung!$C$69/1000","v":0},0,{"$f":"S132/(Berechnung!$C$81/100)","v":0},{"$f":"T132*Berechnung!$C$72","v":0},{"$f":"T132*Berechnung!$C$73/1000","v":0},96.736222792700104,17.41252010268602,60.073194354266768,96.736222792700104,17.41252010268602,60.073194354266768,412.36363636363632,{"$f":"AC132/(Berechnung!$C$81/100)","v":425.11715089034675},{"$f":"AD132*Berechnung!$C$72","v":361.3495782567947},{"$f":"AD132*Berechnung!$C$73/1000","v":107.55463917525773}]
[33,9,{"$f":"MAX(0,MIN(Berechnung!$C$65,Berechnung!$C$65*(B133-Berechnung!$C$64)/(Berechnung!$C$63-Berechnung!$C$64)))","v":0.81818181818181823},{"$f":"AVERAGE(D132,D134)","v":8.0500000000000007},-7.2318181818181824,-20,{"$f":"HLOOKUP(Berechnung!$C$66,INDIRECT(\"Klimadaten!M\"&Berechnung!$C$67&\":BM\"&Berechnung!$C$67+44),A133,FALSE)","v":409},334.63636363636368,1,334.63636363636368,{"$f":"AVERAGE(K132,K134)","v":4.2623341139734574},78.51012020369447,{"$f":"L133*Berechnung!$C$79/100","v":14.131821636665004},{"$f":"(L133*Berechnung!$C$69/1000)","v":48.754784646494265},0,0,{"$f":"P133*Berechnung!$C$78/100","v":0},{"$f":"P133*Berechnung!$C$69/1000","v":0},0,{"$f":"S133/(Berechnung!$C$81/100)","v":0},{"$f":"T133*Berechnung!$C$72","v":0},{"$f":"T133*Berechnung!$C$73/1000","v":0},78.51012020369447,14.131821636665004,48.754784646494265,78.51012020369447,14.131821636665004,48.754784646494265,334.63636363636368,{"$f":"AC133/(Berechnung!$C$81/100)","v":344.98594189315844},{"$f":"AD133*Berechnung!$C$72","v":293.23805060918465},{"$f":"AD133*Berechnung!$C$73/1000","v":87.28144329896908}]
[34,10,{"$f":"MAX(0,MIN(Berechnung!$C$65,Berechnung!$C$65*(B134-Berechnung!$C$64)/(Berechnung!$C$63-Berechnung!$C$64)))","v":0.54545454545454541},{"$f":"G87","v":8.3000000000000007},-7.7545454545454557,-20,{"$f":"HLOOKUP(Berechnung!$C$66,INDIRECT(\"Klimadaten!M\"&Berechnung!$C$67&\":BM\"&Berechnung!$C$67+44),A134,FALSE)","v":375},204.54545454545453,1,204.54545454545453,{"$f":"H87","v":4.2619047619047619},47.993905535804977,{"$f":"L134*Berechnung!$C$79/100","v":8.6389029964448962},{"$f":"(L134*Berechnung!$C$69/1000)","v":29.804215337734892},0,0,{"$f":"P134*Berechnung!$C$78/100","v":0},{"$f":"P134*Berechnung!$C$69/1000","v":0},0,{"$f":"S134/(Berechnung!$C$81/100)","v":0},{"$f":"T134*Berechnung!$C$72","v":0},{"$f":"T134*Berechnung!$C$73/1000","v":0},47.993905535804977,8.6389029964448962,29.804215337734892,47.993905535804977,8.6389029964448962,29.804215337734892,204.54545454545453,{"$f":"AC134/(Berechnung!$C$81/100)","v":210.87160262417993},{"$f":"AD134*Berechnung!$C$72","v":179.24086223055292},{"$f":"AD134*Berechnung!$C$73/1000","v":53.350515463917525}]
[35,11,{"$f":"MAX(0,MIN(Berechnung!$C$65,Berechnung!$C$65*(B135-Berechnung!$C$64)/(Berechnung!$C$63-Berechnung!$C$64)))","v":0.27272727272727271},{"$f":"AVERAGE(D134,D136)","v":8.5812500000000007},-8.3085227272727273,-20,{"$f":"HLOOKUP(Berechnung!$C$66,INDIRECT(\"Klimadaten!M\"&Berechnung!$C$67&\":BM\"&Berechnung!$C$67+44),A135,FALSE)","v":420},114.54545454545453,1,114.54545454545453,{"$f":"AVERAGE(K134,K136)","v":4.3048048048048049},26.608745283318004,{"$f":"L135*Berechnung!$C$79/100","v":4.7895741509972405},{"$f":"(L135*Berechnung!$C$69/1000)","v":16.524030820940478},0,0,{"$f":"P135*Berechnung!$C$78/100","v":0},{"$f":"P135*Berechnung!$C$69/1000","v":0},0,{"$f":"S135/(Berechnung!$C$81/100)","v":0},{"$f":"T135*Berechnung!$C$72","v":0},{"$f":"T135*Berechnung!$C$73/1000","v":0},26.608745283318004,4.7895741509972405,16.524030820940478,26.608745283318004,4.7895741509972405,16.524030820940478,114.54545454545453,{"$f":"AC135/(Berechnung!$C$81/100)","v":118.08809746954076},{"$f":"AD135*Berechnung!$C$72","v":100.37488284910964},{"$f":"AD135*Berechnung!$C$73/1000","v":29.876288659793811}]
[36,12,{"$f":"MAX(0,MIN(Berechnung!$C$65,Berechnung!$C$65*(B136-Berechnung!$C$64)/(Berechnung!$C$63-Berechnung!$C$64)))","v":0},{"$f":"G88","v":8.8625000000000007},-8.8625000000000007,-20,{"$f":"HLOOKUP(Berechnung!$C$66,INDIRECT(\"Klimadaten!M\"&Berechnung!$C$67&\":BM\"&Berechnung!$C$67+44),A136,FALSE)","v":378},0,1,0,{"$f":"H88","v":4.3477048477048488},0,{"$f":"L136*Berechnung!$C$79/100","v":0},{"$f":"(L136*Berechnung!$C$69/1000)","v":0},0,0,{"$f":"P136*Berechnung!$C$78/100","v":0},{"$f":"P136*Berechnung!$C$69/1000","v":0},0,{"$f":"S136/(Berechnung!$C$81/100)","v":0},{"$f":"T136*Berechnung!$C$72","v":0},{"$f":"T136*Berechnung!$C$73/1000","v":0},0,0,0,0,0,0,0,{"$f":"AC136/(Berechnung!$C$81/100)","v":0},{"$f":"AD136*Berechnung!$C$72","v":0},{"$f":"AD136*Berechnung!$C$73/1000","v":0}]
[37,13,{"$f":"MAX(0,MIN(Berechnung!$C$65,Berechnung!$C$65*(B137-Berechnung!$C$64)/(Berechnung!$C$63-Berechnung!$C$64)))","v":0},{"$f":"G88","v":8.8625000000000007},-8.8625000000000007,-20,{"$f":"HLOOKUP(Berechnung!$C$66,INDIRECT(\"Klimadaten!M\"&Berechnung!$C$67&\":BM\"&Berechnung!$C$67+44),A137,FALSE)","v":349},0,1,0,{"$f":"H88","v":4.3477048477048488},0,{"$f":"L137*Berechnung!$C$79/100","v":0},{"$f":"(L137*Berechnung!$C$69/1000)","v":0},0,0,{"$f":"P137*Berechnung!$C$78/100","v":0},{"$f":"P137*Berechnung!$C$69/1000","v":0},0,{"$f":"S137/(Berechnung!$C$81/100)","v":0},{"$f":"T137*Berechnung!$C$72","v":0},{"$f":"T137*Berechnung!$C$73/1000","v":0},0,0,0,0,0,0,0,{"$f":"AC137/(Berechnung!$C$81/100)","v":0},{"$f":"AD137*Berechnung!$C$72","v":0},{"$f":"AD137*Berechnung!$C$73/1000","v":0}]
[38,14,{"$f":"MAX(0,MIN(Berechnung!$C$65,Berechnung!$C$65*(B138-Berechnung!$C$64)/(Berechnung!$C$63-Berechnung!$C$64)))","v":0},{"$f":"AVERAGE(D137,D139)","v":9.1437500000000007},-9.1437500000000007,-20,{"$f":"HLOOKUP(Berechnung!$C$66,INDIRECT(\"Klimadaten!M\"&Berechnung!$C$67&\":BM\"&Berechnung!$C$67+44),A138,FALSE)","v":370},0,1,0,{"$f":"AVERAGE(K137,K139)","v":4.3736851997721571},0,{"$f":"L138*Berechnung!$C$79/100","v":0},{"$f":"(L138*Berechnung!$C$69/1000)","v":0},0,0,{"$f":"P138*Berechnung!$C$78/100","v":0},{"$f":"P138*Berechnung!$C$69/1000","v":0},0,{"$f":"S138/(Berechnung!$C$81/100)","v":0},{"$f":"T138*Berechnung!$C$72","v":0},{"$f":"T138*Berechnung!$C$73/1000","v":0},0,0,0,0,0,0,0,{"$f":"AC138/(Berechnung!$C$81/100)","v":0},{"$f":"AD138*Berechnung!$C$72","v":0},{"$f":"AD138*Berechnung!$C$73/1000","v":0}]
[39,15,{"$f":"MAX(0,MIN(Berechnung!$C$65,Berechnung!$C$65*(B139-Berechnung!$C$64)/(Berechnung!$C$63-Berechnung!$C$64)))","v":0},{"$f":"G89","v":9.4250000000000007},-9.4250000000000007,-20,{"$f":"HLOOKUP(Berechnung!$C$66,INDIRECT(\"Klimadaten!M\"&Berechnung!$C$67&\":BM\"&Berechnung!$C$67+44),A139,FALSE)","v":333},0,1,0,{"$f":"H89","v":4.3996655518394654},0,{"$f":"L139*Berechnung!$C$79/100","v":0},{"$f":"(L139*Berechnung!$C$69/1000)","v":0},0,0,{"$f":"P139*Berechnung!$C$78/100","v":0},{"$f":"P139*Berechnung!$C$69/1000","v":0},0,{"$f":"S139/(Berechnung!$C$81/100)","v":0},{"$f":"T139*Berechnung!$C$72","v":0},{"$f":"T139*Berechnung!$C$73/1000","v":0},0,0,0,0,0,0,0,{"$f":"AC139/(Berechnung!$C$81/100)","v":0},{"$f":"AD139*Berechnung!$C$72","v":0},{"$f":"AD139*Berechnung!$C$73/1000","v":0}]
[40,16,{"$f":"MAX(0,MIN(Berechnung!$C$65,Berechnung!$C$65*(B140-Berechnung!$C$64)/(Berechnung!$C$63-Berechnung!$C$64)))","v":0},{"$f":"AVERAGE(D139,D141)","v":9.7062500000000007},-9.7062500000000007,-20,{"$f":"HLOOKUP(Berechnung!$C$66,INDIRECT(\"Klimadaten!M\"&Berechnung!$C$67&\":BM\"&Berechnung!$C$67+44),A140,FALSE)","v":310},0,1,0,{"$f":"AVERAGE(K139,K141)","v":4.6392901935021502},0,{"$f":"L140*Berechnung!$C$79/100","v":0},{"$f":"(L140*Berechnung!$C$69/1000)","v":0},0,0,{"$f":"P140*Berechnung!$C$78/100","v":0},{"$f":"P140*Berechnung!$C$69/1000","v":0},0,{"$f":"S140/(Berechnung!$C$81/100)","v":0},{"$f":"T140*Berechnung!$C$72","v":0},{"$f":"T140*Berechnung!$C$73/1000","v":0},0,0,0,0,0,0,0,{"$f":"AC140/(Berechnung!$C$81/100)","v":0},{"$f":"AD140*Berechnung!$C$72","v":0},{"$f":"AD140*Berechnung!$C$73/1000","v":0}]
[41,17,{"$f":"MAX(0,MIN(Berechnung!$C$65,Berechnung!$C$65*(B141-Berechnung!$C$64)/(Berechnung!$C$63-Berechnung!$C$64)))","v":0},{"$f":"G90","v":9.9875000000000007},-9.9875000000000007,-20,{"$f":"HLOOKUP(Berechnung!$C$66,INDIRECT(\"Klimadaten!M\"&Berechnung!$C$67&\":BM\"&Berechnung!$C$67+44),A141,FALSE)","v":322},0,1,0,{"$f":"H90","v":4.878914835164835},0,{"$f":"L141*Berechnung!$C$79/100","v":0},{"$f":"(L141*Berechnung!$C$69/1000)","v":0},0,0,{"$f":"P141*Berechnung!$C$78/100","v":0},{"$f":"P141*Berechnung!$C$69/1000","v":0},0,{"$f":"S141/(Berechnung!$C$81/100)","v":0},{"$f":"T141*Berechnung!$C$72","v":0},{"$f":"T141*Berechnung!$C$73/1000","v":0},0,0,0,0,0,0,0,{"$f":"AC141/(Berechnung!$C$81/100)","v":0},{"$f":"AD141*Berechnung!$C$72","v":0},{"$f":"AD141*Berechnung!$C$73/1000","v":0}]
[42,18,{"$f":"MAX(0,MIN(Berechnung!$C$65,Berechnung!$C$65*(B142-Berechnung!$C$64)/(Berechnung!$C$63-Berechnung!$C$64)))","v":0},{"$f":"G90","v":9.9875000000000007},-9.9875000000000007,-20,{"$f":"HLOOKUP(Berechnung!$C$66,INDIRECT(\"Klimadaten!M\"&Berechnung!$C$67&\":BM\"&Berechnung!$C$67+44),A142,FALSE)","v":280},0,1,0,{"$f":"H90","v":4.878914835164835},0,{"$f":"L142*Berechnung!$C$79/100","v":0},{"$f":"(L142*Berechnung!$C$69/1000)","v":0},0,0,{"$f":"P142*Berechnung!$C$78/100","v":0},{"$f":"P142*Berechnung!$C$69/1000","v":0},0,{"$f":"S142/(Berechnung!$C$81/100)","v":0},{"$f":"T142*Berechnung!$C$72","v":0},{"$f":"T142*Berechnung!$C$73/1000","v":0},0,0,0,0,0,0,0,{"$f":"AC142/(Berechnung!$C$81/100)","v":0},{"$f":"AD142*Berechnung!$C$72","v":0},{"$f":"AD142*Berechnung!$C$73/1000","v":0}]
[43,19,{"$f":"MAX(0,MIN(Berechnung!$C$65,Berechnung!$C$65*(B143-Berechnung!$C$64)/(Berechnung!$C$63-Berechnung!$C$64)))","v":0},{"$f":"AVERAGE(D142,D144)","v":10.268750000000001},-10.268750000000001,-20,{"$f":"HLOOKUP(Berechnung!$C$66,INDIRECT(\"Klimadaten!M\"&Berechnung!$C$67&\":BM\"&Berechnung!$C$67+44),A143,FALSE)","v":217},{"$f":"C143*G143","v":0},1,0,{"$f":"AVERAGE(K142,K144)","v":5.0478490259740258},0,{"$f":"L143*Berechnung!$C$79/100","v":0},{"$f":"(L143*Berechnung!$C$69/1000)","v":0},0,0,{"$f":"P143*Berechnung!$C$78/100","v":0},{"$f":"P143*Berechnung!$C$69/1000","v":0},0,{"$f":"S143/(Berechnung!$C$81/100)","v":0},{"$f":"T143*Berechnung!$C$72","v":0},{"$f":"T143*Berechnung!$C$73/1000","v":0},0,0,0,0,0,0,0,{"$f":"AC143/(Berechnung!$C$81/100)","v":0},{"$f":"AD143*Berechnung!$C$72","v":0},{"$f":"AD143*Berechnung!$C$73/1000","v":0}]
[44,20,{"$f":"MAX(0,MIN(Berechnung!$C$65,Berechnung!$C$65*(B144-Berechnung!$C$64)/(Berechnung!$C$63-Berechnung!$C$64)))","v":0},{"$f":"G91","v":10.55},-10.55,-20,{"$f":"HLOOKUP(Berechnung!$C$66,INDIRECT(\"Klimadaten!M\"&Berechnung!$C$67&\":BM\"&Berechnung!$C$67+44),A144,FALSE)","v":196},0,1,0,{"$f":"H91","v":5.2167832167832167},0,{"$f":"L144*Berechnung!$C$79/100","v":0},{"$f":"(L144*Berechnung!$C$69/1000)","v":0},0,0,{"$f":"P144*Berechnung!$C$78/100","v":0},{"$f":"P144*Berechnung!$C$69/1000","v":0},0,{"$f":"S144/(Berechnung!$C$81/100)","v":0},{"$f":"T144*Berechnung!$C$72","v":0},{"$f":"T144*Berechnung!$C$73/1000","v":0},0,0,0,0,0,0,0,{"$f":"AC144/(Berechnung!$C$81/100)","v":0},{"$f":"AD144*Berechnung!$C$72","v":0},{"$f":"AD144*Berechnung!$C$73/1000","v":0}]
[45,"> 20",0,{"$f":"D144+(D144-D143)","v":10.831250000000001},-10.831250000000001,"> 20",{"$f":"HLOOKUP(Berechnung!$C$66,INDIRECT(\"Klimadaten!M\"&Berechnung!$C$67&\":BM\"&Berechnung!$C$67+44),A145,FALSE)","v":744},0,1,0,{"$f":"K144+(K144-K143)","v":5.3857174075924075},0,{"$f":"L145*Berechnung!$C$79/100","v":0},{"$f":"(L145*Berechnung!$C$69/1000)","v":0},0,0,{"$f":"P145*Berechnung!$C$78/100","v":0},{"$f":"P145*Berechnung!$C$69/1000","v":0},0,{"$f":"S145/(Berechnung!$C$81/100)","v":0},{"$f":"T145*Berechnung!$C$72","v":0},{"$f":"T145*Berechnung!$C$73/1000","v":0},0,0,0,0,0,0,0,{"$f":"AC145/(Berechnung!$C$81/100)","v":0},{"$f":"AD145*Berechnung!$C$72","v":0},{"$f":"AD145*Berechnung!$C$73/1000","v":0}]
[null,null,null,null,null,{"$f":"MAX(F103:F145)","v":-6},{"$f":"SUM(G103:G145)","v":8760},{"$f":"SUM(H104:H144)","v":11026.636363636362},null,{"$f":"ROUND(SUM(J103:J145),0)","v":10893},{"$f":"AVERAGE(K104:K144)","v":3.6384207547258782},{"$f":"SUM(L103:L145)","v":2907.1369531875512},523.28465157375933,1805.3320479294694,134.13181818181823,134.13181818181823,33.532954545454558,83.295859090909119,134.13181818181823,138.28022492970953,117.53819119025309,34.984896907216509,3041.2687713693699,556.81760611921391,1888.6279070203782,3045.4171781172613,640.82284276401242,1840.3169448366857,11026.636363636362,11367.666354264293,9662.5164011246507,2876.0195876288662]
[]
[]
[]
[]
[]
[null,"Darstellung Diagramm Heizlast/Heizwärmebedarf"]
[null,null,"Bivalenzpunkt genauer berechnen für Darstellung",null,null,null,null,"Kennlinie Heizlast",null,null,null,"Hilfslinie Bivalenzpunkt",null,"Punktdarstellung Biv.Punkt",null,"Linie Bivalenzpunkt Heizarbeit",null,"Heizarbeit",null,"Ausdr. Vergleich","Ausdr. Preisentw."]
[null,null,"Temp","Differenz","Leistung WP","m","n","Temp","Leistung","m","n","Temp","Leistung","Temp","Leistung","Temp","kWh",null,null,null,"Öl/Gas"]
[null,"Heizgrenze",{"$f":"F146","v":-6},{"$f":"VLOOKUP(C155,$B$103:$E$145,4,FALSE)","v":0.10909090909090935},{"$f":"VLOOKUP(C155,$B$103:$E$145,3,FALSE)","v":4.8},{"$f":"(D156-D155)/(C156-C155)","v":-0.47272727272727266},{"$f":"D155-C155*F155","v":-2.7272727272727266},{"$f":"IF(Berechnung!$C$65=0,-30,Berechnung!$C$64)","v":12},0,{"$f":"(M156-I155)/(L156-H155)","v":-0.27272727272727276},{"$f":"M156-J155*L156","v":3.2727272727272734},{"$f":"L156","v":-5.8},0,null,null,{"$f":"IF(OR(L156<-20,O146=0),0,ROUND(L156,0)+21)","v":15},0,"1. WE",{"$f":"IF(D5=2,AC146,J146)","v":10893},{"$f":"Translation!A203","v":"Heating"},{"$f":"W74+AC74","v":13152.828901124651}]
[null,"Außentemp",{"$f":"C155+1","v":-5},{"$f":"VLOOKUP(C156,$B$103:$E$145,4,FALSE)","v":-0.36363636363636331},{"$f":"VLOOKUP(C156,$B$103:$E$145,3,FALSE)","v":5},null,null,{"$f":"IF(Berechnung!$C$65=0,-30,Berechnung!$C$63)","v":-10},{"$f":"Berechnung!$C$65","v":6},null,null,{"$f":"C157","v":-5.8},{"$f":"Berechnung!$C$65*(L156-Berechnung!$C$64)/(Berechnung!$C$63-Berechnung!$C$64)","v":4.8545454545454554},{"$f":"C157","v":-5.8},{"$f":"M156","v":4.8545454545454554},{"$f":"P155","v":15},{"$f":"IF(ISERROR(VLOOKUP(P156-21,B104:H144,7,FALSE)),0,VLOOKUP(P156-21,B104:H144,7,FALSE))","v":240.54545454545456},"2. WE",{"$f":"IF(D5=2,0,O146)","v":134.13181818181823},{"$f":"Translation!A16","v":"2nd heat source"},13810.470346180884]
[null,null,{"$f":"IF(OR(F155=0,F146<=Berechnung!$C$63),-30,ROUND(-G155/F155,1))","v":-5.8},0,{"$f":"IF(ROUND(C157/5,1)*5=C155,E155,IF(ROUND(C157/5,1)*5=C156,E156,AVERAGE(E155:E156)))","v":4.8},null,null,null,null,null,null,null,null,null,null,null,null,null,null,{"$f":"Translation!A40","v":"DHW"},14500.99386348993]
[null,null,null,null,null,null,null,null,null,null,null,null,null,null,null,null,null,null,null,null,15226.043556664426]
[null,null,null,null,null,null,null,null,null,null,null,null,null,null,null,null,null,null,null,null,15987.345734497649]
[null,null,null,null,null,null,null,null,null,null,null,null,null,null,null,null,null,null,null,null,16786.713021222531]
[null,null,null,null,null,null,null,null,null,null,null,null,null,null,null,null,null,null,null,null,17626.048672283658]
[null,null,null,null,null,null,null,null,null,null,null,null,null,null,null,null,null,null,null,null,18507.35110589784]
[null,null,null,null,null,null,null,null,null,null,null,null,null,null,null,null,null,null,null,null,19432.718661192735]
[null,null,null,null,null,null,null,null,null,null,null,null,null,null,null,null,null,null,null,null,20404.354594252374]
[null,null,null,null,null,null,null,null,null,null,null,null,null,null,null,null,null,null,null,null,21424.572323964992]
[null,null,null,null,null,null,null,null,null,null,null,null,null,null,null,null,null,null,null,null,22495.800940163244]
[null,null,null,null,null,null,null,null,null,null,null,null,null,null,null,null,null,null,null,null,23620.590987171407]
[null,null,null,null,null,null,null,null,null,null,null,null,null,null,null,null,null,null,null,null,24801.620536529979]
[null,null,null,null,null,null,null,null,null,null,null,null,null,null,null,null,null,null,null,null,26041.701563356481]

{"sheet":"Ausdruck-Slot1","index":7,"n_rows":183,"n_cols":30,"rows_kept":183,"cut":false,"hidden":true,"merged":[[10,1,10,8],[10,9,10,25],[11,1,11,8],[11,9,11,25],[12,1,12,8],[12,9,12,25],[1,8,1,25],[4,1,4,25],[7,1,7,8],[8,1,8,8],[8,9,8,25],[9,1,9,8],[9,9,9,25],[18,1,18,8],[18,9,18,25],[20,1,20,8],[21,1,21,8],[21,9,21,25],[22,1,22,8],[22,9,22,25],[14,1,14,8],[15,1,15,8],[15,9,15,25],[16,1,16,8],[16,9,16,25],[17,1,17,8],[17,9,17,25],[28,1,28,25],[31,1,31,8],[32,1,32,8],[32,9,32,25],[33,1,33,8],[33,9,33,25],[23,1,23,8],[23,9,23,25],[24,1,24,8],[24,9,24,25],[25,1,25,8],[25,9,25,25],[26,1,26,8],[26,9,26,25],[53,1,53,25],[56,1,56,3],[56,4,56,6],[56,7,56,9],[56,10,56,13],[56,14,56,17],[56,18,56,21],[56,22,56,25],[36,1,36,8],[37,1,37,8],[37,9,37,25],[38,1,38,8],[38,9,38,25],[39,1,39,8],[39,9,39,25],[57,22,57,25],[58,1,58,3],[58,4,58,6],[58,7,58,9],[58,10,58,13],[58,14,58,17],[58,18,58,21],[58,22,58,25],[57,1,57,3],[57,4,57,6],[57,7,57,9],[57,10,57,13],[57,14,57,17],[57,18,57,21],[59,22,59,25],[60,1,60,3],[60,4,60,6],[60,7,60,9],[60,10,60,13],[60,14,60,17],[60,18,60,21],[60,22,60,25],[59,1,59,3],[59,4,59,6],[59,7,59,9],[59,10,59,13],[59,14,59,17],[59,18,59,21],[61,22,61,25],[62,1,62,3],[62,4,62,6],[62,7,62,9],[62,10,62,13],[62,14,62,17],[62,18,62,21],[62,22,62,25],[61,1,61,3],[61,4,61,6],[61,7,61,9],[61,10,61,13],[61,14,61,17],[61,18,61,21],[63,22,63,25],[64,1,64,3],[64,4,64,6],[64,7,64,9],[64,10,64,13],[64,14,64,17],[64,18,64,21],[64,22,64,25],[63,1,63,3],[63,4,63,6],[63,7,63,9],[63,10,63,13],[63,14,63,17],[63,18,63,21],[65,22,65,25],[66,1,66,3],[66,4,66,6],[66,7,66,9],[66,10,66,13],[66,14,66,17],[66,18,66,21],[66,22,66,25],[65,1,65,3],[65,4,65,6],[65,7,65,9],[65,10,65,13],[65,14,65,17],[65,18,65,21],[67,22,67,25],[68,1,68,3],[68,4,68,6],[68,7,68,9],[68,10,68,13],[68,14,68,17],[68,18,68,21],[68,22,68,25],[67,1,67,3],[67,4,67,6],[67,7,67,9],[67,10,67,13],[67,14,67,17],[67,18,67,21],[69,22,69,25],[70,1,70,3],[70,4,70,6],[70,7,70,9],[70,10,70,13],[70,14,70,17],[70,18,70,21],[70,22,70,25],[69,1,69,3],[69,4,69,6],[69,7,69,9],[69,10,69,13],[69,14,69,17],[69,18,69,21],[71,22,71,25],[72,1,72,3],[72,4,72,6],[72,7,72,9],[72,10,72,13],[72,14,72,17],[72,18,72,21],[72,22,72,25],[71,1,71,3],[71,4,71,6],[71,7,71,9],[71,10,71,13],[71,14,71,17],[71,18,71,21],[73,22,73,25],[74,1,74,3],[74,4,74,6],[74,7,74,9],[74,10,74,13],[74,14,74,17],[74,18,74,21],[74,22,74,25],[73,1,73,3],[73,4,73,6],[73,7,73,9],[73,10,73,13],[73,14,73,17],[73,18,73,21],[75,22,75,25],[76,1,76,3],[76,4,76,6],[76,7,76,9],[76,10,76,13],[76,14,76,17],[76,18,76,21],[76,22,76,25],[75,1,75,3],[75,4,75,6],[75,7,75,9],[75,10,75,13],[75,14,75,17],[75,18,75,21],[77,22,77,25],[78,1,78,3],[78,4,78,6],[78,7,78,9],[78,10,78,13],[78,14,78,17],[78,18,78,21],[78,22,78,25],[77,1,77,3],[77,4,77,6],[77,7,77,9],[77,10,77,13],[77,14,77,17],[77,18,77,21],[79,22,79,25],[80,1,80,3],[80,4,80,6],[80,7,80,9],[80,10,80,13],[80,14,80,17],[80,18,80,21],[80,22,80,25],[79,1,79,3],[79,4,79,6],[79,7,79,9],[79,10,79,13],[79,14,79,17],[79,18,79,21],[81,22,81,25],[82,1,82,3],[82,4,82,6],[82,7,82,9],[82,10,82,13],[82,14,82,17],[82,18,82,21],[82,22,82,25],[81,1,81,3],[81,4,81,6],[81,7,81,9],[81,10,81,13],[81,14,81,17],[81,18,81,21],[83,22,83,25],[84,1,84,3],[84,4,84,6],[84,7,84,9],[84,10,84,13],[84,14,84,17],[84,18,84,21],[84,22,84,25],[83,1,83,3],[83,4,83,6],[83,7,83,9],[83,10,83,13],[83,14,83,17],[83,18,83,21],[85,22,85,25],[86,1,86,3],[86,4,86,6],[86,7,86,9],[86,10,86,13],[86,14,86,17],[86,18,86,21],[86,22,86,25],[85,1,85,3],[85,4,85,6],[85,7,85,9],[85,10,85,13],[85,14,85,17],[85,18,85,21],[87,22,87,25],[88,1,88,3],[88,4,88,6],[88,7,88,9],[88,10,88,13],[88,14,88,17],[88,18,88,21],[88,22,88,25],[87,1,87,3],[87,4,87,6],[87,7,87,9],[87,10,87,13],[87,14,87,17],[87,18,87,21],[89,22,89,25],[90,1,90,3],[90,4,90,6],[90,7,90,9],[90,10,90,13],[90,14,90,17],[90,18,90,21],[90,22,90,25],[89,1,89,3],[89,4,89,6],[89,7,89,9],[89,10,89,13],[89,14,89,17],[89,18,89,21],[91,22,91,25],[92,1,92,3],[92,4,92,6],[92,7,92,9],[92,10,92,13],[92,14,92,17],[92,18,92,21],[92,22,92,25],[91,1,91,3],[91,4,91,6],[91,7,91,9],[91,10,91,13],[91,14,91,17],[91,18,91,21],[93,22,93,25],[94,1,94,3],[94,4,94,6],[94,7,94,9],[94,10,94,13],[94,14,94,17],[94,18,94,21],[94,22,94,25],[93,1,93,3],[93,4,93,6],[93,7,93,9],[93,10,93,13],[93,14,93,17],[93,18,93,21],[95,22,95,25],[96,1,96,3],[96,4,96,6],[96,7,96,9],[96,10,96,13],[96,14,96,17],[96,18,96,21],[96,22,96,25],[95,1,95,3],[95,4,95,6],[95,7,95,9],[95,10,95,13],[95,14,95,17],[95,18,95,21],[97,22,97,25],[98,1,98,3],[98,4,98,6],[98,7,98,9],[98,10,98,13],[98,14,98,17],[98,18,98,21],[98,22,98,25],[97,1,97,3],[97,4,97,6],[97,7,97,9],[97,10,97,13],[97,14,97,17],[97,18,97,21],[99,22,99,25],[100,1,100,3],[100,4,100,6],[100,7,100,9],[100,10,100,13],[100,14,100,17],[100,18,100,21],[100,22,100,25],[99,1,99,3],[99,4,99,6],[99,7,99,9],[99,10,99,13],[99,14,99,17],[99,18,99,21],[106,1,106,25],[109,1,109,8],[110,1,110,8],[110,9,110,25],[111,1,111,8],[111,9,111,25],[101,22,101,25],[104,1,104,3],[104,4,104,6],[104,7,104,9],[104,10,104,13],[104,14,104,17],[104,18,104,21],[104,22,104,25],[101,1,101,3],[101,4,101,6],[101,7,101,9],[101,10,101,13],[101,14,101,17],[101,18,101,21],[119,1,119,8],[119,9,119,25],[120,1,120,8],[120,9,120,25],[131,1,131,25],[134,1,134,8],[112,1,112,8],[112,9,112,25],[113,1,113,8],[113,9,113,25],[117,1,117,8],[118,1,118,8],[118,9,118,25],[121,1,121,8],[121,9,121,25],[138,1,138,8],[138,9,138,25],[141,1,141,8],[142,1,142,8],[142,9,142,25],[143,1,143,8],[143,9,143,25],[135,1,135,8],[135,9,135,25],[136,1,136,8],[136,9,136,25],[137,1,137,8],[137,9,137,25],[148,1,148,8],[148,9,148,25],[149,1,149,8],[149,9,149,25],[150,1,150,8],[150,9,150,25],[144,1,144,8],[144,9,144,25],[145,1,145,8],[145,9,145,25],[147,1,147,8],[147,9,147,25],[198,5,198,23],[199,5,199,23],[200,5,200,23],[201,5,201,23],[159,10,159,17],[168,10,168,17],[156,1,156,25],[151,1,151,8],[151,9,151,25],[152,1,152,8],[152,9,152,25],[179,1,179,25],[182,1,182,25],[172,2,172,12],[172,15,172,25],[159,1,159,8],[168,1,168,8]]}
[]
[null,null,null,null,null,null,null,null,{"$f":"Translation!$A$4","v":"Bivalent heatpump systems"}]
[null,null,null,null,null,null,null,null,null,null,null,null,null,null,null,null,null,null,null,null,null,null,null,null,null,null,{"$f":"RIGHT(Auslegung!$C$54,5)","v":"v1.20"}]
[]
[null,{"$f":"Translation!A175","v":"Project data"}]
[]
[]
[null,{"$f":"Translation!A84","v":"Building"}]
[null,{"$f":"Translation!A76","v":"Location"},null,null,null,null,null,null,null,{"$f":"Berechnung!B5&\"  |  \"&Berechnung!A5","v":"Holzminden  |  Germany"}]
[null,{"$f":"Translation!A90","v":"Type of building"},null,null,null,null,null,null,null,{"$f":"Berechnung!D5","v":"New building"}]
[null,{"$f":"Translation!A158","v":"Number of persons"},null,null,null,null,null,null,null,{"$f":"Berechnung!C62","v":4}]
[null,{"$f":"Translation!A72","v":"Heat demand"},null,null,null,null,null,null,null,{"$f":"Berechnung!G5&\" KW\"","v":"6 KW"}]
[null,{"$f":"Translation!A170","v":"Outside temperature"},null,null,null,null,null,null,null,{"$f":"Berechnung!C5","v":"-10 °C"}]
[]
[null,{"$f":"Translation!A110","v":"Heating system"}]
[null,{"$f":"Translation!A111","v":"Heat generator"},null,null,null,null,null,null,null,{"$f":"Slot1!C81","v":"WPL 25 A"}]
[null,{"$f":"Translation!A16","v":"2nd heat source"},null,null,null,null,null,null,null,{"$f":"IF(Slot1!D5=2,Translation!A9,Slot1!C82)","v":"Gaskessel"}]
[null,{"$f":"Translation!A171","v":"Forward flow temperature"},null,null,null,null,null,null,null,{"$f":"Berechnung!F5","v":"35 °C"}]
[null,{"$f":"Translation!A172","v":"Boiler efficiency"},null,null,null,null,null,null,null,{"$f":"IF(Slot1!D5=1,\"---\",FIXED(Berechnung!C81,0)&\" %\")","v":"97 %"}]
[]
[null,{"$f":"Translation!A40","v":"DHW"}]
[null,{"$f":"Translation!A111","v":"Heat generator"},null,null,null,null,null,null,null,{"$f":"Slot1!C5","v":"WPL 25 A"}]
[null,{"$f":"Translation!A55","v":"Hot water consumption"},null,null,null,null,null,null,null,{"$f":"Berechnung!C75& \" \"&Translation!A56","v":"1,8 kWh/person x day"}]
[null,{"$f":"Translation!A173","v":"Distribution  losses DHW"},null,null,null,null,null,null,null,{"$f":"IF(Slot1!K5=0,\"---\",Berechnung!C83&\" %\")","v":"25 %"}]
[null,{"$f":"Translation!A174","v":"SPF Heat Pump"},null,null,null,null,null,null,null,{"$f":"IF(Slot1!C74=0,\"---\",Slot1!C74)","v":2.7}]
[null,{"$f":"Translation!A172","v":"Boiler efficiency"},null,null,null,null,null,null,null,{"$f":"IF(Slot1!K5<2,\"---\",FIXED(Berechnung!C82,0)&\" %\")","v":"---"}]
[null,{"$f":"Translation!A207","v":"Solar fraction"},null,null,null,null,null,null,null,{"$f":"IF(Berechnung!C77=0,\"---\",FIXED(Berechnung!C77,0)&\" %\")","v":"50 %"}]
[]
[null,{"$f":"Slot1!C80","v":"WPL 25 A | Gaskessel"}]
[]
[]
[null,{"$f":"Translation!A71","v":"Heat demand | Dual-mode point"}]
[null,{"$f":"Slot1!AQ76","v":"Operating mode"},null,null,null,null,null,null,null,{"$f":"Slot1!AR76","v":"Mono-Mode"}]
[null,{"$f":"Slot1!AS76","v":""},null,null,null,null,null,null,null,{"$f":"Slot1!AT76","v":""}]
[]
[]
[null,{"$f":"Translation!A66","v":"Annual heating "}]
[null,{"$f":"Slot1!AM77","v":"Yearly heat demand"},null,null,null,null,null,null,null,{"$f":"Slot1!AN77","v":"11.027 kWh"}]
[null,{"$f":"Slot1!AO77","v":"Annual heating  WPL 25 A"},null,null,null,null,null,null,null,{"$f":"Slot1!AP77","v":"11.027 kWh"}]
[null,{"$f":"Slot1!AQ77","v":"Annual heating  Gaskessel"},null,null,null,null,null,null,null,{"$f":"Slot1!AR77","v":"0 kWh"}]
[]
[]
[null,null,null,null,null,null,null,{"$f":"Translation!A71","v":"Heat demand | Dual-mode point"},null,null,null,null,null,null,null,null,null,null,null,{"$f":"Translation!A66","v":"Annual heating "}]
[]
[]
[]
[]
[]
[]
[]
[]
[]
[]
[null,{"$f":"Slot1!C80","v":"WPL 25 A | Gaskessel"}]
[]
[]
[null,{"$f":"Translation!A178","v":"Temperature"},null,null,{"$f":"Translation!A72","v":"Heat demand"},null,null,{"$f":"Translation!A179","v":"Heating power"},null,null,{"$f":"Translation!A180","v":"Annual hours "},null,null,null,{"$f":"Translation!A181","v":"Heat demand"},null,null,null,{"$f":"Translation!A194","v":"Heating power 1. HS"},null,null,null,{"$f":"Translation!A195","v":"Heating power 2. HS"}]
[null,"[°C]",null,null,"[KW]",null,null,"[KW]",null,null,"[h/a]",null,null,null,"[KWh/a]",null,null,null,"[KWh/a]",null,null,null,"[KWh/a]"]
[null,{"$f":"Slot1!B103","v":"< -20"},null,null,{"$f":"FIXED(Slot1!C103,1)","v":"6,0"},null,null,{"$f":"FIXED(Slot1!D103,1)","v":"7,4"},null,null,{"$f":"Slot1!G103","v":0},null,null,null,{"$f":"FIXED(Slot1!H103,1)","v":"0,0"},null,null,null,{"$f":"FIXED(Slot1!J103,1)","v":"0,0"},null,null,null,{"$f":"IF(Slot1!B5=Slot1!B7,Slot1!O103,Slot1!S103)","v":0}]
[null,{"$f":"Slot1!B104","v":-20},null,null,{"$f":"FIXED(Slot1!C104,1)","v":"6,0"},null,null,{"$f":"FIXED(Slot1!D104,1)","v":"8,0"},null,null,{"$f":"Slot1!G104","v":0},null,null,null,{"$f":"FIXED(Slot1!H104,1)","v":"0,0"},null,null,null,{"$f":"FIXED(Slot1!J104,1)","v":"0,0"},null,null,null,{"$f":"IF(Slot1!B6=Slot1!B8,Slot1!O104,Slot1!S104)","v":0}]
[null,{"$f":"Slot1!B105","v":-19},null,null,{"$f":"FIXED(Slot1!C105,1)","v":"6,0"},null,null,{"$f":"FIXED(Slot1!D105,1)","v":"8,6"},null,null,{"$f":"Slot1!G105","v":0},null,null,null,{"$f":"FIXED(Slot1!H105,1)","v":"0,0"},null,null,null,{"$f":"FIXED(Slot1!J105,1)","v":"0,0"},null,null,null,{"$f":"IF(Slot1!B7=Slot1!B9,Slot1!O105,Slot1!S105)","v":0}]
[null,{"$f":"Slot1!B106","v":-18},null,null,{"$f":"FIXED(Slot1!C106,1)","v":"6,0"},null,null,{"$f":"FIXED(Slot1!D106,1)","v":"9,2"},null,null,{"$f":"Slot1!G106","v":0},null,null,null,{"$f":"FIXED(Slot1!H106,1)","v":"0,0"},null,null,null,{"$f":"FIXED(Slot1!J106,1)","v":"0,0"},null,null,null,{"$f":"IF(Slot1!B8=Slot1!B10,Slot1!O106,Slot1!S106)","v":0}]
[null,{"$f":"Slot1!B107","v":-17},null,null,{"$f":"FIXED(Slot1!C107,1)","v":"6,0"},null,null,{"$f":"FIXED(Slot1!D107,1)","v":"9,2"},null,null,{"$f":"Slot1!G107","v":0},null,null,null,{"$f":"FIXED(Slot1!H107,1)","v":"0,0"},null,null,null,{"$f":"FIXED(Slot1!J107,1)","v":"0,0"},null,null,null,{"$f":"IF(Slot1!B9=Slot1!B11,Slot1!O107,Slot1!S107)","v":0}]
[null,{"$f":"Slot1!B108","v":-16},null,null,{"$f":"FIXED(Slot1!C108,1)","v":"6,0"},null,null,{"$f":"FIXED(Slot1!D108,1)","v":"9,8"},null,null,{"$f":"Slot1!G108","v":0},null,null,null,{"$f":"FIXED(Slot1!H108,1)","v":"0,0"},null,null,null,{"$f":"FIXED(Slot1!J108,1)","v":"0,0"},null,null,null,{"$f":"IF(Slot1!B10=Slot1!B12,Slot1!O108,Slot1!S108)","v":0}]
[null,{"$f":"Slot1!B109","v":-15},null,null,{"$f":"FIXED(Slot1!C109,1)","v":"6,0"},null,null,{"$f":"FIXED(Slot1!D109,1)","v":"10,4"},null,null,{"$f":"Slot1!G109","v":0},null,null,null,{"$f":"FIXED(Slot1!H109,1)","v":"0,0"},null,null,null,{"$f":"FIXED(Slot1!J109,1)","v":"0,0"},null,null,null,{"$f":"IF(Slot1!B11=Slot1!B13,Slot1!O109,Slot1!S109)","v":0}]
[null,{"$f":"Slot1!B110","v":-14},null,null,{"$f":"FIXED(Slot1!C110,1)","v":"6,0"},null,null,{"$f":"FIXED(Slot1!D110,1)","v":"11,0"},null,null,{"$f":"Slot1!G110","v":0},null,null,null,{"$f":"FIXED(Slot1!H110,1)","v":"0,0"},null,null,null,{"$f":"FIXED(Slot1!J110,1)","v":"0,0"},null,null,null,{"$f":"IF(Slot1!B12=Slot1!B14,Slot1!O110,Slot1!S110)","v":0}]
[null,{"$f":"Slot1!B111","v":-13},null,null,{"$f":"FIXED(Slot1!C111,1)","v":"6,0"},null,null,{"$f":"FIXED(Slot1!D111,1)","v":"11,6"},null,null,{"$f":"Slot1!G111","v":0},null,null,null,{"$f":"FIXED(Slot1!H111,1)","v":"0,0"},null,null,null,{"$f":"FIXED(Slot1!J111,1)","v":"0,0"},null,null,null,{"$f":"IF(Slot1!B13=Slot1!B15,Slot1!O111,Slot1!S111)","v":0}]
[null,{"$f":"Slot1!B112","v":-12},null,null,{"$f":"FIXED(Slot1!C112,1)","v":"6,0"},null,null,{"$f":"FIXED(Slot1!D112,1)","v":"11,6"},null,null,{"$f":"Slot1!G112","v":0},null,null,null,{"$f":"FIXED(Slot1!H112,1)","v":"0,0"},null,null,null,{"$f":"FIXED(Slot1!J112,1)","v":"0,0"},null,null,null,{"$f":"IF(Slot1!B14=Slot1!B16,Slot1!O112,Slot1!S112)","v":0}]
[null,{"$f":"Slot1!B113","v":-11},null,null,{"$f":"FIXED(Slot1!C113,1)","v":"6,0"},null,null,{"$f":"FIXED(Slot1!D113,1)","v":"12,2"},null,null,{"$f":"Slot1!G113","v":6},null,null,null,{"$f":"FIXED(Slot1!H113,1)","v":"36,0"},null,null,null,{"$f":"FIXED(Slot1!J113,1)","v":"36,0"},null,null,null,{"$f":"IF(Slot1!B15=Slot1!B17,Slot1!O113,Slot1!S113)","v":0}]
[null,{"$f":"Slot1!B114","v":-10},null,null,{"$f":"FIXED(Slot1!C114,1)","v":"6,0"},null,null,{"$f":"FIXED(Slot1!D114,1)","v":"12,8"},null,null,{"$f":"Slot1!G114","v":32},null,null,null,{"$f":"FIXED(Slot1!H114,1)","v":"192,0"},null,null,null,{"$f":"FIXED(Slot1!J114,1)","v":"192,0"},null,null,null,{"$f":"IF(Slot1!B16=Slot1!B18,Slot1!O114,Slot1!S114)","v":0}]
[null,{"$f":"Slot1!B115","v":-9},null,null,{"$f":"FIXED(Slot1!C115,1)","v":"5,7"},null,null,{"$f":"FIXED(Slot1!D115,1)","v":"13,4"},null,null,{"$f":"Slot1!G115","v":14},null,null,null,{"$f":"FIXED(Slot1!H115,1)","v":"80,2"},null,null,null,{"$f":"FIXED(Slot1!J115,1)","v":"80,2"},null,null,null,{"$f":"IF(Slot1!B17=Slot1!B19,Slot1!O115,Slot1!S115)","v":0}]
[null,{"$f":"Slot1!B116","v":-8},null,null,{"$f":"FIXED(Slot1!C116,1)","v":"5,5"},null,null,{"$f":"FIXED(Slot1!D116,1)","v":"14,0"},null,null,{"$f":"Slot1!G116","v":23},null,null,null,{"$f":"FIXED(Slot1!H116,1)","v":"125,5"},null,null,null,{"$f":"FIXED(Slot1!J116,1)","v":"125,5"},null,null,null,{"$f":"IF(Slot1!B18=Slot1!B20,Slot1!O116,Slot1!S116)","v":0}]
[null,{"$f":"Slot1!B117","v":-7},null,null,{"$f":"FIXED(Slot1!C117,1)","v":"5,2"},null,null,{"$f":"FIXED(Slot1!D117,1)","v":"14,0"},null,null,{"$f":"Slot1!G117","v":44},null,null,null,{"$f":"FIXED(Slot1!H117,1)","v":"228,0"},null,null,null,{"$f":"FIXED(Slot1!J117,1)","v":"228,0"},null,null,null,{"$f":"IF(Slot1!B19=Slot1!B21,Slot1!O117,Slot1!S117)","v":0}]
[null,{"$f":"Slot1!B118","v":-6},null,null,{"$f":"FIXED(Slot1!C118,1)","v":"4,9"},null,null,{"$f":"FIXED(Slot1!D118,1)","v":"14,6"},null,null,{"$f":"Slot1!G118","v":49},null,null,null,{"$f":"FIXED(Slot1!H118,1)","v":"240,5"},null,null,null,{"$f":"FIXED(Slot1!J118,1)","v":"240,5"},null,null,null,{"$f":"IF(Slot1!B20=Slot1!B22,Slot1!O118,Slot1!S118)","v":0}]
[null,{"$f":"Slot1!B119","v":-5},null,null,{"$f":"FIXED(Slot1!C119,1)","v":"4,6"},null,null,{"$f":"FIXED(Slot1!D119,1)","v":"15,2"},null,null,{"$f":"Slot1!G119","v":41},null,null,null,{"$f":"FIXED(Slot1!H119,1)","v":"190,1"},null,null,null,{"$f":"FIXED(Slot1!J119,1)","v":"190,1"},null,null,null,{"$f":"IF(Slot1!B21=Slot1!B23,Slot1!O119,Slot1!S119)","v":0}]
[null,{"$f":"Slot1!B120","v":-4},null,null,{"$f":"FIXED(Slot1!C120,1)","v":"4,4"},null,null,{"$f":"FIXED(Slot1!D120,1)","v":"15,8"},null,null,{"$f":"Slot1!G120","v":89},null,null,null,{"$f":"FIXED(Slot1!H120,1)","v":"388,4"},null,null,null,{"$f":"FIXED(Slot1!J120,1)","v":"388,4"},null,null,null,{"$f":"IF(Slot1!B22=Slot1!B24,Slot1!O120,Slot1!S120)","v":0}]
[null,{"$f":"Slot1!B121","v":-3},null,null,{"$f":"FIXED(Slot1!C121,1)","v":"4,1"},null,null,{"$f":"FIXED(Slot1!D121,1)","v":"16,4"},null,null,{"$f":"Slot1!G121","v":161},null,null,null,{"$f":"FIXED(Slot1!H121,1)","v":"658,6"},null,null,null,{"$f":"FIXED(Slot1!J121,1)","v":"658,6"},null,null,null,{"$f":"IF(Slot1!B23=Slot1!B25,Slot1!O121,Slot1!S121)","v":0}]
[null,{"$f":"Slot1!B122","v":-2},null,null,{"$f":"FIXED(Slot1!C122,1)","v":"3,8"},null,null,{"$f":"FIXED(Slot1!D122,1)","v":"16,4"},null,null,{"$f":"Slot1!G122","v":207},null,null,null,{"$f":"FIXED(Slot1!H122,1)","v":"790,4"},null,null,null,{"$f":"FIXED(Slot1!J122,1)","v":"790,4"},null,null,null,{"$f":"IF(Slot1!B24=Slot1!B26,Slot1!O122,Slot1!S122)","v":0}]
[null,{"$f":"Slot1!B123","v":-1},null,null,{"$f":"FIXED(Slot1!C123,1)","v":"3,5"},null,null,{"$f":"FIXED(Slot1!D123,1)","v":"17,0"},null,null,{"$f":"Slot1!G123","v":248},null,null,null,{"$f":"FIXED(Slot1!H123,1)","v":"879,3"},null,null,null,{"$f":"FIXED(Slot1!J123,1)","v":"879,3"},null,null,null,{"$f":"IF(Slot1!B25=Slot1!B27,Slot1!O123,Slot1!S123)","v":0}]
[null,{"$f":"Slot1!B124","v":0},null,null,{"$f":"FIXED(Slot1!C124,1)","v":"3,3"},null,null,{"$f":"FIXED(Slot1!D124,1)","v":"17,6"},null,null,{"$f":"Slot1!G124","v":263},null,null,null,{"$f":"FIXED(Slot1!H124,1)","v":"860,7"},null,null,null,{"$f":"FIXED(Slot1!J124,1)","v":"860,7"},null,null,null,{"$f":"IF(Slot1!B26=Slot1!B28,Slot1!O124,Slot1!S124)","v":0}]
[null,{"$f":"Slot1!B125","v":1},null,null,{"$f":"FIXED(Slot1!C125,1)","v":"3,0"},null,null,{"$f":"FIXED(Slot1!D125,1)","v":"18,2"},null,null,{"$f":"Slot1!G125","v":270},null,null,null,{"$f":"FIXED(Slot1!H125,1)","v":"810,0"},null,null,null,{"$f":"FIXED(Slot1!J125,1)","v":"810,0"},null,null,null,{"$f":"IF(Slot1!B27=Slot1!B29,Slot1!O125,Slot1!S125)","v":0}]
[null,{"$f":"Slot1!B126","v":2},null,null,{"$f":"FIXED(Slot1!C126,1)","v":"2,7"},null,null,{"$f":"FIXED(Slot1!D126,1)","v":"18,8"},null,null,{"$f":"Slot1!G126","v":328},null,null,null,{"$f":"FIXED(Slot1!H126,1)","v":"894,5"},null,null,null,{"$f":"FIXED(Slot1!J126,1)","v":"894,5"},null,null,null,{"$f":"IF(Slot1!B28=Slot1!B30,Slot1!O126,Slot1!S126)","v":0}]
[null,{"$f":"Slot1!B127","v":3},null,null,{"$f":"FIXED(Slot1!C127,1)","v":"2,5"},null,null,{"$f":"FIXED(Slot1!D127,1)","v":"18,8"},null,null,{"$f":"Slot1!G127","v":344},null,null,null,{"$f":"FIXED(Slot1!H127,1)","v":"844,4"},null,null,null,{"$f":"FIXED(Slot1!J127,1)","v":"844,4"},null,null,null,{"$f":"IF(Slot1!B29=Slot1!B31,Slot1!O127,Slot1!S127)","v":0}]
[null,{"$f":"Slot1!B128","v":4},null,null,{"$f":"FIXED(Slot1!C128,1)","v":"2,2"},null,null,{"$f":"FIXED(Slot1!D128,1)","v":"19,4"},null,null,{"$f":"Slot1!G128","v":343},null,null,null,{"$f":"FIXED(Slot1!H128,1)","v":"748,4"},null,null,null,{"$f":"FIXED(Slot1!J128,1)","v":"748,4"},null,null,null,{"$f":"IF(Slot1!B30=Slot1!B32,Slot1!O128,Slot1!S128)","v":0}]
[null,{"$f":"Slot1!B129","v":5},null,null,{"$f":"FIXED(Slot1!C129,1)","v":"1,9"},null,null,{"$f":"FIXED(Slot1!D129,1)","v":"20,0"},null,null,{"$f":"Slot1!G129","v":414},null,null,null,{"$f":"FIXED(Slot1!H129,1)","v":"790,4"},null,null,null,{"$f":"FIXED(Slot1!J129,1)","v":"790,4"},null,null,null,{"$f":"IF(Slot1!B31=Slot1!B33,Slot1!O129,Slot1!S129)","v":0}]
[null,{"$f":"Slot1!B130","v":6},null,null,{"$f":"FIXED(Slot1!C130,1)","v":"1,6"},null,null,{"$f":"FIXED(Slot1!D130,1)","v":"20,4"},null,null,{"$f":"Slot1!G130","v":397},null,null,null,{"$f":"FIXED(Slot1!H130,1)","v":"649,6"},null,null,null,{"$f":"FIXED(Slot1!J130,1)","v":"649,6"},null,null,null,{"$f":"IF(Slot1!B32=Slot1!B34,Slot1!O130,Slot1!S130)","v":0}]
[null,{"$f":"Slot1!B131","v":7},null,null,{"$f":"FIXED(Slot1!C131,1)","v":"1,4"},null,null,{"$f":"FIXED(Slot1!D131,1)","v":"20,8"},null,null,{"$f":"Slot1!G131","v":406},null,null,null,{"$f":"FIXED(Slot1!H131,1)","v":"553,6"},null,null,null,{"$f":"FIXED(Slot1!J131,1)","v":"553,6"},null,null,null,{"$f":"IF(Slot1!B33=Slot1!B35,Slot1!O131,Slot1!S131)","v":0}]
[null,{"$f":"Slot1!B132","v":8},null,null,{"$f":"FIXED(Slot1!C132,1)","v":"1,1"},null,null,{"$f":"FIXED(Slot1!D132,1)","v":"20,8"},null,null,{"$f":"Slot1!G132","v":378},null,null,null,{"$f":"FIXED(Slot1!H132,1)","v":"412,4"},null,null,null,{"$f":"FIXED(Slot1!J132,1)","v":"412,4"},null,null,null,{"$f":"IF(Slot1!B34=Slot1!B36,Slot1!O132,Slot1!S132)","v":0}]
[null,{"$f":"Slot1!B133","v":9},null,null,{"$f":"FIXED(Slot1!C133,1)","v":"0,8"},null,null,{"$f":"FIXED(Slot1!D133,1)","v":"20,9"},null,null,{"$f":"Slot1!G133","v":409},null,null,null,{"$f":"FIXED(Slot1!H133,1)","v":"334,6"},null,null,null,{"$f":"FIXED(Slot1!J133,1)","v":"334,6"},null,null,null,{"$f":"IF(Slot1!B35=Slot1!B37,Slot1!O133,Slot1!S133)","v":0}]
[null,{"$f":"Slot1!B134","v":10},null,null,{"$f":"FIXED(Slot1!C134,1)","v":"0,5"},null,null,{"$f":"FIXED(Slot1!D134,1)","v":"21,0"},null,null,{"$f":"Slot1!G134","v":375},null,null,null,{"$f":"FIXED(Slot1!H134,1)","v":"204,5"},null,null,null,{"$f":"FIXED(Slot1!J134,1)","v":"204,5"},null,null,null,{"$f":"IF(Slot1!B36=Slot1!B38,Slot1!O134,Slot1!S134)","v":0}]
[null,{"$f":"Slot1!B135","v":11},null,null,{"$f":"FIXED(Slot1!C135,1)","v":"0,3"},null,null,{"$f":"FIXED(Slot1!D135,1)","v":"21,0"},null,null,{"$f":"Slot1!G135","v":420},null,null,null,{"$f":"FIXED(Slot1!H135,1)","v":"114,5"},null,null,null,{"$f":"FIXED(Slot1!J135,1)","v":"114,5"},null,null,null,{"$f":"IF(Slot1!B37=Slot1!B39,Slot1!O135,Slot1!S135)","v":0}]
[null,{"$f":"Slot1!B136","v":12},null,null,{"$f":"FIXED(Slot1!C136,1)","v":"0,0"},null,null,{"$f":"FIXED(Slot1!D136,1)","v":"21,0"},null,null,{"$f":"Slot1!G136","v":378},null,null,null,{"$f":"FIXED(Slot1!H136,1)","v":"0,0"},null,null,null,{"$f":"FIXED(Slot1!J136,1)","v":"0,0"},null,null,null,{"$f":"IF(Slot1!B38=Slot1!B40,Slot1!O136,Slot1!S136)","v":0}]
[null,{"$f":"Slot1!B137","v":13},null,null,{"$f":"FIXED(Slot1!C137,1)","v":"0,0"},null,null,{"$f":"FIXED(Slot1!D137,1)","v":"21,0"},null,null,{"$f":"Slot1!G137","v":349},null,null,null,{"$f":"FIXED(Slot1!H137,1)","v":"0,0"},null,null,null,{"$f":"FIXED(Slot1!J137,1)","v":"0,0"},null,null,null,{"$f":"IF(Slot1!B39=Slot1!B41,Slot1!O137,Slot1!S137)","v":0}]
[null,{"$f":"Slot1!B138","v":14},null,null,{"$f":"FIXED(Slot1!C138,1)","v":"0,0"},null,null,{"$f":"FIXED(Slot1!D138,1)","v":"21,0"},null,null,{"$f":"Slot1!G138","v":370},null,null,null,{"$f":"FIXED(Slot1!H138,1)","v":"0,0"},null,null,null,{"$f":"FIXED(Slot1!J138,1)","v":"0,0"},null,null,null,{"$f":"IF(Slot1!B40=Slot1!B42,Slot1!O138,Slot1!S138)","v":0}]
[null,{"$f":"Slot1!B139","v":15},null,null,{"$f":"FIXED(Slot1!C139,1)","v":"0,0"},null,null,{"$f":"FIXED(Slot1!D139,1)","v":"21,0"},null,null,{"$f":"Slot1!G139","v":333},null,null,null,{"$f":"FIXED(Slot1!H139,1)","v":"0,0"},null,null,null,{"$f":"FIXED(Slot1!J139,1)","v":"0,0"},null,null,null,{"$f":"IF(Slot1!B41=Slot1!B43,Slot1!O139,Slot1!S139)","v":0}]
[null,{"$f":"Slot1!B140","v":16},null,null,{"$f":"FIXED(Slot1!C140,1)","v":"0,0"},null,null,{"$f":"FIXED(Slot1!D140,1)","v":"21,0"},null,null,{"$f":"Slot1!G140","v":310},null,null,null,{"$f":"FIXED(Slot1!H140,1)","v":"0,0"},null,null,null,{"$f":"FIXED(Slot1!J140,1)","v":"0,0"},null,null,null,{"$f":"IF(Slot1!B42=Slot1!B44,Slot1!O140,Slot1!S140)","v":0}]
[null,{"$f":"Slot1!B141","v":17},null,null,{"$f":"FIXED(Slot1!C141,1)","v":"0,0"},null,null,{"$f":"FIXED(Slot1!D141,1)","v":"21,0"},null,null,{"$f":"Slot1!G141","v":322},null,null,null,{"$f":"FIXED(Slot1!H141,1)","v":"0,0"},null,null,null,{"$f":"FIXED(Slot1!J141,1)","v":"0,0"},null,null,null,{"$f":"IF(Slot1!B43=Slot1!B45,Slot1!O141,Slot1!S141)","v":0}]
[null,{"$f":"Slot1!B142","v":18},null,null,{"$f":"FIXED(Slot1!C142,1)","v":"0,0"},null,null,{"$f":"FIXED(Slot1!D142,1)","v":"21,0"},null,null,{"$f":"Slot1!G142","v":280},null,null,null,{"$f":"FIXED(Slot1!H142,1)","v":"0,0"},null,null,null,{"$f":"FIXED(Slot1!J142,1)","v":"0,0"},null,null,null,{"$f":"IF(Slot1!B44=Slot1!B46,Slot1!O142,Slot1!S142)","v":0}]
[null,{"$f":"Slot1!B143","v":19},null,null,{"$f":"FIXED(Slot1!C143,1)","v":"0,0"},null,null,{"$f":"FIXED(Slot1!D143,1)","v":"21,0"},null,null,{"$f":"Slot1!G143","v":217},null,null,null,{"$f":"FIXED(Slot1!H143,1)","v":"0,0"},null,null,null,{"$f":"FIXED(Slot1!J143,1)","v":"0,0"},null,null,null,{"$f":"IF(Slot1!B45=Slot1!B47,Slot1!O143,Slot1!S143)","v":0}]
[null,{"$f":"Slot1!B144","v":20},null,null,{"$f":"FIXED(Slot1!C144,1)","v":"0,0"},null,null,{"$f":"FIXED(Slot1!D144,1)","v":"21,0"},null,null,{"$f":"Slot1!G144","v":196},null,null,null,{"$f":"FIXED(Slot1!H144,1)","v":"0,0"},null,null,null,{"$f":"FIXED(Slot1!J144,1)","v":"0,0"},null,null,null,{"$f":"IF(Slot1!B46=Slot1!B48,Slot1!O144,Slot1!S144)","v":0}]
[null,{"$f":"Slot1!B145","v":"> 20"},null,null,{"$f":"FIXED(Slot1!C145,1)","v":"0,0"},null,null,{"$f":"FIXED(Slot1!D145,1)","v":"21,0"},null,null,{"$f":"Slot1!G145","v":744},null,null,null,{"$f":"FIXED(Slot1!H145,1)","v":"0,0"},null,null,null,{"$f":"FIXED(Slot1!J145,1)","v":"0,0"},null,null,null,{"$f":"IF(Slot1!B47=Slot1!B49,Slot1!O145,Slot1!S145)","v":0}]
[null,null,null,null,null,null,null,null,null,null,{"$f":"Slot1!G146","v":8760},null,null,null,{"$f":"FIXED(Slot1!H146,0)","v":"11.027"},null,null,null,{"$f":"FIXED(Slot1!J146,0)","v":"11.027"},null,null,null,{"$f":"FIXED(IF(Slot1!B48=Slot1!B50,Slot1!O146,Slot1!S146),0)","v":"0"}]
[]
[]
[]
[]
[null,{"$f":"Slot1!C80","v":"WPL 25 A | Gaskessel"}]
[]
[]
[null,{"$f":"Translation!A68","v":"Energy costs "}]
[null,{"$f":"Translation!A176","v":"Total"},null,null,null,null,null,null,null,{"$f":"Slot1!$AN$74","v":"677 £/Year"}]
[null,{"$f":"Slot1!$AO$74","v":"WPL 25 A"},null,null,null,null,null,null,null,{"$f":"Slot1!$AP$74","v":"446 £/Year"}]
[null,{"$f":"Slot1!$AQ$74","v":"Gaskessel"},null,null,null,null,null,null,null,{"$f":"Slot1!$AR$74","v":"0 £/Year"}]
[null,{"$f":"Slot1!$AS$74","v":"DHW"},null,null,null,null,null,null,null,{"$f":"Slot1!$AT$74","v":"231 £/Year"}]
[null,{"$f":"Translation!A182&\": \"&Einstellungen!D25&\" \"&Translation!A187&\"  |  \"&Translation!A183&\": \"&Einstellungen!D27&\" \"&Translation!A187&\"  |  \"&Berechnung!D71&\": \"&Berechnung!C70&\" \"&Berechnung!D70","v":"Electricity price: 25 pence/kWh  |  Electricity price heat pump: 18 pence/kWh  |  Gaskessel: 85 pence/kWh"}]
[]
[]
[null,{"$f":"Translation!A70","v":"Cost trend"}]
[null,{"$f":"Slot1!$AM$75","v":"Energy costs 15 years"},null,null,null,null,null,null,null,{"$f":"Slot1!$AN$75","v":"12.590 £"},null,null,null,null,null,null,null,null,null,null,null,null,null,null,null,null,null,null,null," "]
[null,{"$f":"Slot1!$AO$75","v":"WPL 25 A | Gaskessel"},null,null,null,null,null,null,null,{"$f":"Slot1!$AP$75","v":"8.293 £"}]
[null,{"$f":"Slot1!$AQ$75","v":"DHW"},null,null,null,null,null,null,null,{"$f":"Slot1!$AR$75","v":"4.297 £"}]
[null,{"$f":"Translation!$A$212","v":"Subvention"},null,null,null,null,null,null,null,{"$f":"Slot1!$AT$75","v":"0 £"}]
[null,{"$f":"Translation!A50&\": \"&Berechnung!C80&\" \"&Translation!A81&\" | \"&Berechnung!D71&\": \"&Berechnung!C74&\" \"&Translation!A81","v":"Price increase electricity: 3 %/year | Gaskessel: 5 %/year"}]
[]
[]
[]
[]
[]
[]
[]
[]
[null,{"$f":"Slot1!C80","v":"WPL 25 A | Gaskessel"}]
[]
[null,null,null,null,null,null,null,null,null,null,null,null,null,null,null,null,null,null,null,null,null,null,null,null,null,null,null,null,null," "]
[null,{"$f":"Translation!A69","v":"CO2-emission"}]
[null,{"$f":"Slot1!AM78","v":"CO2-emission"},null,null,null,null,null,null,null,{"$f":"Slot1!AN78","v":"2.319 kg/year"}]
[null,{"$f":"Slot1!AO78","v":"WPL 25 A"},null,null,null,null,null,null,null,{"$f":"Slot1!AP78","v":"1.538 kg/year"}]
[null,{"$f":"Slot1!AQ78","v":"Gaskessel"},null,null,null,null,null,null,null,{"$f":"Slot1!AR78","v":"0 kg/year"}]
[null,{"$f":"Slot1!AS78","v":"DHW"},null,null,null,null,null,null,null,{"$f":"Slot1!AT78","v":"781 kg/year"}]
[null,{"$f":"Translation!A190&\": \"&Translation!A191&\" \"&Einstellungen!D31&\"g/kWh\"&\" | \"&Berechnung!D71&\" \"&Berechnung!C73&\" g/kWh\"","v":"CO2-factor: electricity 621g/kWh | Gaskessel 253 g/kWh"}]
[]
[null,{"$f":"Translation!A67","v":"Final energy"}]
[null,{"$f":"Slot1!AM79","v":"Final energy"},null,null,null,null,null,null,null,{"$f":"Slot1!AN79","v":"3.735 kWh/Year"}]
[null,{"$f":"Slot1!AO79","v":"WPL 25 A"},null,null,null,null,null,null,null,{"$f":"Slot1!AP79","v":"2.477 kWh/Year"}]
[null,{"$f":"Slot1!AQ79","v":"Gaskessel"},null,null,null,null,null,null,null,{"$f":"Slot1!AR79","v":"0 kWh/Year"}]
[null,{"$f":"Slot1!AS79","v":"DHW"},null,null,null,null,null,null,null,{"$f":"Slot1!AT79","v":"1.258 kWh/Year"}]
[null,null,null,null,null,null,null,{"$f":"Translation!A69","v":"CO2-emission"},null,null,null,null,null,null,null,null,null,null,null,{"$f":"Translation!A62","v":"Final energy"}]
[]
[]
[]
[]
[]
[]
[]
[]
[]
[null,{"$f":"Translation!A201&\" \"&Berechnung!H5","v":"comparison Gaskessel"},null,null,null,null,null,null,null,null,null,null,null,null,null,null,null,null,null,null,null,null,null,null,null,null," "]
[]
[null,null,null,null,null,null,null,null,null,null,null,null,null,null,null,null,null,null,null,null,null,null,null,null,null,null,null,null,null," "]
[null,{"$f":"Translation!A68","v":"Energy costs "},null,null,null,null,null,null,null,null,{"$f":"B132","v":"WPL 25 A | Gaskessel"},null,null,null,null,null,null,null,{"$f":"Berechnung!H5","v":"Gaskessel"}]
[null,{"$f":"B111","v":"Total"},null,null,null,null,null,null,null,null,{"$f":"J111","v":"677 £/Year"},null,null,null,null,null,null,null,{"$f":"FIXED(Slot1!N77,0)&\" \"&Translation!$A$77","v":"13.153 £/Year"}]
[null,{"$f":"Translation!A203","v":"Heating"},null,null,null,null,null,null,null,null,{"$f":"J112","v":"446 £/Year"},null,null,null,null,null,null,null,{"$f":"FIXED(Slot1!N74,0)&\" \"&Translation!$A$77","v":"9.663 £/Year"}]
[null,{"$f":"Translation!A16","v":"2nd heat source"},null,null,null,null,null,null,null,null,{"$f":"J113","v":"0 £/Year"},null,null,null,null,null,null,null,{"$f":"FIXED(Slot1!N75,0)&\" \"&Translation!$A$77","v":"0 £/Year"}]
[null,{"$f":"B114","v":"DHW"},null,null,null,null,null,null,null,null,{"$f":"J114","v":"231 £/Year"},null,null,null,null,null,null,null,{"$f":"FIXED(Slot1!N76,0)&\" \"&Translation!$A$77","v":"3.490 £/Year"}]
[null,{"$f":"Translation!A210","v":"Cost trend 15 years"},null,null,null,null,null,null,null,null,{"$f":"J119","v":"12.590 £"},null,null,null,null,null,null,null,{"$f":"FIXED((Slot1!AC89+Slot1!W89),0)&\" \"&Translation!$A$209","v":"283.819 £"}]
[null,{"$f":"Translation!A182&\": \"&Einstellungen!D25&\" \"&Translation!A187&\"  |  \"&Translation!A183&\": \"&Einstellungen!D27&\" \"&Translation!A187&\"  |  \"&Berechnung!D71&\": \"&Einstellungen!D12&\" \"&Berechnung!D70","v":"Electricity price: 25 pence/kWh  |  Electricity price heat pump: 18 pence/kWh  |  Gaskessel: 85 pence/kWh"}]
[null,{"$f":"Translation!A50&\": \"&Berechnung!C80&\" \"&Translation!A81&\" | \"&Berechnung!D71&\": \"&Berechnung!C74&\" \"&Translation!A81","v":"Price increase electricity: 3 %/year | Gaskessel: 5 %/year"}]
[]
[null,{"$f":"Translation!A204","v":"Other values"},null,null,null,null,null,null,null,null,{"$f":"B132","v":"WPL 25 A | Gaskessel"},null,null,null,null,null,null,null,{"$f":"Berechnung!H5","v":"Gaskessel"}]
[null,{"$f":"B135","v":"CO2-emission"},null,null,null,null,null,null,null,null,{"$f":"J136","v":"2.319 kg/year"},null,null,null,null,null,null,null,{"$f":"FIXED(Slot1!N95,0)&\" \"&Translation!$A$80","v":"3.915 kg/year"}]
[null,{"$f":"B142","v":"Final energy"},null,null,null,null,null,null,null,null,{"$f":"J143","v":"3.735 kWh/Year"},null,null,null,null,null,null,null,{"$f":"FIXED(Slot1!N86,0)&\" \"&Translation!$A$79","v":"15.474 kWh/Year"}]
[]
[null,null,{"$f":"Translation!A177","v":"Costs per year"},null,null,null,null,null,null,null,null,null,null,null,null,{"$f":"Translation!A70","v":"Cost trend"}]
[]
[]
[]
[]
[]
[]
[null,{"$f":"Translation!A168","v":"Legal note"}]
[]
[]
[null,{"$f":"Translation!A169","v":"Stiebel Eltron shall not provide any guarantees that the information, values and data provided, or values, information and recommendations determined with the aid or on the basis of such information, values and data, are complete, accurate, correct or current in every respect.\nStiebel Eltron shall reserve the right to make changes to the data, values and information provided at any time and without prior notification.\nErrors excepted. Subject to changes.\nNone of the information, values and data provided or the values, information and recommendations determined with the aid or on the basis of such information, values and data constitutes any basis for a financial decision or for any other purpose, but rather is merely initial non-binding information as an initial guide.\nUnder no circumstances should the following design tool be considered a substitute for consultation with Stiebel Eltron or another authorised expert engineer.\nPlease contact Stiebel Eltron or another authorised expert engineer in relation to specific project design.\nStiebel Eltron shall accept no liability for losses of any kind that may arise from the use of information, values and data provided, or values, information and recommendations determined with the aid or on the basis of such information, values and data. This exclusion of liability shall not apply if the loss is due to intent or gross negligence on the part of Stiebel Eltron or in the event of a fatality, physical injury or damage to health.\n"}]

{"sheet":"Ausdruck-Slot2","index":8,"n_rows":183,"n_cols":30,"rows_kept":183,"cut":false,"hidden":true,"merged":[[199,5,199,23],[200,5,200,23],[201,5,201,23],[168,10,168,17],[172,2,172,12],[172,15,172,25],[179,1,179,25],[182,1,182,25],[198,5,198,23],[168,1,168,8],[151,1,151,8],[151,9,151,25],[152,1,152,8],[152,9,152,25],[156,1,156,25],[159,10,159,17],[148,1,148,8],[148,9,148,25],[149,1,149,8],[149,9,149,25],[150,1,150,8],[150,9,150,25],[159,1,159,8],[144,1,144,8],[144,9,144,25],[145,1,145,8],[145,9,145,25],[147,1,147,8],[147,9,147,25],[138,1,138,8],[138,9,138,25],[141,1,141,8],[142,1,142,8],[142,9,142,25],[143,1,143,8],[143,9,143,25],[135,1,135,8],[135,9,135,25],[136,1,136,8],[136,9,136,25],[137,1,137,8],[137,9,137,25],[119,1,119,8],[119,9,119,25],[120,1,120,8],[120,9,120,25],[131,1,131,25],[134,1,134,8],[121,1,121,8],[121,9,121,25],[112,1,112,8],[112,9,112,25],[113,1,113,8],[113,9,113,25],[117,1,117,8],[118,1,118,8],[118,9,118,25],[106,1,106,25],[109,1,109,8],[110,1,110,8],[110,9,110,25],[111,1,111,8],[111,9,111,25],[101,22,101,25],[104,1,104,3],[104,4,104,6],[104,7,104,9],[104,10,104,13],[104,14,104,17],[104,18,104,21],[104,22,104,25],[101,1,101,3],[101,4,101,6],[101,7,101,9],[101,10,101,13],[101,14,101,17],[101,18,101,21],[99,22,99,25],[100,1,100,3],[100,4,100,6],[100,7,100,9],[100,10,100,13],[100,14,100,17],[100,18,100,21],[100,22,100,25],[99,1,99,3],[99,4,99,6],[99,7,99,9],[99,10,99,13],[99,14,99,17],[99,18,99,21],[97,22,97,25],[98,1,98,3],[98,4,98,6],[98,7,98,9],[98,10,98,13],[98,14,98,17],[98,18,98,21],[98,22,98,25],[97,1,97,3],[97,4,97,6],[97,7,97,9],[97,10,97,13],[97,14,97,17],[97,18,97,21],[95,22,95,25],[96,1,96,3],[96,4,96,6],[96,7,96,9],[96,10,96,13],[96,14,96,17],[96,18,96,21],[96,22,96,25],[95,1,95,3],[95,4,95,6],[95,7,95,9],[95,10,95,13],[95,14,95,17],[95,18,95,21],[93,22,93,25],[94,1,94,3],[94,4,94,6],[94,7,94,9],[94,10,94,13],[94,14,94,17],[94,18,94,21],[94,22,94,25],[93,1,93,3],[93,4,93,6],[93,7,93,9],[93,10,93,13],[93,14,93,17],[93,18,93,21],[91,22,91,25],[92,1,92,3],[92,4,92,6],[92,7,92,9],[92,10,92,13],[92,14,92,17],[92,18,92,21],[92,22,92,25],[91,1,91,3],[91,4,91,6],[91,7,91,9],[91,10,91,13],[91,14,91,17],[91,18,91,21],[89,22,89,25],[90,1,90,3],[90,4,90,6],[90,7,90,9],[90,10,90,13],[90,14,90,17],[90,18,90,21],[90,22,90,25],[89,1,89,3],[89,4,89,6],[89,7,89,9],[89,10,89,13],[89,14,89,17],[89,18,89,21],[87,22,87,25],[88,1,88,3],[88,4,88,6],[88,7,88,9],[88,10,88,13],[88,14,88,17],[88,18,88,21],[88,22,88,25],[87,1,87,3],[87,4,87,6],[87,7,87,9],[87,10,87,13],[87,14,87,17],[87,18,87,21],[85,22,85,25],[86,1,86,3],[86,4,86,6],[86,7,86,9],[86,10,86,13],[86,14,86,17],[86,18,86,21],[86,22,86,25],[85,1,85,3],[85,4,85,6],[85,7,85,9],[85,10,85,13],[85,14,85,17],[85,18,85,21],[83,22,83,25],[84,1,84,3],[84,4,84,6],[84,7,84,9],[84,10,84,13],[84,14,84,17],[84,18,84,21],[84,22,84,25],[83,1,83,3],[83,4,83,6],[83,7,83,9],[83,10,83,13],[83,14,83,17],[83,18,83,21],[81,22,81,25],[82,1,82,3],[82,4,82,6],[82,7,82,9],[82,10,82,13],[82,14,82,17],[82,18,82,21],[82,22,82,25],[81,1,81,3],[81,4,81,6],[81,7,81,9],[81,10,81,13],[81,14,81,17],[81,18,81,21],[79,22,79,25],[80,1,80,3],[80,4,80,6],[80,7,80,9],[80,10,80,13],[80,14,80,17],[80,18,80,21],[80,22,80,25],[79,1,79,3],[79,4,79,6],[79,7,79,9],[79,10,79,13],[79,14,79,17],[79,18,79,21],[77,22,77,25],[78,1,78,3],[78,4,78,6],[78,7,78,9],[78,10,78,13],[78,14,78,17],[78,18,78,21],[78,22,78,25],[77,1,77,3],[77,4,77,6],[77,7,77,9],[77,10,77,13],[77,14,77,17],[77,18,77,21],[75,22,75,25],[76,1,76,3],[76,4,76,6],[76,7,76,9],[76,10,76,13],[76,14,76,17],[76,18,76,21],[76,22,76,25],[75,1,75,3],[75,4,75,6],[75,7,75,9],[75,10,75,13],[75,14,75,17],[75,18,75,21],[73,22,73,25],[74,1,74,3],[74,4,74,6],[74,7,74,9],[74,10,74,13],[74,14,74,17],[74,18,74,21],[74,22,74,25],[73,1,73,3],[73,4,73,6],[73,7,73,9],[73,10,73,13],[73,14,73,17],[73,18,73,21],[71,22,71,25],[72,1,72,3],[72,4,72,6],[72,7,72,9],[72,10,72,13],[72,14,72,17],[72,18,72,21],[72,22,72,25],[71,1,71,3],[71,4,71,6],[71,7,71,9],[71,10,71,13],[71,14,71,17],[71,18,71,21],[69,22,69,25],[70,1,70,3],[70,4,70,6],[70,7,70,9],[70,10,70,13],[70,14,70,17],[70,18,70,21],[70,22,70,25],[69,1,69,3],[69,4,69,6],[69,7,69,9],[69,10,69,13],[69,14,69,17],[69,18,69,21],[67,22,67,25],[68,1,68,3],[68,4,68,6],[68,7,68,9],[68,10,68,13],[68,14,68,17],[68,18,68,21],[68,22,68,25],[67,1,67,3],[67,4,67,6],[67,7,67,9],[67,10,67,13],[67,14,67,17],[67,18,67,21],[65,22,65,25],[66,1,66,3],[66,4,66,6],[66,7,66,9],[66,10,66,13],[66,14,66,17],[66,18,66,21],[66,22,66,25],[65,1,65,3],[65,4,65,6],[65,7,65,9],[65,10,65,13],[65,14,65,17],[65,18,65,21],[63,22,63,25],[64,1,64,3],[64,4,64,6],[64,7,64,9],[64,10,64,13],[64,14,64,17],[64,18,64,21],[64,22,64,25],[63,1,63,3],[63,4,63,6],[63,7,63,9],[63,10,63,13],[63,14,63,17],[63,18,63,21],[61,22,61,25],[62,1,62,3],[62,4,62,6],[62,7,62,9],[62,10,62,13],[62,14,62,17],[62,18,62,21],[62,22,62,25],[61,1,61,3],[61,4,61,6],[61,7,61,9],[61,10,61,13],[61,14,61,17],[61,18,61,21],[59,22,59,25],[60,1,60,3],[60,4,60,6],[60,7,60,9],[60,10,60,13],[60,14,60,17],[60,18,60,21],[60,22,60,25],[59,1,59,3],[59,4,59,6],[59,7,59,9],[59,10,59,13],[59,14,59,17],[59,18,59,21],[57,22,57,25],[58,1,58,3],[58,4,58,6],[58,7,58,9],[58,10,58,13],[58,14,58,17],[58,18,58,21],[58,22,58,25],[57,1,57,3],[57,4,57,6],[57,7,57,9],[57,10,57,13],[57,14,57,17],[57,18,57,21],[39,1,39,8],[39,9,39,25],[53,1,53,25],[56,1,56,3],[56,4,56,6],[56,7,56,9],[56,10,56,13],[56,14,56,17],[56,18,56,21],[56,22,56,25],[33,1,33,8],[33,9,33,25],[36,1,36,8],[37,1,37,8],[37,9,37,25],[38,1,38,8],[38,9,38,25],[26,1,26,8],[26,9,26,25],[28,1,28,25],[31,1,31,8],[32,1,32,8],[32,9,32,25],[23,1,23,8],[23,9,23,25],[24,1,24,8],[24,9,24,25],[25,1,25,8],[25,9,25,25],[18,1,18,8],[18,9,18,25],[20,1,20,8],[21,1,21,8],[21,9,21,25],[22,1,22,8],[22,9,22,25],[16,1,16,8],[16,9,16,25],[17,1,17,8],[17,9,17,25],[10,1,10,8],[10,9,10,25],[11,1,11,8],[11,9,11,25],[12,1,12,8],[12,9,12,25],[1,8,1,25],[4,1,4,25],[7,1,7,8],[8,1,8,8],[8,9,8,25],[9,1,9,8],[9,9,9,25],[14,1,14,8],[15,1,15,8],[15,9,15,25]]}
[]
[null,null,null,null,null,null,null,null,{"$f":"Translation!$A$4","v":"Bivalent heatpump systems"}]
[null,null,null,null,null,null,null,null,null,null,null,null,null,null,null,null,null,null,null,null,null,null,null,null,null,null,{"$f":"RIGHT(Auslegung!$C$54,5)","v":"v1.20"}]
[]
[null,{"$f":"Translation!A175","v":"Project data"}]
[]
[]
[null,{"$f":"Translation!A84","v":"Building"}]
[null,{"$f":"Translation!A76","v":"Location"},null,null,null,null,null,null,null,{"$f":"Berechnung!B5&\"  |  \"&Berechnung!A5","v":"Holzminden  |  Germany"}]
[null,{"$f":"Translation!A90","v":"Type of building"},null,null,null,null,null,null,null,{"$f":"Berechnung!D5","v":"New building"}]
[null,{"$f":"Translation!A158","v":"Number of persons"},null,null,null,null,null,null,null,{"$f":"Berechnung!C62","v":4}]
[null,{"$f":"Translation!A72","v":"Heat demand"},null,null,null,null,null,null,null,{"$f":"Berechnung!G5&\" KW\"","v":"6 KW"}]
[null,{"$f":"Translation!A170","v":"Outside temperature"},null,null,null,null,null,null,null,{"$f":"Berechnung!C5","v":"-10 °C"}]
[]
[null,{"$f":"Translation!A110","v":"Heating system"}]
[null,{"$f":"Translation!A111","v":"Heat generator"},null,null,null,null,null,null,null,{"$f":"Slot2!C81","v":"Gaskessel"}]
[null,{"$f":"Translation!A16","v":"2nd heat source"},null,null,null,null,null,null,null,{"$f":"IF(Slot2!D5=2,Translation!A9,Slot2!C82)","v":"No second heat source"}]
[null,{"$f":"Translation!A171","v":"Forward flow temperature"},null,null,null,null,null,null,null,{"$f":"Berechnung!F5","v":"35 °C"}]
[null,{"$f":"Translation!A172","v":"Boiler efficiency"},null,null,null,null,null,null,null,{"$f":"IF(Slot2!D5=1,\"---\",FIXED(Berechnung!C81,0)&\" %\")","v":"97 %"}]
[]
[null,{"$f":"Translation!A40","v":"DHW"}]
[null,{"$f":"Translation!A111","v":"Heat generator"},null,null,null,null,null,null,null,{"$f":"Slot2!C5","v":"Gaskessel"}]
[null,{"$f":"Translation!A55","v":"Hot water consumption"},null,null,null,null,null,null,null,{"$f":"Berechnung!C75& \" \"&Translation!A56","v":"1,8 kWh/person x day"}]
[null,{"$f":"Translation!A173","v":"Distribution  losses DHW"},null,null,null,null,null,null,null,{"$f":"IF(Slot2!K5=0,\"---\",Berechnung!C83&\" %\")","v":"25 %"}]
[null,{"$f":"Translation!A174","v":"SPF Heat Pump"},null,null,null,null,null,null,null,{"$f":"IF(Slot2!C74=0,\"---\",Slot2!C74)","v":{"$error":"#N/A"}}]
[null,{"$f":"Translation!A172","v":"Boiler efficiency"},null,null,null,null,null,null,null,{"$f":"IF(Slot2!K5<2,\"---\",FIXED(Berechnung!C82,0)&\" %\")","v":"80 %"}]
[null,{"$f":"Translation!A207","v":"Solar fraction"},null,null,null,null,null,null,null,{"$f":"IF(Berechnung!C77=0,\"---\",FIXED(Berechnung!C77,0)&\" %\")","v":"50 %"}]
[]
[null,{"$f":"Slot2!C80","v":"-"}]
[]
[]
[null,{"$f":"Translation!A71","v":"Heat demand | Dual-mode point"}]
[null,{"$f":"Slot2!AQ76","v":"Operating mode"},null,null,null,null,null,null,null,{"$f":"Slot2!AR76","v":"Mono-Mode"}]
[null,{"$f":"Slot2!AS76","v":""},null,null,null,null,null,null,null,{"$f":"Slot2!AT76","v":""}]
[]
[]
[null,{"$f":"Translation!A66","v":"Annual heating "}]
[null,{"$f":"Slot2!AM77","v":"Yearly heat demand"},null,null,null,null,null,null,null,{"$f":"Slot2!AN77","v":"11.027 kWh"}]
[null,{"$f":"Slot2!AO77","v":"Annual heating  Gaskessel"},null,null,null,null,null,null,null,{"$f":"Slot2!AP77","v":"11.027 kWh"}]
[null,{"$f":"Slot2!AQ77","v":"Annual heating  2nd heat source"},null,null,null,null,null,null,null,{"$f":"Slot2!AR77","v":"0 kWh"}]
[]
[]
[null,null,null,null,null,null,null,{"$f":"Translation!A71","v":"Heat demand | Dual-mode point"},null,null,null,null,null,null,null,null,null,null,null,{"$f":"Translation!A66","v":"Annual heating "}]
[]
[]
[]
[]
[]
[]
[]
[]
[]
[]
[null,{"$f":"Slot2!C80","v":"-"}]
[]
[]
[null,{"$f":"Translation!A178","v":"Temperature"},null,null,{"$f":"Translation!A72","v":"Heat demand"},null,null,{"$f":"Translation!A179","v":"Heating power"},null,null,{"$f":"Translation!A180","v":"Annual hours "},null,null,null,{"$f":"Translation!A181","v":"Heat demand"},null,null,null,{"$f":"Translation!A194","v":"Heating power 1. HS"},null,null,null,{"$f":"Translation!A195","v":"Heating power 2. HS"}]
[null,"[°C]",null,null,"[KW]",null,null,"[KW]",null,null,"[h/a]",null,null,null,"[KWh/a]",null,null,null,"[KWh/a]",null,null,null,"[KWh/a]"]
[null,{"$f":"Slot2!B103","v":"< -20"},null,null,{"$f":"FIXED(Slot2!C103,1)","v":"6,0"},null,null,{"$f":"FIXED(Slot2!D103,1)","v":"6,0"},null,null,{"$f":"Slot2!G103","v":0},null,null,null,{"$f":"FIXED(Slot2!H103,1)","v":"0,0"},null,null,null,{"$f":"FIXED(Slot2!J103,1)","v":"0,0"},null,null,null,{"$f":"IF(Slot2!B5=Slot2!B7,Slot2!O103,Slot2!S103)","v":0}]
[null,{"$f":"Slot2!B104","v":-20},null,null,{"$f":"FIXED(Slot2!C104,1)","v":"6,0"},null,null,{"$f":"FIXED(Slot2!D104,1)","v":"6,0"},null,null,{"$f":"Slot2!G104","v":0},null,null,null,{"$f":"FIXED(Slot2!H104,1)","v":"0,0"},null,null,null,{"$f":"FIXED(Slot2!J104,1)","v":"0,0"},null,null,null,{"$f":"IF(Slot2!B6=Slot2!B8,Slot2!O104,Slot2!S104)","v":0}]
[null,{"$f":"Slot2!B105","v":-19},null,null,{"$f":"FIXED(Slot2!C105,1)","v":"6,0"},null,null,{"$f":"FIXED(Slot2!D105,1)","v":"6,0"},null,null,{"$f":"Slot2!G105","v":0},null,null,null,{"$f":"FIXED(Slot2!H105,1)","v":"0,0"},null,null,null,{"$f":"FIXED(Slot2!J105,1)","v":"0,0"},null,null,null,{"$f":"IF(Slot2!B7=Slot2!B9,Slot2!O105,Slot2!S105)","v":0}]
[null,{"$f":"Slot2!B106","v":-18},null,null,{"$f":"FIXED(Slot2!C106,1)","v":"6,0"},null,null,{"$f":"FIXED(Slot2!D106,1)","v":"6,0"},null,null,{"$f":"Slot2!G106","v":0},null,null,null,{"$f":"FIXED(Slot2!H106,1)","v":"0,0"},null,null,null,{"$f":"FIXED(Slot2!J106,1)","v":"0,0"},null,null,null,{"$f":"IF(Slot2!B8=Slot2!B10,Slot2!O106,Slot2!S106)","v":0}]
[null,{"$f":"Slot2!B107","v":-17},null,null,{"$f":"FIXED(Slot2!C107,1)","v":"6,0"},null,null,{"$f":"FIXED(Slot2!D107,1)","v":"6,0"},null,null,{"$f":"Slot2!G107","v":0},null,null,null,{"$f":"FIXED(Slot2!H107,1)","v":"0,0"},null,null,null,{"$f":"FIXED(Slot2!J107,1)","v":"0,0"},null,null,null,{"$f":"IF(Slot2!B9=Slot2!B11,Slot2!O107,Slot2!S107)","v":0}]
[null,{"$f":"Slot2!B108","v":-16},null,null,{"$f":"FIXED(Slot2!C108,1)","v":"6,0"},null,null,{"$f":"FIXED(Slot2!D108,1)","v":"6,0"},null,null,{"$f":"Slot2!G108","v":0},null,null,null,{"$f":"FIXED(Slot2!H108,1)","v":"0,0"},null,null,null,{"$f":"FIXED(Slot2!J108,1)","v":"0,0"},null,null,null,{"$f":"IF(Slot2!B10=Slot2!B12,Slot2!O108,Slot2!S108)","v":0}]
[null,{"$f":"Slot2!B109","v":-15},null,null,{"$f":"FIXED(Slot2!C109,1)","v":"6,0"},null,null,{"$f":"FIXED(Slot2!D109,1)","v":"6,0"},null,null,{"$f":"Slot2!G109","v":0},null,null,null,{"$f":"FIXED(Slot2!H109,1)","v":"0,0"},null,null,null,{"$f":"FIXED(Slot2!J109,1)","v":"0,0"},null,null,null,{"$f":"IF(Slot2!B11=Slot2!B13,Slot2!O109,Slot2!S109)","v":0}]
[null,{"$f":"Slot2!B110","v":-14},null,null,{"$f":"FIXED(Slot2!C110,1)","v":"6,0"},null,null,{"$f":"FIXED(Slot2!D110,1)","v":"6,0"},null,null,{"$f":"Slot2!G110","v":0},null,null,null,{"$f":"FIXED(Slot2!H110,1)","v":"0,0"},null,null,null,{"$f":"FIXED(Slot2!J110,1)","v":"0,0"},null,null,null,{"$f":"IF(Slot2!B12=Slot2!B14,Slot2!O110,Slot2!S110)","v":0}]
[null,{"$f":"Slot2!B111","v":-13},null,null,{"$f":"FIXED(Slot2!C111,1)","v":"6,0"},null,null,{"$f":"FIXED(Slot2!D111,1)","v":"6,0"},null,null,{"$f":"Slot2!G111","v":0},null,null,null,{"$f":"FIXED(Slot2!H111,1)","v":"0,0"},null,null,null,{"$f":"FIXED(Slot2!J111,1)","v":"0,0"},null,null,null,{"$f":"IF(Slot2!B13=Slot2!B15,Slot2!O111,Slot2!S111)","v":0}]
[null,{"$f":"Slot2!B112","v":-12},null,null,{"$f":"FIXED(Slot2!C112,1)","v":"6,0"},null,null,{"$f":"FIXED(Slot2!D112,1)","v":"6,0"},null,null,{"$f":"Slot2!G112","v":0},null,null,null,{"$f":"FIXED(Slot2!H112,1)","v":"0,0"},null,null,null,{"$f":"FIXED(Slot2!J112,1)","v":"0,0"},null,null,null,{"$f":"IF(Slot2!B14=Slot2!B16,Slot2!O112,Slot2!S112)","v":0}]
[null,{"$f":"Slot2!B113","v":-11},null,null,{"$f":"FIXED(Slot2!C113,1)","v":"6,0"},null,null,{"$f":"FIXED(Slot2!D113,1)","v":"6,0"},null,null,{"$f":"Slot2!G113","v":6},null,null,null,{"$f":"FIXED(Slot2!H113,1)","v":"36,0"},null,null,null,{"$f":"FIXED(Slot2!J113,1)","v":"36,0"},null,null,null,{"$f":"IF(Slot2!B15=Slot2!B17,Slot2!O113,Slot2!S113)","v":0}]
[null,{"$f":"Slot2!B114","v":-10},null,null,{"$f":"FIXED(Slot2!C114,1)","v":"6,0"},null,null,{"$f":"FIXED(Slot2!D114,1)","v":"6,0"},null,null,{"$f":"Slot2!G114","v":32},null,null,null,{"$f":"FIXED(Slot2!H114,1)","v":"192,0"},null,null,null,{"$f":"FIXED(Slot2!J114,1)","v":"192,0"},null,null,null,{"$f":"IF(Slot2!B16=Slot2!B18,Slot2!O114,Slot2!S114)","v":0}]
[null,{"$f":"Slot2!B115","v":-9},null,null,{"$f":"FIXED(Slot2!C115,1)","v":"5,7"},null,null,{"$f":"FIXED(Slot2!D115,1)","v":"6,0"},null,null,{"$f":"Slot2!G115","v":14},null,null,null,{"$f":"FIXED(Slot2!H115,1)","v":"80,2"},null,null,null,{"$f":"FIXED(Slot2!J115,1)","v":"80,2"},null,null,null,{"$f":"IF(Slot2!B17=Slot2!B19,Slot2!O115,Slot2!S115)","v":0}]
[null,{"$f":"Slot2!B116","v":-8},null,null,{"$f":"FIXED(Slot2!C116,1)","v":"5,5"},null,null,{"$f":"FIXED(Slot2!D116,1)","v":"6,0"},null,null,{"$f":"Slot2!G116","v":23},null,null,null,{"$f":"FIXED(Slot2!H116,1)","v":"125,5"},null,null,null,{"$f":"FIXED(Slot2!J116,1)","v":"125,5"},null,null,null,{"$f":"IF(Slot2!B18=Slot2!B20,Slot2!O116,Slot2!S116)","v":0}]
[null,{"$f":"Slot2!B117","v":-7},null,null,{"$f":"FIXED(Slot2!C117,1)","v":"5,2"},null,null,{"$f":"FIXED(Slot2!D117,1)","v":"6,0"},null,null,{"$f":"Slot2!G117","v":44},null,null,null,{"$f":"FIXED(Slot2!H117,1)","v":"228,0"},null,null,null,{"$f":"FIXED(Slot2!J117,1)","v":"228,0"},null,null,null,{"$f":"IF(Slot2!B19=Slot2!B21,Slot2!O117,Slot2!S117)","v":0}]
[null,{"$f":"Slot2!B118","v":-6},null,null,{"$f":"FIXED(Slot2!C118,1)","v":"4,9"},null,null,{"$f":"FIXED(Slot2!D118,1)","v":"6,0"},null,null,{"$f":"Slot2!G118","v":49},null,null,null,{"$f":"FIXED(Slot2!H118,1)","v":"240,5"},null,null,null,{"$f":"FIXED(Slot2!J118,1)","v":"240,5"},null,null,null,{"$f":"IF(Slot2!B20=Slot2!B22,Slot2!O118,Slot2!S118)","v":0}]
[null,{"$f":"Slot2!B119","v":-5},null,null,{"$f":"FIXED(Slot2!C119,1)","v":"4,6"},null,null,{"$f":"FIXED(Slot2!D119,1)","v":"6,0"},null,null,{"$f":"Slot2!G119","v":41},null,null,null,{"$f":"FIXED(Slot2!H119,1)","v":"190,1"},null,null,null,{"$f":"FIXED(Slot2!J119,1)","v":"190,1"},null,null,null,{"$f":"IF(Slot2!B21=Slot2!B23,Slot2!O119,Slot2!S119)","v":0}]
[null,{"$f":"Slot2!B120","v":-4},null,null,{"$f":"FIXED(Slot2!C120,1)","v":"4,4"},null,null,{"$f":"FIXED(Slot2!D120,1)","v":"6,0"},null,null,{"$f":"Slot2!G120","v":89},null,null,null,{"$f":"FIXED(Slot2!H120,1)","v":"388,4"},null,null,null,{"$f":"FIXED(Slot2!J120,1)","v":"388,4"},null,null,null,{"$f":"IF(Slot2!B22=Slot2!B24,Slot2!O120,Slot2!S120)","v":0}]
[null,{"$f":"Slot2!B121","v":-3},null,null,{"$f":"FIXED(Slot2!C121,1)","v":"4,1"},null,null,{"$f":"FIXED(Slot2!D121,1)","v":"6,0"},null,null,{"$f":"Slot2!G121","v":161},null,null,null,{"$f":"FIXED(Slot2!H121,1)","v":"658,6"},null,null,null,{"$f":"FIXED(Slot2!J121,1)","v":"658,6"},null,null,null,{"$f":"IF(Slot2!B23=Slot2!B25,Slot2!O121,Slot2!S121)","v":0}]
[null,{"$f":"Slot2!B122","v":-2},null,null,{"$f":"FIXED(Slot2!C122,1)","v":"3,8"},null,null,{"$f":"FIXED(Slot2!D122,1)","v":"6,0"},null,null,{"$f":"Slot2!G122","v":207},null,null,null,{"$f":"FIXED(Slot2!H122,1)","v":"790,4"},null,null,null,{"$f":"FIXED(Slot2!J122,1)","v":"790,4"},null,null,null,{"$f":"IF(Slot2!B24=Slot2!B26,Slot2!O122,Slot2!S122)","v":0}]
[null,{"$f":"Slot2!B123","v":-1},null,null,{"$f":"FIXED(Slot2!C123,1)","v":"3,5"},null,null,{"$f":"FIXED(Slot2!D123,1)","v":"6,0"},null,null,{"$f":"Slot2!G123","v":248},null,null,null,{"$f":"FIXED(Slot2!H123,1)","v":"879,3"},null,null,null,{"$f":"FIXED(Slot2!J123,1)","v":"879,3"},null,null,null,{"$f":"IF(Slot2!B25=Slot2!B27,Slot2!O123,Slot2!S123)","v":0}]
[null,{"$f":"Slot2!B124","v":0},null,null,{"$f":"FIXED(Slot2!C124,1)","v":"3,3"},null,null,{"$f":"FIXED(Slot2!D124,1)","v":"6,0"},null,null,{"$f":"Slot2!G124","v":263},null,null,null,{"$f":"FIXED(Slot2!H124,1)","v":"860,7"},null,null,null,{"$f":"FIXED(Slot2!J124,1)","v":"860,7"},null,null,null,{"$f":"IF(Slot2!B26=Slot2!B28,Slot2!O124,Slot2!S124)","v":0}]
[null,{"$f":"Slot2!B125","v":1},null,null,{"$f":"FIXED(Slot2!C125,1)","v":"3,0"},null,null,{"$f":"FIXED(Slot2!D125,1)","v":"6,0"},null,null,{"$f":"Slot2!G125","v":270},null,null,null,{"$f":"FIXED(Slot2!H125,1)","v":"810,0"},null,null,null,{"$f":"FIXED(Slot2!J125,1)","v":"810,0"},null,null,null,{"$f":"IF(Slot2!B27=Slot2!B29,Slot2!O125,Slot2!S125)","v":0}]
[null,{"$f":"Slot2!B126","v":2},null,null,{"$f":"FIXED(Slot2!C126,1)","v":"2,7"},null,null,{"$f":"FIXED(Slot2!D126,1)","v":"6,0"},null,null,{"$f":"Slot2!G126","v":328},null,null,null,{"$f":"FIXED(Slot2!H126,1)","v":"894,5"},null,null,null,{"$f":"FIXED(Slot2!J126,1)","v":"894,5"},null,null,null,{"$f":"IF(Slot2!B28=Slot2!B30,Slot2!O126,Slot2!S126)","v":0}]
[null,{"$f":"Slot2!B127","v":3},null,null,{"$f":"FIXED(Slot2!C127,1)","v":"2,5"},null,null,{"$f":"FIXED(Slot2!D127,1)","v":"6,0"},null,null,{"$f":"Slot2!G127","v":344},null,null,null,{"$f":"FIXED(Slot2!H127,1)","v":"844,4"},null,null,null,{"$f":"FIXED(Slot2!J127,1)","v":"844,4"},null,null,null,{"$f":"IF(Slot2!B29=Slot2!B31,Slot2!O127,Slot2!S127)","v":0}]
[null,{"$f":"Slot2!B128","v":4},null,null,{"$f":"FIXED(Slot2!C128,1)","v":"2,2"},null,null,{"$f":"FIXED(Slot2!D128,1)","v":"6,0"},null,null,{"$f":"Slot2!G128","v":343},null,null,null,{"$f":"FIXED(Slot2!H128,1)","v":"748,4"},null,null,null,{"$f":"FIXED(Slot2!J128,1)","v":"748,4"},null,null,null,{"$f":"IF(Slot2!B30=Slot2!B32,Slot2!O128,Slot2!S128)","v":0}]
[null,{"$f":"Slot2!B129","v":5},null,null,{"$f":"FIXED(Slot2!C129,1)","v":"1,9"},null,null,{"$f":"FIXED(Slot2!D129,1)","v":"6,0"},null,null,{"$f":"Slot2!G129","v":414},null,null,null,{"$f":"FIXED(Slot2!H129,1)","v":"790,4"},null,null,null,{"$f":"FIXED(Slot2!J129,1)","v":"790,4"},null,null,null,{"$f":"IF(Slot2!B31=Slot2!B33,Slot2!O129,Slot2!S129)","v":0}]
[null,{"$f":"Slot2!B130","v":6},null,null,{"$f":"FIXED(Slot2!C130,1)","v":"1,6"},null,null,{"$f":"FIXED(Slot2!D130,1)","v":"6,0"},null,null,{"$f":"Slot2!G130","v":397},null,null,null,{"$f":"FIXED(Slot2!H130,1)","v":"649,6"},null,null,null,{"$f":"FIXED(Slot2!J130,1)","v":"649,6"},null,null,null,{"$f":"IF(Slot2!B32=Slot2!B34,Slot2!O130,Slot2!S130)","v":0}]
[null,{"$f":"Slot2!B131","v":7},null,null,{"$f":"FIXED(Slot2!C131,1)","v":"1,4"},null,null,{"$f":"FIXED(Slot2!D131,1)","v":"6,0"},null,null,{"$f":"Slot2!G131","v":406},null,null,null,{"$f":"FIXED(Slot2!H131,1)","v":"553,6"},null,null,null,{"$f":"FIXED(Slot2!J131,1)","v":"553,6"},null,null,null,{"$f":"IF(Slot2!B33=Slot2!B35,Slot2!O131,Slot2!S131)","v":0}]
[null,{"$f":"Slot2!B132","v":8},null,null,{"$f":"FIXED(Slot2!C132,1)","v":"1,1"},null,null,{"$f":"FIXED(Slot2!D132,1)","v":"6,0"},null,null,{"$f":"Slot2!G132","v":378},null,null,null,{"$f":"FIXED(Slot2!H132,1)","v":"412,4"},null,null,null,{"$f":"FIXED(Slot2!J132,1)","v":"412,4"},null,null,null,{"$f":"IF(Slot2!B34=Slot2!B36,Slot2!O132,Slot2!S132)","v":0}]
[null,{"$f":"Slot2!B133","v":9},null,null,{"$f":"FIXED(Slot2!C133,1)","v":"0,8"},null,null,{"$f":"FIXED(Slot2!D133,1)","v":"6,0"},null,null,{"$f":"Slot2!G133","v":409},null,null,null,{"$f":"FIXED(Slot2!H133,1)","v":"334,6"},null,null,null,{"$f":"FIXED(Slot2!J133,1)","v":"334,6"},null,null,null,{"$f":"IF(Slot2!B35=Slot2!B37,Slot2!O133,Slot2!S133)","v":0}]
[null,{"$f":"Slot2!B134","v":10},null,null,{"$f":"FIXED(Slot2!C134,1)","v":"0,5"},null,null,{"$f":"FIXED(Slot2!D134,1)","v":"6,0"},null,null,{"$f":"Slot2!G134","v":375},null,null,null,{"$f":"FIXED(Slot2!H134,1)","v":"204,5"},null,null,null,{"$f":"FIXED(Slot2!J134,1)","v":"204,5"},null,null,null,{"$f":"IF(Slot2!B36=Slot2!B38,Slot2!O134,Slot2!S134)","v":0}]
[null,{"$f":"Slot2!B135","v":11},null,null,{"$f":"FIXED(Slot2!C135,1)","v":"0,3"},null,null,{"$f":"FIXED(Slot2!D135,1)","v":"6,0"},null,null,{"$f":"Slot2!G135","v":420},null,null,null,{"$f":"FIXED(Slot2!H135,1)","v":"114,5"},null,null,null,{"$f":"FIXED(Slot2!J135,1)","v":"114,5"},null,null,null,{"$f":"IF(Slot2!B37=Slot2!B39,Slot2!O135,Slot2!S135)","v":0}]
[null,{"$f":"Slot2!B136","v":12},null,null,{"$f":"FIXED(Slot2!C136,1)","v":"0,0"},null,null,{"$f":"FIXED(Slot2!D136,1)","v":"6,0"},null,null,{"$f":"Slot2!G136","v":378},null,null,null,{"$f":"FIXED(Slot2!H136,1)","v":"0,0"},null,null,null,{"$f":"FIXED(Slot2!J136,1)","v":"0,0"},null,null,null,{"$f":"IF(Slot2!B38=Slot2!B40,Slot2!O136,Slot2!S136)","v":0}]
[null,{"$f":"Slot2!B137","v":13},null,null,{"$f":"FIXED(Slot2!C137,1)","v":"0,0"},null,null,{"$f":"FIXED(Slot2!D137,1)","v":"6,0"},null,null,{"$f":"Slot2!G137","v":349},null,null,null,{"$f":"FIXED(Slot2!H137,1)","v":"0,0"},null,null,null,{"$f":"FIXED(Slot2!J137,1)","v":"0,0"},null,null,null,{"$f":"IF(Slot2!B39=Slot2!B41,Slot2!O137,Slot2!S137)","v":0}]
[null,{"$f":"Slot2!B138","v":14},null,null,{"$f":"FIXED(Slot2!C138,1)","v":"0,0"},null,null,{"$f":"FIXED(Slot2!D138,1)","v":"6,0"},null,null,{"$f":"Slot2!G138","v":370},null,null,null,{"$f":"FIXED(Slot2!H138,1)","v":"0,0"},null,null,null,{"$f":"FIXED(Slot2!J138,1)","v":"0,0"},null,null,null,{"$f":"IF(Slot2!B40=Slot2!B42,Slot2!O138,Slot2!S138)","v":0}]
[null,{"$f":"Slot2!B139","v":15},null,null,{"$f":"FIXED(Slot2!C139,1)","v":"0,0"},null,null,{"$f":"FIXED(Slot2!D139,1)","v":"6,0"},null,null,{"$f":"Slot2!G139","v":333},null,null,null,{"$f":"FIXED(Slot2!H139,1)","v":"0,0"},null,null,null,{"$f":"FIXED(Slot2!J139,1)","v":"0,0"},null,null,null,{"$f":"IF(Slot2!B41=Slot2!B43,Slot2!O139,Slot2!S139)","v":0}]
[null,{"$f":"Slot2!B140","v":16},null,null,{"$f":"FIXED(Slot2!C140,1)","v":"0,0"},null,null,{"$f":"FIXED(Slot2!D140,1)","v":"6,0"},null,null,{"$f":"Slot2!G140","v":310},null,null,null,{"$f":"FIXED(Slot2!H140,1)","v":"0,0"},null,null,null,{"$f":"FIXED(Slot2!J140,1)","v":"0,0"},null,null,null,{"$f":"IF(Slot2!B42=Slot2!B44,Slot2!O140,Slot2!S140)","v":0}]
[null,{"$f":"Slot2!B141","v":17},null,null,{"$f":"FIXED(Slot2!C141,1)","v":"0,0"},null,null,{"$f":"FIXED(Slot2!D141,1)","v":"6,0"},null,null,{"$f":"Slot2!G141","v":322},null,null,null,{"$f":"FIXED(Slot2!H141,1)","v":"0,0"},null,null,null,{"$f":"FIXED(Slot2!J141,1)","v":"0,0"},null,null,null,{"$f":"IF(Slot2!B43=Slot2!B45,Slot2!O141,Slot2!S141)","v":0}]
[null,{"$f":"Slot2!B142","v":18},null,null,{"$f":"FIXED(Slot2!C142,1)","v":"0,0"},null,null,{"$f":"FIXED(Slot2!D142,1)","v":"6,0"},null,null,{"$f":"Slot2!G142","v":280},null,null,null,{"$f":"FIXED(Slot2!H142,1)","v":"0,0"},null,null,null,{"$f":"FIXED(Slot2!J142,1)","v":"0,0"},null,null,null,{"$f":"IF(Slot2!B44=Slot2!B46,Slot2!O142,Slot2!S142)","v":0}]
[null,{"$f":"Slot2!B143","v":19},null,null,{"$f":"FIXED(Slot2!C143,1)","v":"0,0"},null,null,{"$f":"FIXED(Slot2!D143,1)","v":"6,0"},null,null,{"$f":"Slot2!G143","v":217},null,null,null,{"$f":"FIXED(Slot2!H143,1)","v":"0,0"},null,null,null,{"$f":"FIXED(Slot2!J143,1)","v":"0,0"},null,null,null,{"$f":"IF(Slot2!B45=Slot2!B47,Slot2!O143,Slot2!S143)","v":0}]
[null,{"$f":"Slot2!B144","v":20},null,null,{"$f":"FIXED(Slot2!C144,1)","v":"0,0"},null,null,{"$f":"FIXED(Slot2!D144,1)","v":"6,0"},null,null,{"$f":"Slot2!G144","v":196},null,null,null,{"$f":"FIXED(Slot2!H144,1)","v":"0,0"},null,null,null,{"$f":"FIXED(Slot2!J144,1)","v":"0,0"},null,null,null,{"$f":"IF(Slot2!B46=Slot2!B48,Slot2!O144,Slot2!S144)","v":0}]
[null,{"$f":"Slot2!B145","v":"> 20"},null,null,{"$f":"FIXED(Slot2!C145,1)","v":"0,0"},null,null,{"$f":"FIXED(Slot2!D145,1)","v":"6,0"},null,null,{"$f":"Slot2!G145","v":744},null,null,null,{"$f":"FIXED(Slot2!H145,1)","v":"0,0"},null,null,null,{"$f":"FIXED(Slot2!J145,1)","v":"0,0"},null,null,null,{"$f":"IF(Slot2!B47=Slot2!B49,Slot2!O145,Slot2!S145)","v":0}]
[null,null,null,null,null,null,null,null,null,null,{"$f":"Slot2!G146","v":8760},null,null,null,{"$f":"FIXED(Slot2!H146,0)","v":"11.027"},null,null,null,{"$f":"FIXED(Slot2!J146,0)","v":"11.027"},null,null,null,{"$f":"FIXED(IF(Slot2!B48=Slot2!B50,Slot2!O146,Slot2!S146),0)","v":"0"}]
[]
[]
[]
[]
[null,{"$f":"Slot2!C80","v":"-"}]
[]
[]
[null,{"$f":"Translation!A68","v":"Energy costs "}]
[null,{"$f":"Translation!A176","v":"Total"},null,null,null,null,null,null,null,{"$f":"Slot2!$AN$74","v":"13.153 £/Year"}]
[null,{"$f":"Slot2!$AO$74","v":"Gaskessel"},null,null,null,null,null,null,null,{"$f":"Slot2!$AP$74","v":"9.663 £/Year"}]
[null,{"$f":"Slot2!$AQ$74","v":"2nd heat source"},null,null,null,null,null,null,null,{"$f":"Slot2!$AR$74","v":"0 £/Year"}]
[null,{"$f":"Slot2!$AS$74","v":"DHW"},null,null,null,null,null,null,null,{"$f":"Slot2!$AT$74","v":"3.490 £/Year"}]
[null,{"$f":"Translation!A182&\": \"&Einstellungen!D25&\" \"&Translation!A187&\"  |  \"&Translation!A183&\": \"&Einstellungen!D27&\" \"&Translation!A187&\"  |  \"&Berechnung!D71&\": \"&Berechnung!C70&\" \"&Berechnung!D70","v":"Electricity price: 25 pence/kWh  |  Electricity price heat pump: 18 pence/kWh  |  Gaskessel: 85 pence/kWh"}]
[]
[]
[null,{"$f":"Translation!A70","v":"Cost trend"}]
[null,{"$f":"Slot2!$AM$75","v":"Energy costs 15 years"},null,null,null,null,null,null,null,{"$f":"Slot2!$AN$75","v":{"$error":"#N/A"}},null,null,null,null,null,null,null,null,null,null,null,null,null,null,null,null,null,null,null," "]
[null,{"$f":"Slot2!$AO$75","v":"-"},null,null,null,null,null,null,null,{"$f":"Slot2!$AP$75","v":"208.503 £"}]
[null,{"$f":"Slot2!$AQ$75","v":"DHW"},null,null,null,null,null,null,null,{"$f":"Slot2!$AR$75","v":"75.316 £"}]
[null,{"$f":"Translation!$A$212","v":"Subvention"},null,null,null,null,null,null,null,{"$f":"Slot2!$AT$75","v":{"$error":"#N/A"}}]
[null,{"$f":"Translation!A50&\": \"&Berechnung!C80&\" \"&Translation!A81&\" | \"&Berechnung!D71&\": \"&Berechnung!C74&\" \"&Translation!A81","v":"Price increase electricity: 3 %/year | Gaskessel: 5 %/year"}]
[]
[]
[]
[]
[]
[]
[]
[]
[null,{"$f":"Slot2!C80","v":"-"}]
[]
[null,null,null,null,null,null,null,null,null,null,null,null,null,null,null,null,null,null,null,null,null,null,null,null,null,null,null,null,null," "]
[null,{"$f":"Translation!A69","v":"CO2-emission"}]
[null,{"$f":"Slot2!AM78","v":"CO2-emission"},null,null,null,null,null,null,null,{"$f":"Slot2!AN78","v":"3.915 kg/year"}]
[null,{"$f":"Slot2!AO78","v":"Gaskessel"},null,null,null,null,null,null,null,{"$f":"Slot2!AP78","v":"2.876 kg/year"}]
[null,{"$f":"Slot2!AQ78","v":"2nd heat source"},null,null,null,null,null,null,null,{"$f":"Slot2!AR78","v":"0 kg/year"}]
[null,{"$f":"Slot2!AS78","v":"DHW"},null,null,null,null,null,null,null,{"$f":"Slot2!AT78","v":"1.039 kg/year"}]
[null,{"$f":"Translation!A190&\": \"&Translation!A191&\" \"&Einstellungen!D31&\"g/kWh\"&\" | \"&Berechnung!D71&\" \"&Berechnung!C73&\" g/kWh\"","v":"CO2-factor: electricity 621g/kWh | Gaskessel 253 g/kWh"}]
[]
[null,{"$f":"Translation!A67","v":"Final energy"}]
[null,{"$f":"Slot2!AM79","v":"Final energy"},null,null,null,null,null,null,null,{"$f":"Slot2!AN79","v":"15.474 kWh/Year"}]
[null,{"$f":"Slot2!AO79","v":"Gaskessel"},null,null,null,null,null,null,null,{"$f":"Slot2!AP79","v":"11.368 kWh/Year"}]
[null,{"$f":"Slot2!AQ79","v":"2nd heat source"},null,null,null,null,null,null,null,{"$f":"Slot2!AR79","v":"0 kWh/Year"}]
[null,{"$f":"Slot2!AS79","v":"DHW"},null,null,null,null,null,null,null,{"$f":"Slot2!AT79","v":"4.106 kWh/Year"}]
[null,null,null,null,null,null,null,{"$f":"Translation!A69","v":"CO2-emission"},null,null,null,null,null,null,null,null,null,null,null,{"$f":"Translation!A62","v":"Final energy"}]
[]
[]
[]
[]
[]
[]
[]
[]
[]
[null,{"$f":"Translation!A201&\" \"&Berechnung!H5","v":"comparison Gaskessel"},null,null,null,null,null,null,null,null,null,null,null,null,null,null,null,null,null,null,null,null,null,null,null,null," "]
[]
[null,null,null,null,null,null,null,null,null,null,null,null,null,null,null,null,null,null,null,null,null,null,null,null,null,null,null,null,null," "]
[null,{"$f":"Translation!A68","v":"Energy costs "},null,null,null,null,null,null,null,null,{"$f":"B132","v":"-"},null,null,null,null,null,null,null,{"$f":"Berechnung!H5","v":"Gaskessel"}]
[null,{"$f":"B111","v":"Total"},null,null,null,null,null,null,null,null,{"$f":"J111","v":"13.153 £/Year"},null,null,null,null,null,null,null,{"$f":"FIXED(Slot2!N77,0)&\" \"&Translation!$A$77","v":"13.153 £/Year"}]
[null,{"$f":"Translation!A203","v":"Heating"},null,null,null,null,null,null,null,null,{"$f":"J112","v":"9.663 £/Year"},null,null,null,null,null,null,null,{"$f":"FIXED(Slot2!N74,0)&\" \"&Translation!$A$77","v":"9.663 £/Year"}]
[null,{"$f":"Translation!A16","v":"2nd heat source"},null,null,null,null,null,null,null,null,{"$f":"J113","v":"0 £/Year"},null,null,null,null,null,null,null,{"$f":"FIXED(Slot2!N75,0)&\" \"&Translation!$A$77","v":"0 £/Year"}]
[null,{"$f":"B114","v":"DHW"},null,null,null,null,null,null,null,null,{"$f":"J114","v":"3.490 £/Year"},null,null,null,null,null,null,null,{"$f":"FIXED(Slot2!N76,0)&\" \"&Translation!$A$77","v":"3.490 £/Year"}]
[null,{"$f":"Translation!A210","v":"Cost trend 15 years"},null,null,null,null,null,null,null,null,{"$f":"J119","v":{"$error":"#N/A"}},null,null,null,null,null,null,null,{"$f":"FIXED((Slot2!AC89+Slot2!W89),0)&\" \"&Translation!$A$209","v":"283.819 £"}]
[null,{"$f":"Translation!A182&\": \"&Einstellungen!D25&\" \"&Translation!A187&\"  |  \"&Translation!A183&\": \"&Einstellungen!D27&\" \"&Translation!A187&\"  |  \"&Berechnung!D71&\": \"&Einstellungen!D12&\" \"&Berechnung!D70","v":"Electricity price: 25 pence/kWh  |  Electricity price heat pump: 18 pence/kWh  |  Gaskessel: 85 pence/kWh"}]
[null,{"$f":"Translation!A50&\": \"&Berechnung!C80&\" \"&Translation!A81&\" | \"&Berechnung!D71&\": \"&Berechnung!C74&\" \"&Translation!A81","v":"Price increase electricity: 3 %/year | Gaskessel: 5 %/year"}]
[]
[null,{"$f":"Translation!A204","v":"Other values"},null,null,null,null,null,null,null,null,{"$f":"B132","v":"-"},null,null,null,null,null,null,null,{"$f":"Berechnung!H5","v":"Gaskessel"}]
[null,{"$f":"B135","v":"CO2-emission"},null,null,null,null,null,null,null,null,{"$f":"J136","v":"3.915 kg/year"},null,null,null,null,null,null,null,{"$f":"FIXED(Slot2!N95,0)&\" \"&Translation!$A$80","v":"3.915 kg/year"}]
[null,{"$f":"B142","v":"Final energy"},null,null,null,null,null,null,null,null,{"$f":"J143","v":"15.474 kWh/Year"},null,null,null,null,null,null,null,{"$f":"FIXED(Slot2!N86,0)&\" \"&Translation!$A$79","v":"15.474 kWh/Year"}]
[]
[null,null,{"$f":"Translation!A177","v":"Costs per year"},null,null,null,null,null,null,null,null,null,null,null,null,{"$f":"Translation!A70","v":"Cost trend"}]
[]
[]
[]
[]
[]
[]
[null,{"$f":"Translation!A168","v":"Legal note"}]
[]
[]
[null,{"$f":"Translation!A169","v":"Stiebel Eltron shall not provide any guarantees that the information, values and data provided, or values, information and recommendations determined with the aid or on the basis of such information, values and data, are complete, accurate, correct or current in every respect.\nStiebel Eltron shall reserve the right to make changes to the data, values and information provided at any time and without prior notification.\nErrors excepted. Subject to changes.\nNone of the information, values and data provided or the values, information and recommendations determined with the aid or on the basis of such information, values and data constitutes any basis for a financial decision or for any other purpose, but rather is merely initial non-binding information as an initial guide.\nUnder no circumstances should the following design tool be considered a substitute for consultation with Stiebel Eltron or another authorised expert engineer.\nPlease contact Stiebel Eltron or another authorised expert engineer in relation to specific project design.\nStiebel Eltron shall accept no liability for losses of any kind that may arise from the use of information, values and data provided, or values, information and recommendations determined with the aid or on the basis of such information, values and data. This exclusion of liability shall not apply if the loss is due to intent or gross negligence on the part of Stiebel Eltron or in the event of a fatality, physical injury or damage to health.\n"}]

{"sheet":"Ausdruck-Slot3","index":9,"n_rows":183,"n_cols":30,"rows_kept":183,"cut":false,"hidden":true,"merged":[[199,5,199,23],[200,5,200,23],[201,5,201,23],[168,10,168,17],[172,2,172,12],[172,15,172,25],[179,1,179,25],[182,1,182,25],[198,5,198,23],[168,1,168,8],[151,1,151,8],[151,9,151,25],[152,1,152,8],[152,9,152,25],[156,1,156,25],[159,10,159,17],[148,1,148,8],[148,9,148,25],[149,1,149,8],[149,9,149,25],[150,1,150,8],[150,9,150,25],[159,1,159,8],[144,1,144,8],[144,9,144,25],[145,1,145,8],[145,9,145,25],[147,1,147,8],[147,9,147,25],[138,1,138,8],[138,9,138,25],[141,1,141,8],[142,1,142,8],[142,9,142,25],[143,1,143,8],[143,9,143,25],[135,1,135,8],[135,9,135,25],[136,1,136,8],[136,9,136,25],[137,1,137,8],[137,9,137,25],[119,1,119,8],[119,9,119,25],[120,1,120,8],[120,9,120,25],[131,1,131,25],[134,1,134,8],[121,1,121,8],[121,9,121,25],[112,1,112,8],[112,9,112,25],[113,1,113,8],[113,9,113,25],[117,1,117,8],[118,1,118,8],[118,9,118,25],[106,1,106,25],[109,1,109,8],[110,1,110,8],[110,9,110,25],[111,1,111,8],[111,9,111,25],[101,22,101,25],[104,1,104,3],[104,4,104,6],[104,7,104,9],[104,10,104,13],[104,14,104,17],[104,18,104,21],[104,22,104,25],[101,1,101,3],[101,4,101,6],[101,7,101,9],[101,10,101,13],[101,14,101,17],[101,18,101,21],[99,22,99,25],[100,1,100,3],[100,4,100,6],[100,7,100,9],[100,10,100,13],[100,14,100,17],[100,18,100,21],[100,22,100,25],[99,1,99,3],[99,4,99,6],[99,7,99,9],[99,10,99,13],[99,14,99,17],[99,18,99,21],[97,22,97,25],[98,1,98,3],[98,4,98,6],[98,7,98,9],[98,10,98,13],[98,14,98,17],[98,18,98,21],[98,22,98,25],[97,1,97,3],[97,4,97,6],[97,7,97,9],[97,10,97,13],[97,14,97,17],[97,18,97,21],[95,22,95,25],[96,1,96,3],[96,4,96,6],[96,7,96,9],[96,10,96,13],[96,14,96,17],[96,18,96,21],[96,22,96,25],[95,1,95,3],[95,4,95,6],[95,7,95,9],[95,10,95,13],[95,14,95,17],[95,18,95,21],[93,22,93,25],[94,1,94,3],[94,4,94,6],[94,7,94,9],[94,10,94,13],[94,14,94,17],[94,18,94,21],[94,22,94,25],[93,1,93,3],[93,4,93,6],[93,7,93,9],[93,10,93,13],[93,14,93,17],[93,18,93,21],[91,22,91,25],[92,1,92,3],[92,4,92,6],[92,7,92,9],[92,10,92,13],[92,14,92,17],[92,18,92,21],[92,22,92,25],[91,1,91,3],[91,4,91,6],[91,7,91,9],[91,10,91,13],[91,14,91,17],[91,18,91,21],[89,22,89,25],[90,1,90,3],[90,4,90,6],[90,7,90,9],[90,10,90,13],[90,14,90,17],[90,18,90,21],[90,22,90,25],[89,1,89,3],[89,4,89,6],[89,7,89,9],[89,10,89,13],[89,14,89,17],[89,18,89,21],[87,22,87,25],[88,1,88,3],[88,4,88,6],[88,7,88,9],[88,10,88,13],[88,14,88,17],[88,18,88,21],[88,22,88,25],[87,1,87,3],[87,4,87,6],[87,7,87,9],[87,10,87,13],[87,14,87,17],[87,18,87,21],[85,22,85,25],[86,1,86,3],[86,4,86,6],[86,7,86,9],[86,10,86,13],[86,14,86,17],[86,18,86,21],[86,22,86,25],[85,1,85,3],[85,4,85,6],[85,7,85,9],[85,10,85,13],[85,14,85,17],[85,18,85,21],[83,22,83,25],[84,1,84,3],[84,4,84,6],[84,7,84,9],[84,10,84,13],[84,14,84,17],[84,18,84,21],[84,22,84,25],[83,1,83,3],[83,4,83,6],[83,7,83,9],[83,10,83,13],[83,14,83,17],[83,18,83,21],[81,22,81,25],[82,1,82,3],[82,4,82,6],[82,7,82,9],[82,10,82,13],[82,14,82,17],[82,18,82,21],[82,22,82,25],[81,1,81,3],[81,4,81,6],[81,7,81,9],[81,10,81,13],[81,14,81,17],[81,18,81,21],[79,22,79,25],[80,1,80,3],[80,4,80,6],[80,7,80,9],[80,10,80,13],[80,14,80,17],[80,18,80,21],[80,22,80,25],[79,1,79,3],[79,4,79,6],[79,7,79,9],[79,10,79,13],[79,14,79,17],[79,18,79,21],[77,22,77,25],[78,1,78,3],[78,4,78,6],[78,7,78,9],[78,10,78,13],[78,14,78,17],[78,18,78,21],[78,22,78,25],[77,1,77,3],[77,4,77,6],[77,7,77,9],[77,10,77,13],[77,14,77,17],[77,18,77,21],[75,22,75,25],[76,1,76,3],[76,4,76,6],[76,7,76,9],[76,10,76,13],[76,14,76,17],[76,18,76,21],[76,22,76,25],[75,1,75,3],[75,4,75,6],[75,7,75,9],[75,10,75,13],[75,14,75,17],[75,18,75,21],[73,22,73,25],[74,1,74,3],[74,4,74,6],[74,7,74,9],[74,10,74,13],[74,14,74,17],[74,18,74,21],[74,22,74,25],[73,1,73,3],[73,4,73,6],[73,7,73,9],[73,10,73,13],[73,14,73,17],[73,18,73,21],[71,22,71,25],[72,1,72,3],[72,4,72,6],[72,7,72,9],[72,10,72,13],[72,14,72,17],[72,18,72,21],[72,22,72,25],[71,1,71,3],[71,4,71,6],[71,7,71,9],[71,10,71,13],[71,14,71,17],[71,18,71,21],[69,22,69,25],[70,1,70,3],[70,4,70,6],[70,7,70,9],[70,10,70,13],[70,14,70,17],[70,18,70,21],[70,22,70,25],[69,1,69,3],[69,4,69,6],[69,7,69,9],[69,10,69,13],[69,14,69,17],[69,18,69,21],[67,22,67,25],[68,1,68,3],[68,4,68,6],[68,7,68,9],[68,10,68,13],[68,14,68,17],[68,18,68,21],[68,22,68,25],[67,1,67,3],[67,4,67,6],[67,7,67,9],[67,10,67,13],[67,14,67,17],[67,18,67,21],[65,22,65,25],[66,1,66,3],[66,4,66,6],[66,7,66,9],[66,10,66,13],[66,14,66,17],[66,18,66,21],[66,22,66,25],[65,1,65,3],[65,4,65,6],[65,7,65,9],[65,10,65,13],[65,14,65,17],[65,18,65,21],[63,22,63,25],[64,1,64,3],[64,4,64,6],[64,7,64,9],[64,10,64,13],[64,14,64,17],[64,18,64,21],[64,22,64,25],[63,1,63,3],[63,4,63,6],[63,7,63,9],[63,10,63,13],[63,14,63,17],[63,18,63,21],[61,22,61,25],[62,1,62,3],[62,4,62,6],[62,7,62,9],[62,10,62,13],[62,14,62,17],[62,18,62,21],[62,22,62,25],[61,1,61,3],[61,4,61,6],[61,7,61,9],[61,10,61,13],[61,14,61,17],[61,18,61,21],[59,22,59,25],[60,1,60,3],[60,4,60,6],[60,7,60,9],[60,10,60,13],[60,14,60,17],[60,18,60,21],[60,22,60,25],[59,1,59,3],[59,4,59,6],[59,7,59,9],[59,10,59,13],[59,14,59,17],[59,18,59,21],[57,22,57,25],[58,1,58,3],[58,4,58,6],[58,7,58,9],[58,10,58,13],[58,14,58,17],[58,18,58,21],[58,22,58,25],[57,1,57,3],[57,4,57,6],[57,7,57,9],[57,10,57,13],[57,14,57,17],[57,18,57,21],[39,1,39,8],[39,9,39,25],[53,1,53,25],[56,1,56,3],[56,4,56,6],[56,7,56,9],[56,10,56,13],[56,14,56,17],[56,18,56,21],[56,22,56,25],[33,1,33,8],[33,9,33,25],[36,1,36,8],[37,1,37,8],[37,9,37,25],[38,1,38,8],[38,9,38,25],[26,1,26,8],[26,9,26,25],[28,1,28,25],[31,1,31,8],[32,1,32,8],[32,9,32,25],[23,1,23,8],[23,9,23,25],[24,1,24,8],[24,9,24,25],[25,1,25,8],[25,9,25,25],[18,1,18,8],[18,9,18,25],[20,1,20,8],[21,1,21,8],[21,9,21,25],[22,1,22,8],[22,9,22,25],[16,1,16,8],[16,9,16,25],[17,1,17,8],[17,9,17,25],[10,1,10,8],[10,9,10,25],[11,1,11,8],[11,9,11,25],[12,1,12,8],[12,9,12,25],[1,8,1,25],[4,1,4,25],[7,1,7,8],[8,1,8,8],[8,9,8,25],[9,1,9,8],[9,9,9,25],[14,1,14,8],[15,1,15,8],[15,9,15,25]]}
[]
[null,null,null,null,null,null,null,null,{"$f":"Translation!$A$4","v":"Bivalent heatpump systems"}]
[null,null,null,null,null,null,null,null,null,null,null,null,null,null,null,null,null,null,null,null,null,null,null,null,null,null,{"$f":"RIGHT(Auslegung!$C$54,5)","v":"v1.20"}]
[]
[null,{"$f":"Translation!A175","v":"Project data"}]
[]
[]
[null,{"$f":"Translation!A84","v":"Building"}]
[null,{"$f":"Translation!A76","v":"Location"},null,null,null,null,null,null,null,{"$f":"Berechnung!B5&\"  |  \"&Berechnung!A5","v":"Holzminden  |  Germany"}]
[null,{"$f":"Translation!A90","v":"Type of building"},null,null,null,null,null,null,null,{"$f":"Berechnung!D5","v":"New building"}]
[null,{"$f":"Translation!A158","v":"Number of persons"},null,null,null,null,null,null,null,{"$f":"Berechnung!C62","v":4}]
[null,{"$f":"Translation!A72","v":"Heat demand"},null,null,null,null,null,null,null,{"$f":"Berechnung!G5&\" KW\"","v":"6 KW"}]
[null,{"$f":"Translation!A170","v":"Outside temperature"},null,null,null,null,null,null,null,{"$f":"Berechnung!C5","v":"-10 °C"}]
[]
[null,{"$f":"Translation!A110","v":"Heating system"}]
[null,{"$f":"Translation!A111","v":"Heat generator"},null,null,null,null,null,null,null,{"$f":"Slot3!C81","v":"WPL 10 AC"}]
[null,{"$f":"Translation!A16","v":"2nd heat source"},null,null,null,null,null,null,null,{"$f":"IF(Slot3!D5=2,Translation!A9,Slot3!C82)","v":"Gaskessel"}]
[null,{"$f":"Translation!A171","v":"Forward flow temperature"},null,null,null,null,null,null,null,{"$f":"Berechnung!F5","v":"35 °C"}]
[null,{"$f":"Translation!A172","v":"Boiler efficiency"},null,null,null,null,null,null,null,{"$f":"IF(Slot3!D5=1,\"---\",FIXED(Berechnung!C81,0)&\" %\")","v":"97 %"}]
[]
[null,{"$f":"Translation!A40","v":"DHW"}]
[null,{"$f":"Translation!A111","v":"Heat generator"},null,null,null,null,null,null,null,{"$f":"Slot3!C5","v":"Gaskessel"}]
[null,{"$f":"Translation!A55","v":"Hot water consumption"},null,null,null,null,null,null,null,{"$f":"Berechnung!C75& \" \"&Translation!A56","v":"1,8 kWh/person x day"}]
[null,{"$f":"Translation!A173","v":"Distribution  losses DHW"},null,null,null,null,null,null,null,{"$f":"IF(Slot3!K5=0,\"---\",Berechnung!C83&\" %\")","v":"25 %"}]
[null,{"$f":"Translation!A174","v":"SPF Heat Pump"},null,null,null,null,null,null,null,{"$f":"IF(Slot3!C74=0,\"---\",Slot3!C74)","v":2.7}]
[null,{"$f":"Translation!A172","v":"Boiler efficiency"},null,null,null,null,null,null,null,{"$f":"IF(Slot3!K5<2,\"---\",FIXED(Berechnung!C82,0)&\" %\")","v":"80 %"}]
[null,{"$f":"Translation!A207","v":"Solar fraction"},null,null,null,null,null,null,null,{"$f":"IF(Berechnung!C77=0,\"---\",FIXED(Berechnung!C77,0)&\" %\")","v":"50 %"}]
[]
[null,{"$f":"Slot3!C80","v":"-"}]
[]
[]
[null,{"$f":"Translation!A71","v":"Heat demand | Dual-mode point"}]
[null,{"$f":"Slot3!AQ76","v":"Operating mode"},null,null,null,null,null,null,null,{"$f":"Slot3!AR76","v":"Bivalent-parallel"}]
[null,{"$f":"Slot3!AS76","v":"Dual-mode point"},null,null,null,null,null,null,null,{"$f":"Slot3!AT76","v":"-5,8 °C"}]
[]
[]
[null,{"$f":"Translation!A66","v":"Annual heating "}]
[null,{"$f":"Slot3!AM77","v":"Yearly heat demand"},null,null,null,null,null,null,null,{"$f":"Slot3!AN77","v":"11.027 kWh"}]
[null,{"$f":"Slot3!AO77","v":"Annual heating  WPL 10 AC"},null,null,null,null,null,null,null,{"$f":"Slot3!AP77","v":"10.893 kWh"}]
[null,{"$f":"Slot3!AQ77","v":"Annual heating  Gaskessel"},null,null,null,null,null,null,null,{"$f":"Slot3!AR77","v":"134 kWh"}]
[]
[]
[null,null,null,null,null,null,null,{"$f":"Translation!A71","v":"Heat demand | Dual-mode point"},null,null,null,null,null,null,null,null,null,null,null,{"$f":"Translation!A66","v":"Annual heating "}]
[]
[]
[]
[]
[]
[]
[]
[]
[]
[]
[null,{"$f":"Slot3!C80","v":"-"}]
[]
[]
[null,{"$f":"Translation!A178","v":"Temperature"},null,null,{"$f":"Translation!A72","v":"Heat demand"},null,null,{"$f":"Translation!A179","v":"Heating power"},null,null,{"$f":"Translation!A180","v":"Annual hours "},null,null,null,{"$f":"Translation!A181","v":"Heat demand"},null,null,null,{"$f":"Translation!A194","v":"Heating power 1. HS"},null,null,null,{"$f":"Translation!A195","v":"Heating power 2. HS"}]
[null,"[°C]",null,null,"[KW]",null,null,"[KW]",null,null,"[h/a]",null,null,null,"[KWh/a]",null,null,null,"[KWh/a]",null,null,null,"[KWh/a]"]
[null,{"$f":"Slot3!B103","v":"< -20"},null,null,{"$f":"FIXED(Slot3!C103,1)","v":"6,0"},null,null,{"$f":"FIXED(Slot3!D103,1)","v":"2,1"},null,null,{"$f":"Slot3!G103","v":0},null,null,null,{"$f":"FIXED(Slot3!H103,1)","v":"0,0"},null,null,null,{"$f":"FIXED(Slot3!J103,1)","v":"0,0"},null,null,null,{"$f":"IF(Slot3!B5=Slot3!B7,Slot3!O103,Slot3!S103)","v":0}]
[null,{"$f":"Slot3!B104","v":-20},null,null,{"$f":"FIXED(Slot3!C104,1)","v":"6,0"},null,null,{"$f":"FIXED(Slot3!D104,1)","v":"2,4"},null,null,{"$f":"Slot3!G104","v":0},null,null,null,{"$f":"FIXED(Slot3!H104,1)","v":"0,0"},null,null,null,{"$f":"FIXED(Slot3!J104,1)","v":"0,0"},null,null,null,{"$f":"IF(Slot3!B6=Slot3!B8,Slot3!O104,Slot3!S104)","v":0}]
[null,{"$f":"Slot3!B105","v":-19},null,null,{"$f":"FIXED(Slot3!C105,1)","v":"6,0"},null,null,{"$f":"FIXED(Slot3!D105,1)","v":"2,7"},null,null,{"$f":"Slot3!G105","v":0},null,null,null,{"$f":"FIXED(Slot3!H105,1)","v":"0,0"},null,null,null,{"$f":"FIXED(Slot3!J105,1)","v":"0,0"},null,null,null,{"$f":"IF(Slot3!B7=Slot3!B9,Slot3!O105,Slot3!S105)","v":0}]
[null,{"$f":"Slot3!B106","v":-18},null,null,{"$f":"FIXED(Slot3!C106,1)","v":"6,0"},null,null,{"$f":"FIXED(Slot3!D106,1)","v":"3,0"},null,null,{"$f":"Slot3!G106","v":0},null,null,null,{"$f":"FIXED(Slot3!H106,1)","v":"0,0"},null,null,null,{"$f":"FIXED(Slot3!J106,1)","v":"0,0"},null,null,null,{"$f":"IF(Slot3!B8=Slot3!B10,Slot3!O106,Slot3!S106)","v":0}]
[null,{"$f":"Slot3!B107","v":-17},null,null,{"$f":"FIXED(Slot3!C107,1)","v":"6,0"},null,null,{"$f":"FIXED(Slot3!D107,1)","v":"3,0"},null,null,{"$f":"Slot3!G107","v":0},null,null,null,{"$f":"FIXED(Slot3!H107,1)","v":"0,0"},null,null,null,{"$f":"FIXED(Slot3!J107,1)","v":"0,0"},null,null,null,{"$f":"IF(Slot3!B9=Slot3!B11,Slot3!O107,Slot3!S107)","v":0}]
[null,{"$f":"Slot3!B108","v":-16},null,null,{"$f":"FIXED(Slot3!C108,1)","v":"6,0"},null,null,{"$f":"FIXED(Slot3!D108,1)","v":"3,3"},null,null,{"$f":"Slot3!G108","v":0},null,null,null,{"$f":"FIXED(Slot3!H108,1)","v":"0,0"},null,null,null,{"$f":"FIXED(Slot3!J108,1)","v":"0,0"},null,null,null,{"$f":"IF(Slot3!B10=Slot3!B12,Slot3!O108,Slot3!S108)","v":0}]
[null,{"$f":"Slot3!B109","v":-15},null,null,{"$f":"FIXED(Slot3!C109,1)","v":"6,0"},null,null,{"$f":"FIXED(Slot3!D109,1)","v":"3,5"},null,null,{"$f":"Slot3!G109","v":0},null,null,null,{"$f":"FIXED(Slot3!H109,1)","v":"0,0"},null,null,null,{"$f":"FIXED(Slot3!J109,1)","v":"0,0"},null,null,null,{"$f":"IF(Slot3!B11=Slot3!B13,Slot3!O109,Slot3!S109)","v":0}]
[null,{"$f":"Slot3!B110","v":-14},null,null,{"$f":"FIXED(Slot3!C110,1)","v":"6,0"},null,null,{"$f":"FIXED(Slot3!D110,1)","v":"3,7"},null,null,{"$f":"Slot3!G110","v":0},null,null,null,{"$f":"FIXED(Slot3!H110,1)","v":"0,0"},null,null,null,{"$f":"FIXED(Slot3!J110,1)","v":"0,0"},null,null,null,{"$f":"IF(Slot3!B12=Slot3!B14,Slot3!O110,Slot3!S110)","v":0}]
[null,{"$f":"Slot3!B111","v":-13},null,null,{"$f":"FIXED(Slot3!C111,1)","v":"6,0"},null,null,{"$f":"FIXED(Slot3!D111,1)","v":"4,0"},null,null,{"$f":"Slot3!G111","v":0},null,null,null,{"$f":"FIXED(Slot3!H111,1)","v":"0,0"},null,null,null,{"$f":"FIXED(Slot3!J111,1)","v":"0,0"},null,null,null,{"$f":"IF(Slot3!B13=Slot3!B15,Slot3!O111,Slot3!S111)","v":0}]
[null,{"$f":"Slot3!B112","v":-12},null,null,{"$f":"FIXED(Slot3!C112,1)","v":"6,0"},null,null,{"$f":"FIXED(Slot3!D112,1)","v":"4,0"},null,null,{"$f":"Slot3!G112","v":0},null,null,null,{"$f":"FIXED(Slot3!H112,1)","v":"0,0"},null,null,null,{"$f":"FIXED(Slot3!J112,1)","v":"0,0"},null,null,null,{"$f":"IF(Slot3!B14=Slot3!B16,Slot3!O112,Slot3!S112)","v":0}]
[null,{"$f":"Slot3!B113","v":-11},null,null,{"$f":"FIXED(Slot3!C113,1)","v":"6,0"},null,null,{"$f":"FIXED(Slot3!D113,1)","v":"4,1"},null,null,{"$f":"Slot3!G113","v":6},null,null,null,{"$f":"FIXED(Slot3!H113,1)","v":"36,0"},null,null,null,{"$f":"FIXED(Slot3!J113,1)","v":"24,8"},null,null,null,{"$f":"IF(Slot3!B15=Slot3!B17,Slot3!O113,Slot3!S113)","v":11.25}]
[null,{"$f":"Slot3!B114","v":-10},null,null,{"$f":"FIXED(Slot3!C114,1)","v":"6,0"},null,null,{"$f":"FIXED(Slot3!D114,1)","v":"4,3"},null,null,{"$f":"Slot3!G114","v":32},null,null,null,{"$f":"FIXED(Slot3!H114,1)","v":"192,0"},null,null,null,{"$f":"FIXED(Slot3!J114,1)","v":"137,6"},null,null,null,{"$f":"IF(Slot3!B16=Slot3!B18,Slot3!O114,Slot3!S114)","v":54.400000000000006}]
[null,{"$f":"Slot3!B115","v":-9},null,null,{"$f":"FIXED(Slot3!C115,1)","v":"5,7"},null,null,{"$f":"FIXED(Slot3!D115,1)","v":"4,5"},null,null,{"$f":"Slot3!G115","v":14},null,null,null,{"$f":"FIXED(Slot3!H115,1)","v":"80,2"},null,null,null,{"$f":"FIXED(Slot3!J115,1)","v":"62,3"},null,null,null,{"$f":"IF(Slot3!B17=Slot3!B19,Slot3!O115,Slot3!S115)","v":17.881818181818197}]
[null,{"$f":"Slot3!B116","v":-8},null,null,{"$f":"FIXED(Slot3!C116,1)","v":"5,5"},null,null,{"$f":"FIXED(Slot3!D116,1)","v":"4,6"},null,null,{"$f":"Slot3!G116","v":23},null,null,null,{"$f":"FIXED(Slot3!H116,1)","v":"125,5"},null,null,null,{"$f":"FIXED(Slot3!J116,1)","v":"105,8"},null,null,null,{"$f":"IF(Slot3!B18=Slot3!B20,Slot3!O116,Slot3!S116)","v":19.654545454545442}]
[null,{"$f":"Slot3!B117","v":-7},null,null,{"$f":"FIXED(Slot3!C117,1)","v":"5,2"},null,null,{"$f":"FIXED(Slot3!D117,1)","v":"4,6"},null,null,{"$f":"Slot3!G117","v":44},null,null,null,{"$f":"FIXED(Slot3!H117,1)","v":"228,0"},null,null,null,{"$f":"FIXED(Slot3!J117,1)","v":"202,4"},null,null,null,{"$f":"IF(Slot3!B19=Slot3!B21,Slot3!O117,Slot3!S117)","v":25.600000000000023}]
[null,{"$f":"Slot3!B118","v":-6},null,null,{"$f":"FIXED(Slot3!C118,1)","v":"4,9"},null,null,{"$f":"FIXED(Slot3!D118,1)","v":"4,8"},null,null,{"$f":"Slot3!G118","v":49},null,null,null,{"$f":"FIXED(Slot3!H118,1)","v":"240,5"},null,null,null,{"$f":"FIXED(Slot3!J118,1)","v":"235,2"},null,null,null,{"$f":"IF(Slot3!B20=Slot3!B22,Slot3!O118,Slot3!S118)","v":5.3454545454545723}]
[null,{"$f":"Slot3!B119","v":-5},null,null,{"$f":"FIXED(Slot3!C119,1)","v":"4,6"},null,null,{"$f":"FIXED(Slot3!D119,1)","v":"5,0"},null,null,{"$f":"Slot3!G119","v":41},null,null,null,{"$f":"FIXED(Slot3!H119,1)","v":"190,1"},null,null,null,{"$f":"FIXED(Slot3!J119,1)","v":"190,1"},null,null,null,{"$f":"IF(Slot3!B21=Slot3!B23,Slot3!O119,Slot3!S119)","v":0}]
[null,{"$f":"Slot3!B120","v":-4},null,null,{"$f":"FIXED(Slot3!C120,1)","v":"4,4"},null,null,{"$f":"FIXED(Slot3!D120,1)","v":"5,2"},null,null,{"$f":"Slot3!G120","v":89},null,null,null,{"$f":"FIXED(Slot3!H120,1)","v":"388,4"},null,null,null,{"$f":"FIXED(Slot3!J120,1)","v":"388,4"},null,null,null,{"$f":"IF(Slot3!B22=Slot3!B24,Slot3!O120,Slot3!S120)","v":0}]
[null,{"$f":"Slot3!B121","v":-3},null,null,{"$f":"FIXED(Slot3!C121,1)","v":"4,1"},null,null,{"$f":"FIXED(Slot3!D121,1)","v":"5,4"},null,null,{"$f":"Slot3!G121","v":161},null,null,null,{"$f":"FIXED(Slot3!H121,1)","v":"658,6"},null,null,null,{"$f":"FIXED(Slot3!J121,1)","v":"658,6"},null,null,null,{"$f":"IF(Slot3!B23=Slot3!B25,Slot3!O121,Slot3!S121)","v":0}]
[null,{"$f":"Slot3!B122","v":-2},null,null,{"$f":"FIXED(Slot3!C122,1)","v":"3,8"},null,null,{"$f":"FIXED(Slot3!D122,1)","v":"5,4"},null,null,{"$f":"Slot3!G122","v":207},null,null,null,{"$f":"FIXED(Slot3!H122,1)","v":"790,4"},null,null,null,{"$f":"FIXED(Slot3!J122,1)","v":"790,4"},null,null,null,{"$f":"IF(Slot3!B24=Slot3!B26,Slot3!O122,Slot3!S122)","v":0}]
[null,{"$f":"Slot3!B123","v":-1},null,null,{"$f":"FIXED(Slot3!C123,1)","v":"3,5"},null,null,{"$f":"FIXED(Slot3!D123,1)","v":"5,7"},null,null,{"$f":"Slot3!G123","v":248},null,null,null,{"$f":"FIXED(Slot3!H123,1)","v":"879,3"},null,null,null,{"$f":"FIXED(Slot3!J123,1)","v":"879,3"},null,null,null,{"$f":"IF(Slot3!B25=Slot3!B27,Slot3!O123,Slot3!S123)","v":0}]
[null,{"$f":"Slot3!B124","v":0},null,null,{"$f":"FIXED(Slot3!C124,1)","v":"3,3"},null,null,{"$f":"FIXED(Slot3!D124,1)","v":"6,0"},null,null,{"$f":"Slot3!G124","v":263},null,null,null,{"$f":"FIXED(Slot3!H124,1)","v":"860,7"},null,null,null,{"$f":"FIXED(Slot3!J124,1)","v":"860,7"},null,null,null,{"$f":"IF(Slot3!B26=Slot3!B28,Slot3!O124,Slot3!S124)","v":0}]
[null,{"$f":"Slot3!B125","v":1},null,null,{"$f":"FIXED(Slot3!C125,1)","v":"3,0"},null,null,{"$f":"FIXED(Slot3!D125,1)","v":"6,2"},null,null,{"$f":"Slot3!G125","v":270},null,null,null,{"$f":"FIXED(Slot3!H125,1)","v":"810,0"},null,null,null,{"$f":"FIXED(Slot3!J125,1)","v":"810,0"},null,null,null,{"$f":"IF(Slot3!B27=Slot3!B29,Slot3!O125,Slot3!S125)","v":0}]
[null,{"$f":"Slot3!B126","v":2},null,null,{"$f":"FIXED(Slot3!C126,1)","v":"2,7"},null,null,{"$f":"FIXED(Slot3!D126,1)","v":"6,5"},null,null,{"$f":"Slot3!G126","v":328},null,null,null,{"$f":"FIXED(Slot3!H126,1)","v":"894,5"},null,null,null,{"$f":"FIXED(Slot3!J126,1)","v":"894,5"},null,null,null,{"$f":"IF(Slot3!B28=Slot3!B30,Slot3!O126,Slot3!S126)","v":0}]
[null,{"$f":"Slot3!B127","v":3},null,null,{"$f":"FIXED(Slot3!C127,1)","v":"2,5"},null,null,{"$f":"FIXED(Slot3!D127,1)","v":"6,5"},null,null,{"$f":"Slot3!G127","v":344},null,null,null,{"$f":"FIXED(Slot3!H127,1)","v":"844,4"},null,null,null,{"$f":"FIXED(Slot3!J127,1)","v":"844,4"},null,null,null,{"$f":"IF(Slot3!B29=Slot3!B31,Slot3!O127,Slot3!S127)","v":0}]
[null,{"$f":"Slot3!B128","v":4},null,null,{"$f":"FIXED(Slot3!C128,1)","v":"2,2"},null,null,{"$f":"FIXED(Slot3!D128,1)","v":"6,8"},null,null,{"$f":"Slot3!G128","v":343},null,null,null,{"$f":"FIXED(Slot3!H128,1)","v":"748,4"},null,null,null,{"$f":"FIXED(Slot3!J128,1)","v":"748,4"},null,null,null,{"$f":"IF(Slot3!B30=Slot3!B32,Slot3!O128,Slot3!S128)","v":0}]
[null,{"$f":"Slot3!B129","v":5},null,null,{"$f":"FIXED(Slot3!C129,1)","v":"1,9"},null,null,{"$f":"FIXED(Slot3!D129,1)","v":"7,1"},null,null,{"$f":"Slot3!G129","v":414},null,null,null,{"$f":"FIXED(Slot3!H129,1)","v":"790,4"},null,null,null,{"$f":"FIXED(Slot3!J129,1)","v":"790,4"},null,null,null,{"$f":"IF(Slot3!B31=Slot3!B33,Slot3!O129,Slot3!S129)","v":0}]
[null,{"$f":"Slot3!B130","v":6},null,null,{"$f":"FIXED(Slot3!C130,1)","v":"1,6"},null,null,{"$f":"FIXED(Slot3!D130,1)","v":"7,5"},null,null,{"$f":"Slot3!G130","v":397},null,null,null,{"$f":"FIXED(Slot3!H130,1)","v":"649,6"},null,null,null,{"$f":"FIXED(Slot3!J130,1)","v":"649,6"},null,null,null,{"$f":"IF(Slot3!B32=Slot3!B34,Slot3!O130,Slot3!S130)","v":0}]
[null,{"$f":"Slot3!B131","v":7},null,null,{"$f":"FIXED(Slot3!C131,1)","v":"1,4"},null,null,{"$f":"FIXED(Slot3!D131,1)","v":"7,8"},null,null,{"$f":"Slot3!G131","v":406},null,null,null,{"$f":"FIXED(Slot3!H131,1)","v":"553,6"},null,null,null,{"$f":"FIXED(Slot3!J131,1)","v":"553,6"},null,null,null,{"$f":"IF(Slot3!B33=Slot3!B35,Slot3!O131,Slot3!S131)","v":0}]
[null,{"$f":"Slot3!B132","v":8},null,null,{"$f":"FIXED(Slot3!C132,1)","v":"1,1"},null,null,{"$f":"FIXED(Slot3!D132,1)","v":"7,8"},null,null,{"$f":"Slot3!G132","v":378},null,null,null,{"$f":"FIXED(Slot3!H132,1)","v":"412,4"},null,null,null,{"$f":"FIXED(Slot3!J132,1)","v":"412,4"},null,null,null,{"$f":"IF(Slot3!B34=Slot3!B36,Slot3!O132,Slot3!S132)","v":0}]
[null,{"$f":"Slot3!B133","v":9},null,null,{"$f":"FIXED(Slot3!C133,1)","v":"0,8"},null,null,{"$f":"FIXED(Slot3!D133,1)","v":"8,1"},null,null,{"$f":"Slot3!G133","v":409},null,null,null,{"$f":"FIXED(Slot3!H133,1)","v":"334,6"},null,null,null,{"$f":"FIXED(Slot3!J133,1)","v":"334,6"},null,null,null,{"$f":"IF(Slot3!B35=Slot3!B37,Slot3!O133,Slot3!S133)","v":0}]
[null,{"$f":"Slot3!B134","v":10},null,null,{"$f":"FIXED(Slot3!C134,1)","v":"0,5"},null,null,{"$f":"FIXED(Slot3!D134,1)","v":"8,3"},null,null,{"$f":"Slot3!G134","v":375},null,null,null,{"$f":"FIXED(Slot3!H134,1)","v":"204,5"},null,null,null,{"$f":"FIXED(Slot3!J134,1)","v":"204,5"},null,null,null,{"$f":"IF(Slot3!B36=Slot3!B38,Slot3!O134,Slot3!S134)","v":0}]
[null,{"$f":"Slot3!B135","v":11},null,null,{"$f":"FIXED(Slot3!C135,1)","v":"0,3"},null,null,{"$f":"FIXED(Slot3!D135,1)","v":"8,6"},null,null,{"$f":"Slot3!G135","v":420},null,null,null,{"$f":"FIXED(Slot3!H135,1)","v":"114,5"},null,null,null,{"$f":"FIXED(Slot3!J135,1)","v":"114,5"},null,null,null,{"$f":"IF(Slot3!B37=Slot3!B39,Slot3!O135,Slot3!S135)","v":0}]
[null,{"$f":"Slot3!B136","v":12},null,null,{"$f":"FIXED(Slot3!C136,1)","v":"0,0"},null,null,{"$f":"FIXED(Slot3!D136,1)","v":"8,9"},null,null,{"$f":"Slot3!G136","v":378},null,null,null,{"$f":"FIXED(Slot3!H136,1)","v":"0,0"},null,null,null,{"$f":"FIXED(Slot3!J136,1)","v":"0,0"},null,null,null,{"$f":"IF(Slot3!B38=Slot3!B40,Slot3!O136,Slot3!S136)","v":0}]
[null,{"$f":"Slot3!B137","v":13},null,null,{"$f":"FIXED(Slot3!C137,1)","v":"0,0"},null,null,{"$f":"FIXED(Slot3!D137,1)","v":"8,9"},null,null,{"$f":"Slot3!G137","v":349},null,null,null,{"$f":"FIXED(Slot3!H137,1)","v":"0,0"},null,null,null,{"$f":"FIXED(Slot3!J137,1)","v":"0,0"},null,null,null,{"$f":"IF(Slot3!B39=Slot3!B41,Slot3!O137,Slot3!S137)","v":0}]
[null,{"$f":"Slot3!B138","v":14},null,null,{"$f":"FIXED(Slot3!C138,1)","v":"0,0"},null,null,{"$f":"FIXED(Slot3!D138,1)","v":"9,1"},null,null,{"$f":"Slot3!G138","v":370},null,null,null,{"$f":"FIXED(Slot3!H138,1)","v":"0,0"},null,null,null,{"$f":"FIXED(Slot3!J138,1)","v":"0,0"},null,null,null,{"$f":"IF(Slot3!B40=Slot3!B42,Slot3!O138,Slot3!S138)","v":0}]
[null,{"$f":"Slot3!B139","v":15},null,null,{"$f":"FIXED(Slot3!C139,1)","v":"0,0"},null,null,{"$f":"FIXED(Slot3!D139,1)","v":"9,4"},null,null,{"$f":"Slot3!G139","v":333},null,null,null,{"$f":"FIXED(Slot3!H139,1)","v":"0,0"},null,null,null,{"$f":"FIXED(Slot3!J139,1)","v":"0,0"},null,null,null,{"$f":"IF(Slot3!B41=Slot3!B43,Slot3!O139,Slot3!S139)","v":0}]
[null,{"$f":"Slot3!B140","v":16},null,null,{"$f":"FIXED(Slot3!C140,1)","v":"0,0"},null,null,{"$f":"FIXED(Slot3!D140,1)","v":"9,7"},null,null,{"$f":"Slot3!G140","v":310},null,null,null,{"$f":"FIXED(Slot3!H140,1)","v":"0,0"},null,null,null,{"$f":"FIXED(Slot3!J140,1)","v":"0,0"},null,null,null,{"$f":"IF(Slot3!B42=Slot3!B44,Slot3!O140,Slot3!S140)","v":0}]
[null,{"$f":"Slot3!B141","v":17},null,null,{"$f":"FIXED(Slot3!C141,1)","v":"0,0"},null,null,{"$f":"FIXED(Slot3!D141,1)","v":"10,0"},null,null,{"$f":"Slot3!G141","v":322},null,null,null,{"$f":"FIXED(Slot3!H141,1)","v":"0,0"},null,null,null,{"$f":"FIXED(Slot3!J141,1)","v":"0,0"},null,null,null,{"$f":"IF(Slot3!B43=Slot3!B45,Slot3!O141,Slot3!S141)","v":0}]
[null,{"$f":"Slot3!B142","v":18},null,null,{"$f":"FIXED(Slot3!C142,1)","v":"0,0"},null,null,{"$f":"FIXED(Slot3!D142,1)","v":"10,0"},null,null,{"$f":"Slot3!G142","v":280},null,null,null,{"$f":"FIXED(Slot3!H142,1)","v":"0,0"},null,null,null,{"$f":"FIXED(Slot3!J142,1)","v":"0,0"},null,null,null,{"$f":"IF(Slot3!B44=Slot3!B46,Slot3!O142,Slot3!S142)","v":0}]
[null,{"$f":"Slot3!B143","v":19},null,null,{"$f":"FIXED(Slot3!C143,1)","v":"0,0"},null,null,{"$f":"FIXED(Slot3!D143,1)","v":"10,3"},null,null,{"$f":"Slot3!G143","v":217},null,null,null,{"$f":"FIXED(Slot3!H143,1)","v":"0,0"},null,null,null,{"$f":"FIXED(Slot3!J143,1)","v":"0,0"},null,null,null,{"$f":"IF(Slot3!B45=Slot3!B47,Slot3!O143,Slot3!S143)","v":0}]
[null,{"$f":"Slot3!B144","v":20},null,null,{"$f":"FIXED(Slot3!C144,1)","v":"0,0"},null,null,{"$f":"FIXED(Slot3!D144,1)","v":"10,6"},null,null,{"$f":"Slot3!G144","v":196},null,null,null,{"$f":"FIXED(Slot3!H144,1)","v":"0,0"},null,null,null,{"$f":"FIXED(Slot3!J144,1)","v":"0,0"},null,null,null,{"$f":"IF(Slot3!B46=Slot3!B48,Slot3!O144,Slot3!S144)","v":0}]
[null,{"$f":"Slot3!B145","v":"> 20"},null,null,{"$f":"FIXED(Slot3!C145,1)","v":"0,0"},null,null,{"$f":"FIXED(Slot3!D145,1)","v":"10,8"},null,null,{"$f":"Slot3!G145","v":744},null,null,null,{"$f":"FIXED(Slot3!H145,1)","v":"0,0"},null,null,null,{"$f":"FIXED(Slot3!J145,1)","v":"0,0"},null,null,null,{"$f":"IF(Slot3!B47=Slot3!B49,Slot3!O145,Slot3!S145)","v":0}]
[null,null,null,null,null,null,null,null,null,null,{"$f":"Slot3!G146","v":8760},null,null,null,{"$f":"FIXED(Slot3!H146,0)","v":"11.027"},null,null,null,{"$f":"FIXED(Slot3!J146,0)","v":"10.893"},null,null,null,{"$f":"FIXED(IF(Slot3!B48=Slot3!B50,Slot3!O146,Slot3!S146),0)","v":"134"}]
[]
[]
[]
[]
[null,{"$f":"Slot3!C80","v":"-"}]
[]
[]
[null,{"$f":"Translation!A68","v":"Energy costs "}]
[null,{"$f":"Translation!A176","v":"Total"},null,null,null,null,null,null,null,{"$f":"Slot3!$AN$74","v":"4.131 £/Year"}]
[null,{"$f":"Slot3!$AO$74","v":"WPL 10 AC"},null,null,null,null,null,null,null,{"$f":"Slot3!$AP$74","v":"523 £/Year"}]
[null,{"$f":"Slot3!$AQ$74","v":"Gaskessel"},null,null,null,null,null,null,null,{"$f":"Slot3!$AR$74","v":"118 £/Year"}]
[null,{"$f":"Slot3!$AS$74","v":"DHW"},null,null,null,null,null,null,null,{"$f":"Slot3!$AT$74","v":"3.490 £/Year"}]
[null,{"$f":"Translation!A182&\": \"&Einstellungen!D25&\" \"&Translation!A187&\"  |  \"&Translation!A183&\": \"&Einstellungen!D27&\" \"&Translation!A187&\"  |  \"&Berechnung!D71&\": \"&Berechnung!C70&\" \"&Berechnung!D70","v":"Electricity price: 25 pence/kWh  |  Electricity price heat pump: 18 pence/kWh  |  Gaskessel: 85 pence/kWh"}]
[]
[]
[null,{"$f":"Translation!A70","v":"Cost trend"}]
[null,{"$f":"Slot3!$AM$75","v":"Energy costs 15 years"},null,null,null,null,null,null,null,{"$f":"Slot3!$AN$75","v":"87.585 £"},null,null,null,null,null,null,null,null,null,null,null,null,null,null,null,null,null,null,null," "]
[null,{"$f":"Slot3!$AO$75","v":"-"},null,null,null,null,null,null,null,{"$f":"Slot3!$AP$75","v":"12.269 £"}]
[null,{"$f":"Slot3!$AQ$75","v":"DHW"},null,null,null,null,null,null,null,{"$f":"Slot3!$AR$75","v":"75.316 £"}]
[null,{"$f":"Translation!$A$212","v":"Subvention"},null,null,null,null,null,null,null,{"$f":"Slot3!$AT$75","v":"0 £"}]
[null,{"$f":"Translation!A50&\": \"&Berechnung!C80&\" \"&Translation!A81&\" | \"&Berechnung!D71&\": \"&Berechnung!C74&\" \"&Translation!A81","v":"Price increase electricity: 3 %/year | Gaskessel: 5 %/year"}]
[]
[]
[]
[]
[]
[]
[]
[]
[null,{"$f":"Slot3!C80","v":"-"}]
[]
[null,null,null,null,null,null,null,null,null,null,null,null,null,null,null,null,null,null,null,null,null,null,null,null,null,null,null,null,null," "]
[null,{"$f":"Translation!A69","v":"CO2-emission"}]
[null,{"$f":"Slot3!AM78","v":"CO2-emission"},null,null,null,null,null,null,null,{"$f":"Slot3!AN78","v":"2.879 kg/year"}]
[null,{"$f":"Slot3!AO78","v":"WPL 10 AC"},null,null,null,null,null,null,null,{"$f":"Slot3!AP78","v":"1.805 kg/year"}]
[null,{"$f":"Slot3!AQ78","v":"Gaskessel"},null,null,null,null,null,null,null,{"$f":"Slot3!AR78","v":"35 kg/year"}]
[null,{"$f":"Slot3!AS78","v":"DHW"},null,null,null,null,null,null,null,{"$f":"Slot3!AT78","v":"1.039 kg/year"}]
[null,{"$f":"Translation!A190&\": \"&Translation!A191&\" \"&Einstellungen!D31&\"g/kWh\"&\" | \"&Berechnung!D71&\" \"&Berechnung!C73&\" g/kWh\"","v":"CO2-factor: electricity 621g/kWh | Gaskessel 253 g/kWh"}]
[]
[null,{"$f":"Translation!A67","v":"Final energy"}]
[null,{"$f":"Slot3!AM79","v":"Final energy"},null,null,null,null,null,null,null,{"$f":"Slot3!AN79","v":"7.152 kWh/Year"}]
[null,{"$f":"Slot3!AO79","v":"WPL 10 AC"},null,null,null,null,null,null,null,{"$f":"Slot3!AP79","v":"2.907 kWh/Year"}]
[null,{"$f":"Slot3!AQ79","v":"Gaskessel"},null,null,null,null,null,null,null,{"$f":"Slot3!AR79","v":"138 kWh/Year"}]
[null,{"$f":"Slot3!AS79","v":"DHW"},null,null,null,null,null,null,null,{"$f":"Slot3!AT79","v":"4.106 kWh/Year"}]
[null,null,null,null,null,null,null,{"$f":"Translation!A69","v":"CO2-emission"},null,null,null,null,null,null,null,null,null,null,null,{"$f":"Translation!A62","v":"Final energy"}]
[]
[]
[]
[]
[]
[]
[]
[]
[]
[null,{"$f":"Translation!A201&\" \"&Berechnung!H5","v":"comparison Gaskessel"},null,null,null,null,null,null,null,null,null,null,null,null,null,null,null,null,null,null,null,null,null,null,null,null," "]
[]
[null,null,null,null,null,null,null,null,null,null,null,null,null,null,null,null,null,null,null,null,null,null,null,null,null,null,null,null,null," "]
[null,{"$f":"Translation!A68","v":"Energy costs "},null,null,null,null,null,null,null,null,{"$f":"B132","v":"-"},null,null,null,null,null,null,null,{"$f":"Berechnung!H5","v":"Gaskessel"}]
[null,{"$f":"B111","v":"Total"},null,null,null,null,null,null,null,null,{"$f":"J111","v":"4.131 £/Year"},null,null,null,null,null,null,null,{"$f":"FIXED(Slot3!N77,0)&\" \"&Translation!$A$77","v":"13.153 £/Year"}]
[null,{"$f":"Translation!A203","v":"Heating"},null,null,null,null,null,null,null,null,{"$f":"J112","v":"523 £/Year"},null,null,null,null,null,null,null,{"$f":"FIXED(Slot3!N74,0)&\" \"&Translation!$A$77","v":"9.663 £/Year"}]
[null,{"$f":"Translation!A16","v":"2nd heat source"},null,null,null,null,null,null,null,null,{"$f":"J113","v":"118 £/Year"},null,null,null,null,null,null,null,{"$f":"FIXED(Slot3!N75,0)&\" \"&Translation!$A$77","v":"0 £/Year"}]
[null,{"$f":"B114","v":"DHW"},null,null,null,null,null,null,null,null,{"$f":"J114","v":"3.490 £/Year"},null,null,null,null,null,null,null,{"$f":"FIXED(Slot3!N76,0)&\" \"&Translation!$A$77","v":"3.490 £/Year"}]
[null,{"$f":"Translation!A210","v":"Cost trend 15 years"},null,null,null,null,null,null,null,null,{"$f":"J119","v":"87.585 £"},null,null,null,null,null,null,null,{"$f":"FIXED((Slot3!AC89+Slot3!W89),0)&\" \"&Translation!$A$209","v":"283.819 £"}]
[null,{"$f":"Translation!A182&\": \"&Einstellungen!D25&\" \"&Translation!A187&\"  |  \"&Translation!A183&\": \"&Einstellungen!D27&\" \"&Translation!A187&\"  |  \"&Berechnung!D71&\": \"&Einstellungen!D12&\" \"&Berechnung!D70","v":"Electricity price: 25 pence/kWh  |  Electricity price heat pump: 18 pence/kWh  |  Gaskessel: 85 pence/kWh"}]
[null,{"$f":"Translation!A50&\": \"&Berechnung!C80&\" \"&Translation!A81&\" | \"&Berechnung!D71&\": \"&Berechnung!C74&\" \"&Translation!A81","v":"Price increase electricity: 3 %/year | Gaskessel: 5 %/year"}]
[]
[null,{"$f":"Translation!A204","v":"Other values"},null,null,null,null,null,null,null,null,{"$f":"B132","v":"-"},null,null,null,null,null,null,null,{"$f":"Berechnung!H5","v":"Gaskessel"}]
[null,{"$f":"B135","v":"CO2-emission"},null,null,null,null,null,null,null,null,{"$f":"J136","v":"2.879 kg/year"},null,null,null,null,null,null,null,{"$f":"FIXED(Slot3!N95,0)&\" \"&Translation!$A$80","v":"3.915 kg/year"}]
[null,{"$f":"B142","v":"Final energy"},null,null,null,null,null,null,null,null,{"$f":"J143","v":"7.152 kWh/Year"},null,null,null,null,null,null,null,{"$f":"FIXED(Slot3!N86,0)&\" \"&Translation!$A$79","v":"15.474 kWh/Year"}]
[]
[null,null,{"$f":"Translation!A177","v":"Costs per year"},null,null,null,null,null,null,null,null,null,null,null,null,{"$f":"Translation!A70","v":"Cost trend"}]
[]
[]
[]
[]
[]
[]
[null,{"$f":"Translation!A168","v":"Legal note"}]
[]
[]
[null,{"$f":"Translation!A169","v":"Stiebel Eltron shall not provide any guarantees that the information, values and data provided, or values, information and recommendations determined with the aid or on the basis of such information, values and data, are complete, accurate, correct or current in every respect.\nStiebel Eltron shall reserve the right to make changes to the data, values and information provided at any time and without prior notification.\nErrors excepted. Subject to changes.\nNone of the information, values and data provided or the values, information and recommendations determined with the aid or on the basis of such information, values and data constitutes any basis for a financial decision or for any other purpose, but rather is merely initial non-binding information as an initial guide.\nUnder no circumstances should the following design tool be considered a substitute for consultation with Stiebel Eltron or another authorised expert engineer.\nPlease contact Stiebel Eltron or another authorised expert engineer in relation to specific project design.\nStiebel Eltron shall accept no liability for losses of any kind that may arise from the use of information, values and data provided, or values, information and recommendations determined with the aid or on the basis of such information, values and data. This exclusion of liability shall not apply if the loss is due to intent or gross negligence on the part of Stiebel Eltron or in the event of a fatality, physical injury or damage to health.\n"}]

{"sheet":"Klimadaten","index":10,"n_rows":8160,"n_cols":66,"rows_kept":8160,"cut":false,"hidden":true,"merged":[[0,33,0,35],[0,39,0,41],[0,42,0,44],[0,57,0,59],[0,60,0,62],[0,48,0,50],[0,51,0,53],[0,0,0,3],[0,15,0,17],[0,18,0,20],[0,24,0,26],[0,54,0,56],[0,45,0,47],[0,30,0,32],[0,21,0,23],[0,9,0,11],[0,27,0,29],[0,36,0,38],[0,12,0,14]]}
["Norm-Außentemperaturen Deutschland",null,null,null,null,null,null,null,null,"Deutschland",null,null,"Österreich",null,null,"Schweiz",null,null,"England",null,null,"Holland",null,null,"Italien",null,null,"Finnland",null,null,"Spanien",null,null,"Dänemark",null,null,"Russland",null,null,"Slowakei",null,null,"Lettland",null,null,"Litauen",null,null,"Bosnien-Herzegowina",null,null,"Marokko",null,null,"Namibia",null,null,"Europa",null,null,"Near East"]
["PLZ","Stadt","Außentemp.","Wetterstation",null,null,null,null,null,"PLZ","Stadt","Außentemp.","PLZ","Stadt","Außentemp.","PLZ","Stadt","Außentemp.","PLZ","Stadt","Außentemp.","PLZ","Stadt","Außentemp.","PLZ","Stadt","Außentemp.","PLZ","Stadt","Außentemp.","PLZ","Stadt","Außentemp.","PLZ","Stadt","Außentemp.","PLZ","Stadt","Außentemp.","PLZ","Stadt","Außentemp.","PLZ","Stadt","Außentemp.","PLZ","Stadt","Außentemp.","PLZ","Stadt","Außentemp.","PLZ","Stadt","Außentemp.","PLZ","Stadt","Außentemp.","PLZ","Stadt","Außentemp.","PLZ","Stadt","Außentemp."]
["1....","Berlin","-14 °C","Berlin",null,null,null,null,null,null,"Aachen","-12 °C",3300,"Amstetten","-13 °C",6780,"Airolo","-8 °C",null,"Aberdeen ","-3 °C",1300,"Almere","-9 °C",null,"Bari","0 °C","02002","Espoo","-18 °C","15000","A Coruna","5 °C",null,"Aalborg","-12 °C",null,"Kaliningrad","-18 °C",null,"Banská Bystrica","-15 °C",null,"Ainaži","-23 °C",null,"Alytus","-23 °C",null,"Banja Luka","-13 °C",null,"Rabat","5 °C",null,"Keetmanshoop","-2 °C","TUR","Ankara","-14 °C",null,"Aschkeloh","6 °C"]
["22...","Hamburg","-12 °C","Hamburg",null,null,null,null,null,null,"Augsburg","-14 °C",4052,"Ansfelden","-13 °C",8243,"Altdorf","-6 °C",null,"Ashfield ","-6 °C",3800,"Amersfoort","-11 °C",null,"Bergamo","-7 °C","00100","Helsinki","-18 °C","03000","Alicante","2 °C",null,"Aarhus","-12 °C",null,"Krasnodar","-14 °C",null,"Bardejov","-16 °C",null,"Alūksne","-25 °C",null,"Kaunas","-22 °C",null,"Doboj","-12 °C",null,"Casablanca","5 °C",null,"Otjiwarongo","0 °C","GRE","Athen","0 °C",null,"Dimona","5 °C"]
["8....","München","-16 °C","München",null,null,null,null,null,null,"Bamberg","-16 °C",4820,"Bad Ischl","-14 °C",7050,"Arosa","-16 °C",null,"Aspatria","0 °C",1000,"Amsterdam","-8 °C",null,"Bologna","-6 °C","99800","Ivalo","-20 °C","08000","Barcelona","0 °C",null,"Esbjerg","-12 °C",null,"Kursk","-20 °C",null,"Bratislava","-12 °C",null,"Daugavpils","-24 °C",null,"Klaipėda","-20 °C",null,"Livno","-11 °C",null,"Agadir","5 °C",null,"Swakopmund","0 °C","BEL","Brüssel","-9 °C",null,"Elat","2 °C"]
["5....","Köln","-10 °C","Düsseldorf",null,null,null,null,null,null,"Berlin","-14 °C",2500,"Baden bei Wien","-13 °C",7310,"Bad Ragaz","-9 °C",null,"Barnsley ","-4 °C",7300,"Apeldoorn","-11 °C",null,"Brescia","-7 °C","80100","Joensuu","-19 °C","48000","Bilbao","0 °C",null,"Helsingør","-12 °C",null,"Moscow","-20 °C",null,"Komárno","-12 °C",null,"Dobele","-22 °C",null,"Panevėžys","-22 °C",null,"Mostar","-14 °C",null,"Marrakech","4 °C",null,"Walvis Bay","0 °C","HUN","Budapest","-12 °C",null,"Haifa","6 °C"]
["60...","Frankfurt / Main","-12 °C","Frankfurt am Main",null,null,null,null,null,null,"Bremen","-12 °C",6700,"Bludenz","-15 °C",4102,"Basel","-8 °C",null,"Belfast","-2 °C",6800,"Arnhem","-10 °C",null,"Firenze","-5 °C","40100","Jyväskylä","-19 °C","14000","Cordoba","2 °C",null,"Herning","-12 °C",null,"Nizhniy Novgorod","-20 °C",null,"Košice","-12 °C",null,"Liepāja","-18 °C",null,"Šiauliai","-22 °C",null,"Prijedor","-13 °C",null,"Fes","0 °C",null,"Windhoek","0 °C","ROM","Bukarest","-14 °C",null,"Jerusalem","-2 °C"]
["7....","Stuttgart","-12 °C","Stuttgart",null,null,null,null,null,null,"Dortmund","-12 °C",5280,"Braunau am Inn","-15 °C",3803,"Beatenberg","-8 °C",null,"Birmingham","-5 °C",1940,"Beverwijk","-7 °C",null,"Genova","0 °C","87100","Kajaani","-20 °C","33200","Gijon","2 °C",null,"Hjørring","-12 °C",null,"Rostov-on-Don","-15 °C",null,"Lučenec ","-16 °C",null,"Mērsrags","-20 °C",null,"Vilnius","-22 °C",null,"Sarajevo","-15 °C",null,"Oujda","-2 °C",null,null,null,"POR","Lissabon","2 °C",null,"Naharija","6 °C"]
["44...","Dortmund","-12 °C","Dortmund",null,null,null,null,null,null,"Dresden","-14 °C",6900,"Bregenz","-11 °C",3000,"Bern","-8 °C",null,"Boulmer","-3 °C",4800,"Breda","-11 °C",null,"Mesina","4 °C","67100","Kokkola","-18 °C","18000","Granada","-5 °C",null,"Holbæk","-12 °C",null,"Saint-Petersburg","-20 °C",null,"Námestovo","-18 °C",null,"Priekuļi","-24 °C",null,null,null,null,"Slavonski Brod","-15 °C",null,"Bou Anfer","5 °C",null,null,null,"ESP","Madrid","-2 °C",null,"Nazareth","6 °C"]
["40...","Düsseldorf","-10 °C","Düsseldorf",null,null,null,null,null,null,"Düsseldorf","-10 °C",8600,"Bruck an der Mur","-14 °C",7502,"Bever","-16 °C",null,"Bournemouth","-5 °C",3300,"Dordrecht","-8 °C",null,"Milano","-6 °C","70100","Kuopio","-19 °C","21000","Huelva","2 °C",null,"København","-12 °C",null,"Smolensk","-20 °C",null,"Nitra","-14 °C",null,"Rīga","-21 °C",null,null,null,null,"Tuzla","-12 °C",null,"Ouarzazate","0 °C",null,null,null,"NOR","Oslo","-18 °C",null,"Tel Aviv","6 °C"]
["45...","Essen","-10 °C","Dortmund",null,null,null,null,null,null,"Emden","-10 °C",6850,"Dornbirn","-12 °C",1660,"Château-d'Oex","-11 °C",null,"Bristol","-3 °C",5600,"Eindhoven","-11 °C",null,"Napoli","0 °C","93600","Kuusamo","-20 °C","28000","Madrid","-2 °C",null,"Kolding","-12 °C",null,"Sochi","-2 °C",null,"Poprad","-16 °C",null,"Stende","-20 °C",null,null,null,null,"Zenica","-15 °C",null,null,null,null,null,null,"ESP","Palma de Mallorca","0 °C",null,"Ramallah","1 °C"]
["28...","Bremen","-12 °C","Bremen",null,null,null,null,null,null,"Erfurt","-14 °C",6800,"Feldkirch","-13 °C",3965,"Chippis","-7 °C",null,"Cardiff","-3 °C",7500,"Enschede","-11 °C",null,"Padova","-8 °C","15100","Lahti","-18 °C","29000","Malaga","2 °C",null,"Nykøbing","-12 °C",null,"Vladivostok","-20 °C",null,"Žilina","-15 °C",null,"Zīlāni","-24 °C",null,null,null,null,null,null,null,null,null,null,null,null,"FRA","Paris","-8 °C"]
["30...","Hannover","-14 °C","Hannover",null,null,null,null,null,null,"Frankfurt am Main","-12 °C",9560,"Feldkirchen in Kärnten","-15 °C",7000,"Chur","-8 °C",null,"Cork (Irland)","-2 °C",6160,"Geleen","-10 °C",null,"Palermo","4 °C","90100","Oulu","-19 °C","07000","Palma de Mallorca","0 °C",null,"Odense","-12 °C",null,"Volgograd","-20 °C",null,null,null,null,null,null,null,null,null,null,null,null,null,null,null,null,null,null,"CZE","Prag","-14 °C"]
["04...","Leipzig","-14 °C","Leipzig",null,null,null,null,null,null,"Fritzlar","-12 °C",4810,"Gmunden","-14 °C",7260,"Davos","-14 °C",null,"Coventry","-5 °C",9700,"Groningen","-10 °C",null,"Parma","-7 °C","28100","Pori","-18 °C","38000","Santa Cruz de Tenerife","5 °C",null,"Rønne","-12 °C",null,"Voronezh","-20 °C",null,null,null,null,null,null,null,null,null,null,null,null,null,null,null,null,null,null,"ITA","Rom","-2 °C"]
["010..","Dresden","-14 °C","Dresden",null,null,null,null,null,null,"Görlitz","-16 °C",8010,"Graz","-12 °C",2800,"Delémont","-7 °C",null,"Dover","-4 °C",2000,"Haarlem","-6 °C",null,"Perugia","-6 °C","96100","Rovaniemi","-19 °C","39000","Santander","0 °C",null,"Slagelse","-12 °C",null,null,null,null,null,null,null,null,null,null,null,null,null,null,null,null,null,null,null,null,null,"BUL","Sofia","-16 °C"]
["904..","Nürnberg","-16 °C","Nürnberg",null,null,null,null,null,null,"Greifswald","-12 °C",5400,"Hallein","-15 °C",7180,"Disentis","-9 °C",null,"Dublin (Irland)","-2 °C",1117,"Haarlemmermeer","-7 °C",null,"Pescara","-3 °C","33002","Tampere","-18 °C","41000","Sevilla","2 °C",null,"Sønderburg","-12 °C",null,null,null,null,null,null,null,null,null,null,null,null,null,null,null,null,null,null,null,null,null,"SWE","Stockholm","-18 °C"]
["1805.","Rostock","-10 °C","Rostock",null,null,null,null,null,null,"Hamburg","-12 °C",6845,"Hohenems","-13 °C",8840,"Einsiedeln","-10 °C",null,"Dundee","-2 °C",6300,"Heerlen","-10 °C",null,"Piacenza","-7 °C","20002","Turku","-18 °C","46000","Valencia","0 °C",null,"Svendborg","-12 °C",null,null,null,null,null,null,null,null,null,null,null,null,null,null,null,null,null,null,null,null,null,"POL","Warschau","-18 °C"]
["72280","Aach","-16 °C","Stuttgart",null,null,null,null,null,null,"Hannover","-14 °C",6020,"Innsbruck","-14 °C",6390,"Engelberg","-10 °C",null,"Edinburgh","-4 °C",1200,"Hilversum","-11 °C",null,"Pisa","-4 °C","65100","Vaasa","-18 °C","47000","Valladolid","-5 °C",null,null,null,null,null,null,null,null,null,null,null,null,null,null,null,null,null,null,null,null,null,null,null,null,"CRO","Zagreb","-10 °C"]
["78267","Aach/Hegau","-14 °C","Konstanz",null,null,null,null,null,null,"Hof","-14 °C",8605,"Kapfenberg","-14 °C",1996,"Fey","-9 °C",null,"Enfield ","-6 °C",6460,"Kerkrade","-11 °C",null,"Rimini","-5 °C","01200","Vantaa","-18 °C","36200","Vigo","2 °C"]
["520..","Aachen","-12 °C","Aachen",null,null,null,null,null,null,"Hohenpeißenberg","-16 °C",9020,"Klagenfurt (Wörthersee)","-16 °C",1700,"Fribourg","-9 °C",null,"Glasgow","-6 °C",2300,"Leiden","-8 °C",null,"Roma","-2 °C",null,null,null,"50000","Zaragoza","-5 °C"]
["7343.","Aalen / Württ.","-16 °C","Stuttgart",null,null,null,null,null,null,"Karlsruhe","-12 °C",3400,"Klosterneuburg","-13 °C",1201,"Genève","-5 °C",null,"Lancaster ","-6 °C",6200,"Maastricht","-11 °C",null,"Torino","-7 °C"]
["65326","Aarbergen","-14 °C","Nürburg-Barweiler",null,null,null,null,null,null,"Kempten","-16 °C",3500,"Krems an der Donau","-12 °C",8750,"Glarus","-9 °C",null,"Leeds ","-4 °C",6500,"Nijmegen","-10 °C",null,"Trieste","-3 °C"]
["19322","Abbendorf","-14 °C","Schwerin",null,null,null,null,null,null,"Konstanz","-12 °C",6330,"Kufstein","-16 °C",6487,"Göschenen","-9 °C",null,"Leicester","-6 °C",3000,"Rotterdam","-8 °C",null,"Udine","-7 °C"]
["30900","Abbensen","-14 °C","Hannover",null,null,null,null,null,null,"Leipzig","-14 °C",8700,"Leoben","-14 °C",9410,"Heiden","-10 °C",null,"Liverpool ","-3 °C",{"$error":"#N/A"},"s-Gravenhage","-7 °C",null,"Venezia","-6 °C"]
["31234","Abbensen","-14 °C","Hannover",null,null,null,null,null,null,"Lindenberg","-14 °C",4060,"Leonding","-12 °C",3800,"Interlaken","-7 °C",null,"London","-3 °C",{"$error":"#N/A"},"s-Hertogenbosch","-10 °C",null,"Verona","-7 °C"]
["93326","Abensberg","-18 °C","Straubing",null,null,null,null,null,null,"List auf Sylt","-10 °C",4020,"Linz","-12 °C",8280,"Kreuzlingen","-8 °C",null,"Manchester ","-5 °C",6100,"Sittard","-10 °C"]
["08485","Abhorn","-16 °C","Erfurt",null,null,null,null,null,null,"Magdeburg","-14 °C",6890,"Lustenau","-12 °C",2300,"La Chaux-de-Fonds","-10 °C",null,"Middlesbrough","-4 °C",5000,"Tilburg","-10 °C"]
["37290","Abterode","-16 °C","Fritzlar",null,null,null,null,null,null,"Meiningen","-16 °C",2340,"Mödling","-13 °C",4438,"Langenbruck","-9 °C",null,"Northampton","-6 °C",3500,"Utrecht","-9 °C"]
["04347","Abtnaundorf","-14 °C","Leipzig",null,null,null,null,null,null,"München","-16 °C",2380,"Perchtoldsdorf","-13 °C",3550,"Langnau/Emmental","-9 °C",null,"Norwich","-3 °C",1970,"Velsen","-7 °C"]
["94261","Abtschlag","-18 °C","Straubing",null,null,null,null,null,null,"Neuruppin","-14 °C",5760,"Saalfelden/Steinernes Meer","-17 °C",1000,"Lausanne","-6 °C",null,"Nottingham","-6 °C",1500,"Zaanstad","-6 °C"]
["73453","Abtsgmünd","-16 °C","Stuttgart",null,null,null,null,null,null,"Nürburg-Barweiler","-14 °C",5020,"Salzburg","-15 °C",1854,"Leysin","-9 °C",null,"Ogwr ","-3 °C",1519,"Zaanstreek","-6 °C"]
["69518","Abtsteinach","-12 °C","Würzburg",null,null,null,null,null,null,"Nürnberg","-16 °C",3100,"Sankt Pölten","-14 °C",6600,"Locarno","-2 °C",null,"Oxford","-6 °C",2700,"Zoetermeer","-7 °C"]
["83101","Achenmühle","-18 °C","Hohenpeißenberg",null,null,null,null,null,null,"Potsdam","-14 °C",6130,"Schwaz","-15 °C",6900,"Lugano","-2 °C",null,"Plymouth ","-3 °C"]
["77855","Achern","-12 °C","Karlsruhe",null,null,null,null,null,null,"Rostock","-10 °C",2320,"Schwechat","-13 °C",6000,"Luzern","-8 °C",null,"Sheffield","-4 °C"]
["28832","Achim","-12 °C","Bremen",null,null,null,null,null,null,"Saarbrücken","-12 °C",9800,"Spittal an der Drau","-14 °C",1633,"Marsens","-9 °C",null,"Southampton","-4 °C"]
["82547","Achmühle","-16 °C","Kempten",null,null,null,null,null,null,"Schleswig","-10 °C",4400,"Steyr","-14 °C",3860,"Meiringen","-7 °C",null,"Swansea","-3 °C"]
["88480","Achstetten","-16 °C","Stuttgart",null,null,null,null,null,null,"Schwerin","-14 °C",2000,"Stockerau","-13 °C",3963,"Montana","-9 °C",null,"York","-5 °C"]
["47626","Achterhoek","-10 °C","Düsseldorf",null,null,null,null,null,null,"Straubing","-18 °C",6410,"Telfs","-15 °C",1820,"Montreux","-5 °C"]
["25917","Achtrup","-10 °C","Schleswig",null,null,null,null,null,null,"Stuttgart","-12 °C",2630,"Ternitz","-14 °C",2000,"Neuchâtel","-7 °C"]
["37581","Ackenhausen","-16 °C","Fritzlar",null,null,null,null,null,null,"Trier","-10 °C",2514,"Traiskirchen","-13 °C",4600,"Olten","-8 °C"]
["73099","Adelberg","-16 °C","Stuttgart",null,null,null,null,null,null,"Westermakelsdorf","-10 °C",4050,"Traun","-14 °C",8200,"Schaffhausen","-8 °C"]
["37139","Adelebsen","-14 °C","Fritzlar",null,null,null,null,null,null,"Würzburg","-12 °C",3430,"Tulln an der Donau","-13 °C",1950,"Sion","-7 °C"]
["79618","Adelhausen","-12 °C","Stuttgart",null,null,null,null,null,null,null,null,9500,"Villach","-16 °C",9000,"St. Gallen","-10 °C"]
["73486","Adelmannsfelden","-16 °C","Stuttgart",null,null,null,null,null,null,null,null,4600,"Wels","-13 °C",7500,"St. Moritz","-14 °C"]
["79669","Adelsberg","-16 °C","Stuttgart",null,null,null,null,null,null,null,null,1090,"Wien","-13 °C",3920,"Zermatt","-12 °C"]
["97737","Adelsberg","-14 °C","Würzburg",null,null,null,null,null,null,null,null,2700,"Wiener Neustadt","-13 °C",8000,"Zürich","-7 °C"]
["85111","Adelschlag","-16 °C","München",null,null,null,null,null,null,null,null,9400,"Wolfsberg (Kärnten)","-15 °C"]
["74740","Adelsheim","-14 °C","Stuttgart"]
["86477","Adelsried","-16 °C","Augsburg"]
["04886","Adelwitz","-16 °C","Leipzig"]
["21365","Adendorf","-12 °C","Hamburg"]
["31171","Adensen","-14 °C","Hannover"]
["31079","Adenstedt","-16 °C","Hannover"]
["84166","Adlkofen","-16 °C","Straubing"]
["08626","Adorf/Vogtland","-18 °C","Meiningen"]
["31855","Aerzen","-14 °C","Hannover"]
["71563","Affalterbach","-14 °C","Stuttgart"]
["74182","Affaltrach","-14 °C","Stuttgart"]
["86444","Affing","-16 °C","Augsburg"]
["71083","Affstätt","-16 °C","Stuttgart"]
["74858","Aglasterhausen","-12 °C","Stuttgart"]
["48683","Ahaus","-10 °C","Hannover"]
["88697","Ahausen","-12 °C","Stuttgart"]
["72160","Ahldorf","-16 °C","Stuttgart"]
["5922.","Ahlen/Westf.","-12 °C","Nürburg-Barweiler"]
["06313","Ahlsdorf","-14 °C","Leipzig"]
["32609","Ahlsen","-12 °C","Fritzlar"]
["34292","Ahnatal","-14 °C","Fritzlar"]
["29353","Ahnsbeck","-14 °C","Hannover"]
["94527","Aholming","-18 °C","Straubing"]
["96482","Ahorn","-16 °C","Bamberg"]
["74744","Ahorn","-16 °C","Stuttgart"]
["95491","Ahorntal","-16 °C","Hof"]
["38707","Ahrensberg","-12 °C","Magdeburg"]
["22926","Ahrensburg","-12 °C","Hamburg"]
["16356","Ahrensfelde","-14 °C","Neuruppin"]
["18320","Ahrenshagen","-10 °C","Rostock"]
["53945","Ahrhütte","-14 °C","Nürburg-Barweiler"]
["86551","Aichach","-16 °C","Augsburg"]
["92262","Aichach","-16 °C","Nürnberg"]
["72539","Aichelau","-16 °C","Stuttgart"]
["73101","Aichelberg","-16 °C","Stuttgart"]
["75323","Aichelberg","-16 °C","Stuttgart"]
["78733","Aichhalden","-16 °C","Stuttgart"]
["88317","Aichstetten","-16 °C","Stuttgart"]
["72631","Aichtal","-14 °C","Stuttgart"]
["73773","Aichwald","-14 °C","Stuttgart"]
["84539","Aidenbach","-16 °C","Straubing"]
["94501","Aidenbach","-16 °C","Straubing"]
["97491","Aidhausen","-16 °C","Würzburg"]
["71134","Aidlingen","-16 °C","Stuttgart"]
["88448","Aigendorf","-16 °C","Stuttgart"]
["88048","Ailingen","-12 °C","Konstanz"]
["86447","Aindling","-16 °C","Augsburg"]
["83404","Ainring","-16 °C","Hohenpeißenberg"]
["83026","Aising","-18 °C","Hohenpeißenberg"]
["89344","Aislingen","-16 °C","Augsburg"]
["94330","Aiterhofen","-18 °C","Straubing"]
["88319","Aitrach","-16 °C","Stuttgart",null,null,null,null,null,null,null,null,"Deutschland",null,null,null,null,null,null,null,null,null,null,null,null,null,null,null,null,null,null,null,null,null,null,null,null,null,null,null,null,null,null,null,null,null,null,null,null,null,null,null,null,null,null,null,null,null,null,null,null,"Wetterdaten dieser Städte kommen mir etwas zu mild vor, E-Kosten zu gering, daher für diese Städte vorerst Wetterdaten von Emden (auch recht mild) hinterlegt"]
["78554","Aixheim","-18 °C","Stuttgart",null,null,null,null,null,null,null,null,"Außentemp","Aachen","Augsburg","Bamberg","Berlin","Bremen","Dortmund","Dresden","Düsseldorf","Emden","Erfurt","Frankfurt am Main","Fritzlar","Görlitz","Greifswald","Hamburg","Hannover","Hof","Hohenpeißenberg","Karlsruhe","Kempten","Konstanz","Leipzig","Lindenberg","List auf Sylt","Magdeburg","Meiningen","München","Neuruppin","Nürburg-Barweiler","Nürnberg","Potsdam","Rostock","Saarbrücken","Schleswig","Schwerin","Straubing","Stuttgart","Trier","Westermakelsdorf","Würzburg",null,null,null,null,null,null,null,null,"Original","Original","Original","Original","Original"]
["37671","Albaxen","-12 °C","Fritzlar",null,null,null,null,null,null,null,null,"°C","h/a","h/a","h/a","h/a","h/a","h/a","h/a","h/a","h/a","h/a","h/a","h/a","h/a","h/a","h/a","h/a","h/a","h/a","h/a","h/a","h/a","h/a","h/a","h/a","h/a","h/a","h/a","h/a","h/a","h/a","h/a","h/a","h/a","h/a","h/a","h/a","h/a","h/a","h/a","h/a",null,null,null,null,null,null,null,null,"**Aachen**","**Dortmund**","**Düseldorf**","**Bremen**","**Westermakelsdorf**"]
["79774","Albbruck","-12 °C","Stuttgart",null,null,null,null,null,null,null,null,"<-20",0,0,0,0,0,0,0,0,0,0,0,0,0,0,0,0,0,0,0,0,0,0,0,0,0,0,0,0,0,0,0,0,0,0,0,0,0,0,0,0,null,null,null,null,null,null,null,null,0,0,0,0,0]
["08280","Albernau","-16 °C","Meiningen",null,null,null,null,null,null,null,null,-20,0,0,0,0,0,0,0,0,0,0,0,0,0,0,0,0,0,0,0,0,0,0,0,0,0,0,0,0,0,0,0,0,0,0,0,0,0,0,0,0,null,null,null,null,null,null,null,null,0,0,0,0,0]
["08280","Alberoda","-16 °C","Meiningen",null,null,null,null,null,null,null,null,-19,0,0,0,0,0,0,0,0,0,0,0,0,0,0,0,0,0,0,0,0,0,0,0,0,0,0,0,0,0,0,0,0,0,0,0,0,0,0,0,0,null,null,null,null,null,null,null,null,0,0,0,0,0]
["04420","Albersdorf","-14 °C","Leipzig",null,null,null,null,null,null,null,null,-18,0,0,0,0,0,0,0,0,0,0,0,0,0,0,0,0,0,0,0,0,0,0,0,0,0,0,0,0,0,0,0,0,0,0,0,0,0,0,0,0,null,null,null,null,null,null,null,null,0,0,0,0,0]
["25767","Albersdorf, Holst","-12 °C","Schleswig",null,null,null,null,null,null,null,null,-17,0,0,0,0,0,0,0,0,0,0,0,0,3,0,0,0,0,0,0,0,0,0,0,0,0,5,0,0,0,0,0,0,0,0,0,0,0,0,0,0,null,null,null,null,null,null,null,null,0,0,0,0,0]
["73095","Albershausen","-16 °C","Stuttgart",null,null,null,null,null,null,null,null,-16,0,0,0,1,0,0,0,0,0,0,0,0,4,0,0,0,0,0,0,4,0,0,6,0,0,5,0,0,0,0,0,0,0,0,0,1,0,0,0,0,null,null,null,null,null,null,null,null,0,0,0,0,0]
["76857","Albersweiler","-12 °C","Saarbrücken",null,null,null,null,null,null,null,null,-15,0,1,2,4,0,0,0,0,0,1,0,0,7,0,0,0,0,11,0,5,0,5,5,0,4,10,2,0,0,0,5,0,0,0,0,7,0,0,0,0,null,null,null,null,null,null,null,null,0,0,0,0,0]
["88433","Alberweiler","-16 °C","Stuttgart",null,null,null,null,null,null,null,null,-14,0,6,7,8,0,0,0,0,0,4,0,0,5,0,0,0,1,13,0,13,0,10,10,0,9,17,5,0,0,0,8,0,0,0,0,10,0,0,0,0,null,null,null,null,null,null,null,null,0,0,0,0,0]
["72458","Albstadt","-18 °C","Stuttgart",null,null,null,null,null,null,null,null,-13,0,20,8,7,0,0,0,0,0,3,0,0,12,0,2,1,20,24,0,9,0,16,11,0,7,11,11,0,1,4,13,1,1,0,1,16,0,0,0,0,null,null,null,null,null,null,null,null,0,0,0,0,0]
["72461","Albstadt","-18 °C","Stuttgart",null,null,null,null,null,null,null,null,-12,0,7,11,8,0,0,7,0,0,7,3,0,28,1,4,4,22,17,0,20,0,8,16,0,9,19,24,4,3,28,11,7,6,1,4,11,1,0,0,5,null,null,null,null,null,null,null,null,0,0,0,0,0]
["57258","Alchen","-12 °C","Nürburg-Barweiler",null,null,null,null,null,null,null,null,-11,1,16,6,6,1,1,7,1,1,7,5,6,32,26,6,10,18,26,5,29,2,20,17,0,21,32,16,8,7,30,19,15,6,10,7,31,7,0,1,15,null,null,null,null,null,null,null,null,0,0,2,0,0]
["52457","Aldenhoven","-12 °C","Aachen",null,null,null,null,null,null,null,null,-10,16,36,25,28,16,16,9,16,16,17,17,32,28,25,17,20,20,40,11,45,13,22,34,0,42,25,31,18,11,20,18,18,13,1,22,32,18,0,16,26,null,null,null,null,null,null,null,null,2,2,3,2,0]
["94501","Aldersbach","-16 °C","Straubing",null,null,null,null,null,null,null,null,-9,22,49,38,19,22,22,27,22,22,32,12,14,27,43,20,9,16,54,6,61,19,30,34,0,29,60,30,29,14,22,24,27,10,14,23,32,8,23,22,29,null,null,null,null,null,null,null,null,5,9,7,7,0]
["78554","Aldingen","-18 °C","Stuttgart",null,null,null,null,null,null,null,null,-8,20,42,41,37,20,20,45,20,20,26,16,23,59,20,41,37,53,105,39,54,29,26,39,18,33,73,34,37,24,32,44,20,31,20,30,51,22,29,20,28,null,null,null,null,null,null,null,null,10,9,8,15,0]
["86733","Alerheim","-16 °C","Augsburg",null,null,null,null,null,null,null,null,-7,20,63,74,54,20,20,37,20,20,38,27,44,61,53,26,39,86,122,31,133,24,48,54,20,61,112,50,29,26,68,50,29,34,36,36,43,31,34,20,50,null,null,null,null,null,null,null,null,12,12,10,37,0]
["91793","Alesheim","-16 °C","Nürnberg",null,null,null,null,null,null,null,null,-6,39,103,98,56,39,39,52,39,39,45,26,49,111,78,48,49,103,159,53,155,59,101,118,40,70,134,102,61,56,108,75,66,49,44,41,77,34,37,39,56,null,null,null,null,null,null,null,null,32,27,24,44,1]
["73553","Alfdorf","-16 °C","Stuttgart",null,null,null,null,null,null,null,null,-5,44,148,126,107,44,44,68,44,44,85,56,41,117,95,67,108,128,215,73,154,55,130,169,53,100,134,151,59,113,149,126,90,98,55,75,147,70,44,44,100,null,null,null,null,null,null,null,null,32,26,32,38,45]
["31061","Alfeld","-16 °C","Hannover",null,null,null,null,null,null,null,null,-4,118,187,214,155,118,118,109,118,118,133,100,89,168,116,119,114,149,210,66,183,137,137,142,99,179,206,183,123,155,149,165,90,127,75,106,168,87,104,118,159,null,null,null,null,null,null,null,null,47,41,50,47,32]
["91236","Alfeld","-16 °C","Nürnberg",null,null,null,null,null,null,null,null,-3,108,231,231,219,108,108,153,108,108,163,190,161,213,147,175,190,189,220,124,248,222,187,186,157,209,240,184,120,179,193,221,164,184,148,144,255,135,197,108,184,null,null,null,null,null,null,null,null,97,88,113,110,62]
["91177","Alfershausen","-16 °C","Nürnberg",null,null,null,null,null,null,null,null,-2,184,226,262,224,184,184,219,184,184,202,185,207,225,225,185,216,279,262,169,261,257,249,264,186,229,304,217,223,205,240,249,184,183,179,176,228,191,191,184,234,null,null,null,null,null,null,null,null,88,116,120,186,124]
["49594","Alfhausen","-12 °C","Hannover",null,null,null,null,null,null,null,null,-1,248,273,235,288,248,248,261,248,248,205,248,248,302,251,263,231,272,316,247,283,253,299,266,222,272,362,257,285,266,304,290,299,233,259,220,280,226,240,248,282,null,null,null,null,null,null,null,null,174,159,154,192,198]
["53347","Alfter","-12 °C","Nürburg-Barweiler",null,null,null,null,null,null,null,null,0,224,240,263,271,224,224,271,224,224,243,243,263,308,288,294,262,296,291,259,242,258,236,289,281,224,304,272,272,250,263,249,265,212,248,291,284,208,244,224,256,null,null,null,null,null,null,null,null,165,195,233,216,228]
["99310","Alkersleben","-14 °C","Erfurt",null,null,null,null,null,null,null,null,1,310,307,352,341,310,310,298,310,310,310,291,270,305,480,333,300,412,340,274,305,375,276,326,380,294,296,296,420,360,330,303,360,277,349,319,303,246,300,310,311,null,null,null,null,null,null,null,null,242,228,254,264,325]
["59846","Allendorf","-14 °C","Nürburg-Barweiler",null,null,null,null,null,null,null,null,2,380,308,300,300,380,380,356,380,380,358,298,328,342,415,399,328,377,350,310,330,322,271,350,448,311,321,334,397,373,390,311,405,296,399,383,352,284,350,380,312,null,null,null,null,null,null,null,null,339,245,268,304,435]
["35108","Allendorf/Eder","-14 °C","Fritzlar",null,null,null,null,null,null,null,null,3,358,324,329,309,358,358,291,358,358,329,326,344,373,421,361,323,431,373,305,383,346,358,335,414,333,370,315,361,364,336,311,405,336,436,432,347,304,390,358,389,null,null,null,null,null,null,null,null,318,297,295,326,480]
["90584","Allersberg","-16 °C","Nürnberg",null,null,null,null,null,null,null,null,4,391,360,375,327,391,391,318,391,391,362,344,343,306,379,387,320,461,427,279,403,362,379,379,441,360,403,371,366,379,322,316,359,340,417,390,338,313,367,391,378,null,null,null,null,null,null,null,null,335,378,283,397,513]
["88422","Alleshausen","-16 °C","Stuttgart",null,null,null,null,null,null,null,null,5,399,338,335,381,399,399,378,399,399,413,343,414,336,373,399,401,387,397,345,394,380,396,348,525,413,419,341,330,435,320,394,369,367,385,388,327,378,384,399,379,null,null,null,null,null,null,null,null,344,402,338,381,462]
["82239","Alling","-16 °C","Kempten",null,null,null,null,null,null,null,null,6,412,330,298,386,412,412,345,412,412,380,418,397,374,386,424,454,391,391,403,390,338,375,372,434,367,368,312,334,404,342,392,410,468,388,357,344,414,477,412,335,null,null,null,null,null,null,null,null,366,372,408,415,468]
["78464","Allmannsdorf","-12 °C","Konstanz",null,null,null,null,null,null,null,null,7,445,353,307,353,445,445,305,445,445,404,438,406,355,344,359,357,398,386,377,405,382,376,321,407,354,322,310,341,391,364,366,444,443,382,399,293,399,398,445,372,null,null,null,null,null,null,null,null,438,384,450,454,386]
["77963","Allmannsweier","-12 °C","Karlsruhe",null,null,null,null,null,null,null,null,8,413,352,354,327,413,413,287,413,413,392,419,378,382,337,378,428,349,389,357,392,354,380,315,377,344,345,312,346,418,328,392,398,418,434,379,322,358,368,413,363,null,null,null,null,null,null,null,null,490,437,472,454,395]
["89604","Allmendingen","-14 °C","Augsburg",null,null,null,null,null,null,null,null,9,433,314,330,349,433,433,336,433,433,393,361,409,336,320,379,460,352,378,369,415,322,344,327,410,386,344,321,362,463,336,325,356,414,396,432,320,322,410,433,311,null,null,null,null,null,null,null,null,419,404,425,393,363]
["71573","Allmersbach im Tal","-14 °C","Stuttgart",null,null,null,null,null,null,null,null,10,501,343,384,341,501,501,360,501,501,385,393,375,342,344,402,391,351,391,374,413,379,316,341,397,360,371,316,360,437,322,322,400,408,425,389,301,328,407,501,315,null,null,null,null,null,null,null,null,415,355,428,393,337]
["06507","Allrode / Harz","-16 °C","Leipzig",null,null,null,null,null,null,null,null,11,449,356,316,318,449,449,333,449,449,349,402,420,363,397,426,444,367,333,373,395,368,354,347,425,371,351,335,344,367,323,342,363,413,379,375,324,364,390,449,371,null,null,null,null,null,null,null,null,419,452,450,398,380]
["06542","Allstedt","-14 °C","Leipzig",null,null,null,null,null,null,null,null,12,408,352,339,312,408,408,361,408,408,343,378,378,355,436,374,349,373,349,376,329,342,353,324,483,338,368,330,343,374,298,307,366,407,358,328,332,346,392,408,333,null,null,null,null,null,null,null,null,431,420,427,438,376]
["31079","Almstedt","-16 °C","Hannover",null,null,null,null,null,null,null,null,13,383,333,328,290,383,383,338,383,383,363,349,349,327,410,359,391,335,356,360,316,359,323,327,404,310,370,391,342,398,372,350,372,348,394,327,358,300,388,383,353,null,null,null,null,null,null,null,null,416,399,383,403,417]
["46519","Alpen","-10 °C","Düsseldorf",null,null,null,null,null,null,null,null,14,425,350,328,317,425,425,367,425,425,409,332,370,316,408,377,353,304,358,376,287,355,327,296,387,355,351,406,351,376,379,323,363,325,396,311,329,366,387,425,329,null,null,null,null,null,null,null,null,400,354,362,387,445]
["46519","Alpen-Bönninghardt","-10 °C","Düsseldorf",null,null,null,null,null,null,null,null,15,357,315,325,340,357,357,339,357,357,335,302,333,342,381,350,325,303,283,368,281,355,336,334,441,325,312,365,341,320,306,296,346,332,334,324,295,333,356,357,346,null,null,null,null,null,null,null,null,368,412,337,393,446]
["99195","Alperstedt","-14 °C","Erfurt",null,null,null,null,null,null,null,null,16,318,300,297,303,318,318,338,318,318,314,334,310,335,353,345,292,275,226,321,235,314,309,277,378,302,267,309,331,327,292,297,321,312,339,317,328,350,335,318,323,null,null,null,null,null,null,null,null,402,384,362,370,431]
["72275","Alpirsbach","-16 °C","Stuttgart",null,null,null,null,null,null,null,null,17,290,286,277,279,290,290,308,290,290,313,290,322,281,293,280,318,254,183,348,237,296,261,274,312,260,249,312,326,279,268,263,327,301,300,302,306,323,311,290,281,null,null,null,null,null,null,null,null,405,327,354,356,340]
["52477","Alsdorf/Rheinl.","-12 °C","Aachen",null,null,null,null,null,null,null,null,18,270,254,248,301,270,270,306,270,270,239,267,280,256,224,242,279,211,178,284,213,268,254,244,207,250,192,274,288,216,261,261,257,263,255,296,264,296,233,270,268,null,null,null,null,null,null,null,null,380,294,335,333,280]
["67722","Alsenbrück","-12 °C","Saarbrücken",null,null,null,null,null,null,null,null,19,189,224,249,255,189,189,282,189,189,221,247,217,224,204,217,213,200,159,265,173,270,223,221,137,232,158,250,285,181,244,242,201,187,214,278,283,278,181,189,245,null,null,null,null,null,null,null,null,288,290,286,247,238]
["36304","Alsfeld","-14 °C","Fritzlar",null,null,null,null,null,null,null,null,20,166,200,211,222,166,166,255,166,166,231,207,196,194,150,162,186,186,128,265,142,197,202,211,103,206,142,226,196,137,195,226,182,175,220,226,247,273,153,166,208,null,null,null,null,null,null,null,null,203,272,236,163,223]
["67577","Alsheim","-12 °C","Saarbrücken",null,null,null,null,null,null,null,null,">20",419,813,837,917,419,419,994,419,419,706,893,744,606,337,540,558,391,300,948,423,748,823,831,174,791,388,765,728,451,822,854,481,743,470,632,774,1147,640,419,814,null,null,null,null,null,null,null,null,678,970,851,597,330]
["57515","Alsting (Frankreich)","-12 °C","Nürburg-Barweiler"]
["19303","Alt Jabel","-12 °C","Schwerin"]
["18236","Alt Karin","-10 °C","Rostock"]
["75365","Altburg","-16 °C","Stuttgart"]
["75365","Altburg ","-16 °C","Stuttgart",null,null,null,null,null,null,null,null,"Österreich"]
["03229","Altdöbern","-16 °C","Lindenberg",null,null,null,null,null,null,null,null,"Außentemp","Amstetten","Ansfelden","Bad Ischl","Baden bei Wien","Bludenz","Braunau am Inn","Bregenz","Bruck an der Mur","Dornbirn","Feldkirch","Feldkirchen in Kärnten","Gmunden","Graz","Hallein","Hohenems","Innsbruck","Kapfenberg","Klagenfurt (Wörthersee)","Klosterneuburg","Krems an der Donau","Kufstein","Leoben","Leonding","Linz","Lustenau","Mödling","Perchtoldsdorf","Saalfelden/Steinernes Meer","Salzburg","Sankt Pölten","Schwaz","Schwechat","Spittal an der Drau","Steyr","Stockerau","Telfs","Ternitz","Traiskirchen","Traun","Tulln an der Donau","Villach","Wels","Wien","Wiener Neustadt","Wolfsberg (Kärnten)"]
["77955","Altdorf","-12 °C","Karlsruhe",null,null,null,null,null,null,null,null,"°C","h/a","h/a","h/a","h/a","h/a","h/a","h/a","h/a","h/a","h/a","h/a","h/a","h/a","h/a","h/a","h/a","h/a","h/a","h/a","h/a","h/a","h/a","h/a","h/a","h/a","h/a","h/a","h/a","h/a","h/a","h/a","h/a","h/a","h/a","h/a","h/a","h/a","h/a","h/a","h/a","h/a","h/a","h/a","h/a","h/a"]
["90518","Altdorf","-16 °C","Nürnberg",null,null,null,null,null,null,null,null,"<-20",0,0,0,0,0,0,0,0,0,0,0,0,0,0,0,0,0,0,0,0,0,0,0,0,0,0,0,0,0,0,0,0,0,0,0,0,0,0,0,0,0,0,0,0,0]
["84032","Altdorf","-16 °C","Straubing",null,null,null,null,null,null,null,null,-20,0,0,0,0,0,0,0,0,0,0,0,0,0,0,0,0,0,0,0,0,0,0,0,0,0,0,0,0,0,0,0,0,0,0,0,0,0,0,0,0,0,0,0,0,0]
["71155","Altdorf","-16 °C","Stuttgart",null,null,null,null,null,null,null,null,-19,0,0,0,0,0,0,0,0,0,0,0,0,0,0,0,0,0,0,0,0,0,0,0,0,0,0,0,0,0,0,0,0,0,0,0,0,0,0,0,0,0,0,0,0,0]
["72655","Altdorf","-16 °C","Stuttgart",null,null,null,null,null,null,null,null,-18,0,0,0,0,0,0,0,0,0,0,0,0,0,0,0,0,0,0,0,0,0,0,0,0,0,0,0,0,0,0,0,0,0,0,0,0,0,0,0,0,0,0,0,0,0]
["83549","Alteiselfing","-16 °C","Hohenpeißenberg",null,null,null,null,null,null,null,null,-17,2,0,2,0,0,0,0,0,0,0,0,0,0,4,0,0,0,0,0,0,0,0,0,0,0,0,0,0,0,0,0,0,0,0,0,0,0,0,0,0,0,0,0,0,0]
["58762","Altena / Westf.","-12 °C","Nürburg-Barweiler",null,null,null,null,null,null,null,null,-16,5,0,10,0,0,0,0,0,0,0,0,0,0,19,0,0,0,2,0,0,0,0,0,0,0,0,0,13,4,0,1,0,0,0,0,0,0,0,0,0,0,0,0,0,2]
["53505","Altenahr","-14 °C","Nürburg-Barweiler",null,null,null,null,null,null,null,null,-15,9,0,5,0,0,4,0,3,0,0,0,0,0,17,0,0,3,6,0,0,8,3,0,0,0,0,0,60,7,1,15,0,10,0,1,0,2,0,0,1,0,0,0,0,16]
["38707","Altenau","-16 °C","Magdeburg",null,null,null,null,null,null,null,null,-14,21,4,27,0,0,5,0,8,0,0,6,22,0,34,0,0,10,8,0,1,20,5,0,0,0,0,0,37,8,4,10,0,2,4,5,1,14,0,4,7,4,4,0,1,26]
["04828","Altenbach","-14 °C","Leipzig",null,null,null,null,null,null,null,null,-13,24,6,27,1,0,9,0,14,0,0,11,15,0,32,0,11,15,18,0,5,14,20,0,0,0,0,0,74,16,7,23,0,11,8,7,36,14,0,7,6,10,6,0,9,47]
["33184","Altenbeken","-14 °C","Fritzlar",null,null,null,null,null,null,null,null,-12,30,16,42,4,4,17,0,11,2,0,14,48,7,24,1,12,27,20,0,12,32,22,4,4,0,3,3,83,12,12,50,8,16,11,5,25,8,3,25,5,17,25,0,25,54]
["01773","Altenberg","-16 °C","Dresden",null,null,null,null,null,null,null,null,-11,21,19,40,7,37,33,5,52,6,3,31,39,34,35,39,21,34,39,15,20,47,38,7,7,0,4,4,154,23,29,40,6,47,24,16,38,6,6,25,10,19,16,0,11,60]
["49733","Altenberge","-10 °C","Hannover",null,null,null,null,null,null,null,null,-10,28,36,72,19,38,45,42,49,9,17,37,68,22,46,44,26,47,41,4,17,42,49,14,14,3,16,14,149,36,37,51,18,52,47,8,71,30,11,22,15,32,33,1,17,104]
["48341","Altenbergen","-12 °C","Hannover",null,null,null,null,null,null,null,null,-9,29,25,79,23,39,27,42,46,17,24,57,71,24,84,28,49,65,60,18,36,45,66,42,42,8,27,15,150,32,16,45,14,51,35,10,46,40,26,26,29,51,36,11,34,125]
["34587","Altenbrunslar","-14 °C","Fritzlar",null,null,null,null,null,null,null,null,-8,43,42,176,41,60,41,47,68,38,30,92,100,43,117,39,41,66,78,36,34,110,84,29,29,10,24,41,222,25,39,123,33,78,39,7,98,36,38,48,17,79,29,12,56,197]
["34587","Altenburg","-14 °C","Fritzlar",null,null,null,null,null,null,null,null,-7,42,65,158,51,63,33,53,110,51,41,103,123,71,138,106,43,115,96,33,50,170,115,33,33,28,44,42,175,38,68,174,45,137,54,57,136,78,45,47,45,132,63,38,81,163]
["04600","Altenburg","-14 °C","Leipzig",null,null,null,null,null,null,null,null,-6,103,67,184,70,99,66,72,152,68,55,123,184,107,221,140,119,178,137,56,91,189,177,56,58,52,64,58,224,77,83,151,61,168,53,100,163,90,66,64,116,135,72,54,127,228]
["29574","Altenebstorf","-14 °C","Hannover",null,null,null,null,null,null,null,null,-5,96,104,225,102,188,110,121,202,102,60,148,206,136,210,198,164,177,158,67,128,195,176,91,87,49,85,104,264,125,114,237,73,169,174,96,256,130,88,122,89,171,134,56,137,282]
["45329","Altenessen","-10 °C","Düsseldorf",null,null,null,null,null,null,null,null,-4,145,153,277,147,171,184,170,242,110,117,210,260,203,277,193,183,224,206,107,136,266,223,99,101,81,139,127,386,179,187,241,122,202,175,127,253,154,154,184,128,222,200,90,154,192]
["98701","Altenfeld","-16 °C","Meiningen",null,null,null,null,null,null,null,null,-3,170,189,269,166,218,231,207,256,180,142,214,251,228,289,232,202,271,238,181,192,270,271,217,217,104,149,177,304,157,190,268,191,223,170,185,307,205,159,186,172,190,203,145,168,284]
["66885","Altenglau","-14 °C","Saarbrücken",null,null,null,null,null,null,null,null,-2,214,246,280,219,234,242,227,293,212,211,262,285,237,324,253,242,296,284,220,251,313,320,251,248,146,173,215,320,214,215,351,204,265,248,196,333,184,197,224,219,242,228,171,202,287]
["36391","Altengronau","-14 °C","Fritzlar",null,null,null,null,null,null,null,null,-1,216,256,306,234,280,224,234,348,296,258,295,304,252,326,285,265,315,294,257,244,390,283,255,258,216,231,221,343,229,212,331,226,287,234,236,326,260,211,232,216,243,198,231,215,298]
["33729","Altenhagen","-12 °C","Fritzlar",null,null,null,null,null,null,null,null,0,222,258,333,215,250,270,264,323,251,255,295,233,256,287,308,253,327,275,222,240,328,295,214,213,234,197,191,342,226,245,333,217,258,290,190,312,250,183,273,214,275,218,214,189,326]
["31558","Altenhagen","-14 °C","Hannover",null,null,null,null,null,null,null,null,1,275,303,390,294,330,339,316,346,379,312,320,330,281,327,335,259,357,297,279,322,366,374,327,318,281,258,258,398,301,322,329,259,301,305,268,365,307,272,303,340,291,333,250,282,298]
["85356","Altenhausen","-16 °C","München",null,null,null,null,null,null,null,null,2,273,336,348,269,331,308,307,370,344,327,289,310,317,311,366,344,330,255,313,296,356,356,361,372,265,291,245,464,297,385,328,274,294,333,281,311,270,279,366,277,340,307,297,286,375]
["77743","Altenheim","-12 °C","Karlsruhe",null,null,null,null,null,null,null,null,3,356,316,369,309,368,336,315,367,341,283,312,388,298,323,366,340,308,251,320,339,310,344,344,342,286,290,320,479,288,326,308,307,293,326,337,329,303,306,299,309,296,356,324,297,435]
["96479","Altenhof","-16 °C","Bamberg",null,null,null,null,null,null,null,null,4,367,343,324,279,321,309,335,339,453,342,257,294,255,344,410,317,285,259,340,311,327,324,375,369,334,306,340,388,330,337,312,284,290,319,375,297,323,336,383,355,259,323,332,352,398]
["16244","Altenhof","-14 °C","Neuruppin",null,null,null,null,null,null,null,null,5,336,307,359,353,370,338,388,323,359,315,256,279,298,357,363,295,308,267,302,301,329,327,293,308,361,362,340,391,332,299,335,300,258,294,342,315,328,351,330,300,263,317,287,297,400]
["57368","Altenhundem","-14 °C","Nürburg-Barweiler",null,null,null,null,null,null,null,null,6,357,305,359,328,335,321,371,328,367,316,269,275,258,351,424,324,294,247,296,328,362,306,277,268,394,308,294,396,354,275,321,295,275,290,311,319,308,309,317,305,307,280,286,300,477]
["57610","Altenkirchen","-14 °C","Nürburg-Barweiler",null,null,null,null,null,null,null,null,7,340,295,398,297,362,299,364,316,346,348,245,288,255,412,415,320,308,280,284,317,360,330,301,302,377,303,321,355,344,302,364,301,262,309,253,343,284,313,296,288,312,331,272,317,437]
["66903","Altenkirchen","-12 °C","Saarbrücken",null,null,null,null,null,null,null,null,8,292,347,381,292,387,342,360,332,385,349,304,348,261,374,389,306,362,270,293,287,362,327,280,282,361,278,306,385,329,297,337,275,313,296,289,383,306,272,281,310,279,325,309,299,400]
["23730","Altenkrempe","-10 °C","Schwerin",null,null,null,null,null,null,null,null,9,265,302,350,262,350,342,406,341,386,352,285,334,299,307,386,334,355,331,324,324,350,338,299,301,387,314,294,381,320,302,353,287,345,311,301,388,301,288,271,311,286,330,267,328,390]
["83352","Altenmarkt","-16 °C","Hohenpeißenberg",null,null,null,null,null,null,null,null,10,311,306,339,295,415,325,373,351,371,346,332,365,311,350,418,330,402,312,271,301,340,360,307,309,407,345,270,356,339,308,354,280,367,332,326,427,349,310,267,290,297,280,312,297,366]
["29575","Altenmedingen","-12 °C","Hannover",null,null,null,null,null,null,null,null,11,331,309,350,324,371,318,431,390,318,383,322,343,318,302,445,337,371,315,294,301,353,338,337,310,373,286,266,360,350,300,325,329,356,350,320,335,340,254,324,360,290,303,330,300,338]
["26169","Altenoythe","-12 °C","Emden",null,null,null,null,null,null,null,null,12,303,333,323,313,388,322,433,332,405,362,335,333,344,315,407,363,359,316,304,335,323,380,330,339,394,296,310,239,324,407,348,329,298,348,338,365,373,311,339,339,313,292,317,315,375]
["95500","Altenplos","-16 °C","Hof",null,null,null,null,null,null,null,null,13,347,320,313,307,340,345,337,332,377,347,347,370,350,332,323,349,320,313,321,315,289,334,337,338,363,322,338,254,369,366,348,323,306,325,307,342,350,292,333,331,339,315,275,329,260]
["72657","Altenriet","-16 °C","Stuttgart",null,null,null,null,null,null,null,null,14,341,304,318,361,383,340,410,296,334,409,317,303,346,308,321,327,288,325,404,309,346,345,353,353,407,333,319,174,354,330,339,329,323,340,334,259,384,395,326,369,353,311,365,324,263]
["06642","Altenrode","-14 °C","Leipzig",null,null,null,null,null,null,null,null,15,301,329,281,362,369,327,342,285,359,381,332,366,312,298,310,299,277,304,390,318,308,309,356,363,366,367,383,147,311,308,314,374,309,341,341,236,317,367,351,321,335,334,347,310,233]
["89281","Altenstadt","-16 °C","Augsburg",null,null,null,null,null,null,null,null,16,334,294,243,372,348,333,280,277,332,321,327,319,338,248,279,330,289,311,295,307,246,289,355,371,358,298,331,100,325,300,246,385,279,322,348,254,321,363,319,282,341,355,367,313,163]
["92665","Altenstadt","-16 °C","Nürnberg",null,null,null,null,null,null,null,null,17,316,298,202,335,276,309,277,274,307,294,321,272,317,207,220,291,249,303,304,321,220,263,335,339,313,305,364,92,310,321,229,328,285,317,344,232,317,309,316,333,309,369,347,312,141]
["72213","Altensteig","-16 °C","Stuttgart",null,null,null,null,null,null,null,null,18,296,308,163,297,255,286,270,203,345,328,274,236,303,180,205,291,221,322,309,323,172,226,305,290,321,348,355,52,312,324,183,318,240,306,322,180,290,366,282,292,282,357,358,306,124]
["17087","Altentreptow","-14 °C","Greifswald",null,null,null,null,null,null,null,null,19,259,291,114,319,211,296,235,204,243,317,251,250,249,145,137,279,214,300,335,275,167,172,285,276,266,339,354,25,279,293,165,331,238,264,285,165,288,322,252,276,254,299,312,282,86]
["97327","Altertheim","-14 °C","Würzburg",null,null,null,null,null,null,null,null,20,259,289,87,288,142,240,209,135,152,252,220,171,282,128,116,230,187,235,291,316,132,132,258,258,245,274,303,15,252,254,139,277,247,258,239,153,254,297,248,279,245,250,291,245,55]
["66802","Altforweiler","-12 °C","Saarbrücken",null,null,null,null,null,null,null,null,">20",1081,1039,237,1205,427,844,517,442,515,863,947,377,1148,357,259,864,506,987,1275,1057,303,439,1033,1041,970,1381,1237,9,932,945,339,1357,905,908,1253,361,946,1261,1068,1204,947,928,1492,1243,55]
["01462","Altfranken","-14 °C","Dresden"]
["84169","Altfraunhofen","-16 °C","Straubing"]
["09326","Altgeringswalde","-14 °C","Erfurt"]
["89174","Altheim","-16 °C","Augsburg"]
["89195","Altheim","-16 °C","Augsburg",null,null,null,null,null,null,null,null,"Schweiz"]
["89605","Altheim","-14 °C","Augsburg",null,null,null,null,null,null,null,null,"Außentemp","Airolo","Altdorf","Arosa","Bad Ragaz","Basel","Beatenberg","Bern","Bever","Bern","Château-d'Oex","Chippis","Chur","Davos","Delémont","Disentis","Einsiedeln","Engelberg","Fey","Fribourg","Genève","Glarus","Göschenen","Heiden","Interlaken","Kreuzlingen","La Chaux-de-Fonds","Langenbruck","Langnau/Emmental","Lausanne","Leysin","Locarno","Lugano","Luzern","Marsens","Meiringen","Montana","Montreux","Neuchâtel","Olten","Schaffhausen","Sion","St. Gallen","St. Moritz","Zermatt","Zürich"]
["77743","Altheim","-12 °C","Karlsruhe",null,null,null,null,null,null,null,null,"°C","h/a","h/a","h/a","h/a","h/a","h/a","h/a","h/a","h/a","h/a","h/a","h/a","h/a","h/a","h/a","h/a","h/a","h/a","h/a","h/a","h/a","h/a","h/a","h/a","h/a","h/a","h/a","h/a","h/a","h/a","h/a","h/a","h/a","h/a","h/a","h/a","h/a","h/a","h/a","h/a","h/a","h/a","h/a","h/a","h/a"]
["72160","Altheim","-16 °C","Stuttgart",null,null,null,null,null,null,null,null,"<-20",0,0,30,0,0,0,0,186,0,0,0,0,27,0,0,0,0,0,0,0,0,0,0,0,0,0,0,0,0,0,0,0,0,0,0,0,0,0,0,0,0,0,0,0,0]
["74731","Altheim","-16 °C","Stuttgart",null,null,null,null,null,null,null,null,-20,0,0,9,0,0,0,0,63,0,0,0,0,9,0,0,0,0,0,0,0,0,0,0,0,0,0,0,0,0,0,0,0,0,0,0,0,0,0,0,0,0,0,9,0,0]
["88433","Altheim","-16 °C","Stuttgart",null,null,null,null,null,null,null,null,-19,0,0,12,0,0,0,0,76,0,0,0,0,17,0,0,0,0,0,0,0,0,0,0,0,0,0,0,0,0,0,0,0,0,0,0,0,0,0,0,0,0,0,9,0,0]
["88499","Altheim (bei Riedlingen,Württ )","-14 °C","Stuttgart",null,null,null,null,null,null,null,null,-18,0,0,24,0,0,0,0,105,0,0,0,0,19,0,0,0,0,0,0,0,0,0,0,0,0,0,0,0,0,0,0,0,0,0,0,0,0,0,0,0,0,0,10,0,0]
["04451","Althen","-14 °C","Leipzig",null,null,null,null,null,null,null,null,-17,0,0,31,0,0,0,0,118,0,0,0,0,27,0,0,0,0,0,0,0,0,0,0,0,0,0,0,0,0,0,0,0,0,0,0,0,0,0,0,0,0,0,9,0,0]
["75382","Althengstett","-14 °C","Stuttgart",null,null,null,null,null,null,null,null,-16,0,0,58,0,0,0,0,122,0,0,0,0,49,0,0,0,0,0,0,0,0,0,0,0,0,0,0,0,0,0,0,0,0,0,0,0,0,0,0,0,0,0,18,0,0]
["71566","Althütte","-14 °C","Stuttgart",null,null,null,null,null,null,null,null,-15,0,0,70,0,0,0,0,167,0,0,0,0,71,0,0,0,0,0,0,0,0,0,0,0,0,10,0,0,0,0,0,0,0,0,0,0,0,0,0,0,0,0,26,0,0]
["72119","Altingen","-16 °C","Stuttgart",null,null,null,null,null,null,null,null,-14,0,0,92,0,0,0,0,151,0,0,0,0,76,0,0,0,0,0,0,0,0,0,0,0,0,3,0,0,0,0,0,0,0,0,0,1,0,0,0,0,0,0,32,18,0]
["82054","Altkirchen","-16 °C","Kempten",null,null,null,null,null,null,null,null,-13,1,0,102,0,0,0,0,141,0,0,0,0,92,0,0,4,1,0,0,0,0,1,0,0,0,15,0,0,0,3,0,0,0,0,0,3,0,0,0,0,0,0,32,15,0]
["19288","Alt-Krenzlin","-14 °C","Schwerin",null,null,null,null,null,null,null,null,-12,6,0,118,0,0,0,0,151,0,5,0,0,100,1,0,27,6,0,0,0,0,6,0,0,0,15,0,0,0,11,0,0,0,0,0,9,0,0,0,0,0,0,61,32,0]
["68804","Altlußheim","-12 °C","Karlsruhe",null,null,null,null,null,null,null,null,-11,26,1,120,1,0,2,0,154,0,38,0,0,128,14,4,24,10,0,0,0,0,14,5,0,0,27,1,0,0,27,0,0,0,0,0,26,0,0,0,1,0,1,84,44,0]
["73479","Altmannsrot","-16 °C","Stuttgart",null,null,null,null,null,null,null,null,-10,24,20,140,15,1,33,0,168,0,41,0,9,143,26,11,18,33,0,0,0,15,28,39,1,0,37,7,3,0,34,0,0,0,0,0,27,0,0,8,8,0,50,101,78,0]
["93336","Altmannstein","-16 °C","Straubing",null,null,null,null,null,null,null,null,-9,41,16,161,49,17,45,1,207,0,61,2,14,187,30,38,57,53,2,1,0,10,40,39,28,0,56,17,24,1,49,0,0,0,10,11,49,0,0,13,21,3,36,117,112,21]
["84453","Altmühldorf","-16 °C","Straubing",null,null,null,null,null,null,null,null,-8,70,41,174,32,15,37,10,226,4,53,9,50,162,21,32,51,61,27,22,0,41,71,45,12,10,76,45,21,7,95,0,0,0,22,20,81,3,0,22,47,23,23,151,135,19]
["85250","Altomünster","-16 °C","München",null,null,null,null,null,null,null,null,-7,107,37,212,42,32,34,30,229,34,86,31,31,172,32,60,89,92,27,36,0,37,90,61,34,30,83,41,56,11,112,0,0,19,53,28,119,9,0,58,28,56,48,152,147,37]
["77815","Altschweier","-14 °C","Karlsruhe",null,null,null,null,null,null,null,null,-6,154,32,213,44,24,86,30,196,51,114,60,55,222,65,88,113,142,35,48,11,72,158,87,86,23,114,37,48,21,138,22,0,42,65,73,129,16,5,64,44,72,76,160,203,46]
["17214","Alt-Schwerin","-12 °C","Greifswald",null,null,null,null,null,null,null,null,-5,184,60,228,69,22,122,30,236,24,137,67,55,224,67,148,168,201,53,36,30,80,190,115,110,30,180,69,65,40,174,21,18,55,68,105,163,45,51,64,58,65,86,214,226,37]
["79263","Altsimonswald","-16 °C","Stuttgart",null,null,null,null,null,null,null,null,-4,278,107,229,104,53,148,52,230,83,173,73,91,259,131,184,171,278,108,108,33,106,255,139,116,50,221,116,104,76,164,22,14,84,79,102,194,75,66,126,82,110,184,224,238,74]
["89584","Altsteußlingen","-14 °C","Augsburg",null,null,null,null,null,null,null,null,-3,326,190,214,153,93,178,127,259,121,212,133,184,321,197,250,190,264,207,165,64,168,307,196,175,123,238,156,147,104,221,66,36,94,163,167,227,90,41,130,194,179,175,231,313,154]
["56858","Altstrimmig","-12 °C","Nürburg-Barweiler",null,null,null,null,null,null,null,null,-2,298,211,268,166,103,209,139,258,201,250,191,257,329,197,379,241,284,250,243,93,154,331,239,235,191,244,237,254,129,276,94,68,165,303,235,275,104,122,220,213,220,191,254,337,191]
["88364","Alttann","-16 °C","Stuttgart",null,null,null,null,null,null,null,null,-1,325,291,324,257,134,259,208,298,260,282,226,218,282,207,392,321,322,246,285,187,201,352,265,259,247,299,332,348,236,311,155,137,225,323,264,294,176,166,345,292,257,221,249,360,189]
["17375","Altwarp","-12 °C","Greifswald",null,null,null,null,null,null,null,null,0,331,278,308,249,166,239,246,276,252,280,234,236,294,232,327,306,340,279,266,186,245,333,314,248,285,325,276,306,214,299,182,199,241,287,261,294,230,218,272,240,259,269,274,348,223]
["63755","Alzenau","-12 °C","Würzburg",null,null,null,null,null,null,null,null,1,361,286,350,227,271,324,311,268,292,316,302,265,314,289,357,233,381,304,358,274,281,342,299,301,292,332,409,343,252,397,293,243,332,349,287,350,306,308,328,350,313,290,318,399,278]
["53783","Alzenbach","-12 °C","Nürburg-Barweiler",null,null,null,null,null,null,null,null,2,356,308,336,265,316,332,388,336,331,375,271,305,348,321,400,311,379,341,346,346,259,328,287,357,288,351,341,330,272,385,310,304,351,331,355,421,289,338,372,283,301,314,341,395,366]
["75365","Alzenberg","-16 °C","Stuttgart",null,null,null,null,null,null,null,null,3,335,314,372,269,286,358,358,301,382,364,292,320,398,340,365,359,356,331,323,366,316,335,299,429,356,410,349,328,353,440,306,362,328,331,368,428,335,354,333,346,289,303,398,379,324]
["55232","Alzey","-12 °C","Trier",null,null,null,null,null,null,null,null,4,347,342,391,282,347,346,344,295,387,390,353,325,402,327,352,378,329,374,369,397,272,292,318,419,321,397,379,362,378,387,350,337,311,376,388,420,343,391,360,364,299,347,408,405,375]
["56727","Alzheim","-14 °C","Nürburg-Barweiler",null,null,null,null,null,null,null,null,5,347,362,399,343,356,404,338,305,430,421,363,334,371,368,366,384,291,369,331,367,342,300,389,395,302,420,328,342,365,366,324,318,387,334,348,374,378,392,372,331,312,388,403,416,374]
["86676","Ambach","-16 °C","Augsburg",null,null,null,null,null,null,null,null,6,340,333,419,371,343,415,335,335,405,435,337,369,365,347,371,373,291,359,354,405,341,343,358,335,426,413,357,305,326,390,344,311,418,337,383,336,399,460,353,307,325,370,422,405,395]
["86854","Amberg","-16 °C","Kempten",null,null,null,null,null,null,null,null,7,354,350,422,360,359,448,363,299,337,427,358,351,371,343,337,399,350,356,297,376,361,374,387,320,371,439,361,366,332,402,345,347,361,364,371,350,417,438,368,341,293,329,399,344,397]
["92224","Amberg / Oberpf.","-16 °C","Nürnberg",null,null,null,null,null,null,null,null,8,362,376,372,340,386,424,342,316,326,428,334,359,363,339,352,359,334,316,355,426,360,364,368,292,426,395,419,399,397,427,317,327,380,349,323,409,371,377,322,350,297,370,381,387,382]
["48165","Amelsbüren","-12 °C","Hannover",null,null,null,null,null,null,null,null,9,355,357,331,375,360,436,401,315,307,353,305,370,353,402,328,407,368,388,349,448,316,358,458,362,350,370,420,394,351,413,321,344,378,364,302,422,377,372,368,357,330,372,374,366,396]
["37688","Amelunxen","-14 °C","Fritzlar",null,null,null,null,null,null,null,null,10,387,370,288,434,365,462,363,317,356,389,370,343,310,352,434,358,384,352,355,383,346,353,418,333,358,370,338,377,370,323,298,314,364,352,340,432,368,373,365,366,356,414,347,335,367]
["83123","Amerang","-16 °C","Hohenpeißenberg",null,null,null,null,null,null,null,null,11,368,358,285,388,375,396,400,315,372,394,333,341,279,395,378,386,393,377,436,403,411,366,389,341,373,343,373,370,370,386,370,354,350,405,357,421,392,387,341,406,346,419,388,348,416]
["04683","Ammelshain","-14 °C","Leipzig",null,null,null,null,null,null,null,null,12,340,347,260,337,343,414,327,261,371,383,326,380,304,418,358,365,392,393,375,371,394,381,363,363,331,338,331,328,375,409,368,332,410,372,390,375,436,415,346,385,340,351,332,322,373]
["07407","Ammelstädt","-14 °C","Erfurt",null,null,null,null,null,null,null,null,13,344,307,241,352,362,372,318,203,434,347,372,359,269,394,357,369,337,354,386,320,387,344,362,373,359,385,359,304,338,341,362,334,357,365,375,336,447,401,353,343,353,364,316,295,368]
["92665","Altenstadt","-16 °C","Nürnberg",null,null,null,null,null,null,null,null,14,347,358,239,370,347,357,309,185,372,363,351,383,225,363,350,374,339,365,349,379,391,323,394,348,371,361,324,337,342,342,367,373,446,331,399,286,424,403,336,312,351,410,277,274,381]
["72213","Altensteig","-16 °C","Stuttgart",null,null,null,null,null,null,null,null,15,302,370,193,355,363,389,349,147,366,282,333,337,205,336,323,342,327,330,324,339,389,347,349,359,356,295,318,342,381,292,383,372,395,301,385,304,416,387,352,334,326,360,212,230,339]
["17087","Altentreptow","-14 °C","Greifswald",null,null,null,null,null,null,null,null,16,257,341,171,374,364,320,296,143,303,277,330,326,164,311,298,352,293,287,316,335,373,279,340,328,310,258,344,309,326,224,374,346,387,307,345,258,374,374,308,293,345,327,225,219,358]
["97327","Altertheim","-14 °C","Würzburg",null,null,null,null,null,null,null,null,17,226,322,140,354,351,253,331,116,347,282,330,311,134,316,271,235,272,296,295,338,350,267,289,317,326,224,325,304,361,212,358,355,314,301,323,223,316,342,322,308,307,299,170,151,298]
["66802","Altforweiler","-12 °C","Saarbrücken",null,null,null,null,null,null,null,null,18,197,298,130,288,363,255,326,92,273,211,353,290,116,301,218,229,198,296,278,315,343,204,254,287,279,184,266,299,324,152,325,330,279,258,267,177,281,292,262,292,340,293,175,155,287]
["01462","Altfranken","-14 °C","Dresden",null,null,null,null,null,null,null,null,19,204,271,110,273,317,192,307,82,271,164,273,300,79,259,163,169,178,255,264,282,270,198,220,283,277,132,253,241,325,119,314,344,286,272,227,143,279,257,243,245,301,288,128,106,280]
["84169","Altfraunhofen","-16 °C","Straubing",null,null,null,null,null,null,null,null,20,151,220,80,260,280,121,275,58,225,131,247,277,83,242,140,151,143,220,244,264,226,153,158,234,238,111,215,204,305,124,305,306,237,218,207,114,234,226,236,229,250,194,131,84,216]
["09326","Altgeringswalde","-14 °C","Erfurt",null,null,null,null,null,null,null,null,">20",309,886,94,962,1246,350,1106,54,843,296,1201,915,97,777,329,447,338,863,846,1022,903,333,517,680,1061,289,617,800,1078,315,1464,1635,764,770,754,290,830,804,798,990,1142,598,198,139,799]
["89174","Altheim","-16 °C","Augsburg"]
["89195","Altheim","-16 °C","Augsburg"]
["89605","Altheim","-14 °C","Augsburg"]
["77743","Altheim","-12 °C","Karlsruhe"]
["72160","Altheim","-16 °C","Stuttgart",null,null,null,null,null,null,null,null,"Großbritannien"]
["74731","Altheim","-16 °C","Stuttgart",null,null,null,null,null,null,null,null,"Außentemp","Aberdeen ","Ashfield ","Aspatria","Barnsley ","Belfast","Birmingham","Boulmer","Bournemouth","Bristol","Cardiff","Cork (Irland)","Coventry","Dover","Dublin (Irland)","Dundee","Edinburgh","Enfield ","Glasgow","Lancaster ","Leeds ","Leicester","Liverpool ","London","Manchester ","Middlesbrough","Northampton","Norwich","Nottingham","Ogwr ","Oxford","Plymouth ","Sheffield","Southampton","Swansea","York"]
["88433","Altheim","-16 °C","Stuttgart",null,null,null,null,null,null,null,null,"°C","h/a","h/a","h/a","h/a","h/a","h/a","h/a","h/a","h/a","h/a","h/a","h/a","h/a","h/a","h/a","h/a","h/a","h/a","h/a","h/a","h/a","h/a","h/a","h/a","h/a","h/a","h/a","h/a","h/a","h/a","h/a","h/a","h/a","h/a","h/a","h/a","h/a","h/a","h/a","h/a","h/a","h/a","h/a","h/a","h/a"]
["88499","Altheim (bei Riedlingen,Württ )","-14 °C","Stuttgart",null,null,null,null,null,null,null,null,"<-20",0,0,0,0,0,0,0,0,0,0,0,0,0,0,0,0,0,0,0,0,0,0,0,0,0,0,0,0,0,0,0,0,0,0,0]
["04451","Althen","-14 °C","Leipzig",null,null,null,null,null,null,null,null,-20,0,0,0,0,0,0,0,0,0,0,0,0,0,0,0,0,0,0,0,0,0,0,0,0,0,0,0,0,0,0,0,0,0,0,0]
["75382","Althengstett","-14 °C","Stuttgart",null,null,null,null,null,null,null,null,-19,0,0,0,0,0,0,0,0,0,0,0,0,0,0,0,0,0,0,0,0,0,0,0,0,0,0,0,0,0,0,0,0,0,0,0]
["71566","Althütte","-14 °C","Stuttgart",null,null,null,null,null,null,null,null,-18,0,0,0,0,0,0,0,0,0,0,0,0,0,0,0,0,0,0,0,0,0,0,0,0,0,0,0,0,0,0,0,0,0,0,0]
["72119","Altingen","-16 °C","Stuttgart",null,null,null,null,null,null,null,null,-17,0,0,0,0,0,0,0,0,0,0,0,0,0,0,0,0,0,0,0,0,0,0,0,0,0,0,0,0,0,0,0,0,0,0,0]
["82054","Altkirchen","-16 °C","Kempten",null,null,null,null,null,null,null,null,-16,0,0,0,0,0,0,0,0,0,0,0,0,0,0,0,0,0,0,0,0,0,0,0,0,0,0,0,0,0,0,0,0,0,0,0]
["19288","Alt-Krenzlin","-14 °C","Schwerin",null,null,null,null,null,null,null,null,-15,0,0,0,0,0,0,0,0,0,0,0,0,0,0,0,0,0,0,0,0,0,0,0,0,0,0,0,0,0,0,0,0,0,0,0]
["68804","Altlußheim","-12 °C","Karlsruhe",null,null,null,null,null,null,null,null,-14,0,0,0,0,0,0,0,0,0,0,0,0,0,0,0,0,0,0,0,0,0,0,0,0,0,0,0,0,0,0,0,0,0,0,0]
["73479","Altmannsrot","-16 °C","Stuttgart",null,null,null,null,null,null,null,null,-13,0,0,0,0,0,0,0,0,0,0,0,0,0,0,0,0,0,0,0,0,0,0,0,0,0,0,0,0,0,0,0,0,0,0,0]
["93336","Altmannstein","-16 °C","Straubing",null,null,null,null,null,null,null,null,-12,0,0,0,0,0,0,0,0,0,0,0,0,0,0,0,0,0,0,0,0,0,0,0,0,0,0,0,0,0,0,0,0,0,0,0]
["84453","Altmühldorf","-16 °C","Straubing",null,null,null,null,null,null,null,null,-11,0,0,0,0,0,0,0,0,0,0,0,0,0,0,0,0,0,0,0,0,0,0,0,0,0,0,0,0,0,0,0,0,0,0,0]
["85250","Altomünster","-16 °C","München",null,null,null,null,null,null,null,null,-10,0,0,0,0,0,0,0,0,0,0,0,0,0,0,0,0,0,0,0,0,0,0,0,0,0,0,0,0,0,0,0,0,0,0,0]
["77815","Altschweier","-14 °C","Karlsruhe",null,null,null,null,null,null,null,null,-9,0,0,0,0,0,0,0,0,0,0,0,0,0,0,0,0,0,0,0,0,0,0,0,0,0,0,0,0,0,0,0,0,0,0,0]
["17214","Alt-Schwerin","-12 °C","Greifswald",null,null,null,null,null,null,null,null,-8,0,0,0,0,0,0,0,0,0,0,0,0,0,0,0,0,0,0,0,0,0,0,0,0,0,0,0,0,0,0,0,0,0,0,0]
["79263","Altsimonswald","-16 °C","Stuttgart",null,null,null,null,null,null,null,null,-7,0,0,0,0,0,0,0,0,0,0,0,0,0,0,0,0,0,0,0,0,0,0,0,0,0,0,0,0,0,0,0,0,0,0,0]
["89584","Altsteußlingen","-14 °C","Augsburg",null,null,null,null,null,null,null,null,-6,0,5,0,0,0,0,0,0,0,0,0,0,0,0,0,0,1,9,5,0,1,0,0,0,0,2,0,3,0,1,0,0,0,0,0]
["56858","Altstrimmig","-12 °C","Nürburg-Barweiler",null,null,null,null,null,null,null,null,-5,0,16,0,0,0,13,0,12,0,0,0,5,0,0,0,0,22,11,20,0,5,0,0,1,0,13,0,11,0,9,0,0,0,0,3]
["88364","Alttann","-16 °C","Stuttgart",null,null,null,null,null,null,null,null,-4,0,15,0,2,0,25,0,26,0,0,0,19,21,0,0,15,22,24,24,2,12,0,0,13,13,21,0,17,0,20,0,1,2,0,16]
["17375","Altwarp","-12 °C","Greifswald",null,null,null,null,null,null,null,null,-3,20,32,0,11,0,38,8,21,1,1,0,17,49,0,0,30,47,53,63,19,25,9,1,16,24,33,10,37,6,19,1,7,12,7,35]
["63755","Alzenau","-12 °C","Würzburg",null,null,null,null,null,null,null,null,-2,35,59,0,57,13,61,8,43,8,10,5,54,75,13,7,41,70,55,68,63,47,12,8,31,66,66,43,63,28,44,10,45,25,9,89]
["53783","Alzenbach","-12 °C","Nürburg-Barweiler",null,null,null,null,null,null,null,null,-1,73,122,0,93,23,70,63,82,35,33,17,70,81,26,37,66,104,75,78,111,99,63,16,97,105,113,50,105,60,100,16,77,28,30,96]
["75365","Alzenberg","-16 °C","Stuttgart",null,null,null,null,null,null,null,null,0,65,160,10,128,40,115,97,116,37,66,22,89,122,60,82,96,121,110,144,104,168,68,43,97,113,141,105,122,74,121,35,127,67,71,136]
["55232","Alzey","-12 °C","Trier",null,null,null,null,null,null,null,null,1,144,282,73,182,108,247,159,163,78,96,81,233,192,113,121,155,251,239,258,224,231,141,81,138,187,225,135,248,118,232,90,183,121,85,271]
["56727","Alzheim","-14 °C","Nürburg-Barweiler",null,null,null,null,null,null,null,null,2,261,332,122,301,127,311,241,255,116,125,133,293,293,167,214,261,323,278,381,354,305,210,144,229,296,252,257,356,193,289,119,273,187,121,336]
["86676","Ambach","-16 °C","Augsburg",null,null,null,null,null,null,null,null,3,395,377,216,367,314,326,321,325,180,259,211,317,410,286,386,416,380,373,408,389,362,326,245,348,420,387,373,387,253,329,171,359,270,193,405]
["86854","Amberg","-16 °C","Kempten",null,null,null,null,null,null,null,null,4,560,479,353,454,389,391,493,403,275,281,370,396,453,367,518,460,398,407,465,489,425,343,291,390,441,401,395,420,324,380,281,382,363,334,382]
["92224","Amberg / Oberpf.","-16 °C","Nürnberg",null,null,null,null,null,null,null,null,5,653,489,495,443,507,454,535,370,377,416,423,455,442,468,609,562,413,475,476,478,435,438,353,468,456,394,475,458,428,446,326,453,372,388,409]
["48165","Amelsbüren","-12 °C","Hannover",null,null,null,null,null,null,null,null,6,598,466,723,510,502,509,694,397,409,499,520,488,439,549,560,496,452,551,507,506,432,473,383,493,457,496,447,511,485,470,460,522,476,452,454]
["37688","Amelunxen","-14 °C","Fritzlar",null,null,null,null,null,null,null,null,7,681,507,698,614,575,565,679,468,503,509,592,517,480,590,626,586,527,562,601,612,513,525,477,550,559,495,530,521,554,476,474,559,508,515,552]
["83123","Amerang","-16 °C","Hohenpeißenberg",null,null,null,null,null,null,null,null,8,622,541,733,590,638,507,619,468,643,618,682,530,512,671,726,641,505,547,618,551,588,608,482,624,633,593,529,551,624,551,643,584,554,526,553]
["04683","Ammelshain","-14 °C","Leipzig",null,null,null,null,null,null,null,null,9,637,505,750,520,696,509,649,512,636,620,763,542,471,742,709,642,578,568,652,530,557,577,588,550,638,558,492,491,647,548,670,528,519,664,548]
["72119","Ammerbuch","-16 °C","Stuttgart",null,null,null,null,null,null,null,null,10,604,503,639,574,661,509,598,561,631,622,826,566,496,652,674,616,499,642,577,526,552,539,570,525,552,541,540,521,572,585,634,536,538,781,538]
["35287","Amöneburg","-12 °C","Fritzlar",null,null,null,null,null,null,null,null,11,630,484,530,616,604,529,586,543,640,628,701,494,489,678,647,563,545,629,572,543,520,565,569,538,557,502,536,487,565,532,650,547,501,671,527]
["85241","Ampermoching","-16 °C","München",null,null,null,null,null,null,null,null,12,577,478,511,500,563,503,522,518,616,539,615,502,504,611,622,561,501,551,585,517,518,638,528,518,493,458,516,492,575,470,636,571,496,646,508]
["88436","Ampfelbronn","-16 °C","Stuttgart",null,null,null,null,null,null,null,null,13,604,448,500,511,545,498,483,519,673,511,579,508,447,586,560,569,472,488,465,545,523,581,525,533,503,443,509,453,584,486,683,566,548,605,502]
["33803","Amshausen","-14 °C","Fritzlar",null,null,null,null,null,null,null,null,14,474,410,579,450,561,424,444,561,564,498,606,455,423,544,549,526,432,493,447,482,447,512,468,503,471,394,442,416,528,410,576,489,513,546,464]
["73340","Amstetten","-16 °C","Stuttgart",null,null,null,null,null,null,null,null,15,352,343,605,404,553,396,349,469,515,453,525,398,395,434,383,414,394,435,354,437,410,469,476,467,346,407,442,364,524,368,567,431,490,467,395]
["09439","Amtsberg","-14 °C","Meiningen",null,null,null,null,null,null,null,null,16,296,371,453,381,416,379,319,406,500,466,394,368,359,365,302,300,356,361,305,392,368,443,491,415,377,370,370,352,419,387,450,390,477,456,352]
["01855","Amtshainersdorf","-16 °C","Dresden",null,null,null,null,null,null,null,null,17,205,271,305,327,342,309,255,341,375,400,287,313,342,288,165,291,328,311,200,287,301,339,387,313,306,309,345,286,351,332,378,290,388,360,315]
["84098","Andermannsdorf","-18 °C","Straubing",null,null,null,null,null,null,null,null,18,128,276,240,276,261,290,239,290,310,331,190,294,275,231,119,178,283,202,173,175,241,299,336,273,203,294,314,258,269,316,291,273,324,318,248]
["56626","Andernach","-12 °C","Nürburg-Barweiler",null,null,null,null,null,null,null,null,19,61,241,123,159,162,219,140,264,213,255,120,226,248,179,92,123,223,121,138,135,193,219,306,218,175,247,277,220,244,258,251,184,282,220,198]
["99189","Andisleben","-14 °C","Erfurt",null,null,null,null,null,null,null,null,20,45,160,77,135,83,192,116,192,151,193,55,189,209,81,33,66,163,93,90,122,132,149,246,141,132,200,181,157,139,187,180,141,232,147,158]
["29413","Andorf","-14 °C","Hannover",null,null,null,null,null,null,null,null,">20",40,388,25,155,77,371,143,435,274,331,43,422,533,59,19,86,350,97,86,167,350,214,746,271,237,405,447,453,196,394,168,242,467,148,270]
["74918","Angelbachtal","-12 °C","Stuttgart"]
["35719","Angelburg","-14 °C","Fritzlar"]
["48143","Angelmodde","-12 °C","Hannover"]
["99338","Angelroda","-16 °C","Meiningen"]
["40489","Angermund","-10 °C","Düsseldorf",null,null,null,null,null,null,null,null,"Finnland"]
["16278","Angermünde","-14 °C","Neuruppin",null,null,null,null,null,null,null,null,"Außentemp","Espoo","Helsinki","Ivalo","Joensuu","Jyväskylä","Kajaani","Kokkola","Kuopio","Kuusamo","Lahti","Oulu","Pori","Rovaniemi","Tampere","Turku","Vaasa","Vantaa"]
["86420","Anhausen","-16 °C","Augsburg",null,null,null,null,null,null,null,null,"°C","h/a","h/a","h/a","h/a","h/a","h/a","h/a","h/a","h/a","h/a","h/a","h/a","h/a","h/a","h/a","h/a","h/a","h/a","h/a","h/a","h/a","h/a","h/a","h/a","h/a","h/a","h/a","h/a","h/a","h/a","h/a","h/a","h/a","h/a","h/a","h/a","h/a","h/a","h/a","h/a"]
["56584","Anhausen","-14 °C","Nürburg-Barweiler",null,null,null,null,null,null,null,null,"<-20",67,34,461,140,133,248,67,152,322,73,154,38,172,72,29,88,67]
["72534","Anhausen","-16 °C","Stuttgart",null,null,null,null,null,null,null,null,-20,20,11,74,57,32,66,20,29,83,4,23,15,79,10,13,16,20]
["17389","Anklam","-12 °C","Greifswald",null,null,null,null,null,null,null,null,-19,18,11,84,41,38,57,18,51,70,14,58,10,69,7,13,21,18]
["49577","Ankum","-12 °C","Hannover",null,null,null,null,null,null,null,null,-18,37,13,90,47,37,42,37,71,67,27,80,9,70,30,17,26,37]
["09456","Annaberg-Buchholz","-16 °C","Meiningen",null,null,null,null,null,null,null,null,-17,50,10,84,54,69,64,50,34,74,38,43,30,94,37,21,25,50]
["33129","Anreppen","-12 °C","Fritzlar",null,null,null,null,null,null,null,null,-16,41,16,103,58,41,84,41,45,120,46,79,24,101,45,17,33,41]
["91522","Ansbach / Mittelfr.","-16 °C","Nürnberg",null,null,null,null,null,null,null,null,-15,46,23,92,66,59,85,46,86,114,49,107,25,123,49,22,65,46]
["09517","Ansprung","-16 °C","Meiningen",null,null,null,null,null,null,null,null,-14,46,34,98,85,77,103,46,96,112,53,81,27,111,54,39,47,46]
["82387","Antdorf","-18 °C","Kempten",null,null,null,null,null,null,null,null,-13,74,43,152,117,92,104,74,80,117,68,113,51,123,71,63,71,74]
["84371","Anzenkirchen","-16 °C","Straubing",null,null,null,null,null,null,null,null,-12,54,52,152,125,101,113,54,114,140,85,103,63,132,67,71,86,54]
["85646","Anzing","-16 °C","München",null,null,null,null,null,null,null,null,-11,100,101,161,131,110,158,100,123,153,133,119,79,161,101,83,95,100]
["31552","Apelern","-14 °C","Hannover",null,null,null,null,null,null,null,null,-10,95,53,183,150,144,135,95,129,176,95,191,97,178,112,68,103,95]
["86974","Apfeldorf","-16 °C","Kempten",null,null,null,null,null,null,null,null,-9,122,89,211,176,169,129,122,154,255,137,127,103,208,113,68,112,122]
["72525","Apfelstetten","-16 °C","Stuttgart",null,null,null,null,null,null,null,null,-8,148,113,198,168,171,191,148,208,301,144,197,126,289,127,81,151,148]
["88437","Äpfingen","-16 °C","Stuttgart",null,null,null,null,null,null,null,null,-7,150,141,215,200,175,265,150,176,259,154,196,135,252,197,204,181,150]
["99510","Apolda","-14 °C","Erfurt",null,null,null,null,null,null,null,null,-6,197,190,223,206,220,247,197,193,257,180,206,176,267,248,198,206,197]
["48301","Appelhülsen","-12 °C","Hannover",null,null,null,null,null,null,null,null,-5,239,202,291,253,233,275,239,216,245,258,226,229,215,256,203,189,239]
["27616","Appeln","-12 °C","Bremen",null,null,null,null,null,null,null,null,-4,242,225,270,282,282,242,242,246,206,273,235,213,261,295,260,240,242]
["25482","Appen","-10 °C","Schleswig",null,null,null,null,null,null,null,null,-3,243,312,269,284,314,311,243,326,264,291,273,307,317,289,227,248,243]
["71297","Appenberg","-14 °C","Stuttgart",null,null,null,null,null,null,null,null,-2,264,329,299,306,300,266,264,312,295,339,292,308,326,306,352,309,264]
["55437","Appenheim","-12 °C","Trier",null,null,null,null,null,null,null,null,-1,270,316,319,254,270,269,270,288,323,314,303,308,311,306,370,308,270]
["77767","Appenweier","-12 °C","Karlsruhe",null,null,null,null,null,null,null,null,0,236,325,253,275,308,217,236,254,279,283,285,300,265,283,303,234,236]
["17291","Arendsee","-14 °C","Greifswald",null,null,null,null,null,null,null,null,1,289,319,265,311,305,266,289,306,340,365,308,323,295,311,334,310,289]
["39619","Arendsee","-14 °C","Magdeburg",null,null,null,null,null,null,null,null,2,304,341,276,254,319,319,304,257,289,325,333,343,295,342,351,325,304]
["23617","Arfrade","-12 °C","Schwerin",null,null,null,null,null,null,null,null,3,325,360,373,333,319,292,325,313,244,321,296,420,295,312,318,320,325]
["88260","Argenbühl","-16 °C","Stuttgart",null,null,null,null,null,null,null,null,4,295,326,333,264,331,261,295,311,229,321,308,366,286,352,402,351,295]
["55288","Armsheim","-12 °C","Trier",null,null,null,null,null,null,null,null,5,348,303,282,262,233,296,348,254,261,289,286,319,284,321,353,330,348]
["72119","Ammerbuch","-16 °C","Stuttgart",null,null,null,null,null,null,null,null,6,349,355,280,269,243,266,349,268,292,260,267,337,244,267,269,327,349]
["35287","Amöneburg","-12 °C","Fritzlar",null,null,null,null,null,null,null,null,7,331,319,297,248,295,287,331,296,239,287,281,295,233,305,271,351,331]
["85241","Ampermoching","-16 °C","München",null,null,null,null,null,null,null,null,8,280,280,255,244,295,257,280,233,252,307,260,309,269,309,329,311,280]
["88436","Ampfelbronn","-16 °C","Stuttgart",null,null,null,null,null,null,null,null,9,300,323,235,237,246,250,300,223,221,316,243,279,250,250,332,294,300]
["33803","Amshausen","-14 °C","Fritzlar",null,null,null,null,null,null,null,null,10,303,286,226,194,268,254,303,245,238,276,240,301,232,268,291,272,303]
["73340","Amstetten","-16 °C","Stuttgart",null,null,null,null,null,null,null,null,11,278,298,236,249,262,272,278,240,261,258,264,277,206,254,293,294,278]
["09439","Amtsberg","-14 °C","Meiningen",null,null,null,null,null,null,null,null,12,294,321,157,243,281,210,294,278,247,251,229,304,255,255,267,279,294]
["01855","Amtshainersdorf","-16 °C","Dresden",null,null,null,null,null,null,null,null,13,273,269,175,256,237,254,273,227,213,249,248,242,224,259,240,285,273]
["84098","Andermannsdorf","-18 °C","Straubing",null,null,null,null,null,null,null,null,14,260,255,177,242,273,246,260,245,203,271,245,266,216,233,251,248,260]
["56626","Andernach","-12 °C","Nürburg-Barweiler",null,null,null,null,null,null,null,null,15,255,279,175,241,241,227,255,272,220,236,239,262,177,266,251,241,255]
["99189","Andisleben","-14 °C","Erfurt",null,null,null,null,null,null,null,null,16,247,244,175,233,205,219,247,268,155,222,254,262,196,262,239,241,247]
["29413","Andorf","-14 °C","Hannover",null,null,null,null,null,null,null,null,17,226,276,144,241,193,181,226,251,160,208,209,228,156,247,258,213,226]
["74918","Angelbachtal","-12 °C","Stuttgart",null,null,null,null,null,null,null,null,18,194,214,115,213,191,155,194,213,122,187,190,194,140,165,239,214,194]
["35719","Angelburg","-14 °C","Fritzlar",null,null,null,null,null,null,null,null,19,167,178,81,179,168,154,167,140,102,170,170,190,109,145,177,160,167]
["48143","Angelmodde","-12 °C","Hannover",null,null,null,null,null,null,null,null,20,152,140,78,154,140,119,152,138,103,179,135,144,94,161,162,138,152]
["99338","Angelroda","-16 °C","Meiningen",null,null,null,null,null,null,null,null,">20",531,431,143,418,340,304,531,399,137,404,264,426,180,401,411,402,531]
["40489","Angermund","-10 °C","Düsseldorf"]
["16278","Angermünde","-14 °C","Neuruppin"]
["86420","Anhausen","-16 °C","Augsburg"]
["56584","Anhausen","-14 °C","Nürburg-Barweiler"]
["72534","Anhausen","-16 °C","Stuttgart",null,null,null,null,null,null,null,null,"Near East"]
["17389","Anklam","-12 °C","Greifswald",null,null,null,null,null,null,null,null,"Außentemp","Aschkeloh","Dimona","Elat","Haifa","Jerusalem","Naharija","Nazareth","Tel Aviv","Ramallah"]
["49577","Ankum","-12 °C","Hannover",null,null,null,null,null,null,null,null,"°C","h/a","h/a","h/a","h/a","h/a","h/a","h/a","h/a","h/a","h/a","h/a","h/a","h/a","h/a","h/a","h/a","h/a","h/a","h/a","h/a","h/a","h/a","h/a","h/a","h/a","h/a","h/a","h/a","h/a","h/a","h/a","h/a","h/a","h/a","h/a","h/a","h/a","h/a","h/a","h/a"]
["09456","Annaberg-Buchholz","-16 °C","Meiningen",null,null,null,null,null,null,null,null,"<-20",0,0,0,0,0,0,0,0,0]
["33129","Anreppen","-12 °C","Fritzlar",null,null,null,null,null,null,null,null,-20,0,0,0,0,0,0,0,0,0]
["91522","Ansbach / Mittelfr.","-16 °C","Nürnberg",null,null,null,null,null,null,null,null,-19,0,0,0,0,0,0,0,0,0]
["09517","Ansprung","-16 °C","Meiningen",null,null,null,null,null,null,null,null,-18,0,0,0,0,0,0,0,0,0]
["82387","Antdorf","-18 °C","Kempten",null,null,null,null,null,null,null,null,-17,0,0,0,0,0,0,0,0,0]
["84371","Anzenkirchen","-16 °C","Straubing",null,null,null,null,null,null,null,null,-16,0,0,0,0,0,0,0,0,0]
["85646","Anzing","-16 °C","München",null,null,null,null,null,null,null,null,-15,0,0,0,0,0,0,0,0,0]
["31552","Apelern","-14 °C","Hannover",null,null,null,null,null,null,null,null,-14,0,0,0,0,0,0,0,0,0]
["86974","Apfeldorf","-16 °C","Kempten",null,null,null,null,null,null,null,null,-13,0,0,0,0,0,0,0,0,0]
["72525","Apfelstetten","-16 °C","Stuttgart",null,null,null,null,null,null,null,null,-12,0,0,0,0,0,0,0,0,0]
["88437","Äpfingen","-16 °C","Stuttgart",null,null,null,null,null,null,null,null,-11,0,0,0,0,0,0,0,0,0]
["99510","Apolda","-14 °C","Erfurt",null,null,null,null,null,null,null,null,-10,0,0,0,0,0,0,0,0,0]
["48301","Appelhülsen","-12 °C","Hannover",null,null,null,null,null,null,null,null,-9,0,0,0,0,0,0,0,0,0]
["27616","Appeln","-12 °C","Bremen",null,null,null,null,null,null,null,null,-8,0,0,0,0,0,0,0,0,0]
["25482","Appen","-10 °C","Schleswig",null,null,null,null,null,null,null,null,-7,0,0,0,0,0,0,0,0,0]
["71297","Appenberg","-14 °C","Stuttgart",null,null,null,null,null,null,null,null,-6,0,0,0,0,0,0,0,0,0]
["55437","Appenheim","-12 °C","Trier",null,null,null,null,null,null,null,null,-5,0,0,0,0,0,0,0,0,0]
["77767","Appenweier","-12 °C","Karlsruhe",null,null,null,null,null,null,null,null,-4,0,0,0,0,0,0,0,0,0]
["17291","Arendsee","-14 °C","Greifswald",null,null,null,null,null,null,null,null,-3,0,0,0,0,0,0,0,0,0]
["39619","Arendsee","-14 °C","Magdeburg",null,null,null,null,null,null,null,null,-2,0,0,0,0,8,0,0,0,0]
["23617","Arfrade","-12 °C","Schwerin",null,null,null,null,null,null,null,null,-1,0,0,0,0,12,0,0,0,0]
["88260","Argenbühl","-16 °C","Stuttgart",null,null,null,null,null,null,null,null,0,0,0,0,0,18,0,0,0,0]
["55288","Armsheim","-12 °C","Trier",null,null,null,null,null,null,null,null,1,0,0,0,0,47,0,0,0,9]
["75305","Arnbach","-14 °C","Stuttgart",null,null,null,null,null,null,null,null,2,0,0,4,0,74,0,0,0,34]
["39596","Arneburg","-14 °C","Magdeburg",null,null,null,null,null,null,null,null,3,0,0,8,0,157,0,0,0,43]
["89134","Arnegg","-14 °C","Augsburg",null,null,null,null,null,null,null,null,4,0,0,15,0,200,0,0,0,69]
["39596","Arnim","-14 °C","Magdeburg",null,null,null,null,null,null,null,null,5,0,3,43,0,234,0,0,0,136]
["59...","Arnsberg","-12 °C","Nürburg-Barweiler",null,null,null,null,null,null,null,null,6,8,3,78,5,231,4,8,4,211]
["93473","Arnschwang","-18 °C","Straubing",null,null,null,null,null,null,null,null,7,31,6,113,14,271,7,22,34,268]
["94424","Arnsdorf","-16 °C","Straubing",null,null,null,null,null,null,null,null,8,52,4,175,16,269,18,39,67,291]
["99310","Arnstadt","-14 °C","Erfurt",null,null,null,null,null,null,null,null,9,105,25,187,41,297,55,74,101,306]
["94424","Arnstorf","-16 °C","Straubing",null,null,null,null,null,null,null,null,10,153,70,228,130,332,85,121,158,330]
["30966","Arnum","-14 °C","Hannover",null,null,null,null,null,null,null,null,11,237,133,262,197,310,155,210,226,332]
["31275","Arpke","-14 °C","Hannover",null,null,null,null,null,null,null,null,12,272,149,308,249,344,218,263,272,337]
["93474","Arrach","-18 °C","Straubing",null,null,null,null,null,null,null,null,13,346,200,323,335,342,316,335,330,354]
["09326","Arras","-14 °C","Erfurt",null,null,null,null,null,null,null,null,14,375,232,330,395,361,374,377,385,363]
["91247","Artelshofen","-16 °C","Nürnberg",null,null,null,null,null,null,null,null,15,385,257,357,388,415,401,386,387,326]
["06556","Artern","-14 °C","Leipzig",null,null,null,null,null,null,null,null,16,402,287,377,428,385,393,426,410,312]
["84095","Arth","-16 °C","Straubing",null,null,null,null,null,null,null,null,17,427,324,352,474,372,427,411,385,309]
["56337","Arzbach","-12 °C","Nürburg-Barweiler",null,null,null,null,null,null,null,null,18,465,328,370,457,348,415,408,448,356]
["95659","Arzberg","-18 °C","Hof",null,null,null,null,null,null,null,null,19,442,354,388,448,361,411,394,463,356]
["04886","Arzberg","-16 °C","Leipzig",null,null,null,null,null,null,null,null,20,421,338,386,450,314,376,448,448,385]
["53343","Arzdorf","-14 °C","Nürburg-Barweiler",null,null,null,null,null,null,null,null,">20",4639,6047,4456,4733,3058,5105,4838,4642,3633]
["54687","Arzfeld","-14 °C","Trier"]
["76829","Arzheim","-12 °C","Karlsruhe"]
["86502","Asbach","-16 °C","Augsburg"]
["53567","Asbach","-12 °C","Nürburg-Barweiler"]
["94094","Asbach","-16 °C","Straubing",null,null,null,null,null,null,null,null,"Niederlande"]
["55758","Asbach","-14 °C","Trier",null,null,null,null,null,null,null,null,"Außentemp","Almere","Amersfoort","Amsterdam","Apeldoorn","Arnhem","Beverwijk","Breda","Dordrecht","Eindhoven","Enschede","Geleen","Groningen","Haarlem","Haarlemmermeer","Heerlen","Hilversum","Kerkrade","Leiden","Maastricht","Nijmegen","Rotterdam","s-Gravenhage","s-Hertogenbosch","Sittard","Tilburg","Utrecht","Velsen","Zaanstad","Zaanstreek","Zoetermeer"]
["97708","Aschach","-14 °C","Würzburg",null,null,null,null,null,null,null,null,"°C","h/a","h/a","h/a","h/a","h/a","h/a","h/a","h/a","h/a","h/a","h/a","h/a","h/a","h/a","h/a","h/a","h/a","h/a","h/a","h/a","h/a","h/a","h/a","h/a","h/a","h/a","h/a","h/a","h/a","h/a","h/a","h/a","h/a","h/a","h/a","h/a","h/a","h/a","h/a","h/a"]
["63...","Aschaffenburg","-12 °C","Würzburg",null,null,null,null,null,null,null,null,"<-20",0,0,0,0,0,0,0,0,0,0,0,0,0,0,0,0,0,0,0,0,0,0,0,0,0,0,0,0,0,0]
["96132","Aschbach","-16 °C","Bamberg",null,null,null,null,null,null,null,null,-20,0,0,0,0,0,0,0,0,0,0,0,0,0,0,0,0,0,0,0,0,0,0,0,0,0,0,0,0,0,0]
["67753","Aschbach","-12 °C","Saarbrücken",null,null,null,null,null,null,null,null,-19,0,0,0,0,0,0,0,0,0,0,0,0,0,0,0,0,0,0,0,0,0,0,0,0,0,0,0,0,0,0]
["59387","Ascheberg","-12 °C","Nürburg-Barweiler",null,null,null,null,null,null,null,null,-18,0,0,0,0,0,0,0,0,0,0,0,0,0,0,0,0,0,0,0,0,0,0,0,0,0,0,0,0,0,0]
["98634","Aschenhausen","-16 °C","Meiningen",null,null,null,null,null,null,null,null,-17,0,0,0,0,0,0,0,0,0,0,0,0,0,0,0,0,0,0,0,0,0,0,0,0,0,0,0,0,0,0]
["06449","Aschersleben","-14 °C","Leipzig",null,null,null,null,null,null,null,null,-16,0,0,0,0,0,0,0,0,0,0,0,0,0,0,0,0,0,0,0,0,0,0,0,0,0,0,0,0,0,0]
["85609","Aschheim","-16 °C","München",null,null,null,null,null,null,null,null,-15,0,0,0,0,0,0,0,0,0,0,0,0,0,0,0,0,0,0,0,0,0,0,0,0,0,0,0,0,0,0]
["49577","Aslage","-12 °C","Hannover",null,null,null,null,null,null,null,null,-14,0,0,0,0,0,0,0,0,0,0,0,0,0,0,0,0,0,0,0,0,0,0,0,0,0,0,0,0,0,0]
["71546","Aspach","-14 °C","Stuttgart",null,null,null,null,null,null,null,null,-13,0,0,0,0,0,0,0,0,0,0,0,0,0,0,0,0,0,0,0,0,0,0,0,0,0,0,0,0,0,0]
["71679","Asperg","-12 °C","Stuttgart",null,null,null,null,null,null,null,null,-12,0,0,0,0,0,0,0,0,0,0,0,0,0,0,0,0,0,0,0,0,0,0,0,0,0,0,0,0,0,0]
["55459","Aspisheim","-12 °C","Trier",null,null,null,null,null,null,null,null,-11,0,3,0,3,0,0,3,0,1,1,0,0,0,0,0,1,1,0,1,0,0,0,0,0,0,0,0,0,0,0]
["97959","Assamstadt","-16 °C","Würzburg",null,null,null,null,null,null,null,null,-10,0,7,0,4,8,0,5,0,5,6,2,5,0,0,2,4,5,0,4,1,0,0,1,2,2,0,0,0,0,0]
["67126","Assenheim","-12 °C","Saarbrücken",null,null,null,null,null,null,null,null,-9,2,9,0,11,11,0,9,0,10,7,5,18,0,0,5,7,10,0,8,6,0,0,6,5,6,3,0,0,0,0]
["35614","Asslar - Bechlingen","-12 °C","Fritzlar",null,null,null,null,null,null,null,null,-8,5,13,1,16,20,0,9,1,20,18,8,18,0,0,9,7,12,1,16,14,7,0,5,8,8,7,0,0,0,0]
["88433","Aßmannshardt","-16 °C","Stuttgart",null,null,null,null,null,null,null,null,-7,15,42,10,26,22,1,20,6,21,24,10,15,0,1,10,8,40,4,30,29,13,3,19,10,23,20,1,0,0,6]
["38685","Astfeld","-14 °C","Magdeburg",null,null,null,null,null,null,null,null,-6,22,36,24,34,39,9,43,12,29,41,31,52,8,8,44,36,30,7,24,31,23,7,24,31,20,12,9,8,8,6]
["57439","Attendorn","-14 °C","Nürburg-Barweiler",null,null,null,null,null,null,null,null,-5,37,45,21,42,52,15,37,18,56,44,27,37,15,14,20,51,51,18,67,45,21,16,48,27,50,44,15,23,21,18]
["88448","Attenweiler","-16 °C","Stuttgart",null,null,null,null,null,null,null,null,-4,37,97,37,94,70,25,48,30,66,64,60,59,27,24,52,41,70,26,86,46,56,25,44,60,63,60,25,33,22,29]
["79280","Au","-14 °C","Karlsruhe",null,null,null,null,null,null,null,null,-3,52,86,83,103,100,47,105,33,89,107,78,91,32,32,77,83,103,39,72,63,46,37,65,78,67,71,47,32,33,46]
["76474","Au am Rhein","-12 °C","Karlsruhe",null,null,null,null,null,null,null,null,-2,121,177,106,188,136,79,141,79,159,108,85,141,52,69,103,112,161,62,127,113,120,59,98,85,107,124,79,60,67,54]
["97239","Aub","-16 °C","Würzburg",null,null,null,null,null,null,null,null,-1,178,203,160,208,211,76,225,90,216,173,172,224,77,79,151,181,208,91,208,139,151,83,146,172,124,188,76,101,82,87]
["81245","Aubing","-16 °C","München",null,null,null,null,null,null,null,null,0,223,202,183,203,256,102,210,123,269,262,204,241,124,98,180,199,214,98,205,224,173,93,197,204,158,201,102,87,80,106]
["81249","Aubing","-16 °C","München",null,null,null,null,null,null,null,null,1,272,247,232,274,310,185,252,195,279,283,239,322,186,228,275,221,289,200,308,321,272,176,277,239,262,295,185,182,211,200]
["04838","Audenhain","-14 °C","Leipzig",null,null,null,null,null,null,null,null,2,298,283,298,300,307,254,266,211,293,294,286,409,230,236,257,256,264,225,328,307,298,237,305,286,281,259,254,251,243,218]
["08280","Aue","-16 °C","Meiningen",null,null,null,null,null,null,null,null,3,329,379,364,355,321,325,327,341,391,339,301,384,284,291,279,305,342,303,355,341,373,304,276,301,333,315,325,334,281,268]
["33034","Auenhausen","-14 °C","Fritzlar",null,null,null,null,null,null,null,null,4,365,427,409,348,375,360,396,363,345,364,350,391,389,353,321,326,443,312,408,345,340,285,378,350,389,385,360,365,358,283]
["08066","Auerbach","-14 °C","Erfurt",null,null,null,null,null,null,null,null,5,434,375,477,431,393,384,394,394,336,369,366,433,422,345,417,377,357,342,366,360,453,356,393,366,350,446,384,364,405,413]
["74834","Auerbach","-14 °C","Stuttgart",null,null,null,null,null,null,null,null,6,417,442,462,449,381,387,416,403,390,414,366,514,497,452,356,409,395,442,403,378,487,405,408,366,378,433,387,441,476,419]
["64625","Auerbach","-10 °C","Würzburg",null,null,null,null,null,null,null,null,7,505,439,506,416,453,450,470,453,485,470,420,447,401,459,443,478,476,515,380,450,484,514,450,420,393,481,450,474,460,531]
["08209","Auerbach / Vogtl.","-16 °C","Meiningen",null,null,null,null,null,null,null,null,8,478,445,465,423,462,600,440,515,475,415,435,464,507,517,475,471,452,525,403,402,497,514,455,435,472,494,600,535,500,509]
["08209","Auerbach / Vogtland","-16 °C","Meiningen",null,null,null,null,null,null,null,null,9,485,448,498,416,444,536,493,531,412,458,413,468,525,578,453,488,429,545,404,445,469,548,459,413,458,494,536,530,521,517]
["09238","Auerswalde","-14 °C","Erfurt",null,null,null,null,null,null,null,null,10,484,428,478,442,406,477,426,495,389,442,462,454,521,500,417,455,450,537,508,476,438,512,488,462,446,499,477,493,523,539]
["31749","Auetal","-14 °C","Hannover",null,null,null,null,null,null,null,null,11,495,514,499,472,489,495,453,483,439,447,473,421,495,503,432,427,443,549,512,405,457,584,448,473,469,519,495,461,524,521]
["93089","Aufhausen","-18 °C","Straubing",null,null,null,null,null,null,null,null,12,554,455,441,498,474,497,454,485,439,436,459,442,489,498,478,453,460,487,467,425,507,513,417,459,500,474,497,535,515,548]
["73312","Aufhausen","-16 °C","Stuttgart",null,null,null,null,null,null,null,null,13,416,413,465,418,409,517,433,518,469,410,407,451,501,526,439,446,420,462,425,453,470,439,424,407,437,448,517,501,478,495]
["91347","Aufseß","-16 °C","Nürnberg",null,null,null,null,null,null,null,null,14,409,374,422,408,396,480,378,477,393,404,418,371,492,456,406,401,388,486,386,370,430,484,364,418,454,382,480,498,447,492]
["79424","Auggen","-12 °C","Karlsruhe",null,null,null,null,null,null,null,null,15,417,352,456,359,363,485,383,445,357,378,404,361,461,464,375,418,416,488,392,390,398,475,350,404,359,406,485,474,418,434]
["86...","Augsburg","-14 °C","Augsburg",null,null,null,null,null,null,null,null,16,383,343,380,352,328,383,360,408,316,329,374,351,431,429,406,391,367,444,317,327,397,462,349,374,313,357,383,396,425,410]
["06308","Augsdorf","-14 °C","Leipzig",null,null,null,null,null,null,null,null,17,335,322,295,293,278,366,340,366,321,322,342,275,340,343,361,336,306,422,311,372,323,419,386,342,323,319,366,389,395,380]
["32832","Augustdorf","-12 °C","Fritzlar",null,null,null,null,null,null,null,null,18,280,275,272,257,289,360,289,311,291,276,309,250,301,287,349,317,240,314,276,315,299,344,359,309,299,277,360,298,336,324]
["72525","Auingen","-16 °C","Stuttgart",null,null,null,null,null,null,null,null,19,211,224,220,218,247,250,230,254,237,209,270,188,268,289,234,231,209,236,221,269,230,259,301,270,279,204,250,262,260,267]
["24613","Aukrug","-12 °C","Schleswig",null,null,null,null,null,null,null,null,20,176,195,190,173,185,180,189,205,189,189,262,159,211,200,199,203,161,189,196,227,191,184,225,262,252,138,180,207,226,213]
["88326","Aulendorf / Württ.","-16 °C","Stuttgart",null,null,null,null,null,null,null,null,">20",325,460,306,526,525,435,516,515,573,657,722,304,474,481,735,621,548,391,546,671,337,423,595,722,685,405,435,426,445,427]
["65606","Aumenau","-12 °C","Nürburg-Barweiler"]
["94474","Aunkirchen","-16 °C","Straubing"]
["91589","Aurach","-16 °C","Nürnberg"]
["2660.","Aurich","-10 °C","Emden"]
["89335","Autenried","-16 °C","Augsburg",null,null,null,null,null,null,null,null,"Europa"]
["04849","Authausen","-14 °C","Leipzig",null,null,null,null,null,null,null,null,"Außentemp","Ankara","Athen","Brüssel","Budapest","Bukarest","Lissabon","Madrid","Oslo","Palma de Mallorca","Paris","Prag","Rom","Sofia","Stockholm","Warschau","Zagreb"]
["27729","Axstedt","-12 °C","Bremen",null,null,null,null,null,null,null,null,"°C","h/a","h/a","h/a","h/a","h/a","h/a","h/a","h/a","h/a","h/a","h/a","h/a","h/a","h/a","h/a","h/a","h/a",null,"h/a","h/a","h/a","h/a","h/a","h/a","h/a","h/a","h/a","h/a","h/a","h/a","h/a","h/a","h/a","h/a","h/a","h/a","h/a","h/a","h/a","h/a"]
["86482","Aystetten","-16 °C","Bremen",null,null,null,null,null,null,null,null,"<-20",0,0,0,0,0,0,0,0,0,0,0,0,0,0,0,0]
["18586","Baabe","-10 °C","Rostock",null,null,null,null,null,null,null,null,-20,0,0,0,0,0,0,0,0,0,0,0,0,0,0,0,0]
["41836","Baal","-12 °C","Düsseldorf",null,null,null,null,null,null,null,null,-19,0,0,0,0,0,0,0,0,0,0,0,0,0,0,0,0]
["04457","Baalsdorf","-14 °C","Leipzig",null,null,null,null,null,null,null,null,-18,0,0,0,0,0,0,0,0,0,0,0,0,0,8,2,0]
["86672","Baar","-16 °C","Augsburg",null,null,null,null,null,null,null,null,-17,0,0,0,0,0,0,0,4,0,0,0,0,0,11,5,0]
["56729","Baar","-14 °C","Nürburg-Barweiler",null,null,null,null,null,null,null,null,-16,0,0,0,0,0,0,0,11,0,0,3,0,0,16,4,0]
["85107","Baar-Ebenhausen","-18 °C","München",null,null,null,null,null,null,null,null,-15,0,0,0,0,0,0,0,5,0,0,4,0,1,4,12,0]
["14482","Babelsberg","-14 °C","Potsdam",null,null,null,null,null,null,null,null,-14,0,0,0,0,4,0,0,18,0,0,6,0,8,5,21,0]
["87727","Babenhausen","-16 °C","Augsburg",null,null,null,null,null,null,null,null,-13,1,0,0,0,10,0,0,19,0,0,12,0,16,13,40,0]
["64832","Babenhausen","-12 °C","Würzburg",null,null,null,null,null,null,null,null,-12,7,0,0,2,13,0,0,44,0,0,17,0,26,14,31,0]
["83547","Babensham","-16 °C","Hohenpeißenberg",null,null,null,null,null,null,null,null,-11,16,0,0,24,35,0,0,17,0,0,29,0,45,16,35,0]
["84149","Babing","-16 °C","Straubing",null,null,null,null,null,null,null,null,-10,13,0,0,32,41,0,0,32,0,0,26,0,37,43,22,0]
["93090","Bach","-18 °C","Straubing",null,null,null,null,null,null,null,null,-9,28,0,0,25,59,0,0,67,0,0,19,0,37,69,42,3]
["50226","Bachem","-12 °C","Düsseldorf",null,null,null,null,null,null,null,null,-8,45,0,1,40,77,0,0,105,0,1,40,0,39,72,71,27]
["74831","Bachenau","-12 °C","Stuttgart",null,null,null,null,null,null,null,null,-7,46,0,6,80,65,0,0,153,0,4,44,0,62,82,71,39]
["86316","Bacherer","-16 °C","Augsburg",null,null,null,null,null,null,null,null,-6,41,0,12,69,98,0,0,152,0,8,86,0,84,119,105,28]
["82266","Bachern am Wörthsee","-16 °C","Kempten",null,null,null,null,null,null,null,null,-5,77,0,35,83,113,0,0,193,0,8,115,0,125,162,152,49]
["96528","Bachfeld","-16 °C","Bamberg",null,null,null,null,null,null,null,null,-4,119,0,36,151,187,0,0,233,0,28,161,0,167,193,206,65]
["89429","Bachhagel","-16 °C","Augsburg",null,null,null,null,null,null,null,null,-3,182,0,51,189,165,0,0,219,0,42,170,0,233,236,250,87]
["82335","Bachhausen","-16 °C","Kempten",null,null,null,null,null,null,null,null,-2,219,0,73,215,222,0,23,298,0,72,228,0,219,265,271,153]
["83549","Bachmehring","-16 °C","Hohenpeißenberg",null,null,null,null,null,null,null,null,-1,245,0,137,234,213,0,18,398,0,105,252,2,271,378,328,268]
["89431","Bäckingen","-16 °C","Augsburg",null,null,null,null,null,null,null,null,0,223,0,162,264,221,0,37,328,0,111,235,8,247,308,270,205]
["71522","Backnang","-12 °C","Stuttgart",null,null,null,null,null,null,null,null,1,284,2,219,278,271,0,96,379,0,172,338,21,271,388,302,246]
["83043","Bad Aibling","-16 °C","Hohenpeißenberg",null,null,null,null,null,null,null,null,2,291,19,242,284,292,0,114,364,0,239,328,40,286,385,293,247]
["34454","Bad Arolsen","-14 °C","Fritzlar",null,null,null,null,null,null,null,null,3,288,23,299,245,259,0,203,380,0,242,336,65,264,344,314,243]
["79415","Bad Bellingen","-12 °C","Karlsruhe",null,null,null,null,null,null,null,null,4,285,57,368,283,241,2,296,333,7,299,337,112,274,346,331,250]
["48455","Bad Bentheim","-10 °C","Hannover",null,null,null,null,null,null,null,null,5,319,95,388,297,262,25,292,285,27,353,356,129,265,318,288,283]
["76887","Bad Bergzaben","-12 °C","Saarbrücken",null,null,null,null,null,null,null,null,6,335,91,414,273,247,51,351,339,36,380,318,178,281,335,297,299]
["99438","Bad Berka","-14 °C","Erfurt",null,null,null,null,null,null,null,null,7,311,157,462,278,249,99,380,342,89,376,359,231,277,361,363,254]
["84364","Bad Birnbach","-16 °C","Straubing",null,null,null,null,null,null,null,null,8,282,192,460,252,259,165,370,345,141,404,319,278,245,328,279,246]
["07422","Bad Blankenburg","-14 °C","Erfurt",null,null,null,null,null,null,null,null,9,297,304,395,280,251,268,394,329,163,397,337,376,287,264,300,262]
["97708","Bad Bocklet","-14 °C","Würzburg",null,null,null,null,null,null,null,null,10,294,338,464,288,281,439,380,300,304,454,336,370,281,334,324,307]
["73087","Bad Boll","-16 °C","Stuttgart",null,null,null,null,null,null,null,null,11,275,360,474,299,278,462,368,316,363,452,336,398,324,341,260,285]
["24576","Bad Bramstedt","-12 °C","Schleswig",null,null,null,null,null,null,null,null,12,287,427,463,287,325,555,370,312,439,447,314,402,307,320,279,279]
["53498","Bad Breisig","-12 °C","Nürburg-Barweiler",null,null,null,null,null,null,null,null,13,306,451,461,292,311,574,342,335,468,476,337,393,326,329,263,322]
["88422","Bad Buchau","-16 °C","Stuttgart",null,null,null,null,null,null,null,null,14,295,488,425,327,277,584,297,337,518,453,327,407,307,293,290,295]
["65520","Bad Camberg","-14 °C","Nürburg-Barweiler",null,null,null,null,null,null,null,null,15,274,411,448,328,295,566,327,304,523,403,347,382,322,277,342,338]
["70372","Bad Cannstatt","-12 °C","Stuttgart",null,null,null,null,null,null,null,null,16,267,386,381,287,269,651,305,262,521,326,350,415,335,277,315,342]
["73342","Bad Ditzenbach","-18 °C","Stuttgart",null,null,null,null,null,null,null,null,17,299,417,339,310,261,616,299,237,499,354,322,435,329,235,307,348]
["18209","Bad Doberan","-10 °C","Rostock",null,null,null,null,null,null,null,null,18,263,373,320,305,268,603,308,218,600,379,295,420,300,226,309,366]
["33014","Bad Driburg","-14 °C","Fritzlar",null,null,null,null,null,null,null,null,19,272,377,292,312,254,549,297,187,589,311,249,360,292,228,268,355]
["04849","Bad Düben","-14 °C","Leipzig",null,null,null,null,null,null,null,null,20,240,334,211,266,246,436,282,173,528,305,234,368,241,184,242,290]
["67098","Bad Dürkheim","-12 °C","Saarbrücken",null,null,null,null,null,null,null,null,">20",1734,3458,722,1581,1841,2115,2611,387,2945,1159,838,2970,1329,633,856,1979]
["06231","Bad Dürrenberg","-14 °C","Leipzig"]
["78073","Bad Dürrheim","-18 °C","Stuttgart"]
["31703","Bad Eilsen","-14 °C","Hannover"]
["08645","Bad Elster","-18 °C","Meiningen"]
["56130","Bad Ems","-12 °C","Nürburg-Barweiler",null,null,null,null,null,null,null,null,"Marokko"]
["34308","Bad Emstal","-14 °C","Fritzlar",null,null,null,null,null,null,null,null,"Außentemp","Rabat","Casablanca","Agadir","Marrakech","Fes","Oujda","Bou Anfer","Ouarzazate"]
["35080","Bad Endbach","-14 °C","Fritzlar",null,null,null,null,null,null,null,null,"°C","h/a","h/a","h/a","h/a","h/a","h/a","h/a","h/a","h/a","h/a","h/a","h/a","h/a","h/a","h/a","h/a","h/a",null,"h/a","h/a","h/a","h/a","h/a","h/a","h/a","h/a","h/a","h/a","h/a","h/a","h/a","h/a","h/a","h/a","h/a","h/a","h/a","h/a","h/a","h/a"]
["83093","Bad Endorf","-16 °C","Hohenpeißenberg",null,null,null,null,null,null,null,null,"<-20",0,0,0,0,0,0,0,0]
["49152","Bad Essen","-12 °C","Hannover",null,null,null,null,null,null,null,null,-20,0,0,0,0,0,0,0,0]
["83075","Bad Feilnbach","-18 °C","Hohenpeißenberg",null,null,null,null,null,null,null,null,-19,0,0,0,0,0,0,0,0]
["74177","Bad Friedrichshall","-12 °C","Stuttgart",null,null,null,null,null,null,null,null,-18,0,0,0,0,0,0,0,0]
["37581","Bad Gandersheim","-16 °C","Fritzlar",null,null,null,null,null,null,null,null,-17,0,0,0,0,0,0,0,0]
["53...","Bad Godesberg","-10 °C","Nürburg-Barweiler",null,null,null,null,null,null,null,null,-16,0,0,0,0,0,0,0,0]
["94086","Bad Griesbach","-16 °C","Straubing",null,null,null,null,null,null,null,null,-15,0,0,0,0,0,0,0,0]
["87730","Bad Grönenbach","-16 °C","Augsburg",null,null,null,null,null,null,null,null,-14,0,0,0,0,0,0,0,0]
["38667","Bad Harzburg","-14 °C","Magdeburg",null,null,null,null,null,null,null,null,-13,0,0,0,0,0,0,0,0]
["83670","Bad Heilbrunn","-18 °C","Hohenpeißenberg",null,null,null,null,null,null,null,null,-12,0,0,0,0,0,0,0,0]
["76332","Bad Herrenalb","-14 °C","Karlsruhe",null,null,null,null,null,null,null,null,-11,0,0,0,0,0,0,0,0]
["36251","Bad Hersfeld","-14 °C","Fritzlar",null,null,null,null,null,null,null,null,-10,0,0,0,0,0,0,0,0]
["37412","Bad Herzberg","-16 °C","Fritzlar",null,null,null,null,null,null,null,null,-9,0,0,0,0,0,0,0,0]
["613..","Bad Homburg","-14 °C","Fritzlar",null,null,null,null,null,null,null,null,-8,0,0,0,0,0,0,0,0]
["53604","Bad Honnef","-12 °C","Nürburg-Barweiler",null,null,null,null,null,null,null,null,-7,0,0,0,0,0,0,0,0]
["53557","Bad Hönningen","-12 °C","Nürburg-Barweiler",null,null,null,null,null,null,null,null,-6,0,0,0,0,0,0,0,0]
["49186","Bad Iburg","-12 °C","Hannover",null,null,null,null,null,null,null,null,-5,0,0,0,0,0,0,0,0]
["34385","Bad Karlshafen","-12 °C","Fritzlar",null,null,null,null,null,null,null,null,-4,0,0,0,0,0,0,0,0]
["97688","Bad Kissingen","-14 °C","Würzburg",null,null,null,null,null,null,null,null,-3,0,0,0,0,0,0,0,0]
["23996","Bad Kleinen","-10 °C","Schwerin",null,null,null,null,null,null,null,null,-2,0,0,0,0,0,0,0,0]
["82433","Bad Kohlgrub","-16 °C","Kempten",null,null,null,null,null,null,null,null,-1,0,0,0,0,0,1,0,0]
["555..","Bad Kreuznach","-12 °C","Trier",null,null,null,null,null,null,null,null,0,0,0,0,0,0,7,0,0]
["79189","Bad Krozingen","-14 °C","Karlsruhe",null,null,null,null,null,null,null,null,1,0,0,0,0,2,15,0,12]
["57334","Bad Laasphe","-14 °C","Nürburg-Barweiler",null,null,null,null,null,null,null,null,2,0,0,0,0,30,39,0,26]
["49196","Bad Laer","-12 °C","Hannover",null,null,null,null,null,null,null,null,3,0,0,0,0,57,51,0,41]
["76669","Bad Langenbrück","-12 °C","Stuttgart",null,null,null,null,null,null,null,null,4,0,0,0,9,100,94,0,51]
["99947","Bad Langensalza","-14 °C","Erfurt",null,null,null,null,null,null,null,null,5,6,0,0,47,170,167,0,97]
["04651","Bad Lausick","-14 °C","Leipzig",null,null,null,null,null,null,null,null,6,30,0,17,87,222,212,14,155]
["37431","Bad Lauterberg","-16 °C","Fritzlar",null,null,null,null,null,null,null,null,7,50,15,51,142,279,277,31,186]
["04924","Bad Liebenwerda","-16 °C","Leipzig",null,null,null,null,null,null,null,null,8,95,62,89,175,336,289,72,222]
["75378","Bad Liebenzell","-14 °C","Stuttgart",null,null,null,null,null,null,null,null,9,255,100,145,218,356,331,126,253]
["33175","Bad Lippspringe","-12 °C","Fritzlar",null,null,null,null,null,null,null,null,10,307,202,214,292,385,381,173,275]
["07356","Bad Lobenstein","-18 °C","Meiningen",null,null,null,null,null,null,null,null,11,352,319,263,317,410,396,224,296]
["97980","Bad Mergentheim","-16 °C","Würzburg",null,null,null,null,null,null,null,null,12,428,438,315,347,421,391,294,302]
["31848","Bad Münder ","-14 °C","Hannover",null,null,null,null,null,null,null,null,13,499,526,425,371,403,422,325,308]
["53902","Bad Münstereifel","-14 °C","Nürburg-Barweiler",null,null,null,null,null,null,null,null,14,568,585,464,381,431,405,428,301]
["02953","Bad Muskau","-16 °C","Görlitz",null,null,null,null,null,null,null,null,15,580,609,530,416,456,441,472,306]
["61231","Bad Nauheim","-14 °C","Fritzlar",null,null,null,null,null,null,null,null,16,620,650,595,412,415,392,558,341]
["31542","Bad Nenndorf","-14 °C","Hannover",null,null,null,null,null,null,null,null,17,682,688,636,442,412,422,612,355]
["53474","Bad Neuenahr-Ahrweiler","-14 °C","Nürburg-Barweiler",null,null,null,null,null,null,null,null,18,685,693,628,441,418,403,614,327]
["72108","Bad Niedernau","-16 °C","Stuttgart",null,null,null,null,null,null,null,null,19,667,659,635,446,380,385,595,348]
["325..","Bad Oeynhausen","-12 °C","Fritzlar",null,null,null,null,null,null,null,null,20,562,705,583,435,372,393,600,354]
["23843","Bad Oldesloe","-12 °C","Schwerin",null,null,null,null,null,null,null,null,">20",2374,2509,3170,3782,2705,2846,3622,4204]
["77740","Bad Peterstal","-16 °C","Stuttgart"]
["31812","Bad Pyrmont","-14 °C","Hannover"]
["74906","Bad Rappenau","-12 °C","Stuttgart"]
["83435","Bad Reichenhall","-16 °C","Hohenpeißenberg"]
["76571","Bad Rotenfels","-14 °C","Karlsruhe",null,null,null,null,null,null,null,null,"Spanien"]
["37441","Bad Sachsa","-16 °C","Fritzlar",null,null,null,null,null,null,null,null,"Außentemp","A Coruna","Alicante","Barcelona","Bilbao","Cordoba","Gijon","Granada","Huelva","Madrid","Malaga","Palma de Mallorca","Santa Cruz de Tenerife","Santander","Sevilla","Valencia","Valladolid","Vigo","Zaragoza"]
["79713","Bad Säckingen","-12 °C","Stuttgart",null,null,null,null,null,null,null,null,"°C","h/a","h/a","h/a","h/a","h/a","h/a","h/a","h/a","h/a","h/a","h/a","h/a","h/a","h/a","h/a","h/a","h/a","h/a","h/a","h/a","h/a","h/a","h/a","h/a","h/a","h/a","h/a","h/a","h/a","h/a","h/a","h/a","h/a","h/a","h/a","h/a","h/a","h/a","h/a","h/a"]
["31162","Bad Salzdetfurth","-14 °C","Hannover",null,null,null,null,null,null,null,null,"<-20",0,0,0,0,0,0,0,0,0,0,0,0,0,0,0,0,0,0]
["36364","Bad Salzschlirf","-14 °C","Fritzlar",null,null,null,null,null,null,null,null,-20,0,0,0,0,0,0,0,0,0,0,0,0,0,0,0,0,0,0]
["3210.","Bad Salzuflen","-12 °C","Fritzlar",null,null,null,null,null,null,null,null,-19,0,0,0,0,0,0,0,0,0,0,0,0,0,0,0,0,0,0]
["36433","Bad Salzungen ","-16 °C","Fritzlar",null,null,null,null,null,null,null,null,-18,0,0,0,0,0,0,0,0,0,0,0,0,0,0,0,0,0,0]
["59505","Bad Sassendorf","-12 °C","Nürburg-Barweiler",null,null,null,null,null,null,null,null,-17,0,0,0,0,0,0,0,0,0,0,0,0,0,0,0,0,0,0]
["88348","Bad Saulgau","-14 °C","Stuttgart",null,null,null,null,null,null,null,null,-16,0,0,0,0,0,0,0,0,0,0,0,0,0,0,0,0,0,0]
["01814","Bad Schandau","-14 °C","Dresden",null,null,null,null,null,null,null,null,-15,0,0,0,0,0,0,0,0,0,0,0,0,0,0,0,0,0,0]
["06905","Bad Schmiedeberg","-14 °C","Leipzig",null,null,null,null,null,null,null,null,-14,0,0,0,0,0,0,0,0,0,0,0,0,0,0,0,0,0,0]
["76669","Bad Schönborn","-12 °C","Stuttgart",null,null,null,null,null,null,null,null,-13,0,0,0,0,0,0,0,0,0,0,0,0,0,0,0,0,0,0]
["88427","Bad Schussenried","-16 °C","Stuttgart",null,null,null,null,null,null,null,null,-12,0,0,0,0,0,0,0,0,0,0,0,0,0,0,0,0,0,0]
["65307","Bad Schwalbach","-14 °C","Nürburg-Barweiler",null,null,null,null,null,null,null,null,-11,0,0,0,0,0,0,0,0,0,0,0,0,0,0,0,0,0,0]
["23611","Bad Schwartau","-10 °C","Schwerin",null,null,null,null,null,null,null,null,-10,0,0,0,0,0,0,0,0,0,0,0,0,0,0,0,0,0,0]
["23795","Bad Segeberg","-10 °C","Schwerin",null,null,null,null,null,null,null,null,-9,0,0,0,0,0,0,0,0,0,0,0,0,0,0,0,0,0,0]
["55566","Bad Sobernheim","-12 °C","Trier",null,null,null,null,null,null,null,null,-8,0,0,0,0,0,0,0,0,0,0,0,0,0,0,0,0,0,0]
["65812","Bad Soden am Taunus","-14 °C","Nürburg-Barweiler",null,null,null,null,null,null,null,null,-7,0,0,0,0,0,0,0,0,0,0,0,0,0,0,0,0,0,0]
["63628","Bad Soden Salmünster","-14 °C","Würzburg",null,null,null,null,null,null,null,null,-6,0,0,0,0,0,0,0,0,0,0,0,0,0,0,0,0,0,0]
["06507","Bad Suderode","-14 °C","Leipzig",null,null,null,null,null,null,null,null,-5,0,0,0,0,0,0,9,0,0,0,0,0,0,0,0,0,0,0]
["75385","Bad Teinach","-16 °C","Stuttgart",null,null,null,null,null,null,null,null,-4,0,0,0,0,0,0,16,0,0,0,0,0,0,0,0,33,0,1]
["99955","Bad Tennstedt","-14 °C","Erfurt",null,null,null,null,null,null,null,null,-3,0,0,0,0,0,0,20,0,0,0,0,0,0,0,0,33,0,20]
["83646","Bad Tölz","-18 °C","Hohenpeißenberg",null,null,null,null,null,null,null,null,-2,0,0,0,0,0,0,39,0,23,0,0,0,0,0,0,53,0,23]
["72574","Bad Urach","-16 °C","Stuttgart",null,null,null,null,null,null,null,null,-1,0,0,0,7,0,0,83,0,18,0,0,0,0,0,0,100,0,38]
["61118","Bad Vilbel","-12 °C","Fritzlar",null,null,null,null,null,null,null,null,0,0,0,0,18,0,0,118,0,37,0,0,0,0,0,0,114,0,40]
["88339","Bad Waldsee","-16 °C","Stuttgart",null,null,null,null,null,null,null,null,1,0,0,16,32,0,0,178,0,96,0,0,0,12,0,10,247,0,71]
["59597","Bad Westernkotten","-12 °C","Nürburg-Barweiler",null,null,null,null,null,null,null,null,2,0,0,32,51,19,8,208,0,114,0,0,0,21,0,22,269,0,139]
["83707","Bad Wiessee","-18 °C","Hohenpeißenberg",null,null,null,null,null,null,null,null,3,0,5,33,80,30,20,239,2,203,0,0,0,45,1,26,315,19,195]
["75323","Bad Wildbad","-16 °C","Stuttgart",null,null,null,null,null,null,null,null,4,0,21,65,132,32,27,313,20,296,2,7,0,77,21,70,350,40,203]
["19336","Bad Wilsnack","-14 °C","Schwerin",null,null,null,null,null,null,null,null,5,13,43,135,169,67,67,321,64,292,16,27,0,123,46,107,340,68,244]
["74206","Bad Wimpfen","-12 °C","Stuttgart",null,null,null,null,null,null,null,null,6,27,79,219,243,129,114,341,87,351,56,36,0,164,85,160,364,129,319]
["91438","Bad Windsheim","-16 °C","Nürnberg",null,null,null,null,null,null,null,null,7,101,128,236,311,223,217,321,112,380,93,89,0,331,125,253,457,271,395]
["86825","Bad Wörishofen","-16 °C","Kempten",null,null,null,null,null,null,null,null,8,166,190,293,298,269,371,329,210,370,173,141,0,354,194,258,468,349,402]
["33181","Bad Wünnenberg","-14 °C","Fritzlar",null,null,null,null,null,null,null,null,9,306,279,444,349,284,469,368,329,394,268,163,0,477,276,293,399,402,403]
["88410","Bad Wurzach","-16 °C","Stuttgart",null,null,null,null,null,null,null,null,10,547,332,467,391,312,487,331,332,380,350,304,0,438,302,371,388,502,406]
["26160","Bad Zwischenahn","-12 °C","Emden",null,null,null,null,null,null,null,null,11,641,412,471,446,377,534,365,338,368,408,363,0,481,332,365,380,557,358]
["49635","Badbergen","-12 °C","Hannover",null,null,null,null,null,null,null,null,12,686,408,480,474,386,634,357,393,370,435,439,0,555,361,419,389,596,340]
["38271","Baddeckenstedt","-14 °C","Magdeburg",null,null,null,null,null,null,null,null,13,737,410,393,560,342,666,388,419,342,488,468,20,576,364,378,348,628,372]
["06493","Badeborn","-14 °C","Leipzig",null,null,null,null,null,null,null,null,14,815,423,392,563,362,695,382,435,297,489,518,70,589,317,356,362,659,390]
["79227","Baden","-14 °C","Karlsruhe",null,null,null,null,null,null,null,null,15,803,435,463,553,394,698,341,479,327,478,523,238,589,430,395,335,611,374]
["765..","Baden-Baden","-12 °C","Karlsruhe",null,null,null,null,null,null,null,null,16,775,428,441,555,332,735,354,447,305,491,521,405,619,392,369,344,639,374]
["79410","Badenweiler","-14 °C","Karlsruhe",null,null,null,null,null,null,null,null,17,732,437,430,464,347,635,312,461,299,493,499,675,559,408,416,336,578,341]
["04720","Baderitz","-14 °C","Leipzig",null,null,null,null,null,null,null,null,18,668,453,442,409,359,605,329,485,308,521,600,805,544,420,410,303,558,321]
["04769","Baderitz","-14 °C","Leipzig",null,null,null,null,null,null,null,null,19,616,410,420,366,360,579,295,450,297,518,589,932,575,444,419,267,454,297]
["52499","Baesweiler","-12 °C","Aachen",null,null,null,null,null,null,null,null,20,435,429,368,385,366,441,278,421,282,472,528,973,457,421,389,238,378,327]
["03130","Bagenz","-16 °C","Lindenberg",null,null,null,null,null,null,null,null,">20",692,3438,2520,1904,3770,758,2125,3276,2611,3009,2945,4642,1174,3821,3274,1528,1322,2367]
["79353","Bahlingen","-12 °C","Karlsruhe"]
["04895","Bahnsdorf","-16 °C","Leipzig"]
["27245","Bahrenborstel","-12 °C","Bremen"]
["88255","Baienfurt","-14 °C","Stuttgart"]
["72270","Baiersbronn","-16 °C","Stuttgart",null,null,null,null,null,null,null,null,"Russland"]
["91083","Baiersdorf","-16 °C","Nürnberg",null,null,null,null,null,null,null,null,"Außentemp","Kaliningrad","Kazan","Krasnodar","Kursk","Moscow","Murmansk","Nizhniy Novgorod","Perm","Rostov-on-Don","Saint-Petersburg","Smolensk","Sochi","Tyumen","Vladivostok","Volgograd","Voronezh","Yakutsk"]
["88255","Baindt - Schachen","-14 °C","Stuttgart",null,null,null,null,null,null,null,null,"°C","h/a","h/a","h/a","h/a","h/a","h/a","h/a","h/a","h/a","h/a","h/a","h/a","h/a","h/a","h/a","h/a","h/a","h/a","h/a","h/a","h/a","h/a","h/a","h/a","h/a","h/a","h/a","h/a","h/a","h/a","h/a","h/a","h/a","h/a","h/a","h/a","h/a","h/a","h/a","h/a"]
["72108","Baisingen","-16 °C","Stuttgart",null,null,null,null,null,null,null,null,"<-20",0,182,0,22,32,407,113,390,0,79,46,0,459,48,27,57,3110]
["87650","Baisweil","-16 °C","Kempten",null,null,null,null,null,null,null,null,-20,0,35,0,36,26,55,19,97,0,15,21,0,101,27,12,30,74]
["14806","Baitz","-14 °C","Potsdam",null,null,null,null,null,null,null,null,-19,4,68,0,24,30,81,50,83,0,20,25,0,105,38,19,28,77]
["73441","Baldern","-16 °C","Stuttgart",null,null,null,null,null,null,null,null,-18,9,75,0,20,18,102,44,90,0,24,24,0,119,79,30,22,75]
["85598","Baldham","-16 °C","München",null,null,null,null,null,null,null,null,-17,3,98,0,20,32,52,62,83,0,19,27,0,139,91,23,13,95]
["76532","Balg","-14 °C","Karlsruhe",null,null,null,null,null,null,null,null,-16,9,81,0,23,35,97,84,99,5,41,20,0,114,115,41,17,86]
["31609","Balge","-12 °C","Hannover",null,null,null,null,null,null,null,null,-15,18,97,1,44,55,89,92,87,16,54,38,0,102,142,38,60,90]
["86753","Balgheim","-16 °C","Augsburg",null,null,null,null,null,null,null,null,-14,25,139,4,66,69,118,114,104,35,54,51,0,137,172,66,41,92]
["78582","Balgheim","-18 °C","Stuttgart",null,null,null,null,null,null,null,null,-13,26,109,12,55,93,124,93,106,28,92,92,0,146,172,50,92,77]
["34308","Balhorn","-14 °C","Fritzlar",null,null,null,null,null,null,null,null,-12,17,116,23,112,109,157,102,108,41,111,84,0,166,150,77,105,77]
["72336","Balingen","-18 °C","Stuttgart",null,null,null,null,null,null,null,null,-11,23,104,16,122,122,146,116,145,39,121,128,0,159,165,94,117,98]
["89177","Ballendorf","-16 °C","Augsburg",null,null,null,null,null,null,null,null,-10,11,123,17,114,136,172,131,163,56,104,126,0,172,150,152,98,72]
["06493","Ballenstedt","-14 °C","Leipzig",null,null,null,null,null,null,null,null,-9,16,126,42,137,138,164,160,164,62,132,122,0,150,161,128,141,94]
["89561","Ballmertshofen","-16 °C","Augsburg",null,null,null,null,null,null,null,null,-8,46,165,22,124,141,217,141,179,106,121,179,0,154,168,116,131,81]
["79282","Ballrechten-Dottingen","-14 °C","Karlsruhe",null,null,null,null,null,null,null,null,-7,49,238,35,154,152,226,181,209,133,174,131,0,207,162,138,138,70]
["99869","Ballstädt","-14 °C","Erfurt",null,null,null,null,null,null,null,null,-6,76,190,56,184,190,262,173,205,125,182,131,0,184,166,192,147,91]
["73666","Baltmannsweiler","-14 °C","Stuttgart",null,null,null,null,null,null,null,null,-5,136,238,108,216,205,261,213,199,133,240,218,0,187,184,188,169,79]
["88487","Baltringen","-16 °C","Stuttgart",null,null,null,null,null,null,null,null,-4,173,241,123,215,226,292,232,251,114,219,261,0,233,166,192,226,99]
["960..","Bamberg","-16 °C","Bamberg",null,null,null,null,null,null,null,null,-3,229,278,160,270,239,289,252,233,218,307,283,6,244,160,233,255,123]
["79415","Bamlach","-12 °C","Karlsruhe",null,null,null,null,null,null,null,null,-2,222,254,173,284,261,285,248,274,202,285,347,22,201,179,232,280,117]
["69245","Bammental","-12 °C","Würzburg",null,null,null,null,null,null,null,null,-1,277,272,183,290,296,344,311,309,262,322,337,28,205,182,244,286,119]
["17506","Bandelin","-12 °C","Greifswald",null,null,null,null,null,null,null,null,0,299,248,198,289,289,281,227,217,278,284,287,43,182,180,254,240,121]
["17449","Bannemin","-12 °C","Greifswald",null,null,null,null,null,null,null,null,1,341,257,289,273,345,312,318,232,311,319,260,106,214,216,283,274,133]
["01728","Bannewitz","-14 °C","Dresden",null,null,null,null,null,null,null,null,2,389,290,300,271,335,344,274,232,282,267,310,123,223,207,299,284,124]
["17429","Bansin","-12 °C","Greifswald",null,null,null,null,null,null,null,null,3,382,209,290,267,288,349,268,206,306,261,263,174,193,166,264,321,130]
["31029","Banteln","-14 °C","Hannover",null,null,null,null,null,null,null,null,4,351,191,299,253,246,340,253,186,247,281,294,239,184,202,227,287,148]
["16868","Bantikow","-14 °C","Neuruppin",null,null,null,null,null,null,null,null,5,364,185,325,260,221,342,236,182,251,289,233,337,185,214,208,204,153]
["19246","Bantin","-12 °C","Schwerin",null,null,null,null,null,null,null,null,6,383,171,332,230,203,316,243,172,268,309,230,321,205,226,178,205,162]
["30890","Bantorf","-14 °C","Hannover",null,null,null,null,null,null,null,null,7,353,183,271,242,237,262,218,188,253,256,274,361,190,244,180,190,179]
["19079","Banzkow","-12 °C","Schwerin",null,null,null,null,null,null,null,null,8,341,193,259,191,236,273,208,217,238,260,254,398,204,229,221,198,164]
["93092","Barbing","-16 °C","Straubing",null,null,null,null,null,null,null,null,9,309,192,248,189,260,259,193,265,193,241,255,366,227,218,214,203,141]
["39249","Barby","-14 °C","Magdeburg",null,null,null,null,null,null,null,null,10,283,228,272,238,259,274,228,244,190,268,258,365,209,226,204,208,154]
["27809","Bardewisch","-12 °C","Bremen",null,null,null,null,null,null,null,null,11,306,247,253,238,241,248,205,228,194,247,275,447,217,220,173,254,164]
["21357","Bardowick","-12 °C","Hamburg",null,null,null,null,null,null,null,null,12,317,234,254,241,229,205,222,218,218,254,239,414,213,234,214,276,129]
["27245","Barenburg","-12 °C","Bremen",null,null,null,null,null,null,null,null,13,330,224,237,272,266,211,243,241,252,275,269,415,229,259,191,268,162]
["01768","Bärenstein/Erzgebirge","-16 °C","Dresden",null,null,null,null,null,null,null,null,14,335,258,279,242,270,152,267,236,258,284,262,341,273,282,245,287,137]
["08147","Bärenwalde","-16 °C","Erfurt",null,null,null,null,null,null,null,null,15,338,234,276,291,268,163,258,212,263,266,315,361,248,284,235,250,134]
["73529","Bargau","-16 °C","Stuttgart",null,null,null,null,null,null,null,null,16,310,235,279,235,271,104,281,239,268,262,322,374,237,282,215,269,179]
["74921","Bargen","-12 °C","Stuttgart",null,null,null,null,null,null,null,null,17,341,234,277,291,249,86,268,204,269,243,280,389,219,260,213,254,171]
["18211","Bargeshagen","-10 °C","Rostock",null,null,null,null,null,null,null,null,18,316,235,300,271,244,70,215,217,267,248,243,369,187,244,236,255,169]
["22941","Bargteheide","-12 °C","Hamburg",null,null,null,null,null,null,null,null,19,230,216,302,222,259,63,181,194,258,189,205,366,184,244,236,236,154]
["39179","Barleben","-14 °C","Magdeburg",null,null,null,null,null,null,null,null,20,185,201,304,250,197,45,196,126,281,161,166,355,167,279,246,222,161]
["46399","Barlo","-10 °C","Düsseldorf",null,null,null,null,null,null,null,null,">20",588,866,1941,972,742,121,827,726,1840,580,575,2040,686,967,1732,1122,695]
["23968","Barnekow","-10 °C","Schwerin"]
["19089","Barnin","-12 °C","Schwerin"]
["06268","Barnstädt","-14 °C","Leipzig"]
["49406","Barnstorf","-12 °C","Hannover"]
["38446","Barnstorf","-14 °C","Magdeburg",null,null,null,null,null,null,null,null,"Bosnien-Herzegowina"]
["31171","Barnten","-14 °C","Hannover",null,null,null,null,null,null,null,null,"Außentemp","Banja Luka","Doboj","Livno","Mostar","Prijedor","Sarajevo","Slavonski Brod","Tuzla","Zenica"]
["32683","Barntrup","-14 °C","Fritzlar",null,null,null,null,null,null,null,null,"°C","h/a","h/a","h/a","h/a","h/a","h/a","h/a","h/a","h/a","h/a","h/a","h/a","h/a","h/a","h/a","h/a","h/a","h/a","h/a","h/a","h/a","h/a","h/a","h/a","h/a","h/a","h/a","h/a","h/a","h/a","h/a","h/a","h/a","h/a","h/a","h/a","h/a","h/a","h/a"]
["41515","Barrenstein","-10 °C","Düsseldorf",null,null,null,null,null,null,null,null,"<-20",0,0,0,0,0,0,0,0,0,0,0,0,0,0,0,0]
["30890","Barrigsen","-14 °C","Hannover",null,null,null,null,null,null,null,null,-20,0,0,0,0,0,0,0,0,0,0,0,0,0,0,0,0]
["30890","Barsinghausen","-14 °C","Hannover",null,null,null,null,null,null,null,null,-19,0,0,0,0,0,0,0,0,0,0,0,0,0,0,0,0]
["21354","Barskamp","-12 °C","Hamburg",null,null,null,null,null,null,null,null,-18,0,0,0,0,0,0,0,0,0,0,0,0,0,0,0,0]
["71560","Bartenbach","-14 °C","Stuttgart",null,null,null,null,null,null,null,null,-17,0,0,0,0,0,0,0,0,0,0,0,0,0,0,0,0]
["73035","Bartenbach","-16 °C","Stuttgart",null,null,null,null,null,null,null,null,-16,0,0,0,0,0,2,0,0,0,0,0,0,0,0,0,0]
["18356","Barth","-10 °C","Rostock",null,null,null,null,null,null,null,null,-15,0,0,0,1,0,7,7,0,4,0,0,0,0,0,0,0]
["73566","Bartholomä","-16 °C","Stuttgart",null,null,null,null,null,null,null,null,-14,2,0,0,7,1,9,5,0,8,0,0,0,0,0,0,0]
["18516","Bartmannshagen","-12 °C","Rostock",null,null,null,null,null,null,null,null,-13,4,0,0,7,11,21,3,1,3,0,0,0,0,0,0,0]
["54578","Basberg","-14 °C","Trier",null,null,null,null,null,null,null,null,-12,8,13,0,14,8,24,5,5,4,0,0,0,0,0,0,0]
["56220","Bassenheim","-14 °C","Nürburg-Barweiler",null,null,null,null,null,null,null,null,-11,6,3,7,17,10,28,4,7,7,0,0,0,0,0,0,0]
["27211","Bassum","-12 °C","Bremen",null,null,null,null,null,null,null,null,-10,6,15,22,42,22,21,15,20,8,0,0,0,0,0,0,0]
["97654","Bastheim","-16 °C","Würzburg",null,null,null,null,null,null,null,null,-9,25,17,17,20,18,41,25,31,27,0,0,0,0,0,0,0]
["35088","Battenberg","-14 °C","Fritzlar",null,null,null,null,null,null,null,null,-8,36,35,39,52,32,67,20,26,30,0,0,0,0,0,0,0]
["86368","Batzenhofen","-16 °C","Augsburg",null,null,null,null,null,null,null,null,-7,43,55,63,50,44,79,51,60,38,0,0,0,0,0,0,0]
["01561","Bauda","-16 °C","Dresden",null,null,null,null,null,null,null,null,-6,46,64,107,71,51,154,72,54,69,0,0,0,0,0,0,0]
["75015","Bauerbach ( Bretten )","-12 °C","Stuttgart",null,null,null,null,null,null,null,null,-5,59,76,144,121,85,144,96,72,90,0,0,0,0,0,0,0]
["86663","Bäumenheim","-16 °C","Augsburg",null,null,null,null,null,null,null,null,-4,95,99,153,192,103,207,117,128,93,0,0,0,0,0,0,0]
["75245","Bauschlott","-14 °C","Stuttgart",null,null,null,null,null,null,null,null,-3,122,134,235,195,168,255,154,114,166,0,0,0,0,0,0,0]
["58730","Bausenhagen","-12 °C","Nürburg-Barweiler",null,null,null,null,null,null,null,null,-2,194,175,316,205,216,262,216,183,205,0,0,0,0,0,0,0]
["54636","Baustert","-14 °C","Trier",null,null,null,null,null,null,null,null,-1,224,226,280,216,206,221,215,209,239,0,0,0,0,0,0,0]
["88471","Baustetten","-16 °C","Stuttgart",null,null,null,null,null,null,null,null,0,213,217,235,215,182,286,240,259,210,0,0,0,0,0,0,0]
["02625","Bautzen","-16 °C","Görlitz",null,null,null,null,null,null,null,null,1,251,272,290,278,240,245,227,293,243,0,0,0,0,0,0,0]
["84092","Bayerbach","-18 °C","Straubing",null,null,null,null,null,null,null,null,2,275,286,325,245,261,260,263,282,249,0,0,0,0,0,0,0]
["86641","Bayerdilling","-16 °C","Augsburg",null,null,null,null,null,null,null,null,3,315,299,375,318,228,256,313,281,270,0,0,0,0,0,0,0]
["954..","Bayreuth","-16 °C","Hof",null,null,null,null,null,null,null,null,4,364,280,321,313,209,347,288,296,350,0,0,0,0,0,0,0]
["99976","Beberstedt","-16 °C","Erfurt",null,null,null,null,null,null,null,null,5,383,306,274,341,312,326,278,326,333,0,0,0,0,0,0,0]
["39343","Bebertal","-14 °C","Magdeburg",null,null,null,null,null,null,null,null,6,329,284,308,296,312,310,298,332,325,0,0,0,0,0,0,0]
["36179","Bebra-Solz","-14 °C","Fritzlar",null,null,null,null,null,null,null,null,7,303,298,299,293,317,313,248,312,276,0,0,0,0,0,0,0]
["51515","Bechen","-12 °C","Nürburg-Barweiler",null,null,null,null,null,null,null,null,8,286,286,301,305,285,346,241,281,265,0,0,0,0,0,0,0]
["55608","Becherbach","-12 °C","Trier",null,null,null,null,null,null,null,null,9,286,267,335,284,312,352,280,276,259,0,0,0,0,0,0,0]
["91572","Bechhofen","-16 °C","Nürnberg",null,null,null,null,null,null,null,null,10,297,241,347,339,294,325,301,286,280,0,0,0,0,0,0,0]
["88499","Bechingen","-14 °C","Stuttgart",null,null,null,null,null,null,null,null,11,284,255,350,320,292,332,261,316,270,0,0,0,0,0,0,0]
["88453","Bechtenrot","-16 °C","Stuttgart",null,null,null,null,null,null,null,null,12,298,317,349,332,298,294,284,280,258,0,0,0,0,0,0,0]
["72379","Bechtholdsweiler","-16 °C","Stuttgart",null,null,null,null,null,null,null,null,13,315,321,360,306,323,322,286,350,306,0,0,0,0,0,0,0]
["72379","Bechtoldsweiler","-16 °C","Stuttgart",null,null,null,null,null,null,null,null,14,288,323,328,336,301,328,315,359,287,0,0,0,0,0,0,0]
["38527","Bechtsbüttel","-14 °C","Magdeburg",null,null,null,null,null,null,null,null,15,330,335,366,347,295,317,313,338,289,0,0,0,0,0,0,0]
["21643","Beckdorf","-12 °C","Hamburg",null,null,null,null,null,null,null,null,16,339,370,310,315,316,283,306,364,301,0,0,0,0,0,0,0]
["23968","Beckerwitz","-10 °C","Schwerin",null,null,null,null,null,null,null,null,17,333,338,315,314,325,288,330,349,316,0,0,0,0,0,0,0]
["66701","Beckingen","-12 °C","Saarbrücken",null,null,null,null,null,null,null,null,18,330,292,292,317,321,255,340,326,296,0,0,0,0,0,0,0]
["59269","Beckum / Westf.","-12 °C","Nürburg-Barweiler",null,null,null,null,null,null,null,null,19,301,330,300,267,318,231,298,309,323,0,0,0,0,0,0,0]
["04889","Beckwitz","-16 °C","Leipzig",null,null,null,null,null,null,null,null,20,295,303,257,252,264,203,268,280,289,0,0,0,0,0,0,0]
["50181","Bedburg","-12 °C","Düsseldorf",null,null,null,null,null,null,null,null,">20",1475,1628,740,1217,1780,999,1777,1355,1774,0,0,0,0,0,0,0]
["47551","Bedburg-Hau","-10 °C","Düsseldorf"]
["09306","Beedeln","-14 °C","Erfurt"]
["48361","Beelen","-12 °C","Hannover"]
["36251","Beenhausen","-14 °C","Fritzlar"]
["17291","Beenz","-14 °C","Greifswald",null,null,null,null,null,null,null,null,"Slovakei"]
["64743","Beerfelden / Odenw.","-14 °C","Würzburg",null,null,null,null,null,null,null,null,"Außentemp","Banská Bystrica","Bardejov","Bratislava","Komárno","Košice","Lučenec ","Námestovo","Nitra","Poprad","Žilina"]
["06198","Beesendorf","-14 °C","Leipzig",null,null,null,null,null,null,null,null,"°C","h/a","h/a","h/a","h/a","h/a","h/a","h/a","h/a","h/a","h/a","h/a","h/a","h/a","h/a","h/a","h/a","h/a","h/a","h/a","h/a","h/a","h/a","h/a","h/a","h/a","h/a","h/a","h/a","h/a","h/a","h/a","h/a","h/a","h/a","h/a","h/a","h/a","h/a","h/a"]
["49832","Beesten","-12 °C","Hannover",null,null,null,null,null,null,null,null,"<-20",0,0,0,0,0,0,0,0,0,0]
["52499","Beggendorf","-12 °C","Aachen",null,null,null,null,null,null,null,null,-20,1,0,0,0,0,0,0,0,5,0]
["39356","Behnsdorf","-14 °C","Magdeburg",null,null,null,null,null,null,null,null,-19,12,0,0,0,0,1,9,0,8,0]
["17498","Behrenhoff","-12 °C","Greifswald",null,null,null,null,null,null,null,null,-18,2,0,0,0,0,9,15,0,6,0]
["37130","Beienrode","-16 °C","Fritzlar",null,null,null,null,null,null,null,null,-17,6,1,0,0,0,3,16,0,7,0]
["96450","Beiersdorf","-16 °C","Bamberg",null,null,null,null,null,null,null,null,-16,7,13,0,0,0,10,18,0,18,6]
["01561","Beiersdorf","-16 °C","Dresden",null,null,null,null,null,null,null,null,-15,24,6,0,0,0,17,36,1,30,13]
["04924","Beiersdorf","-16 °C","Leipzig",null,null,null,null,null,null,null,null,-14,19,17,0,0,0,17,36,12,42,11]
["72221","Beihingen","-16 °C","Stuttgart",null,null,null,null,null,null,null,null,-13,16,17,7,5,7,18,27,6,47,30]
["92339","Beilngries","-16 °C","Nürnberg",null,null,null,null,null,null,null,null,-12,37,15,13,19,35,15,75,13,54,21]
["04886","Beilrode","-16 °C","Leipzig",null,null,null,null,null,null,null,null,-11,48,38,12,15,40,31,50,30,65,29]
["35753","Beilstein","-14 °C","Fritzlar",null,null,null,null,null,null,null,null,-10,64,43,22,34,27,62,58,21,91,37]
["71717","Beilstein","-14 °C","Stuttgart",null,null,null,null,null,null,null,null,-9,74,64,16,36,49,46,98,25,148,66]
["89179","Beimerstetten","-16 °C","Augsburg",null,null,null,null,null,null,null,null,-8,87,76,17,32,56,60,134,38,146,90]
["75378","Beinberg","-16 °C","Stuttgart",null,null,null,null,null,null,null,null,-7,92,99,35,40,75,119,162,80,174,130]
["89143","Beiningen","-16 °C","Augsburg",null,null,null,null,null,null,null,null,-6,172,132,103,60,143,119,190,87,182,139]
["71334","Beinstein","-14 °C","Stuttgart",null,null,null,null,null,null,null,null,-5,130,157,108,83,176,195,204,113,188,168]
["54340","Bekond","-12 °C","Trier",null,null,null,null,null,null,null,null,-4,209,205,157,140,239,224,253,137,223,218]
["53539","Belcherath","-14 °C","Nürburg-Barweiler",null,null,null,null,null,null,null,null,-3,214,216,164,207,259,190,240,231,225,209]
["04874","Belgern","-16 °C","Leipzig",null,null,null,null,null,null,null,null,-2,257,251,248,262,284,194,250,220,234,251]
["88416","Bellamont","-16 °C","Stuttgart",null,null,null,null,null,null,null,null,-1,249,303,215,221,266,217,254,269,271,289]
["89287","Bellenberg","-16 °C","Augsburg",null,null,null,null,null,null,null,null,0,258,307,229,227,228,230,271,268,253,243]
["33034","Beller","-14 °C","Fritzlar",null,null,null,null,null,null,null,null,1,344,330,267,280,301,286,415,287,309,371]
["33034","Bellersen","-14 °C","Fritzlar",null,null,null,null,null,null,null,null,2,309,327,304,319,307,317,326,291,336,338]
["72379","Belsen","-16 °C","Stuttgart",null,null,null,null,null,null,null,null,3,304,301,331,287,298,298,270,342,319,304]
["56290","Beltheim","-14 °C","Nürburg-Barweiler",null,null,null,null,null,null,null,null,4,278,255,322,299,258,282,320,264,293,274]
["14806","Belzig","-14 °C","Potsdam",null,null,null,null,null,null,null,null,5,270,281,292,261,252,265,325,246,281,259]
["72658","Bempflingen","-16 °C","Stuttgart",null,null,null,null,null,null,null,null,6,275,275,248,265,262,284,307,264,337,316]
["83671","Benediktbeuren","-18 °C","Hohenpeißenberg",null,null,null,null,null,null,null,null,7,277,255,264,277,249,272,334,290,306,270]
["18258","Benitz","-12 °C","Rostock",null,null,null,null,null,null,null,null,8,289,293,277,294,251,300,319,296,308,325]
["06308","Benndorf","-14 °C","Leipzig",null,null,null,null,null,null,null,null,9,299,276,302,268,270,291,292,270,364,297]
["04828","Bennewitz","-14 °C","Leipzig",null,null,null,null,null,null,null,null,10,283,307,311,290,273,272,337,294,308,285]
["71726","Benningen","-12 °C","Stuttgart",null,null,null,null,null,null,null,null,11,314,337,297,301,298,312,364,312,346,345]
["51429","Bensberg","-12 °C","Nürburg-Barweiler",null,null,null,null,null,null,null,null,12,290,372,312,314,327,262,330,296,342,341]
["64625","Bensheim (Bensh.-Auerbach)","-10 °C","Würzburg",null,null,null,null,null,null,null,null,13,317,352,306,302,340,283,302,325,299,350]
["31020","Benstorf","-14 °C","Hannover",null,null,null,null,null,null,null,null,14,280,331,323,332,348,306,294,336,290,320]
["37547","Bentierode","-16 °C","Fritzlar",null,null,null,null,null,null,null,null,15,313,302,339,321,335,312,326,307,297,323]
["18182","Bentwisch","-10 °C","Rostock",null,null,null,null,null,null,null,null,16,306,282,333,293,300,289,283,317,273,315]
["79777","Berau","-14 °C","Stuttgart",null,null,null,null,null,null,null,null,17,261,303,328,304,312,267,267,295,243,260]
["92334","Berching","-16 °C","Nürnberg",null,null,null,null,null,null,null,null,18,255,228,335,281,281,306,212,305,225,239]
["83471","Berchtesgaden","-16 °C","Hohenpeißenberg",null,null,null,null,null,null,null,null,19,256,257,261,295,278,277,184,275,202,226]
["24881","Berend","-10 °C","Schleswig",null,null,null,null,null,null,null,null,20,225,237,286,279,259,274,150,246,154,205]
["52385","Berg","-14 °C","Aachen",null,null,null,null,null,null,null,null,">20",1037,899,1376,1517,1077,1228,407,1351,511,847]
["82386","Berg","-16 °C","Kempten"]
["53505","Berg","-14 °C","Nürburg-Barweiler"]
["92348","Berg","-16 °C","Nürnberg"]
["88276","Berg","-14 °C","Stuttgart"]
["82335","Berg - Bachhausen","-16 °C","Kempten",null,null,null,null,null,null,null,null,"Lettland"]
["83546","Berg bei Au","-16 °C","Hohenpeißenberg",null,null,null,null,null,null,null,null,"Außentemp","Ainaži","Alūksne","Daugavpils","Dobele","Liepāja","Mērsrags","Priekuļi","Rīga","Stende","Zīlāni"]
["56357","Berg/Taunus","-12 °C","Nürburg-Barweiler",null,null,null,null,null,null,null,null,"°C","h/a","h/a","h/a","h/a","h/a","h/a","h/a","h/a","h/a","h/a","h/a","h/a","h/a","h/a","h/a","h/a","h/a","h/a","h/a","h/a","h/a","h/a","h/a","h/a","h/a","h/a","h/a","h/a","h/a","h/a","h/a","h/a","h/a","h/a","h/a","h/a","h/a","h/a","h/a"]
["07980","Berga","-14 °C","Erfurt",null,null,null,null,null,null,null,null,"<-20",0,29,52,0,0,0,26,0,0,17]
["06536","Berga","-14 °C","Leipzig",null,null,null,null,null,null,null,null,-20,0,6,6,5,0,0,12,0,0,13]
["88368","Bergatreute","-16 °C","Stuttgart",null,null,null,null,null,null,null,null,-19,0,11,6,10,0,0,24,0,0,4]
["49626","Berge","-12 °C","Hannover",null,null,null,null,null,null,null,null,-18,4,26,28,9,1,0,14,0,0,5]
["02979","Bergen","-16 °C","Görlitz",null,null,null,null,null,null,null,null,-17,13,16,30,12,6,0,16,16,0,11]
["83346","Bergen","-18 °C","Hohenpeißenberg",null,null,null,null,null,null,null,null,-16,30,31,49,5,6,0,15,14,6,22]
["18528","Bergen / Rügen","-10 °C","Rostock",null,null,null,null,null,null,null,null,-15,12,13,28,21,6,4,27,31,7,23]
["60388","Bergen-Enkheim","-12 °C","Frankfurt am Main",null,null,null,null,null,null,null,null,-14,22,27,23,26,7,8,21,20,13,37]
["72172","Bergfelden","-16 °C","Stuttgart",null,null,null,null,null,null,null,null,-13,15,42,71,21,14,14,39,24,13,52]
["77791","Berghaupten","-12 °C","Karlsruhe",null,null,null,null,null,null,null,null,-12,21,58,105,26,32,11,52,25,37,45]
["5164.","Berghausen","-12 °C","Nürburg-Barweiler",null,null,null,null,null,null,null,null,-11,43,55,107,37,28,26,68,29,20,80]
["501..","Bergheim","-12 °C","Düsseldorf",null,null,null,null,null,null,null,null,-10,61,96,97,74,17,26,105,51,26,60]
["32839","Bergheim","-14 °C","Fritzlar",null,null,null,null,null,null,null,null,-9,65,107,103,76,12,35,101,80,52,80]
["97493","Bergheinfeld","-14 °C","Würzburg",null,null,null,null,null,null,null,null,-8,60,132,145,78,40,51,133,91,60,98]
["16306","Bergholz","-16 °C","Neuruppin",null,null,null,null,null,null,null,null,-7,130,153,156,121,41,71,132,108,98,140]
["14558","Bergholz - Rehbrücke","-14 °C","Potsdam",null,null,null,null,null,null,null,null,-6,171,161,237,195,87,111,163,138,126,131]
["89180","Berghülen","-16 °C","Augsburg",null,null,null,null,null,null,null,null,-5,147,169,192,155,119,130,164,158,207,201]
["514..","Bergisch-Gladbach","-12 °C","Nürburg-Barweiler",null,null,null,null,null,null,null,null,-4,184,232,220,182,158,183,224,244,226,217]
["51381","Bergisch-Neukirchen","-10 °C","Nürburg-Barweiler",null,null,null,null,null,null,null,null,-3,269,252,264,250,251,262,247,237,251,220]
["59192","Bergkamen","-12 °C","Nürburg-Barweiler",null,null,null,null,null,null,null,null,-2,314,250,351,279,248,265,317,247,250,306]
["85232","Bergkirchen","-16 °C","München",null,null,null,null,null,null,null,null,-1,348,313,339,275,275,286,300,277,363,334]
["73663","Berglen","-14 °C","Stuttgart",null,null,null,null,null,null,null,null,0,358,317,300,297,276,339,320,326,365,309]
["85459","Berglern","-16 °C","München",null,null,null,null,null,null,null,null,1,423,354,297,306,361,385,351,391,368,415]
["54426","Berglicht","-14 °C","Trier",null,null,null,null,null,null,null,null,2,344,405,292,414,399,399,343,421,391,375]
["97241","Bergtheim","-14 °C","Würzburg",null,null,null,null,null,null,null,null,3,341,319,257,357,433,418,332,346,366,325]
["39307","Bergzow","-14 °C","Magdeburg",null,null,null,null,null,null,null,null,4,388,357,285,316,426,402,337,330,380,276]
["39624","Berkau","-14 °C","Magdeburg",null,null,null,null,null,null,null,null,5,341,326,271,329,420,404,306,296,311,281]
["73734","Berkheim","-14 °C","Stuttgart",null,null,null,null,null,null,null,null,6,291,358,263,317,397,379,304,288,286,297]
["88450","Berkheim","-16 °C","Stuttgart",null,null,null,null,null,null,null,null,7,302,270,250,293,326,332,277,276,334,257]
["99439","Berlstedt","-14 °C","Erfurt",null,null,null,null,null,null,null,null,8,262,284,300,233,377,347,238,295,305,248]
["89134","Bermaringen","-16 °C","Augsburg",null,null,null,null,null,null,null,null,9,279,282,278,281,297,306,260,274,291,272]
["88697","Bermatingen","-14 °C","Stuttgart",null,null,null,null,null,null,null,null,10,335,274,282,310,294,321,303,282,312,303]
["77723","Bermersbach","-12 °C","Karlsruhe",null,null,null,null,null,null,null,null,11,314,285,300,312,348,323,305,309,333,332]
["79872","Bernau","-18 °C","Stuttgart",null,null,null,null,null,null,null,null,12,341,311,316,324,370,330,288,338,334,293]
["83233","Bernau a. Chiemsee","-16 °C","Hohenpeißenberg",null,null,null,null,null,null,null,null,13,311,261,292,323,351,318,293,289,296,298]
["16321","Bernau b. Berlin","-14 °C","Neuruppin",null,null,null,null,null,null,null,null,14,304,307,273,286,373,333,266,283,313,297]
["76332","Bernbach","-12 °C","Karlsruhe",null,null,null,null,null,null,null,null,15,318,298,282,294,328,329,267,261,304,255]
["06406","Bernburg / Saale","-14 °C","Leipzig",null,null,null,null,null,null,null,null,16,286,307,285,274,318,347,267,303,324,262]
["27804","Berne","-10 °C","Bremen",null,null,null,null,null,null,null,null,17,268,248,236,275,296,257,291,309,313,292]
["72213","Berneck","-16 °C","Stuttgart",null,null,null,null,null,null,null,null,18,228,226,221,215,246,253,249,257,253,273]
["73312","Berneck","-16 °C","Stuttgart",null,null,null,null,null,null,null,null,19,195,179,214,239,207,222,232,228,236,289]
["92361","Berngau","-16 °C","Nürnberg",null,null,null,null,null,null,null,null,20,197,153,177,217,183,205,198,209,197,181]
["54470","Bernkastel-Kues","-10 °C","Trier",null,null,null,null,null,null,null,null,">20",425,460,480,691,386,328,533,659,393,534]
["16515","Bernöwe","-14 °C","Neuruppin"]
["82347","Bernried","-16 °C","Kempten"]
["92444","Bernried","-18 °C","Nürnberg"]
["94505","Bernried","-18 °C","Straubing"]
["08315","Bernsbach","-16 °C","Meiningen",null,null,null,null,null,null,null,null,"Dänemark"]
["02994","Bernsdorf","-16 °C","Görlitz",null,null,null,null,null,null,null,null,"Außentemp","Aalborg","Aarhus","Esbjerg","Helsingør","Herning","Hjørring","Holbæk","København","Kolding","Nykøbing","Odense","Rønne","Slagelse","Sønderburg","Svendborg"]
["07952","Bernsgrün","-16 °C","Erfurt",null,null,null,null,null,null,null,null,"°C","h/a","h/a","h/a","h/a","h/a","h/a","h/a","h/a","h/a","h/a","h/a","h/a","h/a","h/a","h/a"]
["89182","Bernstadt","-16 °C","Augsburg",null,null,null,null,null,null,null,null,"<-20",0,0,0,0,0,0,0,0,0,0,0,0,0,0,0]
["02748","Bernstadt auf dem Eigen","-16 °C","Görlitz",null,null,null,null,null,null,null,null,-20,0,0,0,0,0,0,0,0,0,0,0,0,0,0,0]
["74744","Berolzheim","-16 °C","Stuttgart",null,null,null,null,null,null,null,null,-19,0,0,0,0,0,0,0,0,0,0,0,0,0,0,0]
["49593","Bersenbrück","-12 °C","Hannover",null,null,null,null,null,null,null,null,-18,0,0,0,0,0,0,0,0,0,0,0,0,0,0,0]
["61200","Berstadt","-12 °C","Fritzlar",null,null,null,null,null,null,null,null,-17,0,0,0,0,0,0,0,0,0,0,0,0,0,0,0]
["09600","Berthelsdorf","-16 °C","Erfurt",null,null,null,null,null,null,null,null,-16,0,0,0,0,0,0,0,0,0,0,0,0,0,0,0]
["02747","Berthelsdorf","-16 °C","Görlitz",null,null,null,null,null,null,null,null,-15,0,0,0,0,0,0,0,0,0,0,0,0,0,0,0]
["66802","Berus , Überherrn","-12 °C","Saarbrücken",null,null,null,null,null,null,null,null,-14,0,0,0,0,0,0,0,0,0,0,0,0,0,0,0]
["65614","Beselich","-14 °C","Nürburg-Barweiler",null,null,null,null,null,null,null,null,-13,0,0,0,0,0,0,0,0,0,0,0,0,0,0,0]
["74354","Besigheim","-12 °C","Stuttgart",null,null,null,null,null,null,null,null,-12,0,0,0,0,0,0,0,0,0,0,0,0,0,0,0]
["54309","Beßlich","-14 °C","Trier",null,null,null,null,null,null,null,null,-11,0,0,0,0,0,0,0,0,0,0,0,0,0,0,0]
["31032","Betheln","-14 °C","Hannover",null,null,null,null,null,null,null,null,-10,0,10,0,5,4,0,0,0,0,0,0,0,0,0,0]
["72160","Betra","-16 °C","Stuttgart",null,null,null,null,null,null,null,null,-9,8,13,1,23,12,3,5,7,1,0,2,0,1,0,0]
["56355","Bettendorf","-14 °C","Nürburg-Barweiler",null,null,null,null,null,null,null,null,-8,21,25,14,29,12,16,24,19,10,0,22,0,19,0,0]
["41470","Bettikum","-10 °C","Düsseldorf",null,null,null,null,null,null,null,null,-7,23,11,22,20,21,24,16,35,26,0,17,6,16,0,0]
["87764","Bettrichs","-16 °C","Augsburg",null,null,null,null,null,null,null,null,-6,22,27,22,37,55,25,33,47,24,1,22,10,18,1,0]
["57518","Betzdorf","-12 °C","Nürburg-Barweiler",null,null,null,null,null,null,null,null,-5,40,98,32,36,45,33,38,54,26,7,45,24,54,25,9]
["88422","Betzenweiler","-14 °C","Stuttgart",null,null,null,null,null,null,null,null,-4,101,107,22,66,51,53,81,80,47,26,53,49,62,32,26]
["72291","Betzweiler","-16 °C","Stuttgart",null,null,null,null,null,null,null,null,-3,107,133,70,98,89,98,106,176,112,40,109,74,74,43,63]
["04824","Beucha","-14 °C","Leipzig",null,null,null,null,null,null,null,null,-2,186,241,104,211,140,115,157,238,129,98,171,90,153,102,70]
["04519","Beuden","-14 °C","Leipzig",null,null,null,null,null,null,null,null,-1,245,317,175,262,216,230,224,316,195,121,267,156,203,126,113]
["82547","Beuerberg","-18 °C","Kempten",null,null,null,null,null,null,null,null,0,334,284,239,287,253,261,266,322,253,183,246,218,245,211,178]
["72226","Beuren","-16 °C","Stuttgart",null,null,null,null,null,null,null,null,1,343,355,268,343,305,303,328,393,309,318,327,345,373,238,275]
["72660","Beuren","-16 °C","Stuttgart",null,null,null,null,null,null,null,null,2,446,382,297,378,359,371,388,357,295,404,361,385,366,314,383]
["88316","Beuren","-16 °C","Stuttgart",null,null,null,null,null,null,null,null,3,408,381,368,421,375,388,394,372,431,418,402,428,381,356,327]
["94501","Beutelsbach","-16 °C","Straubing",null,null,null,null,null,null,null,null,4,420,445,438,424,358,427,383,417,420,508,397,453,330,410,413]
["71384","Beutelsbach","-14 °C","Stuttgart",null,null,null,null,null,null,null,null,5,397,459,449,437,373,409,354,462,381,477,420,507,385,436,500]
["04924","Beutersitz","-16 °C","Leipzig",null,null,null,null,null,null,null,null,6,473,442,430,504,396,463,406,432,390,485,408,455,420,404,491]
["09366","Beutha","-16 °C","Meiningen",null,null,null,null,null,null,null,null,7,478,421,420,496,500,484,434,416,424,453,409,456,419,465,489]
["37639","Bevern","-12 °C","Fritzlar",null,null,null,null,null,null,null,null,8,506,400,465,362,485,422,464,425,420,389,434,416,437,396,440]
["37688","Beverungen","-12 °C","Fritzlar",null,null,null,null,null,null,null,null,9,473,455,490,393,490,458,438,345,421,436,378,371,423,374,404]
["66450","Bexbach","-12 °C","Saarbrücken",null,null,null,null,null,null,null,null,10,452,370,422,405,440,406,384,376,420,383,429,351,450,383,358]
["06528","Beyernaumburg","-14 °C","Leipzig",null,null,null,null,null,null,null,null,11,377,393,410,389,448,390,377,402,434,360,445,319,433,332,307]
["83104","Beyharting","-16 °C","Hohenpeißenberg",null,null,null,null,null,null,null,null,12,412,394,423,438,409,405,406,393,444,348,376,327,357,433,378]
["77781","Biberach","-14 °C","Stuttgart",null,null,null,null,null,null,null,null,13,395,359,390,408,418,443,410,363,426,417,383,378,408,438,459]
["88400","Biberach/Riß","-16 °C","Stuttgart",null,null,null,null,null,null,null,null,14,379,345,387,400,356,404,379,379,395,416,333,360,377,467,492]
["86485","Biberbach","-16 °C","Augsburg",null,null,null,null,null,null,null,null,15,349,327,370,380,321,323,371,344,364,426,342,365,357,410,439]
["68647","Biblis","-12 °C","Karlsruhe",null,null,null,null,null,null,null,null,16,282,382,389,302,343,337,361,291,354,418,334,353,312,383,415]
["93354","Biburg","-18 °C","Straubing",null,null,null,null,null,null,null,null,17,260,268,353,268,272,307,325,280,329,373,302,345,310,340,381]
["83673","Bichl","-18 °C","Hohenpeißenberg",null,null,null,null,null,null,null,null,18,230,203,317,238,278,283,258,251,280,314,302,326,277,316,336]
["72348","Bickelsberg","-16 °C","Stuttgart",null,null,null,null,null,null,null,null,19,176,213,296,215,238,242,198,243,226,270,226,304,253,296,259]
["87651","Bidingen","-16 °C","Kempten",null,null,null,null,null,null,null,null,20,123,154,207,151,196,188,180,177,158,255,194,270,230,244,217]
["97243","Bieberehren","-16 °C","Würzburg",null,null,null,null,null,null,null,null,">20",294,346,470,334,502,449,572,348,616,416,604,619,617,785,538]
["56370","Biebrich","-14 °C","Nürburg-Barweiler"]
["56370","Biebrich","-14 °C","Nürburg-Barweiler"]
["35216","Biedenkopf","-12 °C","Fritzlar"]
["79215","Biederbach","-14 °C","Stuttgart"]
["39175","Biederitz","-14 °C","Magdeburg",null,null,null,null,null,null,null,null,"Namibia"]
["02923","Biehain","-16 °C","Görlitz",null,null,null,null,null,null,null,null,"Außentemp","Keetmanshoop","Otjiwarongo","Swakopmund","Walvis Bay","Windhoek"]
["01920","Biehla","-16 °C","Dresden",null,null,null,null,null,null,null,null,"°C","h/a","h/a","h/a","h/a","h/a","h/a","h/a","h/a","h/a","h/a","h/a","h/a","h/a","h/a","h/a"]
["01824","Bielatal","-16 °C","Dresden",null,null,null,null,null,null,null,null,"<-20",0,0,0,0,0]
["33...","Bielefeld","-12 °C","Fritzlar",null,null,null,null,null,null,null,null,-20,0,0,0,0,0]
["49808","Biene","-10 °C","Hannover",null,null,null,null,null,null,null,null,-19,0,0,0,0,0]
["79189","Biengen","-14 °C","Karlsruhe",null,null,null,null,null,null,null,null,-18,0,0,0,0,0]
["38110","Bienrode","-14 °C","Magdeburg",null,null,null,null,null,null,null,null,-17,0,0,0,0,0]
["99100","Bienstädt","-14 °C","Erfurt",null,null,null,null,null,null,null,null,-16,0,0,0,0,0]
["72108","Bieringen","-16 °C","Stuttgart",null,null,null,null,null,null,null,null,-15,0,0,0,0,0]
["74214","Bieringen","-14 °C","Stuttgart",null,null,null,null,null,null,null,null,-14,0,0,0,0,0]
["72181","Bierlingen","-16 °C","Stuttgart",null,null,null,null,null,null,null,null,-13,0,0,0,0,0]
["88348","Bierstetten","-16 °C","Stuttgart",null,null,null,null,null,null,null,null,-12,0,0,0,0,0]
["75328","Bieselsberg","-16 °C","Stuttgart",null,null,null,null,null,null,null,null,-11,0,0,0,0,0]
["16359","Biesenthal","-14 °C","Neuruppin",null,null,null,null,null,null,null,null,-10,0,0,0,0,0]
["87640","Biessenhofen","-16 °C","Kempten",null,null,null,null,null,null,null,null,-9,0,0,0,0,0]
["72414","Bietenhausen","-16 °C","Stuttgart",null,null,null,null,null,null,null,null,-8,0,0,0,0,0]
["76467","Bietigheim","-12 °C","Karlsruhe",null,null,null,null,null,null,null,null,-7,0,0,0,0,0]
["74321","Bietigheim - Bissingen","-12 °C","Stuttgart",null,null,null,null,null,null,null,null,-6,0,0,0,0,0]
["17291","Bietikow","-14 °C","Greifswald",null,null,null,null,null,null,null,null,-5,0,0,0,0,0]
["78224","Bietingen","-12 °C","Konstanz",null,null,null,null,null,null,null,null,-4,0,0,0,0,0]
["87544","Bihlerdorf","-18 °C","Kempten",null,null,null,null,null,null,null,null,-3,0,0,0,0,0]
["72160","Bildechingen","-16 °C","Stuttgart",null,null,null,null,null,null,null,null,-2,7,0,0,0,0]
["75236","Bilfingen","-14 °C","Stuttgart",null,null,null,null,null,null,null,null,-1,6,0,0,0,0]
["18184","Billenhagen","-12 °C","Rostock",null,null,null,null,null,null,null,null,0,4,0,0,0,0]
["48727","Billerbeck","-10 °C","Hannover",null,null,null,null,null,null,null,null,1,23,0,0,0,3]
["74842","Billigheim","-12 °C","Stuttgart",null,null,null,null,null,null,null,null,2,40,0,2,0,8]
["31319","Bilm","-14 °C","Hannover",null,null,null,null,null,null,null,null,3,60,4,8,3,15]
["37434","Bilshausen","-16 °C","Fritzlar",null,null,null,null,null,null,null,null,4,75,3,16,9,24]
["99092","Bindersleben","-14 °C","Erfurt",null,null,null,null,null,null,null,null,5,99,13,29,7,50]
["39590","Bindfelde","-14 °C","Magdeburg",null,null,null,null,null,null,null,null,6,121,27,33,30,59]
["95463","Bindlach","-16 °C","Hof",null,null,null,null,null,null,null,null,7,127,34,60,38,101]
["72511","Bingen","-14 °C","Stuttgart",null,null,null,null,null,null,null,null,8,151,54,67,69,107]
["55411","Bingen/Rhein","-12 °C","Trier",null,null,null,null,null,null,null,null,9,187,89,92,68,127]
["78247","Binningen","-12 °C","Konstanz",null,null,null,null,null,null,null,null,10,190,108,130,105,163]
["56754","Binningen","-14 °C","Nürburg-Barweiler",null,null,null,null,null,null,null,null,11,202,145,155,136,187]
["72351","Binsdorf","-16 °C","Stuttgart",null,null,null,null,null,null,null,null,12,221,165,162,173,227]
["86637","Binswangen","-16 °C","Augsburg",null,null,null,null,null,null,null,null,13,243,198,183,186,223]
["54587","Birgel","-14 °C","Trier",null,null,null,null,null,null,null,null,14,267,231,202,221,284]
["41849","Birgelen","-10 °C","Düsseldorf",null,null,null,null,null,null,null,null,15,269,282,246,262,336]
["92262","Birgland","-16 °C","Nürnberg",null,null,null,null,null,null,null,null,16,312,346,316,284,344]
["69488","Birkenau","-12 °C","Würzburg",null,null,null,null,null,null,null,null,17,304,415,322,358,360]
["69498","Birkenau - Hornbach","-12 °C","Würzburg",null,null,null,null,null,null,null,null,18,368,451,343,365,406]
["79777","Birkendorf","-14 °C","Stuttgart",null,null,null,null,null,null,null,null,19,393,442,391,368,424]
["75217","Birkenfeld","-14 °C","Stuttgart",null,null,null,null,null,null,null,null,20,413,488,411,424,484]
["97834","Birkenfeld","-14 °C","Würzburg",null,null,null,null,null,null,null,null,">20",4678,5265,5592,5654,4828]
["55765","Birkenfeld / Nahe","-14 °C","Trier"]
["16928","Birkenfelde","-14 °C","Neuruppin"]
["15913","Birkenhainchen","-16 °C","Lindenberg"]
["88447","Birkenhard","-16 °C","Stuttgart"]
["16547","Birkenwerder","-14 °C","Neuruppin",null,null,null,null,null,null,null,null,"Litauen"]
["16515","Birkhorst","-14 °C","Neuruppin",null,null,null,null,null,null,null,null,"Außentemp","Alytus","Kaunas","Klaipėda","Panevėžys","Šiauliai","Vilnius"]
["92262","Birkland","-16 °C","Nürnberg",null,null,null,null,null,null,null,null,"°C","h/a","h/a","h/a","h/a","h/a","h/a","h/a","h/a","h/a","h/a","h/a","h/a","h/a","h/a","h/a"]
["79774","Birndorf","-12 °C","Stuttgart",null,null,null,null,null,null,null,null,"<-20",1,0,0,13,1,14]
["02708","Bischdorf","-16 °C","Görlitz",null,null,null,null,null,null,null,null,-20,13,13,0,6,11,5]
["03205","Bischdorf","-16 °C","Lindenberg",null,null,null,null,null,null,null,null,-19,4,4,0,7,5,11]
["37284","Bischhausen Kr. Eschwege","-14 °C","Fritzlar",null,null,null,null,null,null,null,null,-18,9,12,0,17,16,25]
["37130","Bischhausen Kr. Göttingen","-16 °C","Fritzlar",null,null,null,null,null,null,null,null,-17,20,26,23,14,14,23]
["01920","Bischheim","-16 °C","Dresden",null,null,null,null,null,null,null,null,-16,37,26,3,25,16,20]
["99094","Bischleben","-14 °C","Erfurt",null,null,null,null,null,null,null,null,-15,26,24,2,24,20,27]
["35649","Bischoffen","-14 °C","Fritzlar",null,null,null,null,null,null,null,null,-14,17,14,4,27,26,16]
["37345","Bischofferode","-16 °C","Fritzlar",null,null,null,null,null,null,null,null,-13,20,16,36,26,20,30]
["79235","Bischoffingen","-12 °C","Karlsruhe",null,null,null,null,null,null,null,null,-12,31,40,40,47,34,28]
["97653","Bischofsheim","-16 °C","Würzburg",null,null,null,null,null,null,null,null,-11,66,54,38,46,31,56]
["94253","Bischofsmais","-18 °C","Straubing",null,null,null,null,null,null,null,null,-10,38,51,30,65,67,99]
["01877","Bischofswerda","-16 °C","Dresden",null,null,null,null,null,null,null,null,-9,105,80,26,87,83,90]
["16559","Bischofswerder","-14 °C","Neuruppin",null,null,null,null,null,null,null,null,-8,138,108,55,127,135,105]
["83483","Bischofswiesen","-18 °C","Hohenpeißenberg",null,null,null,null,null,null,null,null,-7,78,131,93,119,126,174]
["72406","Bisingen","-18 °C","Stuttgart",null,null,null,null,null,null,null,null,-6,153,158,85,158,124,151]
["39629","Bismark","-14 °C","Magdeburg",null,null,null,null,null,null,null,null,-5,168,150,158,162,170,185]
["29646","Bispingen","-14 °C","Hannover",null,null,null,null,null,null,null,null,-4,175,170,243,194,220,251]
["30900","Bissendorf","-14 °C","Hannover",null,null,null,null,null,null,null,null,-3,237,187,187,218,263,248]
["86657","Bissingen","-16 °C","Augsburg",null,null,null,null,null,null,null,null,-2,251,314,203,285,311,305]
["74321","Bissingen (Bietigheim)","-12 °C","Stuttgart",null,null,null,null,null,null,null,null,-1,319,327,304,320,333,326]
["73266","Bissingen an der Teck","-16 °C","Stuttgart",null,null,null,null,null,null,null,null,0,365,307,357,304,336,325]
["54634","Bitburg","-14 °C","Trier",null,null,null,null,null,null,null,null,1,384,370,471,352,363,337]
["54634","Bitburg","-14 °C","Trier",null,null,null,null,null,null,null,null,2,344,345,426,381,326,345]
["72160","Bittelbronn","-16 °C","Stuttgart",null,null,null,null,null,null,null,null,3,325,312,375,338,332,282]
["72401","Bittelbronn","-16 °C","Stuttgart",null,null,null,null,null,null,null,null,4,319,310,346,335,332,310]
["72505","Bittelschieß","-14 °C","Stuttgart",null,null,null,null,null,null,null,null,5,305,345,301,334,290,281]
["71336","Bittenfeld","-12 °C","Stuttgart",null,null,null,null,null,null,null,null,6,249,304,295,287,324,262]
["06749","Bitterfeld","-14 °C","Leipzig",null,null,null,null,null,null,null,null,7,298,297,282,288,273,250]
["72475","Bitz","-18 °C","Stuttgart",null,null,null,null,null,null,null,null,8,247,291,287,279,256,277]
["57539","Bitzen","-12 °C","Nürburg-Barweiler",null,null,null,null,null,null,null,null,9,291,287,263,276,270,282]
["88094","Bitzenhofen","-14 °C","Konstanz",null,null,null,null,null,null,null,null,10,312,290,263,310,251,272]
["74626","Bitzfeld","-14 °C","Stuttgart",null,null,null,null,null,null,null,null,11,295,291,315,324,305,283]
["93476","Blaibach","-18 °C","Straubing",null,null,null,null,null,null,null,null,12,323,280,322,302,315,298]
["38889","Blankenburg/Harz","-14 °C","Magdeburg",null,null,null,null,null,null,null,null,13,305,304,305,289,322,275]
["15827","Blankenfelde","-14 °C","Lindenberg",null,null,null,null,null,null,null,null,14,328,292,322,261,343,311]
["99444","Blankenhain","-14 °C","Erfurt",null,null,null,null,null,null,null,null,15,297,348,339,304,296,316]
["53945","Blankenheim","-14 °C","Nürburg-Barweiler",null,null,null,null,null,null,null,null,16,296,304,342,279,336,324]
["53945","Blankenheimerdorf","-14 °C","Nürburg-Barweiler",null,null,null,null,null,null,null,null,17,303,265,341,260,282,267]
["56865","Blankenrath","-14 °C","Nürburg-Barweiler",null,null,null,null,null,null,null,null,18,261,246,283,265,270,247]
["45527","Blankenstein","-12 °C","Düsseldorf",null,null,null,null,null,null,null,null,19,186,236,297,210,210,222]
["79588","Blansingen","-12 °C","Karlsruhe",null,null,null,null,null,null,null,null,20,204,186,213,217,185,210]
["79859","Blasiwald","-16 °C","Stuttgart",null,null,null,null,null,null,null,null,">20",617,645,485,578,517,595]
["66869","Blaubach","-14 °C","Saarbrücken"]
["89143","Blaubeuren","-16 °C","Augsburg"]
["74572","Blaufelden","-16 °C","Stuttgart"]
["89134","Blaustein","-14 °C","Augsburg"]
["79261","Bleibach","-16 °C","Stuttgart",null,null,null,null,null,null,null,null,"Italien",0,-7,-6,-7,-5,0,4,-6,0,-8,4,-7,-6,-3,-7,-4,-5,-2,-7,-3,-7,-6,-7]
["53894","Bleibuir","-14 °C","Nürburg-Barweiler",null,null,null,null,null,null,null,null,"Außentemp","Bari","Bergamo","Bologna","Brescia","Firenze","Genova","Mesina","Milano","Napoli","Padova","Palermo","Parma","Perugia","Pescara","Piacenza","Pisa","Rimini","Roma","Torino","Trieste","Udine","Venezia","Verona"]
["99752","Bleicherode","-14 °C","Erfurt",null,null,null,null,null,null,null,null,"°C","h/a","h/a","h/a","h/a","h/a","h/a","h/a","h/a","h/a","h/a","h/a","h/a","h/a","h/a","h/a","h/a","h/a","h/a","h/a","h/a","h/a","h/a","h/a"]
["72813","Bleichstetten","-18 °C","Stuttgart",null,null,null,null,null,null,null,null,"<-20",0,0,0,0,0,0,0,0,0,0,0,0,0,0,0,0,0,0,0,0,0,0,0]
["65232","Bleidenstadt","-14 °C","Nürburg-Barweiler",null,null,null,null,null,null,null,null,-20,0,0,0,0,0,0,0,0,0,0,0,0,0,0,0,0,0,0,0,0,0,0,0]
["24327","Blekendorf","-10 °C","Schleswig",null,null,null,null,null,null,null,null,-19,0,0,0,0,0,0,0,0,0,0,0,0,0,0,0,0,0,0,0,0,0,0,0]
["27337","Blender","-12 °C","Bremen",null,null,null,null,null,null,null,null,-18,0,0,0,0,0,0,0,0,0,0,0,0,0,0,0,0,0,0,0,0,0,0,0]
["35796","Blessenbach","-14 °C","Fritzlar",null,null,null,null,null,null,null,null,-17,0,0,0,0,0,0,0,0,0,0,0,0,0,0,0,0,0,0,0,0,0,0,0]
["21640","Bliedersdorf","-12 °C","Hamburg",null,null,null,null,null,null,null,null,-16,0,0,0,0,0,0,0,0,0,0,0,0,0,0,0,0,0,0,0,0,0,0,0]
["66440","Blieskastel","-12 °C","Saarbrücken",null,null,null,null,null,null,null,null,-15,0,0,0,0,0,0,0,0,0,0,0,0,0,0,0,0,0,0,0,0,0,0,0]
["89434","Blindheim","-16 °C","Augsburg",null,null,null,null,null,null,null,null,-14,0,0,0,0,0,0,0,0,0,0,0,0,0,0,0,0,0,0,0,0,0,0,0]
["88273","Blitzenreute","-14 °C","Stuttgart",null,null,null,null,null,null,null,null,-13,0,0,0,0,0,0,0,0,0,0,0,0,0,0,0,0,0,0,0,0,0,0,0]
["88512","Blochingen","-14 °C","Stuttgart",null,null,null,null,null,null,null,null,-12,0,0,0,0,0,0,0,0,0,0,0,0,0,0,0,0,0,0,0,0,0,0,0]
["01561","Blochwitz","-16 °C","Dresden",null,null,null,null,null,null,null,null,-11,0,0,0,0,0,0,0,0,0,0,0,0,0,0,0,0,0,0,0,0,0,0,0]
["32825","Blomberg","-14 °C","Fritzlar",null,null,null,null,null,null,null,null,-10,0,0,0,0,0,0,0,0,0,0,0,0,0,0,0,0,0,0,0,0,0,0,0]
["04886","Blumberg","-16 °C","Leipzig",null,null,null,null,null,null,null,null,-9,0,0,0,0,0,0,0,0,0,0,0,0,0,0,0,0,0,0,0,0,0,0,0]
["78176","Blumberg","-16 °C","Stuttgart",null,null,null,null,null,null,null,null,-8,0,0,0,0,0,0,0,0,0,0,0,0,0,0,0,0,0,0,0,0,0,0,0]
["31515","Blumenau","-14 °C","Hannover",null,null,null,null,null,null,null,null,-7,0,0,0,0,0,0,0,0,0,16,0,0,0,0,0,0,0,0,0,0,0,0,0]
["02979","Bluno","-16 °C","Görlitz",null,null,null,null,null,null,null,null,-6,0,4,0,5,0,0,0,0,0,12,0,2,0,0,1,0,0,0,17,0,5,0,12]
["76891","Bobenthal","-12 °C","Saarbrücken",null,null,null,null,null,null,null,null,-5,0,23,1,23,0,0,0,5,0,12,0,16,3,0,14,0,0,0,23,0,20,1,14]
["86399","Bobingen","-16 °C","Augsburg",null,null,null,null,null,null,null,null,-4,0,32,33,28,10,0,0,32,0,39,0,29,16,0,12,0,18,0,51,0,40,19,33]
["73560","Böbingen","-16 °C","Stuttgart",null,null,null,null,null,null,null,null,-3,0,30,55,69,27,0,0,34,0,62,0,48,33,0,64,4,31,0,92,0,54,43,66]
["7103.","Böblingen","-14 °C","Stuttgart",null,null,null,null,null,null,null,null,-2,0,71,54,137,34,0,0,60,0,112,0,74,35,2,71,18,38,0,109,1,81,52,106]
["03222","Boblitz","-16 °C","Lindenberg",null,null,null,null,null,null,null,null,-1,0,147,85,156,58,0,0,86,0,118,0,143,72,25,152,32,78,3,191,31,114,116,137]
["78727","Bochingen","-16 °C","Stuttgart",null,null,null,null,null,null,null,null,0,0,170,186,217,70,0,0,142,0,132,0,183,66,51,168,70,101,7,211,30,167,138,163]
["463..","Bocholt","-10 °C","Dortmund",null,null,null,null,null,null,null,null,1,16,227,250,284,107,2,0,208,17,215,0,286,144,70,206,90,169,26,253,34,208,230,235]
["14913","Bochow","-14 °C","Potsdam",null,null,null,null,null,null,null,null,2,30,265,251,284,182,37,0,294,17,240,0,266,236,103,271,117,216,46,227,81,251,258,304]
["44...","Bochum","-10 °C","Dortmund",null,null,null,null,null,null,null,null,3,72,313,322,322,158,47,0,316,36,268,0,260,278,147,265,179,266,63,291,100,234,287,348]
["44879","Bochum - Linden","-12 °C","Dortmund",null,null,null,null,null,null,null,null,4,98,306,315,255,248,101,0,289,62,299,0,275,250,173,347,273,314,122,294,196,299,280,298]
["08324","Bockau","-16 °C","Meiningen",null,null,null,null,null,null,null,null,5,181,332,283,277,289,143,1,297,104,321,2,284,252,245,372,265,392,128,304,299,306,324,294]
["04703","Bockelwitz","-14 °C","Leipzig",null,null,null,null,null,null,null,null,6,280,327,319,292,269,168,16,288,186,325,25,364,278,310,358,263,314,186,330,310,310,335,306]
["31167","Bockenem","-14 °C","Hannover",null,null,null,null,null,null,null,null,7,282,336,307,298,296,263,43,322,224,360,42,354,315,330,294,298,349,233,296,382,315,313,276]
["26345","Bockhorn","-12 °C","Emden",null,null,null,null,null,null,null,null,8,328,332,288,314,303,305,61,297,262,295,64,295,369,359,270,378,326,294,315,388,334,328,288]
["590..","Bockum-Hövel","-12 °C","Nürburg-Barweiler",null,null,null,null,null,null,null,null,9,363,296,278,283,371,353,115,274,355,294,129,275,382,340,282,368,316,367,346,472,352,346,293]
["57392","Bödefeld","-16 °C","Nürburg-Barweiler",null,null,null,null,null,null,null,null,10,412,280,259,267,376,406,171,293,406,256,204,273,373,377,255,375,311,368,317,426,371,326,285]
["72411","Bodelshausen","-16 °C","Stuttgart",null,null,null,null,null,null,null,null,11,424,332,264,289,407,380,248,303,401,267,356,288,329,391,284,394,330,402,312,433,341,271,284]
["53539","Bodenbach","-14 °C","Nürburg-Barweiler",null,null,null,null,null,null,null,null,12,413,321,298,285,377,511,443,286,411,284,455,266,329,412,299,388,314,391,332,413,339,267,260]
["55294","Bodenheim","-12 °C","Trier",null,null,null,null,null,null,null,null,13,480,319,299,299,353,516,519,310,426,301,511,302,353,409,288,366,308,401,332,322,346,331,314]
["84155","Bodenkirchen","-16 °C","Straubing",null,null,null,null,null,null,null,null,14,419,321,306,308,303,409,560,282,463,323,493,296,363,404,291,408,330,399,354,320,330,310,318]
["94249","Bodenmais","-18 °C","Straubing",null,null,null,null,null,null,null,null,15,437,302,285,316,327,404,531,322,404,339,484,299,376,393,342,419,303,379,330,344,330,319,301]
["37308","Bodenrode","-16 °C","Fritzlar",null,null,null,null,null,null,null,null,16,409,304,341,355,378,404,564,321,417,302,487,329,399,400,297,397,374,409,332,330,316,333,306]
["37619","Bodenwerder","-12 °C","Fritzlar",null,null,null,null,null,null,null,null,17,391,319,290,323,381,417,499,308,399,293,508,326,332,386,269,409,353,420,334,325,322,361,304]
["92439","Bodenwöhr","-16 °C","Nürnberg",null,null,null,null,null,null,null,null,18,403,309,324,314,356,403,454,322,419,322,445,324,341,371,292,362,334,418,336,343,334,348,298]
["77694","Bodersweier","-12 °C","Karlsruhe",null,null,null,null,null,null,null,null,19,374,326,356,272,309,363,414,309,426,304,499,293,308,398,303,335,304,364,307,432,318,335,314]
["37671","Bödexen","-14 °C","Fritzlar",null,null,null,null,null,null,null,null,20,372,323,328,285,328,401,383,291,457,302,451,274,298,364,293,358,329,359,311,395,313,349,311]
["78351","Bodman","-12 °C","Konstanz",null,null,null,null,null,null,null,null,">20",2576,2093,2383,2203,2443,2727,3738,2469,2868,2347,3605,2336,2230,2300,2400,2194,2242,2975,1813,2353,2010,2140,2292]
["88285","Bodnegg","-14 °C","Stuttgart"]
["88131","Bodolz","-12 °C","Konstanz"]
["37691","Boffzen","-14 °C","Fritzlar"]
["04564","Böhlen","-14 °C","Leipzig"]
["04808","Böhlitz","-14 °C","Leipzig"]
["89558","Böhmenkirch","-16 °C","Augsburg"]
["16348","Böhmerheide","-14 °C","Neuruppin"]
["72587","Böhringen","-18 °C","Stuttgart"]
["03130","Bohsdorf","-16 °C","Lindenberg"]
["17268","Boitzenburg","-12 °C","Greifswald"]
["19258","Boizenburg","-12 °C","Schwerin"]
["33034","Bökendorf","-14 °C","Fritzlar"]
["02627","Bolbritz","-16 °C","Görlitz"]
["19077","Boldela","-12 °C","Schwerin"]
["89542","Bolheim","-16 °C","Augsburg"]
["72379","Boll","-16 °C","Stuttgart"]
["73087","Boll","-16 °C","Stuttgart"]
["89160","Bollingen","-16 °C","Augsburg"]
["39517","Bölsdorf","-14 °C","Magdeburg"]
["23946","Boltenhagen","-10 °C","Schwerin"]
["79341","Bombach","-12 °C","Karlsruhe"]
["04938","Bomsdorf","-16 °C","Leipzig"]
["71149","Bondorf","-16 °C","Stuttgart"]
["56579","Bonefeld","-14 °C","Nürburg-Barweiler"]
["59199","Bönen","-12 °C","Nürburg-Barweiler"]
["74906","Bonfeld","-12 °C","Stuttgart"]
["53...","Bonn","-10 °C","Nürburg-Barweiler"]
["53...","Bonn - Beuel","-10 °C","Nürburg-Barweiler"]
["53123","Bonn - Duisdorf","-12 °C","Nürburg-Barweiler"]
["53175","Bonn - Friesdorf","-12 °C","Nürburg-Barweiler"]
["53...","Bonn - Hoholz","-12 °C","Nürburg-Barweiler"]
["53229","Bonn - Holzlar","-12 °C","Nürburg-Barweiler"]
["79848","Bonndorf","-16 °C","Stuttgart"]
["01796","Bonnewitz","-14 °C","Dresden"]
["01827","Bonnewitz","-14 °C","Dresden"]
["46519","Bönninghardt","-10 °C","Düsseldorf"]
["25474","Bönningstedt","-12 °C","Schleswig"]
["61194","Bönstadt","-12 °C","Fritzlar"]
["73441","Bopfingen","-16 °C","Stuttgart"]
["56154","Boppard","-14 °C","Nürburg-Barweiler"]
["45355","Borbeck","-10 °C","Düsseldorf"]
["33178","Borchen","-14 °C","Fritzlar"]
["31535","Bordenau","-14 °C","Hannover"]
["34434","Borgentreich","-14 °C","Fritzlar"]
["48565","Borghorst","-12 °C","Hannover"]
["16556","Borgsdorf","-14 °C","Neuruppin"]
["24857","Borgwedel","-10 °C","Schleswig"]
["59379","Bork","-14 °C","Nürburg-Barweiler"]
["46325","Borken","-10 °C","Düsseldorf"]
["14822","Borkheide","-14 °C","Potsdam"]
["26757","Borkum","-10 °C","Emden"]
["14822","Borkwalde","-14 °C","Potsdam"]
["41379","Born","-10 °C","Düsseldorf"]
["18375","Born(Darß)","-10 °C","Rostock"]
["09114","Borna","-14 °C","Erfurt"]
["04758","Borna","-14 °C","Leipzig"]
["04552","Borna, b. Leipzig","-14 °C","Leipzig"]
["76879","Bornheim","-12 °C","Karlsruhe"]
["53332","Bornheim","-12 °C","Nürburg-Barweiler"]
["06295","Bornstedt","-14 °C","Leipzig"]
["04451","Borsdorf","-14 °C","Leipzig"]
["31749","Borstel","-14 °C","Hannover"]
["09579","Borstendorf","-16 °C","Meiningen"]
["73104","Börtlingen","-16 °C","Stuttgart"]
["39359","Bösdorf","-14 °C","Magdeburg"]
["72285","Bösingen","-16 °C","Stuttgart"]
["37671","Bosseborn","-14 °C","Fritzlar"]
["74336","Botenheim","-14 °C","Stuttgart"]
["77704","Bottenau","-14 °C","Karlsruhe"]
["91637","Bottenweiler","-16 °C","Nürnberg"]
["06571","Bottenweiler,Post Zumhaus ","-16 °C","Leipzig"]
["462..","Bottrop","-10 °C","Dortmund"]
["79268","Bötzingen","-12 °C","Karlsruhe"]
["16727","Bötzow","-14 °C","Neuruppin"]
["37120","Bovenden","-16 °C","Fritzlar"]
["44388","Bövinghausen","-12 °C","Düsseldorf"]
["02943","Boxberg","-16 °C","Görlitz"]
["97944","Boxberg","-16 °C","Würzburg"]
["74336","Brackenheim","-12 °C","Stuttgart"]
["74336","Brackenheim - Meimsheim ","-12 °C","Stuttgart"]
["74336","Brackenheim - Stockheim","-12 °C","Stuttgart"]
["33...","Brackwede","-12 °C","Fritzlar"]
["73574","Brainkofen","-16 °C","Stuttgart"]
["26919","Brake","-10 °C","Emden"]
["33729","Brake","-12 °C","Fritzlar"]
["33034","Brakel","-14 °C","Fritzlar"]
["32816","Brakelsiek (Schieder-Schwalenbg.)","-14 °C","Fritzlar"]
["27211","Bramstedt","-12 °C","Bremen"]
["27628","Bramstedt","-12 °C","Bremen"]
["52078","Brand","-12 °C","Aachen"]
["08060","Brand","-14 °C","Erfurt"]
["95682","Brand","-18 °C","Hof"]
["1477.","Brandenburg/Havel","-14 °C","Potsdam"]
["09614","Brand-Erbisdorf","-16 °C","Erfurt"]
["06785","Brandhorst","-14 °C","Leipzig"]
["04821","Brandis","-14 °C","Leipzig"]
["35647","Brandoberndorf","-14 °C","Fritzlar"]
["83098","Brannenburg","-18 °C","Hohenpeißenberg"]
["01920","Brauna","-16 °C","Dresden"]
["95186","Braunersgrün","-18 °C","Hof"]
["35619","Braunfels","-12 °C","Fritzlar"]
["35619","Braunfels - Tiefenbach","-12 °C","Fritzlar"]
["38700","Braunlage","-16 °C","Magdeburg"]
["381..","Braunschweig","-14 °C","Magdeburg"]
["09577","Braunsdorf","-14 °C","Erfurt"]
["09603","Bräunsdorf","-16 °C","Erfurt"]
["52538","Breberen","-10 °C","Aachen"]
["58339","Breckerfeld","-12 °C","Nürburg-Barweiler"]
["30974","Bredenbeck","-14 °C","Hannover"]
["37697","Bredenborn","-14 °C","Fritzlar"]
["25821","Bredstedt","-10 °C","Schleswig"]
["29451","Breese in der Marsch","-12 °C","Hannover"]
["37339","Brehme","-16 °C","Fritzlar"]
["06796","Brehna","-14 °C","Leipzig"]
["53797","Breidt","-12 °C","Nürburg-Barweiler"]
["79206","Breisach","-12 °C","Karlsruhe"]
["83254","Breitbrunn","-16 °C","Hohenpeißenberg"]
["82211","Breitbrunn","-16 °C","Kempten"]
["66916","Breitenbach","-12 °C","Saarbrücken"]
["75389","Breitenberg","-16 °C","Stuttgart"]
["63584","Breitenborn","-14 °C","Würzburg"]
["63599","Breitenborn","-14 °C","Würzburg"]
["91238","Breitenbrunn","-16 °C","Nürnberg"]
["72119","Breitenholz","-16 °C","Stuttgart"]
["37619","Breitenkamp","-14 °C","Fritzlar"]
["06547","Breitenstein","-16 °C","Leipzig"]
["89183","Breitingen","-16 °C","Augsburg"]
["35767","Breitscheid","-14 °C","Fritzlar"]
["98597","Breitungen","-16 °C","Meiningen"]
["72525","Bremelau","-16 °C","Stuttgart"]
["59469","Bremen","-12 °C","Nürburg-Barweiler"]
["275..","Bremerhaven","-10 °C","Bremen"]
["27432","Bremervörde","-12 °C","Bremen"]
["65817","Bremsthal","-14 °C","Nürburg-Barweiler"]
["53332","Brenig","-12 °C","Nürburg-Barweiler"]
["37671","Brenkhausen","-14 °C","Fritzlar"]
["93179","Brennberg","-18 °C","Straubing"]
["64395","Brensbach","-14 °C","Würzburg"]
["19294","Bresegard","-14 °C","Schwerin"]
["01900","Bretnig","-16 °C","Dresden"]
["74243","Brettach","-14 °C","Stuttgart"]
["75015","Bretten","-12 °C","Stuttgart"]
["39307","Brettin","-14 °C","Magdeburg"]
["55128","Bretzenheim","-12 °C","Karlsruhe"]
["74626","Bretzfeld","-14 °C","Stuttgart"]
["56321","Brey","-12 °C","Nürburg-Barweiler"]
["14778","Brielow","-14 °C","Potsdam"]
["14656","Brieselang","-14 °C","Potsdam"]
["01968","Brieske","-16 °C","Dresden"]
["78086","Brigachtal","-18 °C","Stuttgart"]
["59929","Brilon","-14 °C","Nürburg-Barweiler"]
["18055","Brinckmansdorf","-10 °C","Rostock"]
["04509","Brinnis","-14 °C","Leipzig"]
["79379","Britzingen","-14 °C","Karlsruhe"]
["37115","Brochthausen","-16 °C","Fritzlar"]
["27386","Brockel, Kr. Rotenburg","-16 °C","Bremen"]
["59510","Brockhausen","-12 °C","Nürburg-Barweiler"]
["17034","Broda","-14 °C","Greifswald"]
["04509","Brodau","-14 °C","Leipzig"]
["16230","Brodowin","-14 °C","Neuruppin"]
["91522","Brodswinden","-16 °C","Nürnberg"]
["56656","Brohl - Lützing","-12 °C","Nürburg-Barweiler"]
["14822","Brokheide","-14 °C","Potsdam"]
["64753","Brombachtal","-14 °C","Würzburg"]
["59969","Bromskirchen","-16 °C","Nürburg-Barweiler"]
["91257","Bronn","-16 °C","Nürnberg"]
["88480","Bronnen","-16 °C","Stuttgart"]
["72770","Bronnweiler","-16 °C","Stuttgart"]
["98599","Brotterode","-16 °C","Meiningen"]
["57539","Bruchertseifen","-12 °C","Nürburg-Barweiler"]
["27305","Bruchhausen-Vilsen","-12 °C","Bremen"]
["66424","Bruchhof","-12 °C","Saarbrücken"]
["63486","Bruchköbel","-12 °C","Würzburg"]
["66892","Bruchmühltal","-12 °C","Saarbrücken"]
["76646","Bruchsal","-12 °C","Stuttgart"]
["14822","Brück","-14 °C","Potsdam"]
["84079","Bruckberg","-16 °C","Straubing"]
["46569","Bruckhausen","-10 °C","Düsseldorf"]
["83052","Bruckmühl","-16 °C","Hohenpeißenberg"]
["09548","Brüderwiese","-16 °C","Meiningen"]
["52525","Brüggelchen","-10 °C","Aachen"]
["41379","Brüggen","-10 °C","Düsseldorf"]
["50169","Brüggen","-12 °C","Düsseldorf"]
["31033","Brüggen","-14 °C","Hannover"]
["50321","Brühl , Rheinl.","-10 °C","Düsseldorf"]
["46499","Brünen","-10 °C","Düsseldorf"]
["17039","Brunn","-14 °C","Greifswald"]
["31863","Brünnighausen","-14 °C","Hannover"]
["22946","Brunsbek","-12 °C","Hamburg"]
["23883","Brunsmark","-12 °C","Schwerin"]
["17509","Brünzow","-12 °C","Greifswald"]
["19209","Brüsewitz","-12 °C","Schwerin"]
["17326","Brüssow","-14 °C","Greifswald"]
["91088","Bubenreuth","-16 °C","Nürnberg"]
["67742","Buborn","-14 °C","Saarbrücken"]
["89171","Buch","-16 °C","Augsburg"]
["89290","Buch","-16 °C","Augsburg"]
["73492","Buch","-16 °C","Stuttgart"]
["79774","Buch","-12 °C","Stuttgart"]
["85656","Buch am Buchrain","-16 °C","München"]
["84172","Buch am Erlbach","-16 °C","Straubing"]
["91592","Buch am Wald","-16 °C","Nürnberg"]
["07334","Bucha","-14 °C","Erfurt"]
["56823","Büchel","-14 °C","Nürburg-Barweiler"]
["74722","Buchen, Odenw.","-14 °C","Stuttgart"]
["76646","Büchenau","-12 °C","Stuttgart"]
["79256","Buchenbach","-18 °C","Stuttgart"]
["75180","Büchenbronn","-14 °C","Stuttgart"]
["79232","Buchheim","-12 °C","Karlsruhe"]
["88637","Buchheim","-16 °C","Stuttgart"]
["31710","Buchholz","-14 °C","Hannover"]
["53567","Buchholz","-12 °C","Nürburg-Barweiler"]
["21244","Buchholz in der Nordheide","-12 °C","Hamburg"]
["94124","Büchlberg","-16 °C","Straubing"]
["86807","Buchloe","-16 °C","Kempten"]
["90574","Buchschwabach","-16 °C","Nürnberg"]
["75175","Buckenberg","-14 °C","Stuttgart"]
["03205","Buckow","-16 °C","Lindenberg"]
["55257","Budenheim","-12 °C","Trier"]
["46487","Büderich","-10 °C","Düsseldorf"]
["61137","Büdesheim","-12 °C","Fritzlar"]
["63654","Büdingen","-14 °C","Würzburg"]
["99869","Bufleben","-14 °C","Erfurt"]
["86657","Buggenhofen","-16 °C","Augsburg"]
["79426","Buggingen","-14 °C","Karlsruhe"]
["89346","Bühl","-16 °C","Augsburg"]
["77815","Bühl","-12 °C","Karlsruhe"]
["77830","Bühlertal","-14 °C","Karlsruhe"]
["74424","Bühlertann","-16 °C","Stuttgart"]
["50170","Buir","-12 °C","Düsseldorf"]
["21782","Bülkau","-10 °C","Hamburg"]
["56859","Bullay","-12 °C","Nürburg-Barweiler"]
["01936","Bulleritz","-16 °C","Dresden"]
["18276","Bülower Burg b. Güstrow","-12 °C","Rostock"]
["32257","Bünde","-12 °C","Fritzlar"]
["24613","Bünzen","-12 °C","Schleswig"]
["33142","Büren","-14 °C","Fritzlar"]
["03096","Burg","-16 °C","Lindenberg"]
["91320","Burg - Gaillenreuth","-16 °C","Nürnberg"]
["39288","Burg b. Magdeburg","-14 °C","Magdeburg"]
["17094","Burg Stargard","-14 °C","Greifswald"]
["45289","Burgaltendorf","-10 °C","Düsseldorf"]
["89331","Burgau","-16 °C","Augsburg"]
["78126","Burgberg","-16 °C","Stuttgart"]
["91593","Burgbernheim","-16 °C","Nürnberg"]
["31303","Burgdorf","-14 °C","Hannover"]
["89429","Burghagel","-16 °C","Augsburg"]
["96152","Burghaslach","-16 °C","Bamberg"]
["76327","Burghausen","-12 °C","Stuttgart"]
["86666","Burgheim","-16 °C","Augsburg"]
["93133","Burglengenfeld","-16 °C","Straubing"]
["97496","Burgpreppach","-16 °C","Würzburg"]
["88483","Burgrieden","-16 °C","Stuttgart"]
["06295","Burgsdorf","-14 °C","Leipzig"]
["35606","Burgsolms","-12 °C","Fritzlar"]
["09217","Burgstädt","-14 °C","Erfurt"]
["31171","Burgstemmen","-14 °C","Hannover"]
["71576","Burgstetten","-14 °C","Stuttgart"]
["90559","Burgthann","-16 °C","Nürnberg"]
["37318","Burgwalde","-16 °C","Fritzlar"]
["30938","Burgwedel","-14 °C","Hannover"]
["96154","Burgwindheim","-16 °C","Bamberg"]
["26969","Burhave","-10 °C","Emden"]
["97705","Burkardroth","-16 °C","Würzburg"]
["04603","Burkersdorf","-14 °C","Leipzig"]
["63679","Burkhards","-14 °C","Würzburg"]
["09235","Burkhardtsdorf","-14 °C","Erfurt"]
["08318","Burkhardtsgrün","-16 °C","Meiningen"]
["72393","Burladingen","-18 °C","Stuttgart"]
["17089","Burow","-14 °C","Greifswald"]
["51399","Burscheid","-12 °C","Nürburg-Barweiler"]
["68642","Bürstadt","-12 °C","Karlsruhe"]
["89349","Burtenbach","-16 °C","Augsburg"]
["53913","Buschhoven","-14 °C","Nürburg-Barweiler"]
["50129","Büsdorf","-12 °C","Düsseldorf"]
["35418","Buseck","-12 °C","Fritzlar"]
["76337","Busenbach","-14 °C","Stuttgart"]
["76891","Busenberg","-12 °C","Saarbrücken"]
["25719","Busenwurth","-10 °C","Schleswig"]
["78266","Büsingen","-12 °C","Konstanz"]
["99198","Büßleben","-14 °C","Erfurt"]
["26969","Butjadingen","-10 °C","Emden"]
["77764","Butschbach","-14 °C","Karlsruhe"]
["64572","Büttelborn","-12 °C","Würzburg"]
["99439","Buttelstedt","-14 °C","Erfurt"]
["96155","Buttenheim","-16 °C","Bamberg"]
["86647","Buttenwiesen","-16 °C","Augsburg"]
["86647","Buttenwiesen-Frauenstetten","-16 °C","Augsburg"]
["41564","Büttgen","-10 °C","Düsseldorf"]
["35510","Butzbach","-14 °C","Fritzlar"]
["21683","Bützfleth","-10 °C","Hamburg"]
["54309","Butzweiler","-14 °C","Trier"]
["87700","Buxach","-16 °C","Augsburg"]
["21614","Buxtehude","-12 °C","Hamburg"]
["90556","Cadolzburg","-16 °C","Nürnberg"]
["39240","Calbe","-14 °C","Magdeburg"]
["38547","Calberlah","-14 °C","Magdeburg"]
["75323","Calmbach","-16 °C","Stuttgart"]
["75365","Calw","-14 °C","Stuttgart"]
["19246","Camin","-12 °C","Schwerin"]
["17094","Cammin","-14 °C","Greifswald"]
["04685","Cannewitz","-14 °C","Leipzig"]
["59379","Cappenberg","-12 °C","Nürburg-Barweiler"]
["59379","Cappenberg","-12 °C","Nürburg-Barweiler"]
["14548","Caputh","-14 °C","Potsdam"]
["67316","Carlsberg","-12 °C","Saarbrücken"]
["02708","Carlsbrunn","-16 °C","Görlitz"]
["95138","Carlsgrün","-18 °C","Hof"]
["17291","Carmzow","-14 °C","Greifswald"]
["17219","Carolinenhof","-14 °C","Greifswald"]
["02699","Caßlau","-16 °C","Görlitz"]
["445..","Castrop-Rauxel","-10 °C","Dortmund"]
["04758","Cavertitz","-16 °C","Leipzig"]
["292..","Celle","-12 °C","Hannover"]
["93413","Cham","-18 °C","Straubing"]
["93466","Chamerau","-18 °C","Straubing"]
["56379","Charlottenberg","-12 °C","Nürburg-Barweiler"]
["0911.","Chemnitz","-14 °C","Erfurt"]
["83339","Chieming","-16 °C","Hohenpeißenberg"]
["04720","Choren","-14 °C","Leipzig"]
["16230","Chorin","-14 °C","Neuruppin"]
["09236","Claußnitz","-14 °C","Erfurt"]
["38678","Clausthal-Zellerfeld","-14 °C","Magdeburg"]
["74196","Cleversulzbach","-14 °C","Stuttgart"]
["99718","Clingen","-14 °C","Erfurt"]
["49661","Cloppenburg","-12 °C","Hannover"]
["96450","Coburg","-14 °C","Bamberg"]
["56812","Cochem","-10 °C","Nürburg-Barweiler"]
["06449","Cochstedt","-14 °C","Leipzig"]
["48653","Coesfeld","-10 °C","Hannover"]
["04680","Colditz","-14 °C","Leipzig"]
["91598","Colmberg","-16 °C","Nürnberg"]
["01738","Colmnitz","-16 °C","Dresden"]
["04680","Commichau","-14 °C","Leipzig"]
["09633","Conradsdorf","-16 °C","Erfurt"]
["75334","Conweiler","-14 °C","Stuttgart"]
["31863","Coppenbrügge","-14 °C","Hannover"]
["01640","Coswig","-14 °C","Dresden"]
["06869","Coswig","-14 °C","Leipzig"]
["01796","Cotta B","-14 °C","Dresden"]
["030..","Cottbus","-16 °C","Lindenberg"]
["74564","Crailsheim","-16 °C","Stuttgart"]
["65558","Cramberg","-12 °C","Nürburg-Barweiler"]
["08340","Crandorf","-16 °C","Meiningen"]
["09465","Cranzahl","-16 °C","Meiningen"]
["38162","Cremlingen","-14 °C","Magdeburg"]
["72178","Cresbach","-16 °C","Stuttgart"]
["16306","Criewen","-16 °C","Neuruppin"]
["08451","Crimmitschau","-14 °C","Erfurt"]
["19089","Crivitz","-12 °C","Schwerin"]
["19089","Crivitz","-12 °C","Schwerin"]
["08129","Crossen","-14 °C","Erfurt"]
["09306","Crossen","-14 °C","Erfurt"]
["02681","Crostau","-16 °C","Görlitz"]
["09474","Crottendorf","-16 °C","Meiningen"]
["19322","Cumlosen","-14 °C","Schwerin"]
["09456","Cunersdorf","-16 °C","Meiningen"]
["02733","Cunewalde","-16 °C","Görlitz"]
["01824","Cunnersdorf b. Königstein","-16 °C","Dresden"]
["274..","Cuxhaven","-10 °C","Bremen"]
["85221","Dachau","-16 °C","München"]
["91462","Dachsbach","-16 °C","Nürnberg"]
["79875","Dachsberg","-16 °C","Stuttgart"]
["71134","Dachtel","-16 °C","Stuttgart"]
["99100","Dachwig","-14 °C","Erfurt"]
["33100","Dahl","-14 °C","Fritzlar"]
["53949","Dahlem","-14 °C","Nürburg-Barweiler"]
["39326","Dahlenwarsleben","-14 °C","Magdeburg"]
["42477","Dahlerau","-12 °C","Düsseldorf"]
["15366","Dahlwitz-Hoppegarten","-14 °C","Lindenberg"]
["66994","Dahn","-12 °C","Saarbrücken"]
["88718","Daisendorf","-12 °C","Konstanz"]
["19071","Dalberg","-12 °C","Schwerin"]
["73492","Dalkingen","-16 °C","Stuttgart"]
["74834","Dallau","-14 °C","Stuttgart"]
["14624","Dallgow","-14 °C","Potsdam"]
["67592","Dalsheim","-12 °C","Saarbrücken"]
["23738","Damlos","-10 °C","Schwerin"]
["17291","Damme","-14 °C","Greifswald"]
["24351","Damp","-10 °C","Schleswig"]
["15936","Damsdorf","-14 °C","Lindenberg"]
["23948","Damshagen","-10 °C","Schwerin"]
["06493","Dankerode","-16 °C","Leipzig"]
["38461","Danndorf","-14 °C","Magdeburg"]
["38524","Dannenbüttel","-14 °C","Magdeburg"]
["67814","Dannenfels","-12 °C","Saarbrücken"]
["39245","Dannigkow","-14 °C","Magdeburg"]
["67661","Dansenberg","-12 °C","Saarbrücken"]
["38836","Dardesheim","-14 °C","Magdeburg"]
["17498","Dargelin","-12 °C","Greifswald"]
["38871","Darlingerode","-16 °C","Magdeburg"]
["71063","Darmsheim","-16 °C","Stuttgart"]
["642..","Darmstadt","-12 °C","Würzburg"]
["54552","Darscheid","-14 °C","Trier"]
["86453","Dasing","-16 °C","Augsburg"]
["37586","Dassel","-14 °C","Fritzlar"]
["37574","Dassensen","-16 °C","Fritzlar"]
["92358","Daßwangen","-16 °C","Nürnberg"]
["45711","Datteln","-12 °C","Düsseldorf"]
["79379","Dattingen","-14 °C","Karlsruhe"]
["71120","Dätzingen","-16 °C","Stuttgart"]
["56412","Daubach","-14 °C","Nürburg-Barweiler"]
["02906","Dauban","-16 °C","Görlitz"]
["54550","Daun","-14 °C","Trier"]
["91522","Dautenwinden","-16 °C","Nürnberg"]
["04886","Dautzschen","-16 °C","Leipzig"]
["76185","Daxlanden","-12 °C","Karlsruhe"]
["27607","Debstedt","-10 °C","Bremen"]
["18317","Dechowshof","-10 °C","Rostock"]
["75392","Deckenpfronn","-16 °C","Stuttgart"]
["30926","Dedensen","-14 °C","Hannover"]
["37627","Deensen","-14 °C","Fritzlar"]
["88456","Degernau","-16 °C","Stuttgart"]
["72762","Degerschlacht","-16 °C","Stuttgart"]
["94469","Deggenau","-18 °C","Straubing"]
["94469","Deggendorf","-18 °C","Straubing"]
["88693","Deggenhausental","-14 °C","Stuttgart"]
["73326","Deggingen","-16 °C","Stuttgart"]
["08538","Dehles","-18 °C","Meiningen"]
["67146","Deidesheim","-12 °C","Saarbrücken"]
["78586","Deilingen","-18 °C","Stuttgart"]
["92364","Deining","-16 °C","Nürnberg"]
["86738","Deiningen","-16 °C","Augsburg"]
["33129","Delbrück","-12 °C","Fritzlar"]
["04509","Delitzsch","-14 °C","Leipzig"]
["31073","Delligsen","-14 °C","Hannover"]
["89155","Dellmensingen","-14 °C","Augsburg"]
["277..","Delmenhorst","-12 °C","Bremen"]
["19089","Demen","-12 °C","Schwerin"]
["01877","Demitz - Thumitz","-16 °C","Dresden"]
["85098","Demling","-18 °C","München"]
["17109","Demmin","-12 °C","Greifswald"]
["73770","Denkendorf","-14 °C","Stuttgart"]
["88630","Denkingen","-14 °C","Stuttgart"]
["14913","Dennewitz","-14 °C","Potsdam"]
["79207","Denzlingen","-14 °C","Stuttgart"]
["79211","Denzlingen","-14 °C","Stuttgart"]
["39317","Derben","-14 °C","Magdeburg"]
["38895","Derenburg","-14 °C","Magdeburg"]
["37691","Derental","-14 °C","Fritzlar"]
["53507","Dernau","-14 °C","Nürburg-Barweiler"]
["56428","Dernbach","-14 °C","Nürburg-Barweiler"]
["76857","Dernbach","-12 °C","Saarbrücken"]
["31188","Derneburg","-14 °C","Hannover"]
["0684.","Dessau","-14 °C","Leipzig"]
["327..","Detmold","-12 °C","Fritzlar"]
["72135","Dettenhausen","-16 °C","Stuttgart"]
["76706","Dettenheim","-12 °C","Karlsruhe"]
["86911","Dettenschwang","-16 °C","Kempten"]
["89547","Dettingen","-16 °C","Augsburg"]
["89584","Dettingen","-14 °C","Augsburg"]
["72108","Dettingen","-16 °C","Stuttgart"]
["72160","Dettingen","-16 °C","Stuttgart"]
["73265","Dettingen","-16 °C","Stuttgart"]
["88451","Dettingen","-16 °C","Stuttgart"]
["72581","Dettingen an der Erms","-16 °C","Stuttgart"]
["18320","Dettmannsdorf","-12 °C","Rostock"]
["71134","Deufringen","-16 °C","Stuttgart"]
["54411","Deuselbach","-12 °C","Trier"]
["84166","Deutenkofen","-16 °C","Straubing"]
["09548","Deutscheinsiedel","-16 °C","Meiningen"]
["09548","Deutschkatharinenberg","-16 °C","Meiningen"]
["09548","Deutschneudorf","-16 °C","Meiningen"]
["78355","Deutwang","-14 °C","Konstanz"]
["04574","Deutzen","-14 °C","Leipzig"]
["18439","Devin","-10 °C","Rostock"]
["55278","Dexheim","-12 °C","Trier"]
["38530","Didderse","-14 °C","Magdeburg"]
["91583","Diebach","-16 °C","Nürnberg"]
["56332","Dieblich","-12 °C","Nürburg-Barweiler"]
["64807","Dieburg","-14 °C","Würzburg"]
["75015","Diedelsheim","-12 °C","Stuttgart"]
["67434","Diedesfeld","-12 °C","Saarbrücken"]
["86420","Diedorf","-16 °C","Augsburg"]
["18119","Diedrichshagen","-10 °C","Rostock"]
["31199","Diekholzen","-14 °C","Hannover"]
["69234","Dielheim","-12 °C","Würzburg"]
["86657","Diemantstein","-16 °C","Augsburg"]
["34519","Diemelsee","-16 °C","Fritzlar"]
["34474","Diemelstadt","-14 °C","Fritzlar"]
["15864","Diensdorf","-14 °C","Lindenberg"]
["97941","Dienstadt","-14 °C","Würzburg"]
["31603","Diepenau","-12 °C","Hannover"]
["91227","Diepersdorf","-16 °C","Nürnberg"]
["01665","Diera","-14 °C","Dresden"]
["77749","Diersburg","-12 °C","Karlsruhe"]
["77866","Diersheim","-12 °C","Karlsruhe"]
["06184","Dieshau","-14 °C","Leipzig"]
["91456","Diespeck","-16 °C","Nürnberg"]
["86911","Dießen","-16 °C","Kempten"]
["89165","Dietenheim","-16 °C","Augsburg"]
["90599","Dietenhofen","-16 °C","Nürnberg"]
["88524","Dieterskirch","-14 °C","Stuttgart"]
["75210","Dietlingen","-14 °C","Stuttgart"]
["88410","Dietmanns","-16 °C","Stuttgart"]
["87463","Dietmannsried","-16 °C","Kempten"]
["63128","Dietzenbach","-12 °C","Würzburg"]
["35716","Dietzhölztal","-14 °C","Fritzlar"]
["65582","Diez","-12 °C","Nürburg-Barweiler"]
["71034","Diezenhalde","-14 °C","Stuttgart"]
["35683","Dillenburg","-12 °C","Fritzlar"]
["89407","Dillingen/Donau","-16 °C","Augsburg"]
["66763","Dillingen-Diefflen","-12 °C","Saarbrücken"]
["46499","Dingden","-10 °C","Düsseldorf"]
["78465","Dingelsdorf","-12 °C","Konstanz"]
["37351","Dingelstädt","-16 °C","Fritzlar"]
["38838","Dingelstedt","-14 °C","Magdeburg"]
["84130","Dingolfing","-18 °C","Straubing"]
["84130","Dingolfingen","-16 °C","Straubing"]
["91550","Dinkelsbühl","-16 °C","Nürnberg"]
["86424","Dinkelscherben","-16 °C","Augsburg"]
["59514","Dinker","-12 °C","Nürburg-Barweiler"]
["49413","Dinklage","-12 °C","Hannover"]
["4653.","Dinslaken","-10 °C","Düsseldorf"]
["01744","Dippoldiswalde","-14 °C","Dresden"]
["27412","Dipshorn","-12 °C","Bremen"]
["87742","Dirlewang","-16 °C","Augsburg"]
["89561","Dischingen","-16 °C","Augsburg"]
["49201","Dissen","-12 °C","Hannover"]
["03052","Dissenchen","-16 °C","Lindenberg"]
["06484","Ditfurt","-14 °C","Leipzig"]
["67596","Dittelsheim - Heßloch","-12 °C","Saarbrücken"]
["91723","Dittenheim","-16 °C","Nürnberg"]
["01768","Dittersbach","-16 °C","Dresden"]
["09669","Dittersbach","-16 °C","Erfurt"]
["02748","Dittersbach auf dem Eigen","-16 °C","Görlitz"]
["09629","Dittmannsdorf","-14 °C","Erfurt"]
["09573","Dittmannsdorf","-14 °C","Meiningen"]
["71254","Ditzingen","-14 °C","Stuttgart"]
["75335","Dobel","-16 °C","Stuttgart"]
["04720","Döbeln","-14 °C","Leipzig"]
["04874","Döbeltitz","-16 °C","Leipzig"]
["03253","Doberlug","-16 °C","Lindenberg"]
["04860","Döbern","-16 °C","Leipzig"]
["03159","Döbern","-16 °C","Lindenberg"]
["02699","Doberschütz","-16 °C","Görlitz"]
["04838","Doberschütz","-14 °C","Leipzig"]
["04703","Doberschwitz","-14 °C","Leipzig"]
["04626","Dobitschen","-14 °C","Leipzig"]
["06729","Döbitzschen","-14 °C","Leipzig"]
["01561","Dobra","-16 °C","Dresden"]
["01833","Dobra","-14 °C","Dresden"]
["04924","Dobra","-16 °C","Leipzig"]
["54552","Dockweiler","-14 °C","Trier"]
["54518","Dodenburg","-14 °C","Trier"]
["04509","Doebernitz","-14 °C","Leipzig"]
["71120","Döffingen","-16 °C","Stuttgart"]
["79804","Dogern","-12 °C","Stuttgart"]
["95182","Döhlau","-18 °C","Hof"]
["01796","Dohma","-14 °C","Dresden"]
["01809","Dohna","-14 °C","Dresden"]
["06120","Dölau","-14 °C","Leipzig"]
["06184","Dölbau","-14 °C","Leipzig"]
["03238","Dollenchen","-16 °C","Lindenberg"]
["24989","Dollerup","-10 °C","Schleswig"]
["99100","Döllstädt","-14 °C","Erfurt"]
["92364","Döllwang","-16 °C","Nürnberg"]
["19303","Dömitz","-12 °C","Schwerin"]
["04880","Dommitsch","-16 °C","Leipzig"]
["04880","Dommitzsch","-16 °C","Leipzig"]
["04924","Domsdorf","-16 °C","Leipzig"]
["19374","Domsühl","-14 °C","Schwerin"]
["78166","Donaueschingen","-18 °C","Stuttgart"]
["86609","Donauwörth","-16 °C","Augsburg"]
["06571","Donndorf","-14 °C","Leipzig"]
["27612","Donnern","-12 °C","Bremen"]
["72587","Donnstetten","-18 °C","Stuttgart"]
["73072","Donzdorf","-16 °C","Stuttgart"]
["54528","Dörbach","-14 °C","Trier"]
["32694","Dörentrup","-14 °C","Fritzlar"]
["18311","Dorf Körkwitz","-10 °C","Rostock"]
["23972","Dorf Mecklenburg","-10 °C","Schwerin"]
["29683","Dorfmark","-14 °C","Hannover"]
["97904","Dorfprozelten","-14 °C","Würzburg"]
["02979","Dörgenhausen","-16 °C","Görlitz"]
["61169","Dorheim","-12 °C","Fritzlar"]
["77978","Dörlinbach","-14 °C","Stuttgart"]
["41542","Dormagen","-10 °C","Düsseldorf"]
["72358","Dormettingen","-16 °C","Stuttgart"]
["72124","Dörnach","-16 °C","Stuttgart"]
["89186","Dorndorf","-16 °C","Augsburg"]
["67585","Dorn-Dürkheim","-12 °C","Saarbrücken"]
["72175","Dornhan","-16 °C","Stuttgart"]
["89160","Dornstadt","-16 °C","Augsburg"]
["72280","Dornstetten","-16 °C","Stuttgart"]
["09509","Dörnthal","-16 °C","Meiningen"]
["56370","Dörsdorf","-14 °C","Nürburg-Barweiler"]
["4628.","Dorsten","-10 °C","Düsseldorf"]
["44388","Dortmund - Bövinghausen","-12 °C","Dortmund"]
["44309","Dortmund - Brackel","-12 °C","Dortmund"]
["44369","Dortmund - Deusen","-12 °C","Dortmund"]
["44329","Dortmund - Grevel","-12 °C","Dortmund"]
["44263","Dortmund - Hörde","-12 °C","Dortmund"]
["44149","Dortmund - Kley","-12 °C","Dortmund"]
["44229","Dortmund - Lücklemberg","-12 °C","Dortmund"]
["44...","Dortmund - Oespel","-12 °C","Dortmund"]
["44269","Dortmund - Schüren","-12 °C","Dortmund"]
["44265","Dortmund - Wichlinghofen","-12 °C","Dortmund"]
["27632","Dorum","-10 °C","Bremen"]
["74677","Dörzbach","-14 °C","Stuttgart"]
["04720","Döschütz","-14 °C","Leipzig"]
["79739","Dossenbach","-12 °C","Stuttgart"]
["69221","Dossenheim","-12 °C","Würzburg"]
["72359","Dotternhausen","-18 °C","Stuttgart"]
["79282","Dottingen","-14 °C","Karlsruhe"]
["72525","Dottingen","-18 °C","Stuttgart"]
["56729","Döttingen","-14 °C","Nürburg-Barweiler"]
["94256","Drachselsried","-18 °C","Straubing"]
["73345","Drackenstein","-18 °C","Stuttgart"]
["55127","Drais","-12 °C","Karlsruhe"]
["31623","Drakenburg","-12 °C","Hannover"]
["37127","Dransfeld","-14 °C","Fritzlar"]
["04938","Drasdo","-16 °C","Leipzig"]
["56330","Dreckenach","-14 °C","Nürburg-Barweiler"]
["53520","Drees","-14 °C","Nürburg-Barweiler"]
["63303","Dreieich","-12 °C","Würzburg"]
["54518","Dreis","-14 °C","Trier"]
["54552","Dreis-Brück","-14 °C","Trier"]
["48317","Drensteinfurt","-12 °C","Hannover"]
["01108","Dresden - Weixdorf","-14 °C","Dresden"]
["33014","Dringenberg","-14 °C","Fritzlar"]
["19069","Drispeth","-12 °C","Schwerin"]
["21706","Drochtersen","-10 °C","Hamburg"]
["08606","Dröda","-18 °C","Meiningen"]
["21386","Drögennindorf","-14 °C","Hamburg"]
["57489","Drolshagen","-12 °C","Nürburg-Barweiler"]
["91238","Drosberg","-16 °C","Nürnberg"]
["52372","Drove","-14 °C","Aachen"]
["06722","Droyßig","-14 °C","Leipzig"]
["55585","Duchroth","-12 °C","Trier"]
["63654","Düdelsheim","-12 °C","Würzburg"]
["63110","Dudenhofen","-12 °C","Würzburg"]
["37115","Duderstadt","-16 °C","Fritzlar"]
["66125","Dudweiler / Saar","-12 °C","Saarbrücken"]
["74889","Dühren","-12 °C","Stuttgart"]
["31089","Duingen","-14 °C","Hannover"]
["47...","Duisburg","-10 °C","Dortmund"]
["41751","Dülken","-10 °C","Düsseldorf"]
["48249","Dülmen","-12 °C","Hannover"]
["19073","Dümmer","-12 °C","Schwerin"]
["19073","Dümmerhütte","-12 °C","Schwerin"]
["19073","Dümmerstück-Hof","-12 °C","Schwerin"]
["53520","Dümpelfeld","-14 °C","Nürburg-Barweiler"]
["77743","Dundenheim","-12 °C","Karlsruhe"]
["31226","Dungelbeck","-14 °C","Hannover"]
["56761","Düngenheim","-14 °C","Nürburg-Barweiler"]
["78655","Dunningen","-16 °C","Stuttgart"]
["74582","Dünsbach","-16 °C","Stuttgart"]
["27243","Dünsen","-14 °C","Bremen"]
["54597","Duppach","-14 °C","Trier"]
["77770","Durbach","-12 °C","Karlsruhe"]
["78589","Dürbheim","-18 °C","Stuttgart"]
["523..","Düren","-12 °C","Aachen"]
["73568","Durlangen","-16 °C","Stuttgart"]
["88525","Dürmentingen","-14 °C","Stuttgart"]
["76448","Durmersheim","-12 °C","Karlsruhe"]
["73105","Dürnau","-16 °C","Stuttgart"]
["88422","Dürnau","-14 °C","Stuttgart"]
["72172","Dürrenmettstetten","-16 °C","Stuttgart"]
["72525","Dürrenstetten (Münsingen)","-16 °C","Stuttgart"]
["08396","Dürrenuhlsdorf","-14 °C","Erfurt"]
["02708","Dürrhennersdorf","-16 °C","Görlitz"]
["89350","Dürrlauingen","-16 °C","Augsburg"]
["75248","Dürrn","-14 °C","Stuttgart"]
["01833","Dürröhrsdorf","-14 °C","Dresden"]
["72285","Durrweiler","-16 °C","Stuttgart"]
["04668","Dürrweitzschen","-14 °C","Leipzig"]
["04720","Dürrweitzschen","-14 °C","Leipzig"]
["51515","Dürscheid","-12 °C","Nürburg-Barweiler"]
["29664","Düshorn","-12 °C","Hannover"]
["72144","Dußlingen","-16 °C","Stuttgart"]
["35582","Dutenhofen","-12 °C","Fritzlar"]
["19205","Dutzow","-12 °C","Schwerin"]
["39179","Ebendorf","-14 °C","Magdeburg"]
["87640","Ebenhofen","-16 °C","Kempten"]
["96250","Ebensfeld","-16 °C","Bamberg"]
["88370","Ebenweiler","-14 °C","Stuttgart"]
["69412","Eberbach a.N.","-12 °C","Würzburg"]
["71735","Eberdingen","-14 °C","Stuttgart"]
["88436","Eberhardzell","-16 °C","Stuttgart"]
["31079","Eberholzen","-14 °C","Hannover"]
["91320","Ebermannstadt","-16 °C","Nürnberg"]
["01561","Ebersbach","-16 °C","Dresden"]
["02730","Ebersbach","-16 °C","Görlitz"]
["04720","Ebersbach","-14 °C","Leipzig"]
["88371","Ebersbach","-14 °C","Stuttgart"]
["73061","Ebersbach an der Fils","-16 °C","Stuttgart"]
["85560","Ebersberg","-16 °C","München"]
["08144","Ebersbrunn","-14 °C","Erfurt"]
["34388","Eberschütz","-14 °C","Fritzlar"]
["27432","Ebersdorf","-12 °C","Bremen"]
["091..","Ebersdorf","-14 °C","Erfurt"]
["02708","Ebersdorf","-16 °C","Görlitz"]
["72224","Ebershardt","-16 °C","Stuttgart"]
["74246","Eberstadt","-14 °C","Stuttgart"]
["74653","Eberstal","-14 °C","Stuttgart"]
["16227","Eberswalde","-14 °C","Neuruppin"]
["16225","Eberswalde / Finow","-14 °C","Neuruppin"]
["67280","Ebertsheim","-12 °C","Saarbrücken"]
["72224","Ebhausen","-16 °C","Stuttgart"]
["72458","Ebingen (Albstadt)","-18 °C","Stuttgart"]
["08626","Ebmath","-18 °C","Meiningen"]
["79117","Ebnet","-16 °C","Karlsruhe"]
["73667","Ebni-Kaiserbach","-16 °C","Stuttgart"]
["79285","Ebringen","-14 °C","Stuttgart"]
["89423","Echenbrunn","-16 °C","Augsburg"]
["82279","Eching am Ammersee","-16 °C","Kempten"]
["77731","Eckartsweier","-12 °C","Karlsruhe"]
["90542","Eckental","-16 °C","Nürnberg"]
["72108","Eckenweiler","-16 °C","Stuttgart"]
["24340","Eckernförde","-10 °C","Schleswig"]
["37339","Ecklingerode","-16 °C","Fritzlar"]
["14913","Eckmannsdorf","-14 °C","Potsdam"]
["99195","Eckstedt","-14 °C","Erfurt"]
["97215","Eckwarhofen","-16 °C","Würzburg"]
["29575","Eddelstorf","-12 °C","Hannover"]
["06388","Edderitz","-14 °C","Leipzig"]
["88453","Edelbeuren","-16 °C","Stuttgart"]
["72285","Edelweiler","-16 °C","Stuttgart"]
["31234","Edemissen","-14 °C","Hannover"]
["88416","Edenbachen","-16 °C","Stuttgart"]
["67480","Edenkoben","-12 °C","Saarbrücken"]
["34295","Edermünde","-14 °C","Fritzlar"]
["26188","Edewecht","-12 °C","Emden"]
["26169","Edewechterdamm/Friesoythe","-12 °C","Emden"]
["06420","Edlau","-14 °C","Leipzig"]
["83533","Edling","-16 °C","Hohenpeißenberg"]
["41849","Effeld","-10 °C","Düsseldorf"]
["50354","Efferen","-12 °C","Düsseldorf"]
["72218","Effringen","-16 °C","Stuttgart"]
["79588","Efringen-Kirchen","-12 °C","Karlsruhe"]
["88048","Efrizweiler","-12 °C","Konstanz"]
["39435","Egeln","-14 °C","Magdeburg"]
["63329","Egelsbach","-12 °C","Würzburg"]
["72227","Egenhausen","-16 °C","Stuttgart"]
["91238","Egensbach","-16 °C","Nürnberg"]
["78592","Egesheim","-18 °C","Stuttgart"]
["31848","Egestorf a. Süntel","-14 °C","Hannover"]
["86698","Eggelstetten","-16 °C","Augsburg"]
["84307","Eggenfelden","-16 °C","Straubing"]
["73479","Eggenrot","-16 °C","Stuttgart"]
["76344","Eggenstein","-12 °C","Karlsruhe"]
["49577","Eggermühlen","-12 °C","Hannover"]
["89079","Eggingen","-14 °C","Augsburg"]
["79805","Eggingen","-14 °C","Stuttgart"]
["84385","Egglham","-16 °C","Straubing"]
["88410","Eggmannsried","-16 °C","Stuttgart"]
["91330","Eggolsheim","-16 °C","Nürnberg"]
["83125","Eggstätt","-16 °C","Hohenpeißenberg"]
["94535","Eging a. See","-18 °C","Straubing"]
["86492","Egling a.d. Paar","-16 °C","Augsburg"]
["89561","Eglingen","-16 °C","Augsburg"]
["71634","Eglosheim","-12 °C","Stuttgart"]
["79588","Egringen","-12 °C","Karlsruhe"]
["86676","Ehekirchen","-16 °C","Augsburg"]
["72534","Ehestetten","-16 °C","Stuttgart"]
["89584","Ehingen","-14 °C","Augsburg"]
["91725","Ehingen","-16 °C","Nürnberg"]
["31303","Ehlershausen","-14 °C","Hannover"]
["38442","Ehmen","-14 °C","Magdeburg"]
["71139","Ehningen","-16 °C","Stuttgart"]
["04430","Ehrenberg","-14 °C","Leipzig"]
["04603","Ehrenberg","-14 °C","Leipzig"]
["27248","Ehrenburg","-12 °C","Bremen"]
["79238","Ehrenkirchen","-14 °C","Karlsruhe"]
["35630","Ehringhausen","-12 °C","Fritzlar"]
["35630","Ehringshausen","-12 °C","Fritzlar"]
["02739","Eibau","-16 °C","Görlitz"]
["35713","Eibelshausen","-14 °C","Fritzlar"]
["08309","Eibenstock","-16 °C","Meiningen"]
["67575","Eich","-12 °C","Saarbrücken"]
["04720","Eichardt","-14 °C","Leipzig"]
["76684","Eichelberg","-12 °C","Stuttgart"]
["57632","Eichen","-14 °C","Nürburg-Barweiler"]
["82223","Eichenau","-16 °C","Kempten"]
["39167","Eichenbarleben","-14 °C","Magdeburg"]
["94428","Eichendorf","-16 °C","Straubing"]
["36148","Eichenried","-14 °C","Fritzlar"]
["36124","Eichenzell","-14 °C","Fritzlar"]
["85464","Eicherloh","-16 °C","München"]
["52152","Eicherscheid","-14 °C","Aachen"]
["79618","Eichsel","-12 °C","Stuttgart"]
["85072","Eichstätt","-16 °C","München"]
["39596","Eichstedt","-14 °C","Magdeburg"]
["79356","Eichstetten","-12 °C","Karlsruhe"]
["15732","Eichwalde","-14 °C","Lindenberg"]
["39221","Eickendorf","-14 °C","Magdeburg"]
["35713","Eiershausen","-14 °C","Fritzlar"]
["04838","Eilenburg","-14 °C","Leipzig"]
["38838","Eilenstedt","-14 °C","Magdeburg"]
["31535","Eilvese","-14 °C","Hannover"]
["31036","Eime","-14 °C","Hannover"]
["79591","Eimeldingen","-12 °C","Stuttgart"]
["37632","Eimen","-14 °C","Fritzlar"]
["39943","Eimersleben","-14 °C","Magdeburg"]
["37574","Einbeck","-16 °C","Fritzlar"]
["88356","Einhart","-14 °C","Stuttgart"]
["64683","Einhausen","-12 °C","Karlsruhe"]
["66424","Einöd","-12 °C","Saarbrücken"]
["85254","Einsbach","-16 °C","München"]
["89079","Einsingen","-14 °C","Augsburg"]
["27337","Einste","-12 °C","Bremen"]
["83549","Eiselfing","-16 °C","Hohenpeißenberg"]
["99817","Eisenach","-16 °C","Meiningen"]
["87637","Eisenberg","-18 °C","Kempten"]
["88260","Eisenharz","-16 °C","Stuttgart"]
["97247","Eisenheim","-14 °C","Würzburg"]
["15890","Eisenhüttenstadt","-16 °C","Lindenberg"]
["77815","Eisental","-12 °C","Karlsruhe"]
["98673","Eisfeld","-16 °C","Meiningen"]
["75239","Eisingen","-14 °C","Stuttgart"]
["86447","Eisingersdorf","-16 °C","Augsburg"]
["06295","Eisleben","-14 °C","Leipzig"]
["73054","Eislingen","-16 °C","Stuttgart"]
["56337","Eitelborn","-12 °C","Nürburg-Barweiler"]
["85117","Eitensheim","-16 °C","München"]
["53783","Eitorf","-12 °C","Nürburg-Barweiler"]
["85462","Eitting","-16 °C","München"]
["31035","Eitzum","-14 °C","Hannover"]
["38170","Eitzum","-14 °C","Magdeburg"]
["57482","Elben","-14 °C","Nürburg-Barweiler"]
["39326","Elbeu","-14 °C","Magdeburg"]
["04651","Elbisbach","-14 °C","Leipzig"]
["76477","Elchesheim","-12 °C","Karlsruhe"]
["19294","Eldena","-14 °C","Schwerin"]
["77656","Elgersweier","-12 °C","Karlsruhe"]
["59955","Elkeringhausen","-16 °C","Nürburg-Barweiler"]
["85567","Elkofen","-16 °C","München"]
["08236","Ellefeld","-16 °C","Meiningen"]
["73488","Ellenberg","-16 °C","Stuttgart"]
["40625","Eller","-10 °C","Düsseldorf"]
["25479","Ellerau","-12 °C","Schleswig"]
["35110","Ellershausen","-14 °C","Fritzlar"]
["86679","Ellgau","-16 °C","Augsburg"]
["74248","Ellhofen ","-14 °C","Stuttgart"]
["91792","Ellingen","-16 °C","Nürnberg"]
["75210","Ellmendingen","-14 °C","Stuttgart"]
["99755","Ellrich","-16 °C","Erfurt"]
["88430","Ellwangen","-16 °C","Stuttgart"]
["73479","Ellwangen / Jagst","-16 °C","Stuttgart"]
["89352","Ellzee","-16 °C","Augsburg"]
["18107","Elmenhorst","-10 °C","Rostock"]
["41372","Elmpt","-10 °C","Düsseldorf"]
["2533.","Elmshorn","-12 °C","Schleswig"]
["67471","Elmstein","-12 °C","Saarbrücken"]
["35041","Elnhausen","-14 °C","Fritzlar"]
["97990","Elpersheim","-16 °C","Würzburg"]
["50189","Elsdorf / Rheinl.","-12 °C","Düsseldorf"]
["33106","Elsen","-12 °C","Fritzlar"]
["63820","Elsenfeld","-12 °C","Würzburg"]
["75031","Elsenz","-14 °C","Stuttgart"]
["26931","Elsfleth","-10 °C","Emden"]
["57368","Elspe","-14 °C","Nürburg-Barweiler"]
["06918","Elster","-14 °C","Leipzig"]
["04910","Elsterwerda","-16 °C","Leipzig"]
["01920","Elstra","-16 °C","Dresden"]
["46446","Elten","-10 °C","Düsseldorf"]
["97483","Eltmann","-16 °C","Würzburg"]
["37269","Eltmannshausen","-14 °C","Fritzlar"]
["65346","Eltville","-12 °C","Nürburg-Barweiler"]
["31311","Eltze","-14 °C","Hannover"]
["65604","Elz (Westerwald)","-14 °C","Nürburg-Barweiler"]
["79215","Elzach","-16 °C","Stuttgart"]
["79215","Elzach-Yach","-16 °C","Stuttgart"]
["31008","Elze","-14 °C","Hannover"]
["74834","Elztal","-14 °C","Stuttgart"]
["21409","Embsen","-12 °C","Hamburg"]
["2672.","Emden","-10 °C","Emden"]
["88499","Emeringen","-16 °C","Stuttgart"]
["86494","Emersacker","-16 °C","Augsburg"]
["72535","Emmabäuren","-18 °C","Stuttgart"]
["56281","Emmelshausen","-14 °C","Nürburg-Barweiler"]
["79312","Emmendingen","-14 °C","Karlsruhe"]
["46446","Emmerich","-10 °C","Dortmund"]
["31180","Emmerke","-14 °C","Hannover"]
["31860","Emmern","-12 °C","Hannover"]
["31860","Emmerthal","-12 °C","Hannover"]
["69126","Emmertsgrund","-12 °C","Würzburg"]
["72202","Emmingen","-16 °C","Stuttgart"]
["78576","Emmingen-Liptingen","-16 °C","Stuttgart"]
["30952","Empelde","-14 °C","Hannover"]
["72186","Empfingen","-16 °C","Stuttgart"]
["72186","Empfingen-Dommelsberg","-16 °C","Stuttgart"]
["48488","Emsbüren","-10 °C","Hannover"]
["48282","Emsdetten","-12 °C","Hannover"]
["91448","Emskirchen","-16 °C","Nürnberg"]
["95233","Enchenreuth","-18 °C","Hof"]
["71384","Endersbach","-14 °C","Stuttgart"]
["79346","Endingen","-12 °C","Karlsruhe"]
["06333","Endorf","-14 °C","Leipzig"]
["30855","Engelbostel","-14 °C","Hannover"]
["08606","Engelhartsgrün","-18 °C","Meiningen"]
["27305","Engeln","-12 °C","Bremen"]
["56729","Engeln","-14 °C","Nürburg-Barweiler"]
["75331","Engelsbrand","-14 °C","Stuttgart"]
["04439","Engelsdorf","-14 °C","Leipzig"]
["51766","Engelskirchen","-10 °C","Nürburg-Barweiler"]
["55270","Engelstadt","-12 °C","Trier"]
["91238","Engelthal","-16 °C","Nürnberg"]
["65527","Engenhahn","-14 °C","Nürburg-Barweiler"]
["30938","Engensen","-14 °C","Hannover"]
["32130","Enger","-12 °C","Fritzlar"]
["04618","Engertsdorf","-14 °C","Leipzig"]
["94530","Engolling","-18 °C","Straubing"]
["72829","Engstingen","-18 °C","Stuttgart"]
["72339","Engstlatt","-16 °C","Stuttgart"]
["72800","Eningen","-16 °C","Stuttgart"]
["58256","Ennepetal","-12 °C","Nürburg-Barweiler"]
["57439","Ennest","-14 °C","Nürburg-Barweiler"]
["88512","Ennetach","-14 °C","Stuttgart"]
["59320","Ennigerloh","-12 °C","Nürburg-Barweiler"]
["66806","Ensdorf","-12 °C","Saarbrücken"]
["59469","Ense","-12 °C","Nürburg-Barweiler"]
["55232","Ensheim","-12 °C","Trier"]
["71665","Ensingen","-14 °C","Stuttgart"]
["72119","Entringen","-16 °C","Stuttgart"]
["75417","Enzberg","-14 °C","Stuttgart"]
["75337","Enzklösterle","-16 °C","Stuttgart"]
["71665","Enzweihingen","-14 °C","Stuttgart"]
["86920","Epfach","-16 °C","Kempten"]
["74925","Epfenbach","-12 °C","Stuttgart"]
["78736","Epfendorf","-16 °C","Stuttgart"]
["66571","Eppelborn","-12 °C","Saarbrücken"]
["69214","Eppelheim","-12 °C","Würzburg"]
["66957","Eppenbrunn","-12 °C","Saarbrücken"]
["09575","Eppendorf","-16 °C","Meiningen"]
["94536","Eppenschlag","-18 °C","Straubing"]
["75031","Eppingen","-14 °C","Stuttgart"]
["65817","Eppstein","-14 °C","Nürburg-Barweiler"]
["89155","Erbach","-14 °C","Augsburg"]
["65346","Erbach","-12 °C","Nürburg-Barweiler"]
["64711","Erbach","-14 °C","Würzburg"]
["65205","Erbenheim","-12 °C","Nürburg-Barweiler"]
["21365","Erbstorf","-12 °C","Hamburg"]
["32689","Erder","-12 °C","Fritzlar"]
["85435","Erding","-16 °C","München"]
["71729","Erdmannhausen","-12 °C","Stuttgart"]
["09573","Erdmannsdorf","-14 °C","Meiningen"]
["85253","Erdweg","-16 °C","München"]
["86922","Eresing","-16 °C","Kempten"]
["50374","Erftstadt","-12 °C","Düsseldorf"]
["990..","Erfurt","-14 °C","Erfurt"]
["66996","Erfweiler","-12 °C","Saarbrücken"]
["72108","Ergenzingen","-16 °C","Stuttgart"]
["84030","Ergolding","-16 °C","Straubing"]
["84061","Ergoldsbach","-18 °C","Straubing"]
["58239","Ergste","-12 °C","Nürburg-Barweiler"]
["88097","Eriskirch","-12 °C","Konstanz"]
["41812","Erkelenz","-10 °C","Düsseldorf"]
["33034","Erkeln","-14 °C","Fritzlar"]
["73268","Erkenbrechtsweiler","-16 °C","Stuttgart"]
["15537","Erkner","-14 °C","Lindenberg"]
["40699","Erkrath","-10 °C","Düsseldorf"]
["97250","Erlabrunn","-14 °C","Würzburg"]
["77871","Erlach","-12 °C","Karlsruhe"]
["9105.","Erlangen","-16 °C","Nürnberg"]
["09326","Erlbach","-14 °C","Erfurt"]
["08265","Erlbach","-18 °C","Meiningen"]
["46348","Erle","-10 °C","Düsseldorf"]
["74235","Erlenbach","-12 °C","Stuttgart"]
["97837","Erlenbach b.Marktheidenfeld","-12 °C","Würzburg"]
["88416","Erlenmoos","-16 °C","Stuttgart"]
["63526","Erlensee","-12 °C","Würzburg"]
["74391","Erligheim","-12 °C","Stuttgart"]
["86405","Erlingen","-16 °C","Augsburg"]
["87487","Ermengerst","-16 °C","Kempten"]
["89081","Ermingen","-14 °C","Augsburg"]
["06463","Ermsleben","-14 °C","Leipzig"]
["85119","Ernsgaden","-18 °C","München"]
["35099","Ernsthausen","-14 °C","Fritzlar"]
["75365","Ernstmühl","-14 °C","Stuttgart"]
["88453","Erolzheim","-16 °C","Stuttgart"]
["72820","Erpfingen","-18 °C","Stuttgart"]
["67167","Erpolzheim","-12 °C","Saarbrücken"]
["89155","Ersingen","-14 °C","Augsburg"]
["75236","Ersingen","-14 °C","Stuttgart"]
["88521","Ertingen","-14 °C","Stuttgart"]
["59597","Erwitte","-12 °C","Nürburg-Barweiler"]
["33039","Erwitzen","-14 °C","Fritzlar"]
["39343","Erxleben","-14 °C","Magdeburg"]
["72297","Erzgrube","-16 °C","Stuttgart"]
["72336","Erzingen","-18 °C","Stuttgart"]
["54585","Esch","-14 °C","Trier"]
["73569","Eschach","-16 °C","Stuttgart"]
["61250","Eschbach","-14 °C","Fritzlar"]
["79427","Eschbach","-12 °C","Karlsruhe"]
["65760","Eschborn","-12 °C","Nürburg-Barweiler"]
["78664","Eschbronn","-16 °C","Stuttgart"]
["85283","Eschelbach","-18 °C","München"]
["90542","Eschenau","-16 °C","Nürnberg"]
["92676","Eschenbach","-16 °C","Nürnberg"]
["73107","Eschenbach","-16 °C","Stuttgart"]
["97483","Eschenbach","-16 °C","Würzburg"]
["99869","Eschenberg","-14 °C","Erfurt"]
["35713","Eschenburg","-14 °C","Fritzlar"]
["92295","Eschenfelden","-16 °C","Nürnberg"]
["63679","Eschenrod","-14 °C","Würzburg"]
["37632","Eschershausen","-14 °C","Fritzlar"]
["93458","Eschlkam","-18 °C","Straubing"]
["53840","Eschmar","-12 °C","Nürburg-Barweiler"]
["37269","Eschwege","-14 °C","Fritzlar"]
["52249","Eschweiler / Rheinl.","-12 °C","Aachen"]
["88271","Esenhausen","-14 °C","Stuttgart"]
["53804","Esinghausen","-12 °C","Nürburg-Barweiler"]
["59889","Eslohe","-14 °C","Nürburg-Barweiler"]
["32339","Espelkamp","-12 °C","Fritzlar"]
["65391","Espenschied","-14 °C","Nürburg-Barweiler"]
["24887","Esperstoft","-12 °C","Schleswig"]
["97839","Esselbach","-14 °C","Würzburg"]
["49632","Essen","-12 °C","Hannover"]
["45...","Essen - Burgaltenburg","-12 °C","Dortmund"]
["45239","Essen - Fischlaken","-10 °C","Dortmund"]
["45239","Essen - Heidhausen","-10 °C","Dortmund"]
["45259","Essen - Heisingen","-10 °C","Dortmund"]
["45219","Essen - Kettwig","-10 °C","Dortmund"]
["45359","Essen - Schönebeck","-10 °C","Dortmund"]
["45141","Essen - Stoppenberg","-10 °C","Dortmund"]
["45277","Essen - Überruhr-Hinsel","-10 °C","Dortmund"]
["45277","Essen - Überruhr-Holthausen","-10 °C","Dortmund"]
["45239","Essen - Werden","-10 °C","Dortmund"]
["84051","Essenbach","-16 °C","Straubing"]
["55270","Essenheim","-12 °C","Trier"]
["73457","Essingen","-16 °C","Stuttgart"]
["97440","Eßleben","-14 °C","Würzburg"]
["78532","Eßlingen","-16 °C","Stuttgart"]
["737..","Esslingen am Neckar","-14 °C","Stuttgart"]
["97230","Estenfeld","-14 °C","Würzburg"]
["26897","Esterwegen","-12 °C","Emden"]
["31629","Estorf","-12 °C","Hannover"]
["27299","Etelsen","-12 °C","Bremen"]
["66871","Etschberg","-12 °C","Saarbrücken"]
["33178","Etteln","-14 °C","Fritzlar"]
["89358","Ettenbeuren","-16 °C","Augsburg"]
["77955","Ettenheim","-12 °C","Karlsruhe"]
["77955","Ettenheimmünster","-14 °C","Karlsruhe"]
["88048","Ettenkirch","-14 °C","Konstanz"]
["82237","Etterschlag","-16 °C","Kempten"]
["86641","Etting","-16 °C","Augsburg"]
["76275","Ettlingen","-12 °C","Karlsruhe"]
["76275","Ettlingenweier","-12 °C","Karlsruhe"]
["72226","Ettmannsweiler","-16 °C","Stuttgart"]
["26446","Etzel","-10 °C","Emden"]
["92268","Etzelwang","-16 °C","Nürnberg"]
["76337","Etzenrot","-14 °C","Stuttgart"]
["09128","Euba","-14 °C","Erfurt"]
["74744","Eubigheim","-16 °C","Stuttgart"]
["53879","Euenheim","-14 °C","Nürburg-Barweiler"]
["04651","Eulatal","-14 °C","Leipzig"]
["01623","Eulitz","-14 °C","Dresden"]
["03149","Eulo","-16 °C","Lindenberg"]
["82547","Eurasburg","-18 °C","Kempten"]
["538..","Euskirchen","-12 °C","Nürburg-Barweiler"]
["97776","Eussenheim","-16 °C","Würzburg"]
["23701","Eutin","-10 °C","Schwerin"]
["72184","Eutingen","-16 °C","Stuttgart"]
["29379","Eutzen","-14 °C","Hannover"]
["83552","Evenhausen","-16 °C","Hohenpeißenberg"]
["31085","Everode","-16 °C","Hannover"]
["29303","Eversen","-14 °C","Hannover"]
["18055","Evershagen","-10 °C","Rostock"]
["48351","Everswinkel","-12 °C","Hannover"]
["32699","Extertal","-14 °C","Fritzlar"]
["72184","Eyach","-16 °C","Stuttgart"]
["73312","Eybach","-16 °C","Stuttgart"]
["21376","Eyendorf","-14 °C","Hamburg"]
["56133","Fachbach","-12 °C","Nürburg-Barweiler"]
["73434","Fachsenfeld","-16 °C","Stuttgart"]
["23999","Fährdorf","-10 °C","Schwerin"]
["74864","Fahrenbach","-14 °C","Stuttgart"]
["14476","Fahrland","-14 °C","Potsdam"]
["79868","Falkau","-18 °C","Stuttgart"]
["34590","Falkenberg","-14 °C","Fritzlar"]
["04880","Falkenberg","-16 °C","Leipzig"]
["04895","Falkenberg","-16 °C","Leipzig"]
["39615","Falkenberg","-14 °C","Magdeburg"]
["84326","Falkenberg","-16 °C","Straubing"]
["01776","Falkenhain","-16 °C","Dresden"]
["14612","Falkensee","-14 °C","Potsdam"]
["93167","Falkenstein/Oberpf.","-18 °C","Straubing"]
["29683","Fallingbostel","-12 °C","Hannover"]
["29328","Faßberg","-14 °C","Hannover"]
["73035","Faurndau","-16 °C","Stuttgart"]
["77855","Fautenbach","-12 °C","Karlsruhe"]
["78628","Feckenheim","-18 °C","Stuttgart"]
["64625","Fehlheim","-12 °C","Würzburg"]
["49733","Fehndorf","-10 °C","Hannover"]
["03096","Fehrow","-16 °C","Lindenberg"]
["36325","Feldatal","-14 °C","Fritzlar"]
["17258","Feldberg","-14 °C","Greifswald"]
["79868","Feldberg / Schwarzwald","-18 °C","Stuttgart"]
["61389","Feldberg/Taunus","-16 °C","Fritzlar"]
["46244","Feldhausen","-10 °C","Düsseldorf"]
["72501","Feldhausen","-16 °C","Stuttgart"]
["79258","Feldkirch","-12 °C","Karlsruhe"]
["85622","Feldkirchen","-16 °C","München"]
["83620","Feldkirchen-Westerham","-18 °C","Hohenpeißenberg"]
["46483","Feldmark","-18 °C","Düsseldorf"]
["80995","Feldmoching","-16 °C","München"]
["75334","Feldrennach","-14 °C","Stuttgart"]
["7073.","Fellbach / Württ.","-12 °C","Stuttgart"]
["72181","Felldorf","-16 °C","Stuttgart"]
["87748","Fellheim","-16 °C","Augsburg"]
["34587","Felsberg","-14 °C","Fritzlar"]
["92269","Fensterbach","-16 °C","Nürnberg"]
["53577","Fernthal","-14 °C","Nürburg-Barweiler"]
["77654","Fessenbach","-12 °C","Karlsruhe"]
["90537","Feucht","-16 °C","Nürnberg"]
["79400","Feuerbach","-14 °C","Karlsruhe"]
["70...","Feuerbach","-12 °C","Stuttgart"]
["54584","Feusdorf","-14 °C","Trier"]
["95686","Fichtelberg / Oberfr.","-16 °C","Hof"]
["74579","Fichtenau","-16 °C","Stuttgart"]
["04931","Fichtenberg","-16 °C","Leipzig"]
["74427","Fichtenberg","-16 °C","Stuttgart"]
["14547","Fichtenwalde","-14 °C","Potsdam"]
["94405","Fichtheim","-18 °C","Straubing"]
["70794","Filderstadt","-14 °C","Stuttgart"]
["89281","Filzingen","-16 °C","Augsburg"]
["64757","Finkenbach","-14 °C","Würzburg"]
["21129","Finkenwerder/Hamburg","-12 °C","Hamburg"]
["57413","Finnentrop","-14 °C","Nürburg-Barweiler"]
["86923","Finning","-16 °C","Kempten"]
["89435","Finningen","-16 °C","Augsburg"]
["89233","Finningen ( Neu Ulm )","-14 °C","Augsburg"]
["16244","Finowfurt","-14 °C","Neuruppin"]
["85464","Finsing","-16 °C","München"]
["03238","Finsterwalde","-16 °C","Lindenberg"]
["65779","Fischbach","-14 °C","Nürburg-Barweiler"]
["83730","Fischbachau","-18 °C","Hohenpeißenberg"]
["64405","Fischbachtal","-14 °C","Würzburg"]
["31840","Fischbeck","-14 °C","Hannover"]
["47807","Fischeln","-10 °C","Düsseldorf"]
["50354","Fischenich","-12 °C","Düsseldorf"]
["77716","Fischerbach","-14 °C","Stuttgart"]
["72172","Fischingen","-16 °C","Stuttgart"]
["79592","Fischingen","-12 °C","Stuttgart"]
["91604","Flachslanden","-16 °C","Nürnberg"]
["53879","Flamersheim","-14 °C","Nürburg-Barweiler"]
["75038","Flehingen","-14 °C","Stuttgart"]
["74223","Flein","-12 °C","Stuttgart"]
["88373","Fleischwangen","-14 °C","Stuttgart"]
["16306","Flemsdorf","-16 °C","Neuruppin"]
["249..","Flensburg","-10 °C","Schleswig"]
["38539","Flettmar","-14 °C","Magdeburg"]
["36103","Flieden","-14 °C","Fritzlar"]
["24220","Flintbek","-10 °C","Schleswig"]
["83126","Flintsbach","-18 °C","Hohenpeißenberg"]
["98593","Floh","-16 °C","Meiningen"]
["09557","Flöha","-14 °C","Erfurt"]
["98593","Floh-Seligenthal","-16 °C","Meiningen"]
["61197","Florstadt","-12 °C","Fritzlar"]
["04651","Flößberg","-14 °C","Leipzig"]
["92696","Flossenbürg","-18 °C","Hof"]
["52499","Floverich","-12 °C","Aachen"]
["78658","Flözlingen","-16 °C","Stuttgart"]
["24787","Fockbek","-12 °C","Schleswig"]
["37603","Fohlenplacken","-14 °C","Fritzlar"]
["31061","Föhrste","-16 °C","Hannover"]
["68200","Folgensbourg / Frankreich","-12 °C","Karlsruhe"]
["76596","Forbach","-16 °C","Karlsruhe"]
["79362","Forchheim / Breisgau","-12 °C","Karlsruhe"]
["09509","Forchheim / Erzgebirge","-16 °C","Meiningen"]
["91301","Forchheim / Oberfr.","-16 °C","Nürnberg"]
["71540","Fornsbach","-16 °C","Stuttgart"]
["76694","Forst","-12 °C","Karlsruhe"]
["03149","Forst/Lausitz","-16 °C","Lindenberg"]
["81476","Forstenried","-16 °C","München"]
["85659","Forstern","-16 °C","München"]
["04668","Förstgen","-14 °C","Leipzig"]
["94550","Forsthart","-18 °C","Straubing"]
["85661","Forstinning","-16 °C","München"]
["90542","Forth","-16 °C","Nürnberg"]
["17091","Fouquettin","-14 °C","Greifswald"]
["97833","Frammersbach","-14 °C","Würzburg"]
["35110","Frankenau","-14 °C","Fritzlar"]
["09669","Frankenberg","-16 °C","Erfurt"]
["35066","Frankenberg","-14 °C","Fritzlar"]
["93179","Frankenberg","-18 °C","Straubing"]
["99441","Frankendorf","-14 °C","Erfurt"]
["15926","Frankendorf","-16 °C","Lindenberg"]
["04430","Frankenheim","-14 °C","Leipzig"]
["98634","Frankenheim","-16 °C","Meiningen"]
["89584","Frankenhofen","-16 °C","Augsburg"]
["92726","Frankenreuth","-18 °C","Hof"]
["67227","Frankenthal / Pfalz","-12 °C","Saarbrücken"]
["1523.","Frankfurt / Oder","-16 °C","Lindenberg"]
["65934","Frankfurt / Main","-12 °C","Frankfurt am Main"]
["94258","Frauenau","-18 °C","Straubing"]
["91056","Frauenaurach","-16 °C","Nürnberg"]
["93339","Frauenberghausen","-16 °C","Straubing"]
["04643","Frauendorf","-14 °C","Leipzig"]
["01609","Frauenhain","-16 °C","Dresden"]
["83553","Frauenneuharting","-16 °C","Hohenpeißenberg"]
["09623","Frauenstein","-16 °C","Meiningen"]
["98711","Frauenwald","-16 °C","Meiningen"]
["08427","Fraureuth","-16 °C","Erfurt"]
["50226","Frechen","-10 °C","Düsseldorf"]
["39317","Frechland","-14 °C","Magdeburg"]
["48231","Freckenhorst","-12 °C","Hannover"]
["31084","Freden","-16 °C","Hannover"]
["15370","Fredersdorf b.Berlin","-14 °C","Lindenberg"]
["17440","Freest","-12 °C","Greifswald"]
["79348","Freiamt","-14 °C","Stuttgart"]
["09599","Freiberg","-16 °C","Erfurt"]
["71691","Freiberg","-12 °C","Stuttgart"]
["79...","Freiburg i. Br.","-12 °C","Karlsruhe"]
["16515","Freienhagen","-14 °C","Neuruppin"]
["59872","Freienohl","-14 °C","Nürburg-Barweiler"]
["35321","Freienseen","-14 °C","Fritzlar"]
["36399","Freiensteinau","-14 °C","Fritzlar"]
["24991","Freienwill","-10 °C","Schleswig"]
["63579","Freigericht","-12 °C","Würzburg"]
["55234","Freimersheim","-12 °C","Trier"]
["66629","Freisen","-14 °C","Saarbrücken"]
["53505","Freisheim","-14 °C","Nürburg-Barweiler"]
["8535.","Freising","-16 °C","München"]
["27259","Freistatt","-12 °C","Bremen"]
["77866","Freistett","-12 °C","Karlsruhe"]
["01705","Freital","-14 °C","Dresden"]
["45127","Freital","-14 °C","Düsseldorf"]
["15910","Freiwalde","-16 °C","Lindenberg"]
["04685","Fremdiswalde","-14 °C","Leipzig"]
["96158","Frensdorf","-16 °C","Bamberg"]
["57413","Fretter","-14 °C","Nürburg-Barweiler"]
["57258","Freudenberg","-12 °C","Nürburg-Barweiler"]
["92272","Freudenberg","-16 °C","Nürnberg"]
["97896","Freudenberg","-14 °C","Würzburg"]
["72250","Freudenstadt","-16 °C","Stuttgart"]
["75438","Freudenstein","-14 °C","Stuttgart"]
["74392","Freudental","-12 °C","Stuttgart"]
["72419","Freudenweiler","-18 °C","Stuttgart"]
["92342","Freystadt","-16 °C","Nürnberg"]
["94078","Freyung","-18 °C","Straubing"]
["72636","Frickenhausen","-16 °C","Stuttgart"]
["97252","Frickenhausen","-14 °C","Würzburg"]
["88699","Frickingen","-14 °C","Stuttgart"]
["78567","Fridingen","-16 °C","Stuttgart"]
["78567","Fridingen an der Donau","-16 °C","Stuttgart"]
["86316","Friedberg","-16 °C","Augsburg"]
["61169","Friedberg","-12 °C","Fritzlar"]
["95688","Friedenfels","-18 °C","Hof"]
["79877","Friedenweiler","-18 °C","Stuttgart"]
["24327","Friederikental","-10 °C","Schleswig"]
["02829","Friedersdorf","-16 °C","Görlitz"]
["15306","Friedersdorf","-14 °C","Lindenberg"]
["15754","Friedersdorf","-14 °C","Lindenberg"]
["32469","Friedewalde","-12 °C","Fritzlar"]
["78224","Friedingen","-14 °C","Konstanz"]
["37133","Friedland","-16 °C","Fritzlar"]
["17098","Friedland","-14 °C","Greifswald"]
["15848","Friedland","-16 °C","Lindenberg"]
["06507","Friedrichsbrunn","-16 °C","Leipzig"]
["08149","Friedrichsgrün","-14 °C","Erfurt"]
["8804.","Friedrichshafen","-12 °C","Konstanz"]
["15754","Friedrichshof","-14 °C","Lindenberg"]
["85049","Friedrichshofen","-16 °C","München"]
["74639","Friedrichsruhe","-14 °C","Stuttgart"]
["56112","Friedrichssegen","-12 °C","Nürburg-Barweiler"]
["16306","Friedrichsthal","-14 °C","Neuruppin"]
["16247","Friedrichswalde","-14 °C","Neuruppin"]
["30826","Frielingen (Garbsen 8)","-14 °C","Hannover"]
["51789","Frielingsdorf","-12 °C","Nürburg-Barweiler"]
["96317","Friesen","-16 °C","Bamberg"]
["51598","Friesenhagen","-12 °C","Nürburg-Barweiler"]
["77948","Friesenheim","-12 °C","Karlsruhe"]
["93092","Friesheim","-18 °C","Straubing"]
["26169","Friesoythe","-12 °C","Emden"]
["71292","Friolzheim","-16 °C","Stuttgart"]
["78665","Frittlingen","-18 °C","Stuttgart"]
["53343","Fritzdorf","-14 °C","Nürburg-Barweiler"]
["90542","Frohnhof","-16 °C","Nürnberg"]
["92256","Frohnhof","-16 °C","Nürnberg"]
["72510","Frohnstetten","-16 °C","Stuttgart"]
["58730","Fröndenberg","-12 °C","Nürburg-Barweiler"]
["86657","Fronhofen","-16 °C","Augsburg"]
["88273","Fronhofen","-14 °C","Stuttgart"]
["88273","Fronreute","-14 °C","Stuttgart"]
["84160","Frontenhausen","-16 °C","Straubing"]
["06464","Frose","-14 °C","Leipzig"]
["85646","Frotzhofen","-16 °C","München"]
["86925","Fuchstal-Leeder","-16 °C","Kempten"]
["50769","Fühlingen","-10 °C","Düsseldorf"]
["30938","Fuhrberg","-12 °C","Hannover"]
["360..","Fulda","-14 °C","Fritzlar"]
["34277","Fuldabrück","-14 °C","Fritzlar"]
["88348","Fulgenstadt","-14 °C","Stuttgart"]
["38304","Fümmelse","-14 °C","Magdeburg"]
["88436","Füramoos","-16 °C","Stuttgart"]
["74906","Fürfeld","-14 °C","Stuttgart"]
["55546","Fürfeld","-12 °C","Trier"]
["92262","Fürnried","-16 °C","Nürnberg"]
["37671","Fürstenau","-14 °C","Fritzlar"]
["49584","Fürstenau","-12 °C","Hannover"]
["33181","Fürstenberg","-14 °C","Fritzlar"]
["37699","Fürstenberg","-14 °C","Fritzlar"]
["16798","Fürstenberg Havel","-14 °C","Neuruppin"]
["82256","Fürstenfeldbruck","-16 °C","Kempten"]
["17235","Fürstensee","-14 °C","Greifswald"]
["94538","Fürstenstein","-18 °C","Straubing"]
["15517","Fürstenwalde / Spree","-14 °C","Lindenberg"]
["17291","Fürstenwerder","-14 °C","Greifswald"]
["94081","Fürstenzell","-16 °C","Straubing"]
["03246","Fürstlich Drehna","-16 °C","Lindenberg"]
["84095","Furth","-16 °C","Straubing"]
["9076.","Fürth / Bay.","-16 °C","Nürnberg"]
["93437","Furth im Wald","-18 °C","Straubing"]
["77723","Fußbach","-14 °C","Karlsruhe"]
["53909","Füssenich","-14 °C","Nürburg-Barweiler"]
["67136","Fussgönheim","-12 °C","Saarbrücken"]
["24327","Futterkamp","-10 °C","Schleswig"]
["02953","Gablenz","-16 °C","Görlitz"]
["86456","Gablingen","-16 °C","Augsburg"]
["55288","Gabsheim","-12 °C","Trier"]
["82813","Gächingen","-18 °C","Kempten"]
["56412","Gackenbach","-12 °C","Nürburg-Barweiler"]
["19089","Gädebehn","-12 °C","Schwerin"]
["19205","Gadebusch","-12 °C","Schwerin"]
["31246","Gadenstedt","-14 °C","Hannover"]
["64686","Gadernheim","-14 °C","Würzburg"]
["04720","Gadewitz","-14 °C","Leipzig"]
["23968","Gägelow","-10 °C","Schwerin"]
["76571","Gaggenau","-14 °C","Karlsruhe"]
["74592","Gaggstatt","-16 °C","Stuttgart"]
["09569","Gahlenz","-16 °C","Erfurt"]
["04618","Gähsnitz","-14 °C","Leipzig"]
["69251","Gaiberg","-12 °C","Würzburg"]
["78343","Gaienhofen","-12 °C","Konstanz"]
["63743","Gailbach (Aschaffenburg)","-12 °C","Würzburg"]
["74405","Gaildorf","-16 °C","Stuttgart"]
["74523","Gailenkirchen","-16 °C","Stuttgart"]
["30891","Gailhof","-14 °C","Hannover"]
["78262","Gailingen","-12 °C","Konstanz"]
["85080","Gaimersheim","-16 °C","München"]
["74653","Gaisbach","-12 °C","Stuttgart"]
["88339","Gaisbeuren","-16 °C","Stuttgart"]
["83674","Gaißach","-18 °C","Hohenpeißenberg"]
["92539","Gaisthal","-18 °C","Hof"]
["79423","Gallenweiler","-14 °C","Karlsruhe"]
["03058","Gallinchen (Cottbus)","-16 °C","Lindenberg"]
["04720","Gallschütz","-14 °C","Leipzig"]
["19230","Gammelin","-12 °C","Schwerin"]
["85408","Gammelsdorf","-16 °C","München"]
["73108","Gammelshausen","-16 °C","Stuttgart"]
["72501","Gammertingen","-16 °C","Stuttgart"]
["74572","Gammesfeld","-16 °C","Stuttgart"]
["77855","Gamshurst","-12 °C","Karlsruhe"]
["99192","Gamstädt","-14 °C","Erfurt"]
["19309","Gandow","-14 °C","Schwerin"]
["52538","Gangelt","-10 °C","Aachen"]
["84140","Gangkofen","-16 °C","Straubing"]
["18276","Ganschow","-12 °C","Rostock"]
["19205","Ganzow","-12 °C","Schwerin"]
["30826","Garbsen","-14 °C","Hannover"]
["04618","Garbus","-14 °C","Leipzig"]
["84518","Garching","-16 °C","Straubing"]
["39638","Gardelegen","-14 °C","Magdeburg"]
["27711","Garlstedt","-12 °C","Bremen"]
["92245","Gärmersdorf","-16 °C","Nürnberg"]
["82467","Garmisch-Partenkirchen","-18 °C","Kempten"]
["06571","Garnbach","-14 °C","Leipzig"]
["09238","Garnsdorf","-14 °C","Erfurt"]
["49681","Garrel","-12 °C","Hannover"]
["71116","Gärtringen","-16 °C","Stuttgart"]
["16307","Gartz","-14 °C","Neuruppin"]
["06466","Gatersleben","-14 °C","Leipzig"]
["14089","Gatow","-14 °C","Potsdam"]
["95185","Gattendorf","-18 °C","Hof"]
["55435","Gau-Algesheim","-12 °C","Trier"]
["69181","Gauangelloch","-12 °C","Würzburg"]
["55599","Gau-Bickelheim","-12 °C","Trier"]
["55296","Gau-Bischofsheim","-12 °C","Trier"]
["04769","Gaudlitz","-14 °C","Leipzig"]
["71126","Gäufelden","-16 °C","Stuttgart"]
["97285","Gaukönigshofen","-14 °C","Würzburg"]
["72393","Gauselfingen","-18 °C","Stuttgart"]
["82131","Gauting","-16 °C","Kempten"]
["86444","Gebenhofen","-16 °C","Augsburg"]
["71229","Gebersheim","-14 °C","Stuttgart"]
["99189","Gebesee","-14 °C","Erfurt"]
["88299","Gebrazhofen","-16 °C","Stuttgart"]
["91607","Gebsattel","-16 °C","Nürnberg"]
["75391","Gechingen","-16 °C","Stuttgart"]
["21502","Geesthacht","-12 °C","Hamburg"]
["17375","Gegensee","-12 °C","Greifswald"]
["32312","Gehlenbeck","-12 °C","Fritzlar"]
["26169","Gehlenberg","-12 °C","Emden"]
["49596","Gehrde","-12 °C","Hannover"]
["33034","Gehrden","-14 °C","Fritzlar"]
["30989","Gehrden","-14 °C","Hannover"]
["98708","Gehren","-16 °C","Meiningen"]
["73642","Gehren","-16 °C","Stuttgart"]
["53909","Geich","-14 °C","Nürburg-Barweiler"]
["52511","Geilenkirchen","-12 °C","Aachen"]
["56379","Geilnau","-12 °C","Nürburg-Barweiler"]
["08538","Geilsdorf","-18 °C","Meiningen"]
["36419","Geisa","-16 °C","Fritzlar"]
["58239","Geisecke","-12 °C","Nürburg-Barweiler"]
["82140","Geiselbullach","-16 °C","Kempten"]
["84144","Geisenhausen","-16 °C","Straubing"]
["65366","Geisenheim","-12 °C","Nürburg-Barweiler"]
["01778","Geising","-16 °C","Dresden"]
["78187","Geisingen","-16 °C","Stuttgart"]
["72351","Geislingen","-16 °C","Stuttgart"]
["73312","Geislingen / Steige","-16 °C","Stuttgart"]
["04643","Geithain","-14 °C","Leipzig"]
["18182","Gelbensande","-10 °C","Rostock"]
["97255","Gelchsheim","-16 °C","Würzburg"]
["47608","Geldern","-10 °C","Düsseldorf"]
["97505","Geldersheim","-16 °C","Würzburg"]
["63571","Gelnhausen","-12 °C","Würzburg"]
["63571","Gelnhausen-Hailer","-14 °C","Würzburg"]
["458..","Gelsenkirchen","-10 °C","Dortmund"]
["45889","Gelsenkirchen-Bismarck","-10 °C","Dortmund"]
["45857","Gelsenkirchen-Buer","-10 °C","Dortmund"]
["45883","Gelsenkirchen-Heßler","-10 °C","Dortmund"]
["45881","Gelsenkirchen-Schalke-Nord","-10 °C","Dortmund"]
["45897","Gelsenkirchen-Scheffrath","-10 °C","Dortmund"]
["82269","Geltendorf","-16 °C","Kempten"]
["01877","Gemitz - Thumitz","-16 °C","Dresden"]
["75050","Gemmingen","-14 °C","Stuttgart"]
["74376","Gemmrigheim","-12 °C","Stuttgart"]
["74376","Gemmringheim","-12 °C","Stuttgart"]
["35329","Gemünden","-14 °C","Fritzlar"]
["55490","Gemünden","-14 °C","Trier"]
["97737","Gemünden a. Main","-14 °C","Würzburg"]
["86682","Genderkingen","-16 °C","Augsburg"]
["77723","Gengenbach","-12 °C","Karlsruhe"]
["72820","Genkingen","-18 °C","Stuttgart"]
["86853","Gennach","-16 °C","Kempten"]
["55457","Gensingen","-12 °C","Trier"]
["39307","Genthin","-14 °C","Magdeburg"]
["65388","Georgenborn","-14 °C","Nürburg-Barweiler"]
["91166","Georgensgmünd","-16 °C","Nürnberg"]
["075..","Gera","-14 °C","Erfurt"]
["98716","Geraberg","-16 °C","Meiningen"]
["74582","Gerabronn","-16 °C","Stuttgart"]
["37318","Gerbershausen","-16 °C","Fritzlar"]
["41812","Gerderath","-10 °C","Düsseldorf"]
["86947","Geretshausen","-16 °C","Kempten"]
["82538","Geretsried","-16 °C","Kempten"]
["04827","Gerichshain","-14 °C","Leipzig"]
["97950","Gerichsheim","-14 °C","Würzburg"]
["74736","Gerichtstetten","-16 °C","Stuttgart"]
["56751","Gering","-14 °C","Nürburg-Barweiler"]
["09326","Geringswalde","-14 °C","Erfurt"]
["97922","Gerlachsheim (Lauda-Königshofen, Baden )","-14 °C","Würzburg"]
["89223","Gerlenhofen","-16 °C","Augsburg"]
["57482","Gerlingen","-14 °C","Nürburg-Barweiler"]
["70839","Gerlingen","-14 °C","Stuttgart"]
["94051","Germannsdorf","-18 °C","Straubing"]
["82110","Germering","-16 °C","Kempten"]
["37339","Gernrode","-16 °C","Fritzlar"]
["76593","Gernsbach","-14 °C","Karlsruhe"]
["64579","Gernsheim","-12 °C","Karlsruhe"]
["97779","Geroda","-16 °C","Würzburg"]
["37345","Gerode","-16 °C","Fritzlar"]
["97447","Gerolzhofen","-16 °C","Würzburg"]
["01920","Gersdorf","-16 °C","Dresden"]
["09355","Gersdorf","-14 °C","Erfurt"]
["09661","Gersdorf","-14 °C","Erfurt"]
["02829","Gersdorf","-16 °C","Görlitz"]
["36129","Gersfeld","-16 °C","Fritzlar"]
["66453","Gersheim","-14 °C","Saarbrücken"]
["04617","Gerstenberg","-14 °C","Leipzig"]
["89547","Gerstetten","-16 °C","Augsburg"]
["86368","Gersthofen","-16 °C","Augsburg"]
["99834","Gerstungen","-16 °C","Meiningen"]
["17268","Gerswalde","-14 °C","Greifswald"]
["48712","Gescher","-10 °C","Hannover"]
["79674","Geschwend","-16 °C","Stuttgart"]
["28857","Gessel","-12 °C","Bremen"]
["04552","Gestewitz","-14 °C","Leipzig"]
["58285","Gevelsberg","-12 °C","Nürburg-Barweiler"]
["09456","Geyersdorf","-16 °C","Meiningen"]
["37434","Gieboldehausen","-16 °C","Fritzlar"]
["89537","Giengen a.d. Brenz","-16 °C","Augsburg"]
["41363","Gierath","-10 °C","Düsseldorf"]
["65558","Giershausen","-14 °C","Nürburg-Barweiler"]
["99100","Gierstädt","-14 °C","Erfurt"]
["353..","Gießen","-12 °C","Fritzlar"]
["38518","Gifhorn","-14 °C","Magdeburg"]
["82205","Gilching","-16 °C","Kempten"]
["54558","Gillenfeld","-14 °C","Trier"]
["52511","Gillrath","-12 °C","Aachen"]
["34630","Gilserberg","-14 °C","Fritzlar"]
["29690","Gilten","-12 °C","Hannover"]
["48268","Gimbte","-12 °C","Hannover"]
["55767","Gimbweiler","-14 °C","Trier"]
["67435","Gimmeldingen","-12 °C","Saarbrücken"]
["53343","Gimmersdorf","-14 °C","Nürburg-Barweiler"]
["46487","Ginderich","-10 °C","Düsseldorf"]
["73333","Gingen","-16 °C","Stuttgart"]
["54584","Glaadt","-14 °C","Trier"]
["4596.","Gladbeck / Westf.","-10 °C","Düsseldorf"]
["37181","Gladebeck","-16 °C","Fritzlar"]
["66887","Glanbrücken","-14 °C","Saarbrücken"]
["49219","Glandorf","-12 °C","Hannover"]
["66907","Glan-Münchweiler","-12 °C","Saarbrücken"]
["74731","Glashofen","-14 °C","Stuttgart"]
["01768","Glashütte","-14 °C","Dresden"]
["31195","Glashütte","-16 °C","Hannover"]
["61479","Glashütten/Taunus","-14 °C","Fritzlar"]
["72172","Glatt","-16 °C","Stuttgart"]
["72293","Glatten","-16 °C","Stuttgart"]
["08371","Glauchau","-14 °C","Erfurt"]
["56653","Glees","-14 °C","Nürburg-Barweiler"]
["41352","Glehn","-10 °C","Düsseldorf"]
["37130","Gleichen","-16 °C","Fritzlar"]
["93339","Gleislhof","-16 °C","Straubing"]
["93477","Gleißenberg","-18 °C","Straubing"]
["72555","Glems","-16 °C","Stuttgart"]
["04435","Glesien","-14 °C","Leipzig"]
["04509","Glesien","-14 °C","Leipzig"]
["50129","Glessen","-12 °C","Düsseldorf"]
["19306","Glewe","-14 °C","Schwerin"]
["15806","Glienick","-14 °C","Lindenberg"]
["16548","Glienicke","-14 °C","Neuruppin"]
["21509","Glinde","-12 °C","Hamburg"]
["39248","Glinde","-14 °C","Magdeburg"]
["39326","Glindenberg","-14 °C","Magdeburg"]
["56588","Glockscheid","-12 °C","Nürburg-Barweiler"]
["04769","Glossen","-14 °C","Leipzig"]
["79286","Glottertal","-14 °C","Stuttgart"]
["18551","Glowe","-10 °C","Rostock"]
["25348","Glückstadt","-10 °C","Schleswig"]
["27442","Gnarrenburg","-12 °C","Bremen"]
["02692","Gnaschwitz","-16 °C","Görlitz"]
["19065","Gneven","-12 °C","Schwerin"]
["07616","Gniebsdorf","-14 °C","Erfurt"]
["24622","Gnutz","-12 °C","Schleswig"]
["47574","Goch","-10 °C","Düsseldorf"]
["97469","Gochsheim","-14 °C","Würzburg"]
["02633","Göda","-16 °C","Görlitz"]
["37671","Godelheim","-14 °C","Fritzlar"]
["31061","Godenau","-14 °C","Hannover"]
["54310","Godendorf","-12 °C","Trier"]
["19065","Godern","-12 °C","Schwerin"]
["39264","Gödnitz","-14 °C","Magdeburg"]
["31157","Gödringen","-14 °C","Hannover"]
["88527","Göffingen","-14 °C","Stuttgart"]
["86199","Göggingen","-16 °C","Augsburg"]
["72505","Göggingen","-14 °C","Stuttgart"]
["73571","Göggingen","-16 °C","Stuttgart"]
["04420","Göhrenz","-14 °C","Leipzig"]
["01824","Gohrisch","-14 °C","Dresden"]
["01824","Gohrisch","-16 °C","Dresden"]
["85399","Goldach","-16 °C","München"]
["39596","Goldbeck","-14 °C","Magdeburg"]
["04720","Göldnitz","-14 °C","Leipzig"]
["86657","Göllingen","-16 °C","Augsburg"]
["06567","Göllingen","-14 °C","Leipzig"]
["04509","Gollmenz","-14 °C","Leipzig"]
["17291","Gollmitz","-14 °C","Greifswald"]
["37640","Golmbach","-14 °C","Fritzlar"]
["07751","Golmsdorf","-14 °C","Erfurt"]
["14913","Gölsdorf","-14 °C","Potsdam"]
["75015","Gölshausen","-12 °C","Stuttgart"]
["06785","Goltewitz","-14 °C","Leipzig"]
["04668","Golzern","-14 °C","Leipzig"]
["52399","Golzheim","-12 °C","Aachen"]
["72532","Gomadingen","-18 °C","Stuttgart"]
["72810","Gomaringen","-16 °C","Stuttgart"]
["39245","Gommern","-14 °C","Magdeburg"]
["14822","Gömnigk","-14 °C","Potsdam"]
["75053","Gondelsheim","-12 °C","Stuttgart"]
["54584","Gönnersdorf","-14 °C","Trier"]
["72770","Gönningen","-16 °C","Stuttgart"]
["35315","Gontershausen","-14 °C","Fritzlar"]
["7303.","Göppingen","-14 °C","Stuttgart"]
["73035","Göppingen-Bezgenriet","-16 °C","Stuttgart"]
["73037","Göppingen-Hohenstaufen","-16 °C","Stuttgart"]
["73037","Göppingen-Holzheim","-16 °C","Stuttgart"]
["73037","Göppingen-Maitis","-16 °C","Stuttgart"]
["17291","Göritz","-14 °C","Greifswald"]
["01809","Gorknitz","-14 °C","Dresden"]
["0282.","Görlitz","-16 °C","Görlitz"]
["17121","Görmin","-12 °C","Greifswald"]
["09405","Gornau","-16 °C","Meiningen"]
["04703","Gorschmitz","-14 °C","Leipzig"]
["06577","Gorsleben","-14 °C","Leipzig"]
["79733","Görwihl","-14 °C","Stuttgart"]
["73342","Gosbach","-18 °C","Stuttgart"]
["04720","Goselitz","-14 °C","Leipzig"]
["78559","Gosheim","-18 °C","Stuttgart"]
["3864.","Goslar","-14 °C","Magdeburg"]
["08427","Gospersgrün","-16 °C","Erfurt"]
["19249","Gößlow","-12 °C","Schwerin"]
["04639","Gößnitz","-14 °C","Leipzig"]
["91327","Gössweinstein","-16 °C","Nürnberg"]
["99867","Gotha","-14 °C","Erfurt"]
["04838","Gotha","-14 °C","Leipzig"]
["72297","Göttelfingen","-16 °C","Stuttgart"]
["79288","Gottenheim","-12 °C","Karlsruhe"]
["19209","Gottesgabe","-12 °C","Schwerin"]
["94239","Gotteszell","-18 °C","Straubing"]
["84177","Gottfrieding","-18 °C","Straubing"]
["3707.","Göttingen","-16 °C","Fritzlar"]
["84166","Göttlkofen","-16 °C","Straubing"]
["78244","Gottmadingen","-12 °C","Konstanz"]
["94107","Gottsdorf","-18 °C","Straubing"]
["14778","Götz","-14 °C","Potsdam"]
["18181","Graal-Müritz","-10 °C","Rostock"]
["71577","Grab","-16 °C","Stuttgart"]
["76676","Graben Neudorf","-12 °C","Karlsruhe"]
["72582","Grabenstetten","-16 °C","Stuttgart"]
["14823","Grabow","-14 °C","Potsdam"]
["19300","Grabow","-14 °C","Schwerin"]
["04886","Graditz","-16 °C","Leipzig"]
["49626","Grafeld","-12 °C","Hannover"]
["31079","Grafelde","-16 °C","Hannover"]
["82166","Gräfelfing","-16 °C","Kempten"]
["94481","Grafenau","-18 °C","Straubing"]
["71120","Grafenau","-16 °C","Stuttgart"]
["72661","Grafenberg","-16 °C","Stuttgart"]
["91322","Gräfenberg","-16 °C","Nürnberg"]
["04916","Gräfendorf","-16 °C","Leipzig"]
["72532","Grafeneck an der Lauter","-18 °C","Stuttgart"]
["06773","Gräfenhainichen","-14 °C","Leipzig"]
["77966","Grafenhausen","-12 °C","Karlsruhe"]
["77966","Grafenhausen","-12 °C","Karlsruhe"]
["79865","Grafenhausen","-16 °C","Stuttgart"]
["75217","Gräfenhausen","-14 °C","Stuttgart"]
["99330","Gräfenroda","-16 °C","Meiningen"]
["93479","Grafenwiesen","-18 °C","Straubing"]
["92655","Grafenwöhr","-16 °C","Nürnberg"]
["89264","Grafertshofen","-16 °C","Augsburg"]
["85567","Grafing","-16 °C","München"]
["82284","Grafrath","-16 °C","Kempten"]
["53501","Grafschaft","-14 °C","Nürburg-Barweiler"]
["82491","Grainau","-18 °C","Kempten"]
["83122","Grainbach","-18 °C","Hohenpeißenberg"]
["17375","Grambin","-12 °C","Greifswald"]
["17375","Grambin-Zeltplatz","-12 °C","Greifswald"]
["23968","Gramkow","-10 °C","Schwerin"]
["17291","Gramzow","-14 °C","Greifswald"]
["89584","Granheim","-16 °C","Augsburg"]
["41812","Granterath","-12 °C","Düsseldorf"]
["28879","Grasberg","-12 °C","Bremen"]
["31188","Grasdorf","-14 °C","Hannover"]
["64689","Grasellenbach","-14 °C","Würzburg"]
["39579","Grassau","-14 °C","Magdeburg"]
["94541","Grattersdorf","-18 °C","Straubing"]
["01796","Graupa","-14 °C","Dresden"]
["01827","Graupa","-14 °C","Dresden"]
["37647","Grave","-12 °C","Fritzlar"]
["61279","Grävenwiesbach","-14 °C","Fritzlar"]
["17419","Graz","-12 °C","Greifswald"]
["19374","Grebbin","-14 °C","Schwerin"]
["04509","Grebehna","-14 °C","Leipzig"]
["37276","Grebendorf","-16 °C","Fritzlar"]
["34393","Grebenstein","-14 °C","Fritzlar"]
["91171","Greding","-16 °C","Nürnberg"]
["77836","Greffern","-12 °C","Karlsruhe"]
["86926","Greifenberg","-16 °C","Kempten"]
["09661","Greifendorf","-14 °C","Erfurt"]
["03116","Greifenhain","-16 °C","Lindenberg"]
["35753","Greifenstein","-14 °C","Fritzlar"]
["174..","Greifswald","-12 °C","Greifswald"]
["87755","Greimeltshofen","-16 °C","Augsburg"]
["07973","Greiz","-16 °C","Erfurt"]
["24975","Gremmerup","-10 °C","Schleswig"]
["79639","Grenzach - Wyhlen","-12 °C","Stuttgart"]
["48268","Greven / Westf.","-12 °C","Hannover"]
["4151.","Grevenbroich","-10 °C","Düsseldorf"]
["23936","Grevesmühlen","-10 °C","Schwerin"]
["79206","Grezhausen","-12 °C","Karlsruhe"]
["18516","Griebenow","-12 °C","Rostock"]
["94086","Griesbach","-16 °C","Straubing"]
["77740","Griesbach","-16 °C","Stuttgart"]
["06786","Griesen","-14 °C","Leipzig"]
["64347","Griesheim","-12 °C","Karlsruhe"]
["77652","Griesheim","-12 °C","Karlsruhe"]
["89608","Griesingen","-14 °C","Augsburg"]
["09112","Griffen / Österreich","-18 °C","Erfurt"]
["04668","Grimma","-14 °C","Leipzig"]
["18507","Grimmen","-12 °C","Rostock"]
["79395","Grißheim","-12 °C","Karlsruhe"]
["17498","Gristow","-12 °C","Greifswald"]
["08538","Grobau","-16 °C","Meiningen"]
["82194","Gröbenzell","-16 °C","Kempten"]
["06184","Gröbers","-14 °C","Leipzig"]
["01609","Gröditz","-16 °C","Dresden"]
["02627","Gröditz","-16 °C","Görlitz"]
["88456","Grodt","-16 °C","Stuttgart"]
["31860","Grohnde","-12 °C","Hannover"]
["04539","Groitzsch","-14 °C","Leipzig"]
["04838","Groitzsch","-14 °C","Leipzig"]
["74906","Grombach","-12 °C","Stuttgart"]
["72294","Grömbach","-16 °C","Stuttgart"]
["31028","Gronau","-14 °C","Hannover"]
["71720","Gronau","-14 °C","Stuttgart"]
["48599","Gronau / Westf.","-10 °C","Hannover"]
["39397","Gröningen","-14 °C","Magdeburg"]
["95701","Groschlattengrün","-18 °C","Hof"]
["19258","Groß Bengerstorf","-12 °C","Schwerin"]
["31855","Groß Berkel","-14 °C","Hannover"]
["38319","Groß Biewende","-14 °C","Magdeburg"]
["39435","Groß Börnecke","-14 °C","Magdeburg"]
["69509","Groß Breitenbach","-14 °C","Würzburg"]
["31171","Groß Escherde","-14 °C","Hannover"]
["64521","Gross Gerau","-12 °C","Würzburg"]
["18442","Groß Kordshagen","-10 °C","Rostock"]
["15746","Groß Köris","-14 °C","Lindenberg"]
["23966","Groß Krankow","-12 °C","Schwerin"]
["19288","Groß Laasch","-14 °C","Schwerin"]
["31246","Groß Lafferde","-14 °C","Hannover"]
["15913","Groß Leine","-16 °C","Lindenberg"]
["19336","Groß Lüben","-14 °C","Schwerin"]
["18445","Groß Mohrdorf","-10 °C","Rostock"]
["19217","Groß Molzahn","-12 °C","Schwerin"]
["03058","Groß Oßnig","-16 °C","Lindenberg"]
["17489","Groß Petershagen","-12 °C","Greifswald"]
["68649","Groß Rohrheim","-12 °C","Karlsruhe"]
["39240","Groß Rosenburg","-14 °C","Magdeburg"]
["23627","Groß Sarau","-12 °C","Schwerin"]
["02999","Groß Särchen","-16 °C","Görlitz"]
["16348","Groß Schönebeck","-14 °C","Neuruppin"]
["15806","Groß Schulzendorf","-14 °C","Lindenberg"]
["39579","Groß Schwechten","-14 °C","Magdeburg"]
["23972","Groß Stieten","-12 °C","Schwerin"]
["64823","Groß Umstadt","-14 °C","Würzburg"]
["24802","Groß Vollstedt","-12 °C","Schleswig"]
["17166","Groß Wokern","-12 °C","Greifswald"]
["64846","Groß Zimmern","-14 °C","Würzburg"]
["86845","Großaiting","-16 °C","Kempten"]
["86845","Großaitingen","-16 °C","Kempten"]
["63457","Grossauheim","-12 °C","Würzburg"]
["14979","Großbeeren","-14 °C","Potsdam"]
["72663","Großbettlingen","-16 °C","Stuttgart"]
["64401","Groß-Bieberau","-14 °C","Würzburg"]
["71723","Großbottwar","-14 °C","Stuttgart"]
["30938","Großburgwedel","-14 °C","Hannover"]
["04460","Großdalzig","-14 °C","Leipzig"]
["73527","Großdeinbach","-16 °C","Stuttgart"]
["01665","Großdobritz","-16 °C","Dresden"]
["97633","Großeibstsdt","-16 °C","Würzburg"]
["72415","Grosselfingen","-16 °C","Stuttgart"]
["31812","Großenberg","-14 °C","Hannover"]
["34582","Großenenglis","-14 °C","Fritzlar"]
["99991","Großengottern","-14 °C","Erfurt"]
["01558","Großenhain","-16 °C","Dresden"]
["31515","Grossenheidorn","-14 °C","Hannover"]
["71577","Großenlach","-16 °C","Stuttgart"]
["91091","Großenseebach","-16 °C","Nürnberg"]
["01454","Großerkmannsdorf","-14 °C","Dresden"]
["99100","Großfahner","-14 °C","Erfurt"]
["08541","Großfriesen","-16 °C","Meiningen"]
["99706","Großfurra","-14 °C","Erfurt"]
["75417","Großglattbach","-14 °C","Stuttgart"]
["06686","Großgörschen","-14 °C","Leipzig"]
["02994","Großgrabe","-16 °C","Görlitz"]
["06246","Großgräfendorf","-14 °C","Leipzig"]
["90427","Großgründlach","-16 °C","Nürnberg"]
["90613","Großhabersdorf","-16 °C","Nürnberg"]
["01906","Großhänchen","-16 °C","Dresden"]
["01909","Großharthau","-14 °C","Dresden"]
["09618","Großhartmannsdorf","-16 °C","Erfurt"]
["83607","Großhartpenning","-18 °C","Hohenpeißenberg"]
["96269","Großheirath","-16 °C","Bamberg"]
["02747","Großhennersdorf","-16 °C","Görlitz"]
["63920","Großheubach","-14 °C","Würzburg"]
["85244","Großinzemoos","-16 °C","München"]
["83109","Großkarolinenfeld","-16 °C","Hohenpeißenberg"]
["01990","Großkmehlen","-16 °C","Dresden"]
["07407","Großkochberg","-14 °C","Erfurt"]
["89359","Grosskötz","-16 °C","Augsburg"]
["89518","Großkuchen","-16 °C","Augsburg"]
["04420","Großlehna","-14 °C","Leipzig"]
["15907","Groß-Lubolz","-16 °C","Lindenberg"]
["56276","Großmaischeid","-14 °C","Nürburg-Barweiler"]
["85098","Großmehring","-18 °C","München"]
["39221","Großmühlingen","-14 °C","Magdeburg"]
["01936","Großnaundorf","-14 °C","Dresden"]
["67259","Großniedesheim","-12 °C","Saarbrücken"]
["63762","Großostheim","-12 °C","Würzburg"]
["04463","Großpösna","-14 °C","Leipzig"]
["02692","Großpostwitz","-16 °C","Görlitz"]
["04539","Großprießligk","-14 °C","Leipzig"]
["01983","Großräschen","-16 °C","Dresden"]
["97950","Großrinderfeld","-14 °C","Würzburg"]
["01825","Großröhrsdorf","-14 °C","Dresden"]
["01900","Großröhsdorf","-14 °C","Dresden"]
["04895","Großrössen","-16 °C","Leipzig"]
["99195","Großrudestedt","-14 °C","Erfurt"]
["39517","Groß-Schwarzlosen","-14 °C","Magdeburg"]
["02708","Großschweidnitz","-16 °C","Görlitz"]
["04668","Großsteinberg","-14 °C","Leipzig"]
["04932","Großthiemig","-16 °C","Leipzig"]
["09575","Großwaltersdorf","-16 °C","Meiningen"]
["91174","Großweingarten","-16 °C","Nürnberg"]
["04720","Großweitzschen","-14 °C","Leipzig"]
["04860","Großwig","-16 °C","Leipzig"]
["06905","Großwig","-14 °C","Leipzig"]
["39319","Großwulkow","-14 °C","Magdeburg"]
["08538","Großzöbern","-18 °C","Meiningen"]
["06632","Gröst","-14 °C","Leipzig"]
["52511","Grotenrath","-12 °C","Aachen"]
["09474","Grottendorf","-16 °C","Meiningen"]
["50181","Grottenherten","-12 °C","Düsseldorf"]
["72631","Grötzingen","-14 °C","Stuttgart"]
["96271","Grub am Forst","-16 °C","Bamberg"]
["73344","Gruibingen","-16 °C","Stuttgart"]
["09224","Grüna","-14 °C","Erfurt"]
["08223","Grünbach","-16 °C","Meiningen"]
["35305","Grünberg","-14 °C","Fritzlar"]
["63584","Gründau","-14 °C","Würzburg"]
["23948","Grundshagen","-10 °C","Schwerin"]
["89613","Grundsheim","-16 °C","Augsburg"]
["31073","Grünenplan","-14 °C","Hannover"]
["79219","Grunern","-14 °C","Karlsruhe"]
["01945","Grünewald","-16 °C","Dresden"]
["39218","Grünewalde","-14 °C","Magdeburg"]
["08358","Grünhain","-16 °C","Meiningen"]
["09579","Grünhainichen","-16 °C","Meiningen"]
["88287","Grünkraut","-14 °C","Stuttgart"]
["09661","Grünlichtenberg","-14 °C","Erfurt"]
["72160","Grünmettstetten","-16 °C","Stuttgart"]
["17291","Grünow","-14 °C","Greifswald"]
["97947","Grünsfeld","-16 °C","Würzburg"]
["97947","Grünsfeldhausen","-14 °C","Würzburg"]
["76228","Grünwettersbach","-12 °C","Karlsruhe"]
["72401","Gruol","-16 °C","Stuttgart"]
["74417","Gschwend b. Gaildorf","-16 °C","Stuttgart"]
["83257","Gstadt an Chiemsee","-16 °C","Hohenpeißenberg"]
["03172","Guben","-16 °C","Lindenberg"]
["74363","Güglingen","-14 °C","Stuttgart"]
["15913","Guhlen","-16 °C","Lindenberg"]
["55452","Guldental","-12 °C","Trier"]
["72218","Gültlingen","-16 °C","Stuttgart"]
["71083","Gültstein","-16 °C","Stuttgart"]
["17089","Gültz","-14 °C","Greifswald"]
["5164.","Gummersbach","-12 °C","Nürburg-Barweiler"]
["07751","Gumperda","-14 °C","Erfurt"]
["71665","Gündelbach","-14 °C","Stuttgart"]
["89423","Gundelfingen","-16 °C","Augsburg"]
["79194","Gundelfingen","-14 °C","Karlsruhe"]
["74831","Gundelsheim","-12 °C","Stuttgart"]
["64380","Gundernhausen","-14 °C","Würzburg"]
["79206","Gündlingen","-12 °C","Karlsruhe"]
["89355","Gundremmingen","-16 °C","Augsburg"]
["59519","Günne","-12 °C","Nürburg-Barweiler"]
["91224","Guntersrieth","-16 °C","Nürnberg"]
["89312","Günzburg","-16 °C","Augsburg"]
["91710","Gunzenhausen","-16 °C","Nürnberg"]
["79761","Gurtweil","-12 °C","Stuttgart"]
["39317","Güsen","-14 °C","Magdeburg"]
["54413","Gusenburg","-14 °C","Trier"]
["17509","Gustebin","-12 °C","Greifswald"]
["39439","Güsten","-14 °C","Magdeburg"]
["91189","Gustenfelden","-16 °C","Nürnberg"]
["21514","Güster","-12 °C","Hamburg"]
["19205","Güstow","-12 °C","Schwerin"]
["18273","Güstrow","-12 °C","Rostock"]
["77793","Gutach","-16 °C","Stuttgart"]
["79261","Gutach","-14 °C","Stuttgart"]
["01945","Guteborn","-16 °C","Dresden"]
["86869","Gutenberg","-16 °C","Kempten"]
["72488","Gutenstein","-16 °C","Stuttgart"]
["88484","Gutenzell","-16 °C","Stuttgart"]
["3333.","Gütersloh","-12 °C","Fritzlar"]
["78187","Gutmadingen","-16 °C","Stuttgart"]
["17506","Gützkow","-12 °C","Greifswald"]
["50374","Gymnich","-12 °C","Düsseldorf"]
["85410","Haag","-16 °C","München"]
["91126","Haag","-16 °C","Nürnberg"]
["04758","Haage","-14 °C","Leipzig"]
["42781","Haan","-10 °C","Düsseldorf"]
["85540","Haar","-16 °C","München"]
["94542","Haarbach","-16 °C","Straubing"]
["97720","Haard","-14 °C","Würzburg"]
["19336","Haaren","-14 °C","Schwerin"]
["03058","Haasow","-16 °C","Lindenberg"]
["82392","Habach","-16 °C","Kempten"]
["99706","Hachelbich","-14 °C","Erfurt"]
["57627","Hachenburg","-14 °C","Nürburg-Barweiler"]
["31188","Hackenstedt","-14 °C","Hannover"]
["65589","Hadamar (Westerwald)","-14 °C","Nürburg-Barweiler"]
["29693","Hademstorf","-12 °C","Hannover"]
["89356","Hafenhofen","-16 °C","Augsburg"]
["74343","Häfnerhaslach","-14 °C","Stuttgart"]
["76889","Haftelhof","-12 °C","Saarbrücken"]
["79685","Häg-Ehrsberg","-16 °C","Stuttgart"]
["93095","Hagelstadt","-18 °C","Straubing"]
["27628","Hagen","-10 °C","Bremen"]
["29378","Hagen","-14 °C","Hannover"]
["58...","Hagen","-12 °C","Nürburg-Barweiler"]
["76767","Hagenbach","-12 °C","Karlsruhe"]
["91469","Hagenbüchbach","-16 °C","Nürnberg"]
["31558","Hagenburg","-14 °C","Hannover"]
["17194","Hagenow","-12 °C","Greifswald"]
["19230","Hagenow","-12 °C","Schwerin"]
["88709","Hagnau/Bodensee","-12 °C","Konstanz"]
["64319","Hahn","-12 °C","Würzburg"]
["92256","Hahnbach","-16 °C","Nürnberg"]
["38640","Hahndorf","-14 °C","Magdeburg"]
["55278","Hahnheim","-12 °C","Trier"]
["94353","Haibach","-18 °C","Straubing"]
["63808","Haibach","-12 °C","Würzburg"]
["04910","Haida","-16 °C","Leipzig"]
["07926","Haidefeld","-18 °C","Meiningen"]
["03130","Haidemühl","-16 °C","Lindenberg"]
["94501","Haidenburg","-16 °C","Straubing"]
["88410","Haidgau","-16 °C","Stuttgart"]
["93142","Haidhof","-16 °C","Straubing"]
["94522","Haidlfing","-18 °C","Straubing"]
["35708","Haiger","-14 °C","Fritzlar"]
["72401","Haigerloch","-16 °C","Stuttgart"]
["35708","Haigerseelbach","-14 °C","Fritzlar"]
["72108","Hailfingen","-16 °C","Stuttgart"]
["88525","Hailtingen","-14 °C","Stuttgart"]
["31319","Haimar","-14 °C","Hannover"]
["02779","Hainewalde","-16 °C","Görlitz"]
["76835","Hainfeld","-12 °C","Saarbrücken"]
["09661","Hainichen","-14 °C","Erfurt"]
["04567","Hainichen","-14 °C","Leipzig"]
["99735","Hainrode","-14 °C","Erfurt"]
["86744","Hainsfarth","-16 °C","Augsburg"]
["63512","Hainstadt","-12 °C","Würzburg"]
["72221","Haiterbach","-16 °C","Stuttgart"]
["63571","Haitz","-14 °C","Würzburg"]
["38820","Halberstadt","-14 °C","Magdeburg"]
["57489","Halbhusten","-12 °C","Nürburg-Barweiler"]
["32351","Haldem","-12 °C","Fritzlar"]
["39340","Haldensleben","-14 °C","Magdeburg"]
["89356","Haldenwang","-16 °C","Augsburg"]
["46459","Haldern","-10 °C","Düsseldorf"]
["83128","Halfing","-16 °C","Hohenpeißenberg"]
["06116","Halle","-14 °C","Leipzig"]
["061..","Halle / Kröllwitz","-14 °C","Leipzig"]
["33790","Halle / Westf. ","-12 °C","Fritzlar"]
["59969","Hallenberg","-16 °C","Nürburg-Barweiler"]
["91352","Hallerndorf","-16 °C","Nürnberg"]
["67826","Hallgarten","-12 °C","Saarbrücken"]
["96103","Hallstadt","-16 °C","Bamberg"]
["09633","Halsbrücke","-16 °C","Erfurt"]
["56283","Halsenbach","-14 °C","Nürburg-Barweiler"]
["45721","Haltern","-10 °C","Düsseldorf"]
["79576","Haltingen","-12 °C","Karlsruhe"]
["58553","Halver","-12 °C","Nürburg-Barweiler"]
["97456","Hambach","-16 °C","Würzburg"]
["75242","Hamberg","-14 °C","Stuttgart"]
["23619","Hamberge","-12 °C","Schwerin"]
["27729","Hambergen","-12 °C","Bremen"]
["76707","Hambrücken","-12 °C","Karlsruhe"]
["56761","Hambuch","-14 °C","Nürburg-Barweiler"]
["29313","Hambühren","-12 °C","Hannover"]
["21037","Hamburg - Reitbrook","-12 °C","Hamburg"]
["3178.","Hameln","-12 °C","Hannover"]
["590..","Hamm / Westf.","-12 °C","Nürburg-Barweiler"]
["97762","Hammelburg","-14 °C","Würzburg"]
["52152","Hammer","-14 °C","Aachen"]
["16559","Hammer","-14 °C","Neuruppin"]
["04849","Hammermühle","-14 °C","Leipzig"]
["99441","Hammerstedt","-14 °C","Erfurt"]
["46499","Hamminkeln","-10 °C","Düsseldorf"]
["22929","Hammoor","-12 °C","Hamburg"]
["6345.","Hanau","-12 °C","Würzburg"]
["48157","Handorf","-12 °C","Hannover"]
["15537","Hangelsberg","-14 °C","Lindenberg"]
["31311","Hänigsen","-14 °C","Hannover"]
["29386","Hankensbüttel","-14 °C","Hannover"]
["34346","Hann.- Münden","-12 °C","Fritzlar"]
["29582","Hanstedt","-14 °C","Hannover"]
["86655","Harburg","-16 °C","Augsburg"]
["74736","Hardheim","-14 °C","Stuttgart"]
["78739","Hardt","-16 °C","Stuttgart"]
["49733","Haren","-10 °C","Hannover"]
["55595","Hargesheim","-12 °C","Trier"]
["79713","Harpolingen","-12 °C","Stuttgart"]
["27243","Harpstedt","-12 °C","Bremen"]
["21698","Harsefeld","-12 °C","Hamburg"]
["33428","Harsewinkel","-12 °C","Fritzlar"]
["38829","Harsleben","-14 °C","Magdeburg"]
["31177","Harsum","-14 °C","Hannover"]
["72401","Hart","-16 °C","Stuttgart"]
["08134","Härtensdorf","-14 °C","Erfurt"]
["08118","Hartenstein","-16 °C","Erfurt"]
["91235","Hartenstein","-16 °C","Nürnberg"]
["09569","Hartha","-14 °C","Erfurt"]
["04746","Hartha","-14 °C","Leipzig"]
["86316","Harthausen","-16 °C","Augsburg"]
["67376","Harthausen","-12 °C","Saarbrücken"]
["72501","Harthausen","-16 °C","Stuttgart"]
["79258","Hartheim","-12 °C","Karlsruhe"]
["56459","Härtlingen","-14 °C","Nürburg-Barweiler"]
["08107","Hartmannsdorf","-16 °C","Erfurt"]
["09232","Hartmannsdorf","-14 °C","Erfurt"]
["08468","Hartmannsgrün","-16 °C","Erfurt"]
["91224","Hartmannshof","-16 °C","Nürnberg"]
["06493","Harzgerode","-16 °C","Leipzig"]
["49205","Hasbergen","-12 °C","Hannover"]
["79686","Hasel","-14 °C","Stuttgart"]
["09509","Haselbach","-14 °C","Meiningen"]
["49740","Haselünne","-12 °C","Hannover"]
["71083","Haslach","-16 °C","Stuttgart"]
["77716","Haslach","-16 °C","Stuttgart"]
["88430","Haslach","-16 °C","Stuttgart"]
["01920","Häslich","-16 °C","Dresden"]
["25474","Hasloh","-12 °C","Schleswig"]
["82285","Haspelmoor","-16 °C","Kempten"]
["38899","Hasselfelde","-16 °C","Magdeburg"]
["08112","Haßlau","-14 °C","Erfurt"]
["17291","Haßleben","-14 °C","Greifswald"]
["74855","Haßmersheim","-12 °C","Stuttgart"]
["31559","Haste","-14 °C","Hannover"]
["88416","Hattenburg","-16 °C","Stuttgart"]
["65347","Hattenheim","-12 °C","Nürburg-Barweiler"]
["82285","Hattenhofen","-16 °C","Kempten"]
["73110","Hattenhofen","-16 °C","Stuttgart"]
["65795","Hattersheim","-12 °C","Karlsruhe"]
["78194","Hattingen","-16 °C","Stuttgart"]
["4552.","Hattingen / Ruhr","-12 °C","Dortmund"]
["37197","Hattorf","-16 °C","Fritzlar"]
["25856","Hattstedt","-10 °C","Schleswig"]
["76846","Hauenstein","-12 °C","Saarbrücken"]
["79725","Hauenstein","-12 °C","Stuttgart"]
["88410","Hauerz","-16 °C","Stuttgart"]
["91729","Haundorf","-16 °C","Nürnberg"]
["91249","Haunritz","-16 °C","Nürnberg"]
["89437","Haunsheim","-16 °C","Augsburg"]
["86179","Haunstetten","-16 °C","Augsburg"]
["08468","Hauptmannsgrün","-16 °C","Erfurt"]
["34626","Hauptschwenda","-14 °C","Fritzlar"]
["94481","Haus im Wald","-18 °C","Straubing"]
["77756","Hausach","-16 °C","Stuttgart"]
["35415","Hausen","-14 °C","Fritzlar"]
["36280","Hausen","-16 °C","Fritzlar"]
["91353","Hausen","-16 °C","Nürnberg"]
["71263","Hausen","-16 °C","Stuttgart"]
["72393","Hausen","-18 °C","Stuttgart"]
["79688","Hausen","-14 °C","Stuttgart"]
["63840","Hausen","-14 °C","Würzburg"]
["97262","Hausen","-14 °C","Würzburg"]
["89604","Hausen ob Allmendingen","-14 °C","Augsburg"]
["78595","Hausen ob Verena","-18 °C","Stuttgart"]
["78183","Hausen vor Wald","-16 °C","Stuttgart"]
["79837","Häusern","-16 °C","Stuttgart"]
["83734","Hausham","-18 °C","Hohenpeißenberg"]
["01900","Hauswalde","-14 °C","Dresden"]
["06577","Hauteroda","-14 °C","Leipzig"]
["94051","Hauzenberg","-18 °C","Straubing"]
["39539","Havelberg","-14 °C","Magdeburg"]
["38275","Haverlah","-14 °C","Magdeburg"]
["48329","Havixbeck","-12 °C","Hannover"]
["72534","Hayingen","-16 °C","Stuttgart"]
["37339","Haynrode","-16 °C","Fritzlar"]
["95168","Hebanz","-18 °C","Hof"]
["84332","Hebertsfelden","-16 °C","Straubing"]
["82229","Hechendorf","-16 °C","Kempten"]
["06571","Hechendorf","-14 °C","Leipzig"]
["72379","Hechingen","-16 °C","Stuttgart"]
["21755","Hechthausen","-12 °C","Hamburg"]
["55129","Hechtsheim","-12 °C","Karlsruhe"]
["54518","Heckenmünster","-14 °C","Trier"]
["65614","Heckholzhausen","-14 °C","Nürburg-Barweiler"]
["79341","Hecklingen ","-12 °C","Karlsruhe"]
["36275","Heddersdorf","-14 °C","Fritzlar"]
["68542","Heddersheim","-12 °C","Karlsruhe"]
["56564","Heddesdorf","-12 °C","Nürburg-Barweiler"]
["33719","Heepen","-12 °C","Fritzlar"]
["01833","Heeselicht","-14 °C","Dresden"]
["27404","Heeslingen","-12 °C","Bremen"]
["31707","Heeßen","-14 °C","Hannover"]
["65510","Heftrich","-14 °C","Nürburg-Barweiler"]
["73669","Hegenlohe","-16 °C","Stuttgart"]
["57413","Heggen","-14 °C","Nürburg-Barweiler"]
["71334","Hegnach","-12 °C","Stuttgart"]
["16559","Heidchen","-14 °C","Neuruppin"]
["19294","Heiddorf","-12 °C","Schwerin"]
["53797","Heide","-12 °C","Nürburg-Barweiler"]
["25746","Heide / Holst.","-10 °C","Schleswig"]
["91180","Heideck","-16 °C","Nürnberg"]
["691..","Heidelberg","-10 °C","Würzburg"]
["76646","Heidelsheim","-12 °C","Stuttgart"]
["46359","Heiden","-10 °C","Düsseldorf"]
["01809","Heidenau","-14 °C","Dresden"]
["54426","Heidenburg","-12 °C","Trier"]
["55262","Heidenfahrt","-12 °C","Trier"]
["895..","Heidenheim / Brenz","-16 °C","Augsburg"]
["65321","Heidenrod","-14 °C","Nürburg-Barweiler"]
["55262","Heidesheim","-12 °C","Trier"]
["54518","Heidweiler","-12 °C","Trier"]
["740..","Heilbronn / Neckar","-12 °C","Stuttgart"]
["88633","Heiligenberg","-14 °C","Stuttgart"]
["78731","Heiligenbronn","-16 °C","Stuttgart"]
["42579","Heiligenhaus b. Velbert","-12 °C","Düsseldorf"]
["37308","Heiligenstadt","-16 °C","Fritzlar"]
["06347","Heiligenthal","-14 °C","Leipzig"]
["77948","Heiligenzell","-12 °C","Karlsruhe"]
["72348","Heiligenzimmern","-16 °C","Stuttgart"]
["69253","Heiligkreuzsteinach","-12 °C","Würzburg"]
["91560","Heilsbronn","-16 °C","Nürnberg"]
["79331","Heimbach","-12 °C","Karlsruhe"]
["53474","Heimersheim","-14 °C","Nürburg-Barweiler"]
["71296","Heimsheim","-16 °C","Stuttgart"]
["37627","Heinade","-14 °C","Fritzlar"]
["73092","Heiningen","-16 °C","Stuttgart"]
["52525","Heinsberg","-10 °C","Aachen"]
["08468","Heinsdorfergrund","-16 °C","Erfurt"]
["37649","Heinsen","-12 °C","Fritzlar"]
["74906","Heinsheim","-12 °C","Stuttgart"]
["67742","Heinzenhausen","-12 °C","Saarbrücken"]
["54497","Heinzerath","-14 °C","Trier"]
["87493","Heising","-16 °C","Kempten"]
["85276","Heißmanning","-16 °C","München"]
["25492","Heist","-10 °C","Schleswig"]
["53639","Heisterbacherrott","-12 °C","Nürburg-Barweiler"]
["79423","Heitersheim","-14 °C","Karlsruhe"]
["06311","Helbra","-14 °C","Leipzig"]
["85414","Helfenbrunn","-16 °C","München"]
["56244","Helferskirchen","-14 °C","Nürburg-Barweiler"]
["37627","Hellental","-14 °C","Fritzlar"]
["53940","Hellenthal","-14 °C","Nürburg-Barweiler"]
["95233","Helmbrechts","-18 °C","Hof"]
["77866","Helmlingen","-12 °C","Karlsruhe"]
["17498","Helmshagen","-12 °C","Greifswald"]
["74921","Helmstadt","-12 °C","Stuttgart"]
["97264","Helmstadt","-14 °C","Würzburg"]
["38350","Helmstedt","-14 °C","Magdeburg"]
["34298","Helsa","-14 °C","Fritzlar"]
["31535","Helstorf","-14 °C","Hannover"]
["33034","Hembsen","-14 °C","Fritzlar"]
["58675","Hemer","-12 °C","Nürburg-Barweiler"]
["91334","Hemhofen","-16 °C","Nürnberg"]
["72108","Hemmendorf","-16 °C","Stuttgart"]
["97258","Hemmersheim","-16 °C","Würzburg"]
["71282","Hemmingen","-14 °C","Stuttgart"]
["30966","Hemmingen ","-14 °C","Hannover"]
["92353","Heng","-16 °C","Nürnberg"]
["72574","Hengen","-18 °C","Stuttgart"]
["94491","Hengersberg","-18 °C","Straubing"]
["53773","Hennef","-12 °C","Nürburg-Barweiler"]
["53773","Hennef/Sieg","-12 °C","Nürburg-Barweiler"]
["16761","Hennigsdorf","-14 °C","Neuruppin"]
["16761","Henningsdorf b. Berlin","-14 °C","Neuruppin"]
["67551","Heppenheim","-12 °C","Saarbrücken"]
["64646","Heppenheim","-12 °C","Würzburg"]
["73235","Hepsisau","-16 °C","Stuttgart"]
["88518","Herbertingen","-14 °C","Stuttgart"]
["85241","Herbertshausen","-16 °C","München"]
["86405","Herbertshofen","-16 °C","Augsburg"]
["79336","Herbolzheim","-12 °C","Karlsruhe"]
["91478","Herbolzheim","-16 °C","Nürnberg"]
["74861","Herbolzheim","-12 °C","Stuttgart"]
["35745","Herborn","-14 °C","Fritzlar"]
["89542","Herbrechtingen","-16 °C","Augsburg"]
["99955","Herbsleben","-14 °C","Erfurt"]
["97980","Herbsthausen","-16 °C","Würzburg"]
["36355","Herchenhain","-14 °C","Fritzlar"]
["58313","Herdecke","-12 °C","Nürburg-Barweiler"]
["88634","Herdwangen","-14 °C","Stuttgart"]
["320..","Herford","-12 °C","Fritzlar"]
["36318","Hergersdorf","-14 °C","Fritzlar"]
["06313","Hergisdorf","-14 °C","Leipzig"]
["97534","Hergolshausen","-14 °C","Würzburg"]
["36266","Heringen/Werra","-14 °C","Fritzlar"]
["23777","Heringsdorf","-10 °C","Schwerin"]
["37293","Herleshausen","-14 °C","Fritzlar"]
["73527","Herlikofen","-16 °C","Stuttgart"]
["29320","Hermannsburg","-14 °C","Hannover"]
["66919","Hermersberg","-12 °C","Saarbrücken"]
["01776","Hermsdorf","-16 °C","Dresden"]
["01945","Hermsdorf","-16 °C","Dresden"]
["07629","Hermsdorf","-14 °C","Erfurt"]
["446..","Herne","-10 °C","Dortmund"]
["72535","Heroldstatt","-16 °C","Stuttgart"]
["71083","Herrenberg","-16 °C","Stuttgart"]
["09217","Herrenhaide","-14 °C","Erfurt"]
["78662","Herrenzimmern","-16 °C","Stuttgart"]
["56729","Herresbach","-14 °C","Nürburg-Barweiler"]
["50374","Herrig","-12 °C","Düsseldorf"]
["79737","Herrischried","-14 °C","Stuttgart"]
["23923","Herrnburg","-10 °C","Schwerin"]
["02747","Herrnhut","-16 °C","Görlitz"]
["67550","Herrnsheim","-12 °C","Saarbrücken"]
["82211","Herrsching am Ammersee","-16 °C","Kempten"]
["02899","Hersbach","-16 °C","Görlitz"]
["91217","Hersbruck","-16 °C","Nürnberg"]
["58849","Herscheid","-14 °C","Nürburg-Barweiler"]
["53332","Hersel","-12 °C","Nürburg-Barweiler"]
["45...","Herten / Westf.","-10 °C","Düsseldorf"]
["79415","Hertingen","-12 °C","Karlsruhe"]
["71364","Hertmannsweiler","-14 °C","Stuttgart"]
["67273","Herxheim am Berg","-12 °C","Saarbrücken"]
["91074","Herzogenaurach","-16 °C","Nürnberg"]
["52134","Herzogenrath","-12 °C","Aachen"]
["72336","Heselwangen","-18 °C","Stuttgart"]
["35085","Heskem","-12 °C","Fritzlar"]
["91093","Heßdorf","-16 °C","Nürnberg"]
["63607","Hesseldorf","-14 °C","Würzburg"]
["38835","Hessen","-14 °C","Magdeburg"]
["74394","Hessigheim","-12 °C","Stuttgart"]
["37235","Hessisch Lichtenau","-14 °C","Fritzlar"]
["31840","Hessisch Oldendorf","-12 °C","Hannover"]
["74722","Hettigenbeuern","-16 °C","Stuttgart"]
["06333","Hettstedt","-14 °C","Leipzig"]
["41812","Hetzerath","-12 °C","Düsseldorf"]
["54523","Hetzerath","-10 °C","Trier"]
["91077","Hetzlers","-16 °C","Nürnberg"]
["91077","Hetzles","-16 °C","Nürnberg"]
["73540","Heubach","-16 °C","Stuttgart"]
["72589","Heuberg","-18 °C","Stuttgart"]
["89547","Heuchlingen","-16 °C","Augsburg"]
["73572","Heuchlingen","-16 °C","Stuttgart"]
["78253","Heudorf im Hegau","-14 °C","Konstanz"]
["83052","Heufeld","-16 °C","Hohenpeißenberg"]
["97618","Heustreu","-14 °C","Würzburg"]
["66265","Heusweiler","-12 °C","Saarbrücken"]
["79194","Heuweiler","-14 °C","Karlsruhe"]
["93336","Hexenagger","-16 °C","Straubing"]
["31171","Heyersum","-14 °C","Hannover"]
["32120","Hiddenhausen","-12 °C","Fritzlar"]
["59457","Hilbeck","-12 °C","Nürburg-Barweiler"]
["09627","Hilbersdorf","-16 °C","Erfurt"]
["02894","Hilbersdorf","-16 °C","Görlitz"]
["57271","Hilchenbach","-14 °C","Nürburg-Barweiler"]
["98646","Hildburghausen","-16 °C","Meiningen"]
["4072.","Hilden","-10 °C","Düsseldorf"]
["311..","Hildesheim","-14 °C","Hannover"]
["71157","Hildrizhausen","-16 °C","Stuttgart"]
["57612","Hilgenroth/Westerw.","-12 °C","Nürburg-Barweiler"]
["32479","Hille","-12 °C","Fritzlar"]
["32694","Hillentrup","-14 °C","Fritzlar"]
["54576","Hillesheim","-14 °C","Trier"]
["56204","Hillscheid","-12 °C","Nürburg-Barweiler"]
["91161","Hilpoltstein","-16 °C","Nürnberg"]
["74889","Hilsbach","-12 °C","Stuttgart"]
["91355","Hiltpoltstein","-16 °C","Nürnberg"]
["78247","Hilzingen","-12 °C","Konstanz"]
["39596","Hindenburg","-14 °C","Magdeburg"]
["06386","Hinsdorf","-14 °C","Leipzig"]
["01855","Hinterhermsdorf","-16 °C","Dresden"]
["98553","Hinternah","-16 °C","Meiningen"]
["17375","Hintersee","-12 °C","Greifswald"]
["36396","Hintersteinau","-14 °C","Fritzlar"]
["79856","Hinterzarten","-18 °C","Stuttgart"]
["27432","Hipstedt","-12 °C","Bremen"]
["72145","Hirrlingen","-16 °C","Stuttgart"]
["75365","Hirsau ","-16 °C","Stuttgart"]
["96114","Hirschaid","-16 °C","Bamberg"]
["72070","Hirschau","-16 °C","Stuttgart"]
["07927","Hirschberg","-18 °C","Meiningen"]
["09526","Hirschberg","-16 °C","Meiningen"]
["69493","Hirschberg","-12 °C","Würzburg"]
["18311","Hirschburg","-10 °C","Rostock"]
["98678","Hirschendorf","-16 °C","Meiningen"]
["04932","Hirschfeld","-16 °C","Leipzig"]
["37235","Hirschhagen","-14 °C","Fritzlar"]
["57635","Hirzbach","-14 °C","Nürburg-Barweiler"]
["63697","Hirzenhain","-14 °C","Würzburg"]
["21522","Hittbergen","-12 °C","Hamburg"]
["39279","Hobeck","-14 °C","Magdeburg"]
["88348","Hochberg","-14 °C","Stuttgart"]
["71686","Hochdorf","-14 °C","Stuttgart"]
["71735","Hochdorf","-14 °C","Stuttgart"]
["72202","Hochdorf","-16 °C","Stuttgart"]
["72297","Hochdorf","-16 °C","Stuttgart"]
["73269","Hochdorf","-16 °C","Stuttgart"]
["88454","Hochdorf","-16 °C","Stuttgart"]
["72151","Hochdorf bei Horb / Neckar","-16 °C","Stuttgart"]
["79862","Höchenschwand","-16 °C","Stuttgart"]
["02627","Hochkirch","-16 °C","Görlitz"]
["41363","Hochneukirch","-10 °C","Düsseldorf"]
["64739","Höchst","-14 °C","Würzburg"]
["95186","Höchstädt","-18 °C","Hof"]
["76351","Hochstetten","-12 °C","Karlsruhe"]
["79206","Hochstetten","-12 °C","Karlsruhe"]
["55606","Hochstetten-Dhaun","-14 °C","Trier"]
["86163","Hochzoll","-16 °C","Augsburg"]
["68766","Hockenheim","-12 °C","Karlsruhe"]
["88662","Hödingen (Überlingen)","-12 °C","Konstanz"]
["56472","Hof","-14 °C","Nürburg-Barweiler"]
["950..","Hof, Saale","-18 °C","Hof"]
["36145","Hofbieber","-16 °C","Fritzlar"]
["84152","Hofdorf","-18 °C","Straubing"]
["90431","Höfen","-16 °C","Nürnberg"]
["92342","Höfen","-16 °C","Nürnberg"]
["75339","Höfen","-16 °C","Stuttgart"]
["74889","Hoffenheim","-12 °C","Stuttgart"]
["51503","Hoffnungsthal","-12 °C","Nürburg-Barweiler"]
["34369","Hofgeismar","-14 °C","Fritzlar"]
["04668","Höfgen","-14 °C","Leipzig"]
["65719","Hofheim","-12 °C","Nürburg-Barweiler"]
["97461","Hofheim / Unterfr.","-14 °C","Würzburg"]
["71229","Höfingen","-14 °C","Stuttgart"]
["84082","Hofkirchen","-18 °C","Straubing"]
["94544","Hofkirchen","-18 °C","Straubing"]
["86928","Hofstetten","-16 °C","Kempten"]
["86928","Hofstetten","-16 °C","Kempten"]
["77749","Hofweier","-12 °C","Karlsruhe"]
["77749","Hohberg","-12 °C","Karlsruhe"]
["04808","Hohburg","-14 °C","Leipzig"]
["38700","Hohegeiß","-16 °C","Magdeburg"]
["16540","Hohen Neuendorf","-14 °C","Neuruppin"]
["23996","Hohen Viecheln","-12 °C","Schwerin"]
["83670","Hohenbirken","-14 °C","Hohenpeißenberg"]
["18445","Hohendorf","-10 °C","Rostock"]
["31185","Hoheneggelsen","-14 °C","Hannover"]
["16306","Hohenfelde ","-14 °C","Neuruppin"]
["73666","Hohengehren","-14 °C","Stuttgart"]
["31249","Hohenhameln","-14 °C","Hannover"]
["74420","Hohenhardtsweiler","-16 °C","Stuttgart"]
["74343","Hohenhaslach","-12 °C","Stuttgart"]
["04448","Hohenheida","-14 °C","Leipzig"]
["26434","Hohenkirchen","-10 °C","Emden"]
["07958","Hohenleiben","-16 °C","Erfurt"]
["04934","Hohenleipisch","-16 °C","Leipzig"]
["58119","Hohenlimburg","-12 °C","Nürburg-Barweiler"]
["06773","Hohenlubast","-14 °C","Leipzig"]
["89537","Hohenmemmingen","-16 °C","Augsburg"]
["82383","Hohenpeißenberg","-16 °C","Kempten"]
["82335","Höhenrain","-16 °C","Kempten"]
["86637","Hohenreichen","-16 °C","Augsburg"]
["16307","Hohenreinkendorf","-14 °C","Neuruppin"]
["36284","Hohenroda","-14 °C","Fritzlar"]
["16248","Hohensaaten","-14 °C","Neuruppin"]
["82069","Hohenschäftlarn","-16 °C","Kempten"]
["87645","Hohenschwangau","-18 °C","Kempten"]
["73453","Hohenstadt","-16 °C","Stuttgart"]
["65329","Hohenstein","-14 °C","Nürburg-Barweiler"]
["72531","Hohenstein","-18 °C","Stuttgart"]
["09337","Hohenstein-Ernstthal","-14 °C","Erfurt"]
["79801","Hohentengen","-12 °C","Stuttgart"]
["88367","Hohentengen","-14 °C","Stuttgart"]
["83104","Hohenthann","-16 °C","Hohenpeißenberg"]
["75181","Hohenwart","-14 °C","Stuttgart"]
["93480","Hohenwarth","-18 °C","Straubing"]
["39291","Hohenwarthe","-14 °C","Magdeburg"]
["06179","Hohenweiden","-14 °C","Leipzig"]
["24594","Hohenwestedt","-12 °C","Schleswig"]
["01561","Hohndorf","-16 °C","Dresden"]
["07985","Hohndorf","-16 °C","Erfurt"]
["09434","Hohndorf","-14 °C","Meiningen"]
["29362","Hohne","-14 °C","Hannover"]
["31559","Hohnhorst","-14 °C","Hannover"]
["77694","Hohnhurst","-12 °C","Karlsruhe"]
["06179","Höhnstedt","-14 °C","Leipzig"]
["42655","Höhscheid","-12 °C","Düsseldorf"]
["41469","Hoisten","-10 °C","Düsseldorf"]
["49451","Holdorf","-12 °C","Hannover"]
["49584","Hollenstede","-12 °C","Hannover"]
["37154","Hollenstedt","-16 °C","Fritzlar"]
["21279","Hollenstedt","-12 °C","Hamburg"]
["83098","Höllenstein","-18 °C","Hohenpeißenberg"]
["53940","Hollerath","-14 °C","Nürburg-Barweiler"]
["21723","Hollern-Twielenfleth","-10 °C","Hamburg"]
["96142","Hollfeld","-16 °C","Bamberg"]
["32257","Holsen","-12 °C","Fritzlar"]
["41069","Holt ","-10 °C","Düsseldorf"]
["46147","Holten","-10 °C","Düsseldorf"]
["31787","Holtensen","-12 °C","Hannover"]
["26629","Holtrop","-10 °C","Emden"]
["41363","Holz","-12 °C","Düsseldorf"]
["66265","Holz","-12 °C","Saarbrücken"]
["56379","Holzappel","-12 °C","Nürburg-Barweiler"]
["09623","Holzau","-16 °C","Meiningen"]
["75365","Holzbronn","-14 °C","Stuttgart"]
["06926","Holzdorf","-16 °C","Leipzig"]
["72805","Holzelfingen","-18 °C","Stuttgart"]
["37632","Holzen","-14 °C","Fritzlar"]
["79400","Holzen","-12 °C","Karlsruhe"]
["71088","Holzgerlingen","-16 °C","Stuttgart"]
["32457","Holzhausen","-12 °C","Fritzlar"]
["35753","Holzhausen","-14 °C","Fritzlar"]
["77866","Holzhausen","-12 °C","Karlsruhe"]
["79232","Holzhausen","-12 °C","Karlsruhe"]
["04454","Holzhausen","-14 °C","Leipzig"]
["86919","Holzhausen a. Ammersee","-16 °C","Kempten"]
["32805","Holzhausen-Externsteine","-14 °C","Fritzlar"]
["89438","Holzheim","-16 °C","Augsburg"]
["41472","Holzheim","-10 °C","Düsseldorf"]
["90453","Holzheim","-16 °C","Nürnberg"]
["83607","Holzkirchen ","-18 °C","Hohenpeißenberg"]
["73271","Holzmaden","-16 °C","Stuttgart"]
["37603","Holzminden","-12 °C","Fritzlar"]
["53501","Holzweiler","-14 °C","Nürburg-Barweiler"]
["06808","Holzweißig","-14 °C","Leipzig"]
["59439","Holzwickede","-12 °C","Nürburg-Barweiler"]
["34576","Homberg","-14 °C","Fritzlar"]
["67744","Homberg","-14 °C","Saarbrücken"]
["47...","Homberg / Niederrh.","-10 °C","Düsseldorf"]
["40882","Homberg-Meiersberg","-10 °C","Düsseldorf"]
["44227","Hombruch","-12 °C","Düsseldorf"]
["66424","Homburg / Saar","-12 °C","Saarbrücken"]
["31177","Hönnersum","-14 °C","Hannover"]
["15366","Hönow","-14 °C","Lindenberg"]
["59737","Honrath","-12 °C","Nürburg-Barweiler"]
["44869","Höntrop","-12 °C","Düsseldorf"]
["66606","Hoof","-12 °C","Saarbrücken"]
["49846","Hoogstede","-10 °C","Hannover"]
["72172","Hopfau","-16 °C","Stuttgart"]
["71711","Höpfigheim","-12 °C","Stuttgart"]
["74746","Höpfingen","-14 °C","Stuttgart"]
["14641","Hoppenrade","-14 °C","Potsdam"]
["48496","Hopsten","-12 °C","Hannover"]
["72160","Horb","-16 °C","Stuttgart"]
["56412","Horbach","-12 °C","Nürburg-Barweiler"]
["35745","Hörbach","-14 °C","Fritzlar"]
["79289","Horben","-16 °C","Stuttgart"]
["76771","Hördt","-12 °C","Karlsruhe"]
["88477","Hörenhausen","-16 °C","Stuttgart"]
["86497","Horgau","-16 °C","Augsburg"]
["88263","Horgenzell","-14 °C","Stuttgart"]
["85413","Hörgertshausen","-16 °C","München"]
["79793","Horheim","-12 °C","Stuttgart"]
["74417","Horlachen","-16 °C","Stuttgart"]
["01986","Hörlitz","-16 °C","Dresden"]
["32805","Horn-Bad Meinberg","-14 °C","Fritzlar"]
["02763","Hörnitz","-16 °C","Görlitz"]
["03130","Hornow","-16 °C","Lindenberg"]
["71665","Horrheim","-14 °C","Stuttgart"]
["55457","Horrweiler","-12 °C","Trier"]
["96231","Horsdorf","-16 °C","Bamberg"]
["99976","Horsmar","-16 °C","Erfurt"]
["45899","Horst","-10 °C","Düsseldorf"]
["21220","Horst","-12 °C","Hamburg"]
["06785","Horstdorf","-14 °C","Leipzig"]
["63755","Hörstein","-12 °C","Würzburg"]
["48477","Hörstel","-12 °C","Hannover"]
["63768","Hösbach","-14 °C","Würzburg"]
["01996","Hosena","-16 °C","Dresden"]
["88374","Hoßkirch","-14 °C","Stuttgart"]
["88374","Hoßkirch","-14 °C","Stuttgart"]
["73663","Hößlinswart","-14 °C","Stuttgart"]
["79736","Hottingen","-14 °C","Stuttgart"]
["53902","Houverath","-14 °C","Nürburg-Barweiler"]
["33161","Hövelhof","-12 °C","Fritzlar"]
["37671","Höxter","-12 °C","Fritzlar"]
["27318","Hoyerhagen","-12 °C","Bremen"]
["31093","Hoyershausen","-14 °C","Hannover"]
["02977","Hoyerswerda","-16 °C","Görlitz"]
["06308","Hübitz","-14 °C","Leipzig"]
["75181","Huchenfeld","-14 °C","Stuttgart"]
["32609","Huchzen","-12 °C","Fritzlar"]
["41836","Hückelhoven","-10 °C","Düsseldorf"]
["47259","Huckingen","-10 °C","Düsseldorf"]
["31177","Hüddessum","-14 °C","Hannover"]
["27798","Hude","-12 °C","Bremen"]
["74928","Hüffenhardt","-12 °C","Stuttgart"]
["78183","Hüfingen","-16 °C","Stuttgart"]
["76549","Hügelsheim","-12 °C","Karlsruhe"]
["82386","Huglfing","-16 °C","Kempten"]
["79232","Hugstetten","-12 °C","Karlsruhe"]
["77933","Hugsweier","-12 °C","Karlsruhe"]
["47551","Huisberden","-10 °C","Düsseldorf"]
["72584","Hülben","-16 °C","Stuttgart"]
["32609","Hüllhorst","-12 °C","Fritzlar"]
["31867","Hülsede","-14 °C","Hannover"]
["66773","Hülzweiler","-12 °C","Saarbrücken"]
["32676","Hummersen","-14 °C","Fritzlar"]
["98634","Hümpfershausen","-16 °C","Meiningen"]
["94336","Hunderdorf","-18 °C","Straubing"]
["88518","Hundersingen","-14 °C","Stuttgart"]
["67749","Hundheim","-14 °C","Saarbrücken"]
["97900","Hundheim","-14 °C","Würzburg"]
["39343","Hundisburg","-14 °C","Magdeburg"]
["36088","Hünfeld","-14 °C","Fritzlar"]
["35410","Hungen","-12 °C","Fritzlar"]
["65510","Hünstetten","-14 °C","Nürburg-Barweiler"]
["46569","Hünxe","-10 °C","Düsseldorf"]
["54518","Hupperath","-14 °C","Trier"]
["52393","Hürtgenwald","-14 °C","Aachen"]
["52393","Hürtgenwald-Gey","-14 °C","Aachen"]
["50354","Hürth","-10 °C","Düsseldorf"]
["24850","Hüsby","-12 °C","Schleswig"]
["39579","Hüselitz","-14 °C","Magdeburg"]
["31632","Husum","-12 °C","Hannover"]
["25813","Husum / Nordsee","-10 °C","Schleswig"]
["66882","Hütschenhausen","-12 °C","Saarbrücken"]
["35625","Hüttenberg","-14 °C","Fritzlar"]
["76661","Huttenheim","-12 °C","Karlsruhe"]
["84152","Hüttenkofen","-18 °C","Straubing"]
["38889","Hüttenrode","-16 °C","Magdeburg"]
["54636","Hüttingen/Kyll","-14 °C","Trier"]
["73460","Hüttlingen","-16 °C","Stuttgart"]
["36110","Hutzdorf","-14 °C","Fritzlar"]
["29646","Hützel","-14 °C","Hannover"]
["79837","Ibach-Mutterslehen","-16 °C","Stuttgart"]
["4947.","Ibbenbüren","-12 °C","Hannover"]
["89335","Ichenhausen","-16 °C","Augsburg"]
["77743","Ichenheim","-12 °C","Karlsruhe"]
["99334","Ichtershausen","-14 °C","Erfurt"]
["55743","Idar-Oberstein","-12 °C","Trier"]
["65510","Idstein","-14 °C","Nürburg-Barweiler"]
["76473","Iffezheim","-12 °C","Karlsruhe"]
["91338","Igensdorf","-16 °C","Nürnberg"]
["97999","Igersheim","-16 °C","Würzburg"]
["67471","Iggelbach","-12 °C","Saarbrücken"]
["94547","Iggensbach","-18 °C","Straubing"]
["73574","Iggingen","-16 °C","Stuttgart"]
["86859","Igling","-16 °C","Kempten"]
["72160","Ihlingen","-16 °C","Stuttgart"]
["79241","Ihringen","-12 °C","Karlsruhe"]
["93346","Ihrlerstein","-16 °C","Straubing"]
["38723","Ildehausen","-16 °C","Magdeburg"]
["99958","Illeben","-14 °C","Erfurt"]
["89269","Illerberg","-16 °C","Augsburg"]
["89281","Illereichen","-16 °C","Augsburg"]
["89171","Illerkirchberg","-16 °C","Augsburg"]
["89186","Illerrieden","-16 °C","Augsburg"]
["89257","Illertissen","-16 °C","Augsburg"]
["76477","Illingen","-12 °C","Karlsruhe"]
["75428","Illingen","-14 °C","Stuttgart"]
["88636","Illmensee","-14 °C","Stuttgart"]
["98693","Ilmenau","-16 °C","Meiningen"]
["99326","Ilmtal","-14 °C","Erfurt"]
["31241","Ilsede","-14 °C","Hannover"]
["38871","Ilsenburg","-16 °C","Magdeburg"]
["74360","Ilsfeld","-12 °C","Stuttgart"]
["74532","Ilshofen","-16 °C","Stuttgart"]
["68549","Ilvesheim","-12 °C","Karlsruhe"]
["78194","Immendingen","-16 °C","Stuttgart"]
["56077","Immendorf","-12 °C","Nürburg-Barweiler"]
["34376","Immenhausen","-14 °C","Fritzlar"]
["72127","Immenhausen","-16 °C","Stuttgart"]
["73463","Immenhofen","-16 °C","Stuttgart"]
["95505","Immenreuth","-18 °C","Hof"]
["31275","Immensen","-14 °C","Hannover"]
["88090","Immenstaad","-12 °C","Konstanz"]
["87509","Immenstadt","-18 °C","Kempten"]
["72534","Indelhausen","-16 °C","Stuttgart"]
["94428","Indersbach","-16 °C","Straubing"]
["74653","Ingelfingen","-14 °C","Stuttgart"]
["55218","Ingelheim","-12 °C","Trier"]
["88456","Ingoldingen","-16 °C","Stuttgart"]
["850..","Ingolstadt","-16 °C","München"]
["35410","Inheiden","-12 °C","Fritzlar"]
["72513","Inneringen","-16 °C","Stuttgart"]
["94548","Innernzell","-18 °C","Straubing"]
["24613","Innien","-12 °C","Schleswig"]
["98599","Inselsberg","-16 °C","Meiningen"]
["53520","Insul","-14 °C","Nürburg-Barweiler"]
["72514","Inzigkofen","-14 °C","Stuttgart"]
["97258","Ippesheim","-16 °C","Würzburg"]
["91472","Ipsheim","-16 °C","Nürnberg"]
["75446","Iptingen","-14 °C","Stuttgart"]
["08485","Irfersgrün","-16 °C","Erfurt"]
["85049","Irgertsheim","-16 °C","München"]
["52388","Irresheim","-12 °C","Aachen"]
["83737","Irschenberg","-18 °C","Hohenpeißenberg"]
["39167","Irxleben","-14 °C","Magdeburg"]
["5863.","Iserlohn","-12 °C","Nürburg-Barweiler"]
["30916","Isernhagen","-14 °C","Hannover"]
["85737","Ismaning","-16 °C","München"]
["88316","Isny","-16 °C","Stuttgart"]
["75228","Ispringen","-14 °C","Stuttgart"]
["54338","Issel","-10 °C","Trier"]
["65558","Isselbach","-14 °C","Nürburg-Barweiler"]
["46419","Isselburg","-10 °C","Düsseldorf"]
["47661","Issum","-10 °C","Düsseldorf"]
["88677","Ittendorf","-12 °C","Stuttgart"]
["49847","Itterbeck","-10 °C","Hannover"]
["76307","Ittersbach","-14 °C","Stuttgart"]
["88048","Ittingen","-12 °C","Konstanz"]
["88515","Ittingen","-16 °C","Stuttgart"]
["74930","Ittlingen","-14 °C","Stuttgart"]
["25524","Izehoe","-12 °C","Schleswig"]
["15236","Jacobsdorf","-16 °C","Lindenberg"]
["26349","Jade","-10 °C","Emden"]
["07768","Jägersdorf","-14 °C","Erfurt"]
["74249","Jagsthausen","-14 °C","Stuttgart"]
["73489","Jagstzell","-16 °C","Stuttgart"]
["37688","Jakobsberg","-14 °C","Fritzlar"]
["03130","Jämlitz","-16 °C","Lindenberg"]
["02906","Jänkendorf","-16 °C","Görlitz"]
["01945","Jannowitz","-16 °C","Dresden"]
["17126","Jarmen","-12 °C","Greifswald"]
["73035","Jebenhausen","-16 °C","Stuttgart"]
["79361","Jechtingen","-12 °C","Karlsruhe"]
["89257","Jedesheim","-16 °C","Augsburg"]
["0774.","Jena","-14 °C","Erfurt"]
["39319","Jerichow","-14 °C","Magdeburg"]
["03159","Jerischke","-16 °C","Lindenberg"]
["04838","Jesewitz","-14 °C","Leipzig"]
["73230","Jesingen","-16 °C","Stuttgart"]
["01689","Jessen","-16 °C","Dresden"]
["02699","Jeßnitz","-16 °C","Görlitz"]
["04720","Jeßnitz","-14 °C","Leipzig"]
["21266","Jesteburg","-12 °C","Hamburg"]
["98708","Jesuborn","-16 °C","Meiningen"]
["72127","Jettenburg","-16 °C","Stuttgart"]
["71131","Jettingen","-16 °C","Stuttgart"]
["89343","Jettingen-Scheppach","-16 °C","Augsburg"]
["08543","Jocketa","-16 °C","Meiningen"]
["08349","Johanngeorgenstadt","-18 °C","Meiningen"]
["96328","Johannisthal","-16 °C","Bamberg"]
["75045","Jöhlingen","-12 °C","Stuttgart"]
["01768","Johnsbach","-16 °C","Dresden"]
["33739","Jöllenbeck","-12 °C","Fritzlar"]
["02796","Jonsdorf","-16 °C","Görlitz"]
["41363","Jüchen","-10 °C","Düsseldorf"]
["37127","Jühnde","-14 °C","Fritzlar"]
["52428","Jülich","-12 °C","Aachen"]
["72417","Jungingen","-18 °C","Stuttgart"]
["54584","Jünkerath","-14 °C","Trier"]
["17214","Jürgenshof","-12 °C","Greifswald"]
["17153","Jürgenstorf","-14 °C","Greifswald"]
["14913","Jüterbog","-14 °C","Potsdam"]
["37345","Jützenbach","-16 °C","Fritzlar"]
["41564","Kaarst","-10 °C","Düsseldorf"]
["79790","Kadelburg","-12 °C","Stuttgart"]
["89284","Kadeltshofen","-16 °C","Augsburg"]
["56337","Kadenbach","-12 °C","Nürburg-Barweiler"]
["04668","Kaditzsch","-14 °C","Leipzig"]
["63796","Kahl am Main","-12 °C","Würzburg"]
["72479","Kaiseringen","-16 °C","Stuttgart"]
["73667","Kaisersbach","-16 °C","Stuttgart"]
["56759","Kaisersesch","-14 °C","Nürburg-Barweiler"]
["676..","Kaiserslautern","-12 °C","Saarbrücken"]
["86687","Kaisheim","-16 °C","Augsburg"]
["06785","Kakau","-14 °C","Leipzig"]
["60437","Kalbach","-12 °C","Frankfurt am Main"]
["36148","Kalbach","-14 °C","Fritzlar"]
["91720","Kalbensteinberg","-16 °C","Nürnberg"]
["63755","Kälberau","-12 °C","Würzburg"]
["90562","Kalchreuth","-16 °C","Nürnberg"]
["23942","Kalkhorst","-10 °C","Schwerin"]
["78355","Kalkofen","-14 °C","Konstanz"]
["88356","Kalkreute","-14 °C","Stuttgart"]
["01561","Kalkreuth","-16 °C","Dresden"]
["53925","Kall","-14 °C","Nürburg-Barweiler"]
["32689","Kalldorf ","-12 °C","Fritzlar"]
["59602","Kallenhardt","-14 °C","Nürburg-Barweiler"]
["32689","Kalletal","-14 °C","Fritzlar"]
["56294","Kalt","-14 °C","Nürburg-Barweiler"]
["82269","Kaltenberg","-16 °C","Kempten"]
["82269","Kalteneck","-16 °C","Kempten"]
["87662","Kaltental","-16 °C","Kempten"]
["98634","Kaltenwestheim","-16 °C","Meiningen"]
["52156","Kalterherberg ","-14 °C","Aachen"]
["09661","Kaltofen","-14 °C","Erfurt"]
["59174","Kamen / Westf.","-12 °C","Nürburg-Barweiler"]
["01917","Kamenz","-16 °C","Dresden"]
["39524","Kamern","-14 °C","Magdeburg"]
["04886","Kamitz","-16 °C","Leipzig"]
["83278","Kammer","-16 °C","Hohenpeißenberg"]
["91126","Kammerstein","-16 °C","Nürnberg"]
["26169","Kampe","-12 °C","Emden"]
["75236","Kämpfelbach","-14 °C","Stuttgart"]
["47475","Kamp-Lintfort","-10 °C","Düsseldorf"]
["18516","Kandelin","-12 °C","Rostock"]
["79400","Kandern","-14 °C","Karlsruhe"]
["79400","Kandern","-14 °C","Karlsruhe"]
["18299","Kankel","-12 °C","Rostock"]
["88422","Kanzach","-14 °C","Stuttgart"]
["41516","Kapellen","-10 °C","Düsseldorf"]
["99510","Kapellendorf","-14 °C","Erfurt"]
["75339","Kapfenhardt","-14 °C","Stuttgart"]
["84186","Kapfing","-16 °C","Straubing"]
["77966","Kappel","-12 °C","Karlsruhe"]
["91355","Kappel","-16 °C","Nürnberg"]
["79853","Kappel","-18 °C","Stuttgart"]
["88263","Kappel","-14 °C","Stuttgart"]
["24376","Kappeln","-10 °C","Schleswig"]
["77876","Kappelrodeck","-14 °C","Karlsruhe"]
["61184","Karben","-12 °C","Fritzlar"]
["52525","Karken","-10 °C","Aachen"]
["76307","Karlsbad","-14 °C","Stuttgart"]
["17495","Karlsburg","-12 °C","Greifswald"]
["76689","Karlsdorf","-12 °C","Karlsruhe"]
["17449","Karlshagen","-12 °C","Greifswald"]
["27442","Karlshöfen","-12 °C","Bremen"]
["86668","Karlshuld","-16 °C","Augsburg"]
["76...","Karlsruhe","-12 °C","Karlsruhe"]
["97753","Karlstadt","-14 °C","Würzburg"]
["23966","Karow","-10 °C","Schwerin"]
["94094","Karpfham","-16 °C","Straubing"]
["17498","Karrendorf","-12 °C","Greifswald"]
["17440","Karrin","-12 °C","Greifswald"]
["79618","Karsau","-12 °C","Stuttgart"]
["19357","Karstädt","-14 °C","Schwerin"]
["341..","Kassel","-12 °C","Fritzlar"]
["95506","Kastl","-16 °C","Hof"]
["92280","Kastl","-16 °C","Nürnberg"]
["84556","Kastl","-16 °C","Straubing"]
["31311","Katensen","-14 °C","Hannover"]
["37191","Katlenburg","-16 °C","Fritzlar"]
["49536","Kattenvenne","-14 °C","Hannover"]
["04749","Kattwitz","-14 °C","Leipzig"]
["35630","Katzenfurt","-14 °C","Fritzlar"]
["79297","Katzenmoos","-16 °C","Stuttgart"]
["17509","Katzow","-12 °C","Greifswald"]
["04886","Kaucklitz","-16 °C","Leipzig"]
["06231","Kauern","-14 °C","Leipzig"]
["87600","Kaufbeuren","-16 °C","Kempten"]
["86916","Kaufering","-16 °C","Kempten"]
["71083","Kayh","-16 °C","Stuttgart"]
["18513","Keffenbrink","-12 °C","Rostock"]
["77694","Kehl","-12 °C","Karlsruhe"]
["88074","Kehlen","-14 °C","Konstanz"]
["65779","Kelkheim","-14 °C","Nürburg-Barweiler"]
["89293","Kellmünz","-16 °C","Augsburg"]
["65451","Kelsterbach","-14 °C","Karlsruhe"]
["75210","Keltern","-14 °C","Stuttgart"]
["06901","Kemberg","-14 °C","Leipzig"]
["88212","Kemmerlang","-14 °C","Konstanz"]
["73760","Kemnat","-14 °C","Stuttgart"]
["95478","Kemnath","-16 °C","Hof"]
["17509","Kemnitz","-12 °C","Greifswald"]
["08538","Kemnitz","-18 °C","Meiningen"]
["17509","Kemnitzerhagen","-12 °C","Greifswald"]
["56746","Kempenich","-14 °C","Nürburg-Barweiler"]
["8743.","Kempten / Allgäu","-16 °C","Kempten"]
["54344","Kenn","-10 °C","Trier"]
["79341","Kenzingen","-12 °C","Karlsruhe"]
["47647","Kerken","-10 °C","Düsseldorf"]
["03172","Kerkwitz","-16 °C","Lindenberg"]
["71394","Kernen","-14 °C","Stuttgart"]
["50171","Kerpen","-12 °C","Düsseldorf"]
["54589","Kerschenbach","-14 °C","Trier"]
["08373","Kertzsch","-14 °C","Erfurt"]
["16845","Kerzlin","-14 °C","Neuruppin"]
["65510","Kesselbach","-14 °C","Nürburg-Barweiler"]
["52152","Kesternich","-14 °C","Aachen"]
["36325","Kestrich","-14 °C","Fritzlar"]
["68775","Ketsch","-12 °C","Karlsruhe"]
["72501","Kettenacker","-16 °C","Stuttgart"]
["49577","Kettenkamp","-12 °C","Hannover"]
["86498","Kettershausen","-16 °C","Augsburg"]
["14669","Ketzin","-14 °C","Potsdam"]
["99713","Keula","-14 °C","Erfurt"]
["47623","Kevelaer","-10 °C","Düsseldorf"]
["89407","Kicklingen","-16 °C","Augsburg"]
["72108","Kiebingen","-16 °C","Stuttgart"]
["04720","Kiebitz","-14 °C","Leipzig"]
["04720","Kiebitz","-14 °C","Leipzig"]
["03058","Kiekebusch","-16 °C","Lindenberg"]
["241..","Kiel","-10 °C","Schleswig"]
["02899","Kiesdorf","-16 °C","Görlitz"]
["36460","Kieselbach","-16 °C","Fritzlar"]
["75249","Kieselbronn","-14 °C","Stuttgart"]
["72072","Kilchberg","-16 °C","Stuttgart"]
["61137","Kilianstädten","-12 °C","Fritzlar"]
["73667","Killenhof","-16 °C","Stuttgart"]
["72393","Killer","-18 °C","Stuttgart"]
["87452","Kimratshofen","-16 °C","Kempten"]
["48159","Kinderhaus","-12 °C","Hannover"]
["66862","Kindsbach","-12 °C","Saarbrücken"]
["52249","Kinzweiler","-12 °C","Aachen"]
["77971","Kippenheim","-12 °C","Karlsruhe"]
["74912","Kirchardt","-14 °C","Stuttgart"]
["88486","Kirchberg","-16 °C","Stuttgart"]
["08107","Kirchberg / Sachsen","-16 °C","Erfurt"]
["74592","Kirchberg a.d. Jagst","-16 °C","Stuttgart"]
["71737","Kirchberg an der Murr","-14 °C","Stuttgart"]
["29664","Kirchboitzen","-12 °C","Hannover"]
["37619","Kirchbrak","-14 °C","Fritzlar"]
["93348","Kirchdorf","-18 °C","Straubing"]
["78086","Kirchdorf","-18 °C","Stuttgart"]
["88457","Kirchdorf","-16 °C","Stuttgart"]
["94261","Kirchdorf i. Wald","-18 °C","Straubing"]
["91356","Kirchehrenbach","-16 °C","Nürnberg"]
["57548","Kirchen","-12 °C","Nürburg-Barweiler"]
["95158","Kirchenlamitz","-18 °C","Hof"]
["91241","Kirchensittenbach","-16 °C","Nürnberg"]
["72138","Kirchentellinsfurt","-16 °C","Stuttgart"]
["91281","Kirchenthumbach","-16 °C","Nürnberg"]
["21394","Kirchgellersen","-12 °C","Hamburg"]
["99334","Kirchheim","-14 °C","Erfurt"]
["73230","Kirchheim / Teck","-16 °C","Stuttgart"]
["74366","Kirchheim am Neckar","-12 °C","Stuttgart"]
["67292","Kirchheimbolanden","-12 °C","Saarbrücken"]
["46244","Kirchhellen","-10 °C","Dortmund"]
["50181","Kirchherten","-12 °C","Düsseldorf"]
["79238","Kirchhofen","-14 °C","Karlsruhe"]
["52525","Kirchhoven","-10 °C","Aachen"]
["32278","Kirchlengern","-12 °C","Fritzlar"]
["27308","Kirchlinteln","-12 °C","Bremen"]
["27412","Kirchtimke","-12 °C","Bremen"]
["57368","Kirchveischede","-14 °C","Nürburg-Barweiler"]
["56729","Kirchwald","-14 °C","Nürburg-Barweiler"]
["21037","Kirchwerder","-12 °C","Hamburg"]
["79199","Kirchzarten","-16 °C","Stuttgart"]
["77756","Kirnbach","-16 °C","Stuttgart"]
["68753","Kirrlach","-12 °C","Karlsruhe"]
["64646","Kirschhausen","-14 °C","Würzburg"]
["07919","Kirschkau","-16 °C","Meiningen"]
["86438","Kissing","-16 °C","Augsburg"]
["04460","Kitzen","-14 °C","Leipzig"]
["97318","Kitzingen","-14 °C","Würzburg"]
["04567","Kitzscher","-14 °C","Leipzig"]
["39579","Kläden","-14 °C","Magdeburg"]
["17087","Klatzow","-14 °C","Greifswald"]
["18445","Klausdorf","-10 °C","Rostock"]
["16766","Klein - Ziethen","-14 °C","Neuruppin"]
["31789","Klein Berkel","-12 °C","Hannover"]
["31171","Klein Escherde","-14 °C","Hannover"]
["19348","Klein Gottschow","-14 °C","Schwerin"]
["85293","Klein Gurnibach","-16 °C","München"]
["15746","Klein Köris","-14 °C","Lindenberg"]
["37130","Klein Legden","-16 °C","Fritzlar"]
["37130","Klein Lengden","-16 °C","Fritzlar"]
["31319","Klein Lobke","-14 °C","Hannover"]
["03130","Klein Loitz","-16 °C","Lindenberg"]
["18445","Klein Mohrdorf","-10 °C","Rostock"]
["23948","Klein Pravtshagen","-10 °C","Schwerin"]
["23942","Klein Schwansee","-10 °C","Schwerin"]
["19069","Klein Trebbow","-12 °C","Schwerin"]
["18276","Klein Upahl","-12 °C","Rostock"]
["23992","Klein Warin","-12 °C","Schwerin"]
["86507","Kleinaitingen","-16 °C","Augsburg"]
["02627","Kleinbautzen","-16 °C","Görlitz"]
["66271","Kleinblittersdorf","-12 °C","Saarbrücken"]
["04668","Kleinbothen","-14 °C","Leipzig"]
["30938","Kleinburgwedel","-14 °C","Hannover"]
["02708","Kleindehsa","-16 °C","Görlitz"]
["73527","Kleindeinbach","-16 °C","Stuttgart"]
["72829","Kleinengstingen","-18 °C","Stuttgart"]
["67483","Kleinfischlingen","-12 °C","Saarbrücken"]
["99735","Kleinfurra","-14 °C","Erfurt"]
["06686","Kleingörschen","-14 °C","Leipzig"]
["09575","Kleinhartmannsdorf","-16 °C","Meiningen"]
["01824","Kleinhennersdorf","-16 °C","Dresden"]
["63924","Kleinheubach","-14 °C","Würzburg"]
["91177","Kleinhöbing 2","-16 °C","Nürnberg"]
["79588","Kleinkems","-12 °C","Karlsruhe"]
["01990","Kleinkmehlen","-16 °C","Dresden"]
["06926","Kleinkorga","-14 °C","Leipzig"]
["06184","Kleinkugel","-14 °C","Leipzig"]
["91235","Kleinmeinfeld","-16 °C","Nürnberg"]
["39221","Kleinmühlingen","-14 °C","Magdeburg"]
["01516","Kleinnaundorf","-16 °C","Dresden"]
["39167","Klein-Rodensleben","-14 °C","Magdeburg"]
["01900","Kleinröhrsdorf","-14 °C","Dresden"]
["02694","Kleinsaubernitz","-16 °C","Görlitz"]
["01259","Kleinschachwitz","-14 °C","Dresden"]
["17291","Klein-Sperrenwalde","-14 °C","Greifswald"]
["76327","Kleinsteinbach","-12 °C","Stuttgart"]
["01561","Kleinthiemig","-16 °C","Dresden"]
["63839","Kleinwallstadt","-12 °C","Würzburg"]
["02627","Kleinwelka","-16 °C","Görlitz"]
["24969","Kleinwiehe","-10 °C","Schleswig"]
["75378","Kleinwildbad","-16 °C","Stuttgart"]
["64846","Klein-Zimmern","-14 °C","Würzburg"]
["08538","Kleinzöbern","-18 °C","Meiningen"]
["99102","Klettbach","-14 °C","Erfurt"]
["01998","Klettwitz","-16 °C","Dresden"]
["47533","Kleve","-10 °C","Düsseldorf"]
["18516","Klevenow","-12 °C","Rostock"]
["39524","Klietz","-14 °C","Magdeburg"]
["04668","Klinga","-14 °C","Leipzig"]
["86551","Klingen","-16 °C","Augsburg"]
["63911","Klingenberg","-14 °C","Würzburg"]
["74246","Klingenhof","-14 °C","Stuttgart"]
["08248","Klingenthal","-18 °C","Meiningen"]
["78588","Klippeneck","-18 °C","Stuttgart"]
["01665","Klipphausen","-14 °C","Dresden"]
["18311","Klockenhagen","-10 °C","Rostock"]
["08527","Kloschwitz","-16 °C","Meiningen"]
["06308","Klostermansfeld","-14 °C","Leipzig"]
["72270","Klosterreichenbach","-16 °C","Stuttgart"]
["88048","Kluftern","-12 °C","Konstanz"]
["23948","Klütz","-10 °C","Schwerin"]
["02977","Knappenrode","-16 °C","Görlitz"]
["04420","Knautnaundorf","-14 °C","Leipzig"]
["29379","Knesebeck","-14 °C","Hannover"]
["97478","Knetzgau","-16 °C","Würzburg"]
["75438","Knittlingen","-14 °C","Stuttgart"]
["34593","Knüllwald","-14 °C","Fritzlar"]
["23881","Koberg","-12 °C","Schwerin"]
["56330","Kobern-Gondorf","-12 °C","Nürburg-Barweiler"]
["02999","Koblenz","-16 °C","Görlitz"]
["5607.","Koblenz","-12 °C","Nürburg-Barweiler"]
["39517","Köckte","-14 °C","Magdeburg"]
["39649","Köckte","-14 °C","Magdeburg"]
["02923","Kodersdorf","-16 °C","Görlitz"]
["02924","Kodersdorf-Bahnhof","-16 °C","Görlitz"]
["95189","Köditz","-18 °C","Hof"]
["72664","Kohlberg","-16 °C","Stuttgart"]
["27624","Köhlen","-12 °C","Bremen"]
["52134","Kohlscheid","-12 °C","Aachen"]
["72829","Kohlstetten","-18 °C","Stuttgart"]
["04683","Köhra","-14 °C","Leipzig"]
["83059","Kolbermoor","-16 °C","Hohenpeißenberg"]
["78600","Kolbingen","-16 °C","Stuttgart"]
["56459","Kölbingen","-14 °C","Nürburg-Barweiler"]
["31515","Kolenfeld","-14 °C","Hannover"]
["03099","Kolkwitz","-16 °C","Lindenberg"]
["99625","Kölleda","-14 °C","Erfurt"]
["37696","Kollerbeck","-14 °C","Fritzlar"]
["04886","Köllitsch","-16 °C","Leipzig"]
["79312","Kollmarsreute","-14 °C","Karlsruhe"]
["79183","Kollnau","-14 °C","Stuttgart"]
["94262","Kollnburg","-18 °C","Straubing"]
["50769","Köln-Fühlingen","-10 °C","Düsseldorf"]
["50737","Köln-Longerich","-10 °C","Düsseldorf"]
["50769","Köln-Seeberg","-10 °C","Düsseldorf"]
["50858","Köln-Weiden","-10 °C","Düsseldorf"]
["50737","Köln-Weidenpesch","-10 °C","Düsseldorf"]
["04509","Kölsa","-14 °C","Leipzig"]
["04579","Kömmlitz","-14 °C","Leipzig"]
["79331","Köndringen","-12 °C","Karlsruhe"]
["54329","Könen","-10 °C","Trier"]
["73257","Köngen","-14 °C","Stuttgart"]
["06493","Königerode","-16 °C","Leipzig"]
["97953","Königheim","-16 °C","Würzburg"]
["15711","Königs Wusterhausen","-14 °C","Lindenberg"]
["75203","Königsbach-Stein","-14 °C","Stuttgart"]
["39175","Königsborn","-14 °C","Magdeburg"]
["89551","Königsbronn","-16 °C","Augsburg"]
["89551","Königsbronn - Zang","-16 °C","Augsburg"]
["01936","Königsbrück","-16 °C","Dresden"]
["86343","Königsbrunn","-16 °C","Augsburg"]
["79346","Königschaffhausen","-12 °C","Karlsruhe"]
["82549","Königsdorf","-18 °C","Kempten"]
["78126","Königsfeld","-16 °C","Stuttgart"]
["09306","Königshain","-14 °C","Erfurt"]
["02829","Königshain","-16 °C","Görlitz"]
["38154","Königslutter","-14 °C","Magdeburg"]
["83471","Königssee","-18 °C","Hohenpeißenberg"]
["01824","Königstein","-14 °C","Dresden"]
["01824","Königstein / OT Ebenheit","-14 °C","Dresden"]
["61462","Königstein/Taunus","-12 °C","Fritzlar"]
["08412","Königswalde","-14 °C","Erfurt"]
["53639","Königswinter","-12 °C","Nürburg-Barweiler"]
["07336","Könitz","-14 °C","Erfurt"]
["86872","Konradshofen","-16 °C","Kempten"]
["95176","Konradsreuth","-18 °C","Hof"]
["7846.","Konstanz","-12 °C","Konstanz"]
["54329","Konz","-10 °C","Trier"]
["52156","Konzen","-14 °C","Aachen"]
["71404","Korb","-14 °C","Stuttgart"]
["34497","Korbach","-14 °C","Fritzlar"]
["59519","Körbecke","-12 °C","Nürburg-Barweiler"]
["39175","Körbelitz","-14 °C","Magdeburg"]
["06905","Korgau","-14 °C","Leipzig"]
["77694","Kork","-12 °C","Karlsruhe"]
["34327","Körle","-12 °C","Fritzlar"]
["96317","Kornach","-16 °C","Bamberg"]
["04808","Kornhain","-14 °C","Leipzig"]
["70825","Korntal","-14 °C","Stuttgart"]
["70806","Kornwestheim","-12 °C","Stuttgart"]
["41352","Korschenbroich","-10 °C","Dortmund"]
["85092","Kösching","-18 °C","München"]
["24354","Kosel","-10 °C","Schleswig"]
["01609","Koselitz","-16 °C","Dresden"]
["17459","Koserow","-12 °C","Greifswald"]
["52428","Koslar","-12 °C","Aachen"]
["04603","Kosma","-14 °C","Leipzig"]
["04895","Koßdorf","-16 °C","Leipzig"]
["04668","Kössern","-14 °C","Leipzig"]
["03226","Koßwig","-16 °C","Lindenberg"]
["06366","Köthen / Anhalt","-14 °C","Leipzig"]
["09249","Köthensdorf","-14 °C","Erfurt"]
["02627","Kotitz","-16 °C","Görlitz"]
["08223","Kottengrün","-16 °C","Meiningen"]
["91189","Kottensdorf","-16 °C","Nürnberg"]
["01809","Köttewitz","-14 °C","Dresden"]
["82284","Kottgeisering","-16 °C","Kempten"]
["02730","Kottmarsdorf","-16 °C","Görlitz"]
["93444","Kötzting","-18 °C","Straubing"]
["54340","Köwerich","-10 °C","Trier"]
["19077","Kraak","-12 °C","Schwerin"]
["19243","Kraft","-12 °C","Schwerin"]
["07586","Kraftsdorf","-14 °C","Erfurt"]
["53797","Krahwinkel","-12 °C","Nürburg-Barweiler"]
["76703","Kraichtal","-12 °C","Stuttgart"]
["47559","Kranenburg","-10 °C","Düsseldorf"]
["04889","Kranichau","-16 °C","Leipzig"]
["99195","Kranichborn","-14 °C","Erfurt"]
["99448","Kranichfeld","-14 °C","Erfurt"]
["85402","Kranzberg","-16 °C","München"]
["72505","Krauchenwies","-14 °C","Stuttgart"]
["02957","Krauschwitz","-16 °C","Görlitz"]
["52355","Krauthausen","-12 °C","Aachen"]
["54673","Krautscheid","-14 °C","Trier"]
["08538","Krebes","-18 °C","Meiningen"]
["97839","Kredenbach","-14 °C","Würzburg"]
["88637","Kreenheinstetten","-16 °C","Stuttgart"]
["47...","Krefeld","-10 °C","Düsseldorf"]
["37547","Kreiensen","-16 °C","Fritzlar"]
["01731","Kreischa","-14 °C","Dresden"]
["79761","Krenkingen","-14 °C","Stuttgart"]
["04509","Krensitz","-14 °C","Leipzig"]
["19288","Krenzliner Hütte","-12 °C","Schwerin"]
["88079","Kressbronn","-12 °C","Konstanz"]
["52372","Kreuzau","-12 °C","Aachen"]
["16559","Kreuzbruch","-14 °C","Neuruppin"]
["16559","Kreuzthal","-14 °C","Neuruppin"]
["17094","Krickow","-14 °C","Greifswald"]
["04617","Kriebitzsch","-14 °C","Leipzig"]
["17391","Krien","-12 °C","Greifswald"]
["65830","Kriftel","-12 °C","Nürburg-Barweiler"]
["18198","Kritzmow","-10 °C","Rostock"]
["65510","Kroftel","-14 °C","Nürburg-Barweiler"]
["06237","Kröllwitz","-14 °C","Leipzig"]
["63829","Krombach","-14 °C","Würzburg"]
["96317","Kronach","-16 °C","Bamberg"]
["76709","Kronau","-12 °C","Stuttgart"]
["61476","Kronberg","-14 °C","Fritzlar"]
["39397","Kroppenstedt","-14 °C","Magdeburg"]
["17440","Kröslin","-12 °C","Greifswald"]
["04509","Krostitz","-14 °C","Leipzig"]
["54536","Kröv","-10 °C","Trier"]
["56642","Kruft","-14 °C","Nürburg-Barweiler"]
["86381","Krumbach","-16 °C","Augsburg"]
["09633","Krummenhennersdorf","-16 °C","Erfurt"]
["92703","Krummennaab","-16 °C","Nürnberg"]
["23974","Krusenhagen","-10 °C","Schwerin"]
["01920","Kuchau","-16 °C","Dresden"]
["73329","Kuchen","-16 °C","Stuttgart"]
["86556","Kühbach","-16 °C","Augsburg"]
["39524","Kuhlhausen","-14 °C","Magdeburg"]
["18225","Kühlungsborn","-10 °C","Rostock"]
["04420","Kulkwitz","-14 °C","Leipzig"]
["95508","Kulmain","-18 °C","Hof"]
["95326","Kulmbach","-16 °C","Hof"]
["97900","Külsheim","-14 °C","Würzburg"]
["92245","Kümmersbruck","-16 °C","Nürnberg"]
["02829","Kunnersdorf","-16 °C","Görlitz"]
["07922","Künsdorf","-16 °C","Meiningen"]
["74653","Künzelsau","-14 °C","Stuttgart"]
["94550","Künzing","-18 °C","Straubing"]
["74635","Kupferzell","-16 °C","Stuttgart"]
["76456","Kuppenheim","-12 °C","Karlsruhe"]
["71083","Kuppingen","-16 °C","Stuttgart"]
["96328","Küps","-16 °C","Bamberg"]
["75057","Kürnbach","-14 °C","Stuttgart"]
["88427","Kürnbach","-16 °C","Stuttgart"]
["01737","Kurort Hartha","-14 °C","Dresden"]
["09484","Kurort Oberwiesental","-18 °C","Meiningen"]
["09548","Kurort Seiffen","-18 °C","Meiningen"]
["06543","Kurort Wippra","-16 °C","Leipzig"]
["53773","Kurscheid","-12 °C","Nürburg-Barweiler"]
["51515","Kürten","-12 °C","Nürburg-Barweiler"]
["77974","Kürzell","-12 °C","Karlsruhe"]
["91802","Kurzenaltheim","-16 °C","Nürnberg"]
["66869","Kusel","-14 °C","Saarbrücken"]
["72127","Kusterdingen","-16 °C","Stuttgart"]
["97490","Kützberg","-16 °C","Würzburg"]
["86500","Kutzenhausen","-16 °C","Augsburg"]
["99955","Kutzleben","-14 °C","Erfurt"]
["54655","Kyllberg","-14 °C","Trier"]
["16866","Kyritz","-14 °C","Neuruppin"]
["67610","La Wantzenau","-12 °C","Saarbrücken"]
["93164","Laaber","-16 °C","Straubing"]
["03205","Laasow","-16 °C","Lindenberg"]
["30880","Laatzen","-14 °C","Hannover"]
["47665","Labbeck","-10 °C","Düsseldorf"]
["23898","Labenz","-12 °C","Schwerin"]
["84082","Laberweinting","-18 °C","Straubing"]
["29331","Lachendorf","-14 °C","Hannover"]
["78655","Lackendorf","-16 °C","Stuttgart"]
["49549","Ladbergen","-12 °C","Hannover"]
["16321","Ladeburg","-14 °C","Neuruppin"]
["68526","Ladenburg","-12 °C","Karlsruhe"]
["48366","Laer","-12 °C","Hannover"]
["32791","Lage","-12 °C","Fritzlar"]
["35633","Lahnau","-12 °C","Fritzlar"]
["56112","Lahnstein","-12 °C","Nürburg-Barweiler"]
["77933","Lahr / Schwarzwald","-12 °C","Karlsruhe"]
["77933","Lahrsulz","-12 °C","Karlsruhe"]
["31246","Lahstedt","-14 °C","Hannover"]
["89150","Laichingen","-18 °C","Augsburg"]
["88069","Laimnau","-14 °C","Konstanz"]
["93462","Lam","-18 °C","Straubing"]
["52152","Lammersdorf","-14 °C","Aachen"]
["68623","Lampertheim","-12 °C","Karlsruhe"]
["01561","Lampertswalde","-16 °C","Dresden"]
["04758","Lampertswalde","-14 °C","Leipzig"]
["31195","Lamspringe","-16 °C","Hannover"]
["94405","Landau / Isar","-18 °C","Straubing"]
["76829","Landau / Pfalz","-12 °C","Karlsruhe"]
["89361","Landensberg","-16 °C","Augsburg"]
["52379","Landerwehe","-12 °C","Aachen"]
["31628","Landesbergen","-12 °C","Hannover"]
["56814","Landkern","-14 °C","Nürburg-Barweiler"]
["37136","Landolfshausen","-16 °C","Fritzlar"]
["06188","Landsberg","-14 °C","Leipzig"]
["86899","Landsberg am Lech","-16 °C","Kempten"]
["840..","Landshut / Bay.","-16 °C","Straubing"]
["79...","Landwasser","-16 °C","Karlsruhe"]
["31087","Landwehr","-16 °C","Hannover"]
["52538","Langbroich","-10 °C","Aachen"]
["01844","Langburkersdorf","-14 °C","Dresden"]
["33014","Langeland","-14 °C","Fritzlar"]
["38871","Langeln","-14 °C","Magdeburg"]
["38685","Langelsheim","-14 °C","Magdeburg"]
["27607","Langen","-10 °C","Bremen"]
["49838","Langen","-12 °C","Hannover"]
["63225","Langen / Hessen","-12 °C","Würzburg"]
["75334","Langenalb","-14 °C","Stuttgart"]
["88085","Langenargen","-12 °C","Konstanz"]
["79650","Langenau","-12 °C","Stuttgart"]
["89129","Langenau/Württ.","-16 °C","Augsburg"]
["35708","Langenaubach","-14 °C","Fritzlar"]
["33449","Langenberg","-12 °C","Fritzlar"]
["08428","Langenbernsdorf","-14 °C","Erfurt"]
["74243","Langenbeutingen","-14 °C","Stuttgart"]
["75328","Langenbrand","-16 °C","Stuttgart"]
["74243","Langenbrettach","-14 °C","Stuttgart"]
["74595","Langenburg","-16 °C","Stuttgart"]
["06667","Langendorf","-14 °C","Leipzig"]
["06729","Langendorf","-14 °C","Leipzig"]
["44894","Langendreer","-12 °C","Düsseldorf"]
["57368","Langenei","-14 °C","Nürburg-Barweiler"]
["06268","Langeneichstädt","-14 °C","Leipzig"]
["88515","Langenenslingen","-14 °C","Stuttgart"]
["91474","Langenfeld","-16 °C","Nürnberg"]
["40764","Langenfeld / Rheinl.","-10 °C","Düsseldorf"]
["3085.","Langenhagen / Han.","-14 °C","Hannover"]
["56459","Langenhahn","-14 °C","Nürburg-Barweiler"]
["01819","Langenhennersdorf","-14 °C","Dresden"]
["08439","Langenhessen","-14 °C","Erfurt"]
["01849","Langenheunersdorf","-14 °C","Dresden"]
["37154","Langenholtensen","-16 °C","Fritzlar"]
["32689","Langenholzhausen","-14 °C","Fritzlar"]
["25842","Langenhorn","-10 °C","Schleswig"]
["55450","Langenlonsheim","-12 °C","Trier"]
["85465","Langenpreising","-16 °C","München"]
["97737","Langenprozelten","-14 °C","Würzburg"]
["08439","Langenreinsdorf","-14 °C","Erfurt"]
["06571","Langenroda","-14 °C","Leipzig"]
["07407","Langenschade","-14 °C","Erfurt"]
["65558","Langenscheid","-12 °C","Nürburg-Barweiler"]
["78112","Langenschiltach","-16 °C","Stuttgart"]
["63505","Langenselbold","-12 °C","Würzburg"]
["88515","Langenslingen","-14 °C","Stuttgart"]
["38895","Langenstein","-14 °C","Magdeburg"]
["09569","Langenstriegis","-14 °C","Erfurt"]
["39171","Langenweddingen","-14 °C","Magdeburg"]
["90579","Langenzenn","-16 °C","Nürnberg"]
["26465","Langeoog","-10 °C","Emden"]
["86853","Langerringen","-16 °C","Kempten"]
["52379","Langerwehe","-12 °C","Aachen"]
["98704","Langewiesen","-16 °C","Meiningen"]
["29364","Langlingen","-14 °C","Hannover"]
["84085","Langquaid","-18 °C","Straubing"]
["30890","Langreder","-14 °C","Hannover"]
["27299","Langwedel","-12 °C","Bremen"]
["86462","Langweid","-16 °C","Augsburg"]
["81249","Langwied","-16 °C","München"]
["66894","Langwieden","-12 °C","Saarbrücken"]
["19053","Lankow","-12 °C","Schwerin"]
["19057","Lankow","-12 °C","Schwerin"]
["19309","Lanz","-14 °C","Schwerin"]
["93138","Lappersdorf","-16 °C","Straubing"]
["19246","Lassahn","-12 °C","Schwerin"]
["49688","Lastrup","-12 °C","Hannover"]
["30926","Lathwehren","-14 °C","Hannover"]
["73453","Laubach","-16 °C","Stuttgart"]
["88416","Laubach","-16 °C","Stuttgart"]
["87493","Lauben","-16 °C","Kempten"]
["90579","Laubendorf","-16 °C","Nürnberg"]
["01979","Lauchhammer","-16 °C","Dresden"]
["01979","Lauchhammer - Ost","-16 °C","Dresden"]
["73466","Lauchheim","-16 °C","Stuttgart"]
["79787","Lauchringen","-12 °C","Stuttgart"]
["97922","Lauda-Königshofen","-16 °C","Würzburg"]
["63925","Laudenbach","-14 °C","Würzburg"]
["69514","Laudenbach","-12 °C","Würzburg"]
["31867","Lauenau","-14 °C","Hannover"]
["37697","Lauenförde","-12 °C","Fritzlar"]
["01778","Lauenstein","-16 °C","Dresden"]
["31020","Lauenstein","-14 °C","Hannover"]
["77886","Lauf","-14 °C","Karlsruhe"]
["91207","Lauf","-16 °C","Nürnberg"]
["54533","Laufeld","-14 °C","Trier"]
["83410","Laufen","-16 °C","Hohenpeißenberg"]
["79295","Laufen","-14 °C","Karlsruhe"]
["79725","Laufenburg","-12 °C","Stuttgart"]
["74348","Lauffen a. N.","-12 °C","Stuttgart"]
["89415","Lauingen","-16 °C","Augsburg"]
["88437","Laupertshausen","-16 °C","Stuttgart"]
["88471","Laupheim","-16 °C","Stuttgart"]
["56379","Laurenburg","-12 °C","Nürburg-Barweiler"]
["08491","Lauschgrün","-16 °C","Erfurt"]
["79780","Lausheim","-16 °C","Stuttgart"]
["02627","Lauske","-16 °C","Görlitz"]
["01936","Laußnitz","-16 °C","Dresden"]
["02991","Lauta","-16 °C","Görlitz"]
["08312","Lauter","-16 °C","Meiningen"]
["89584","Lauterach","-14 °C","Augsburg"]
["01561","Lauterbach","-16 °C","Dresden"]
["09496","Lauterbach","-16 °C","Meiningen"]
["78730","Lauterbach","-16 °C","Stuttgart"]
["85232","Lauterbach","-16 °C","München"]
["86465","Lauterbrunn","-16 °C","Augsburg"]
["67742","Lauterecken","-12 °C","Saarbrücken"]
["92283","Lauterhofen","-16 °C","Nürnberg"]
["53501","Lautershofen","-14 °C","Nürburg-Barweiler"]
["73111","Lauterstein","-16 °C","Stuttgart"]
["56355","Lautert","-12 °C","Nürburg-Barweiler"]
["64686","Lautertal-Elmshausen","-14 °C","Würzburg"]
["72459","Lautlingen","-18 °C","Stuttgart"]
["02708","Lawalde","-16 °C","Görlitz"]
["66822","Lebach","-12 °C","Saarbrücken"]
["17091","Lebbin","-14 °C","Greifswald"]
["50374","Lechenich","-12 °C","Düsseldorf"]
["86169","Lechhausen","-16 °C","Augsburg"]
["49134","Lechtingen","-12 °C","Hannover"]
["64560","Leeheim","-12 °C","Karlsruhe"]
["26789","Leer / Ostfriesland","-10 °C","Emden"]
["90596","Leerstetten","-16 °C","Nürnberg"]
["28844","Leeste","-12 °C","Bremen"]
["19067","Leezen","-12 °C","Schwerin"]
["87764","Legau","-16 °C","Augsburg"]
["99438","Legefeld","-14 °C","Erfurt"]
["77731","Legelhurst","-12 °C","Karlsruhe"]
["07349","Lehesten","-18 °C","Meiningen"]
["86732","Lehmingen","-16 °C","Augsburg"]
["01920","Lehndorf","-16 °C","Dresden"]
["16565","Lehnitz","-14 °C","Neuruppin"]
["31275","Lehrte","-14 °C","Hannover"]
["76547","Leiberstung","-12 °C","Karlsruhe"]
["88637","Leibertingen","-16 °C","Stuttgart"]
["94339","Leiblfing","-18 °C","Straubing"]
["42799","Leichlingen","-10 °C","Düsseldorf"]
["63849","Leidersbach","-14 °C","Würzburg"]
["72348","Leidringen","-16 °C","Stuttgart"]
["38542","Leiferde","-14 °C","Magdeburg"]
["23715","leiferdeBosau","-12 °C","Schwerin"]
["69181","Leimen","-12 °C","Würzburg"]
["53501","Leimersdorf","-14 °C","Nürburg-Barweiler"]
["97274","Leinach","-14 °C","Würzburg"]
["91227","Leinburg","-16 °C","Nürnberg"]
["70771","Leinfelden-Echterdingen","-14 °C","Stuttgart"]
["76829","Leinsweiler","-12 °C","Karlsruhe"]
["73575","Leinzell","-16 °C","Stuttgart"]
["78187","Leipferdingen","-16 °C","Stuttgart"]
["89340","Leipheim","-16 °C","Augsburg"]
["02991","Leippe","-16 °C","Görlitz"]
["04277","Leipzig-Connewitz","-14 °C","Leipzig"]
["04207","Leipzig-Grünau","-14 °C","Leipzig"]
["04357","Leipzig-Mockau","-14 °C","Leipzig"]
["04703","Leisnig","-14 °C","Leipzig"]
["15848","Leißnitz","-16 °C","Lindenberg"]
["86391","Leitershofen","-16 °C","Augsburg"]
["39279","Leitzkau","-14 °C","Magdeburg"]
["54340","Leiwen","-10 °C","Trier"]
["16866","Lellichow","-14 °C","Neuruppin"]
["32657","Lemgo","-12 °C","Fritzlar"]
["23769","Lemkenhafen","-10 °C","Westermakelsdorf"]
["07819","Lemnitz","-14 °C","Erfurt"]
["04519","Lemsel","-14 °C","Leipzig"]
["27809","Lemwerder","-12 °C","Bremen"]
["52355","Lendersdorf","-12 °C","Aachen"]
["09514","Lengefeld","-16 °C","Meiningen"]
["27419","Lengenborstel","-12 °C","Bremen"]
["08485","Lengenfeld","-16 °C","Erfurt"]
["86869","Lengenfeld","-16 °C","Kempten"]
["86932","Lengenfeld","-16 °C","Kempten"]
["49525","Lengerich / Westf.","-12 °C","Hannover"]
["36266","Lengers","-14 °C","Fritzlar"]
["83661","Lenggries","-18 °C","Hohenpeißenberg"]
["37627","Lenne","-14 °C","Fritzlar"]
["42897","Lennep","-12 °C","Düsseldorf"]
["57368","Lennestadt","-14 °C","Nürburg-Barweiler"]
["73252","Lenningen","-16 °C","Stuttgart"]
["23738","Lensahn","-10 °C","Schwerin"]
["85101","Lenting","-18 °C","München"]
["19309","Lenzen","-14 °C","Schwerin"]
["79853","Lenzkirch","-18 °C","Stuttgart"]
["95666","Leonberg","-18 °C","Hof"]
["71229","Leonberg","-12 °C","Stuttgart"]
["76344","Leopoldshafen","-12 °C","Karlsruhe"]
["33818","Leopoldshöhe","-12 °C","Fritzlar"]
["39264","Leps","-14 °C","Magdeburg"]
["04720","Leschen","-14 °C","Leipzig"]
["38228","Lesse","-14 °C","Magdeburg"]
["58642","Letmathe","-12 °C","Nürburg-Barweiler"]
["08539","Leubnitz","-16 °C","Meiningen"]
["09573","Leubsdorf","-16 °C","Meiningen"]
["92705","Leuchtenberg","-16 °C","Nürnberg"]
["26180","Leuchtenburg","-12 °C","Emden"]
["06237","Leuna","-14 °C","Leipzig"]
["95191","Leupoldsgrün","-18 °C","Hof"]
["88239","Leupolz","-16 °C","Stuttgart"]
["51570","Leuscheid","-12 °C","Nürburg-Barweiler"]
["71397","Leutenbach","-14 °C","Stuttgart"]
["02794","Leutersdorf","-16 °C","Görlitz"]
["69493","Leutershausen","-12 °C","Würzburg"]
["77694","Leutersheim","-12 °C","Karlsruhe"]
["56559","Leutesdorf","-12 °C","Nürburg-Barweiler"]
["88299","Leutkirch","-16 °C","Stuttgart"]
["513..","Leverkusen","-10 °C","Nürburg-Barweiler"]
["51371","Leverkusen - Rheindorf","-10 °C","Nürburg-Barweiler"]
["51375","Leverkusen - Schlebusch","-10 °C","Nürburg-Barweiler"]
["88356","Levertsweiler","-14 °C","Stuttgart"]
["35423","Lich","-14 °C","Fritzlar"]
["77839","Lichtenau / Ulm","-12 °C","Karlsruhe"]
["09638","Lichtenberg","-16 °C","Erfurt"]
["96215","Lichtenfels","-16 °C","Bamberg"]
["09350","Lichtenstein","-14 °C","Erfurt"]
["72805","Lichtenstein","-18 °C","Stuttgart"]
["08115","Lichtentanne","-16 °C","Erfurt"]
["73669","Lichtenwald","-16 °C","Stuttgart"]
["09577","Lichtenwalde","-14 °C","Erfurt"]
["16230","Lichterfelde","-14 °C","Neuruppin"]
["31618","Liebenau","-12 °C","Hannover"]
["38704","Liebenburg","-14 °C","Magdeburg"]
["16559","Liebenwalde","-14 °C","Neuruppin"]
["04445","Liebertwolkwitz","-14 °C","Leipzig"]
["63584","Lieblos","-14 °C","Würzburg"]
["65835","Liederbach am Taunus","-14 °C","Nürburg-Barweiler"]
["76706","Liedolsheim","-12 °C","Karlsruhe"]
["01465","Liegau-Augustusbad","-14 °C","Dresden"]
["79801","Lienheim","-12 °C","Stuttgart"]
["75417","Lienzingen","-14 °C","Stuttgart"]
["03238","Lieskau","-16 °C","Lindenberg"]
["01920","Lieske","-16 °C","Dresden"]
["28865","Lilienthal","-12 °C","Bremen"]
["01723","Limbach","-14 °C","Dresden"]
["74838","Limbach","-14 °C","Stuttgart"]
["09212","Limbach-Oberfrohna","-14 °C","Erfurt"]
["655...","Limburg a.d.Lahn","-12 °C","Nürburg-Barweiler"]
["67117","Limburgerhof","-12 °C","Saarbrücken"]
["88677","Limpach","-14 °C","Stuttgart"]
["73527","Lindach","-16 °C","Stuttgart"]
["88131","Lindau / Bodensee","-12 °C","Konstanz"]
["94227","Lindberg","-18 °C","Straubing"]
["90592","Lindelburg","-16 °C","Nürnberg"]
["91459","Linden","-16 °C","Nürnberg"]
["17111","Lindenberg","-14 °C","Greifswald"]
["65551","Lindenholzhausen","-12 °C","Nürburg-Barweiler"]
["04158","Lindenthal","-14 °C","Leipzig"]
["04466","Lindenthal","-14 °C","Leipzig"]
["31698","Lindhorst","-14 °C","Hannover"]
["39326","Lindhorst","-14 °C","Magdeburg"]
["51789","Lindlar","-12 °C","Nürburg-Barweiler"]
["29690","Lindwedel","-12 °C","Hannover"]
["498..","Lingen / Ems","-10 °C","Hannover"]
["56291","Lingerhahn","-14 °C","Nürburg-Barweiler"]
["56317","Linkenbach","-14 °C","Nürburg-Barweiler"]
["76347","Linkenheim","-12 °C","Karlsruhe"]
["76351","Linkenheim","-12 °C","Karlsruhe"]
["37627","Linnenkamp","-14 °C","Fritzlar"]
["52441","Linnich","-12 °C","Aachen"]
["31636","Linsburg","-12 °C","Hannover"]
["63589","Linsengericht","-14 °C","Würzburg"]
["72636","Linsenhofen","-16 °C","Stuttgart"]
["92272","Lintach","-16 °C","Nürnberg"]
["01561","Linz","-16 °C","Dresden"]
["73463","Lippach","-16 °C","Stuttgart"]
["09509","Lippersdorf","-16 °C","Meiningen"]
["59510","Lippetal","-12 °C","Nürburg-Barweiler"]
["33129","Lippling","-12 °C","Fritzlar"]
["5955.","Lippstadt","-12 °C","Nürburg-Barweiler"]
["78576","Liptingen","-16 °C","Stuttgart"]
["54587","Lissendorf","-14 °C","Trier"]
["25992","List auf Sylt","-10 °C","List auf Sylt"]
["02999","Litschen","-16 °C","Görlitz"]
["35719","Lixfeld","-14 °C","Fritzlar"]
["37639","Lobach","-14 °C","Fritzlar"]
["02708","Löbau","-16 °C","Görlitz"]
["74931","Lobbach","-12 °C","Stuttgart"]
["06780","Löberitz","-14 °C","Leipzig"]
["04509","Löbnitz","-14 °C","Leipzig"]
["04685","Lobschütz","-14 °C","Leipzig"]
["39279","Loburg","-14 °C","Magdeburg"]
["31547","Loccum","-12 °C","Hannover"]
["06184","Lochau","-14 °C","Leipzig"]
["74369","Löchgau","-12 °C","Stuttgart"]
["81249","Lochhausen","-16 °C","München"]
["17321","Löcknitz","-14 °C","Greifswald"]
["14806","Locktow","-14 °C","Potsdam"]
["23923","Lockwisch","-10 °C","Schwerin"]
["39240","Lödderitz","-14 °C","Magdeburg"]
["39446","Löderburg","-14 °C","Magdeburg"]
["37139","Lödingsen","-14 °C","Fritzlar"]
["76597","Loffenau","-14 °C","Karlsruhe"]
["79843","Löffingen","-16 °C","Stuttgart"]
["93470","Lohberg","-18 °C","Straubing"]
["85716","Lohhof","-16 °C","München"]
["16845","Lohm","-14 °C","Neuruppin"]
["07907","Löhma ü. Schleiz","-16 °C","Meiningen"]
["53797","Lohmar","-12 °C","Nürburg-Barweiler"]
["01847","Lohmen","-14 °C","Dresden"]
["49393","Lohne","-12 °C","Hannover"]
["32584","Löhne","-12 °C","Fritzlar"]
["67727","Lohnsfeld","-12 °C","Saarbrücken"]
["97816","Lohr","-14 °C","Würzburg"]
["02999","Lohsa","-16 °C","Görlitz"]
["04895","Löhsten","-16 °C","Leipzig"]
["17509","Loissin","-12 °C","Greifswald"]
["39326","Loitsche","-14 °C","Magdeburg"]
["17121","Loitz","-12 °C","Greifswald"]
["01623","Lommatzsch","-14 °C","Dresden"]
["53945","Lommersdorf ","-14 °C","Nürburg-Barweiler"]
["53919","Lommersum","-14 °C","Nürburg-Barweiler"]
["01454","Lomnitz","-14 °C","Dresden"]
["02699","Lomske","-16 °C","Görlitz"]
["54338","Longen","-10 °C","Trier"]
["54340","Longuich","-10 °C","Trier"]
["49624","Löningen","-12 °C","Hannover"]
["91475","Lonnerstadt","-16 °C","Nürnberg"]
["56295","Lonnig","-14 °C","Nürburg-Barweiler"]
["89173","Lonsee","-16 °C","Augsburg"]
["82813","Lonsingen","-18 °C","Kempten"]
["86720","Löpsingen","-16 °C","Augsburg"]
["73547","Lorch","-16 °C","Stuttgart"]
["65391","Lorch/Rheingau","-12 °C","Nürburg-Barweiler"]
["795..","Lörrach","-12 °C","Stuttgart"]
["64653","Lorsch","-12 °C","Karlsruhe"]
["55296","Lörzweiler","-12 °C","Trier"]
["01326","Loschwitz","-14 °C","Dresden"]
["66679","Losheim am See","-12 °C","Saarbrücken"]
["58644","Lössel","-12 °C","Nürburg-Barweiler"]
["08294","Lößnitz","-16 °C","Meiningen"]
["04889","Loßwig","-16 °C","Leipzig"]
["01665","Löthain","-14 °C","Dresden"]
["32816","Lothe","-14 °C","Fritzlar"]
["79807","Lottstetten","-12 °C","Stuttgart"]
["50859","Lövenich b. Frechen","-10 °C","Düsseldorf"]
["37696","Löwendorf","-14 °C","Fritzlar"]
["14959","Löwendorf","-14 °C","Potsdam"]
["74245","Löwenstein","-14 °C","Stuttgart"]
["27612","Loxstedt","-10 °C","Bremen"]
["32312","Lübbecke","-12 °C","Fritzlar"]
["15907","Lübben","-16 °C","Lindenberg"]
["03222","Lübbenau / Spreewald","-16 °C","Lindenberg"]
["23992","Lübberstorf","-12 °C","Schwerin"]
["235..","Lübeck","-10 °C","Schwerin"]
["17509","Lubmin","-12 °C","Greifswald"]
["23972","Lübow","-10 °C","Schwerin"]
["19386","Lübz","-14 °C","Schwerin"]
["37671","Lüchtringen","-12 °C","Fritzlar"]
["04613","Lucka","-14 °C","Leipzig"]
["03229","Luckaitz","-16 °C","Lindenberg"]
["15926","Luckau","-16 °C","Lindenberg"]
["57629","Luckenbach","-14 °C","Nürburg-Barweiler"]
["02797","Lückendorf","-16 °C","Görlitz"]
["14943","Luckenwalde","-14 °C","Potsdam"]
["01920","Lückersdorf-Gelenau","-16 °C","Dresden"]
["44229","Lücklemberg","-12 °C","Düsseldorf"]
["17375","Luckow","-12 °C","Greifswald"]
["19243","Luckwitz","-12 °C","Schwerin"]
["585..","Lüdenscheid","-12 °C","Nürburg-Barweiler"]
["39517","Lüderitz","-14 °C","Magdeburg"]
["23992","Lüdersdorf","-12 °C","Schwerin"]
["23992","Lüderstorf","-12 °C","Schwerin"]
["59348","Lüdinghausen","-12 °C","Nürburg-Barweiler"]
["36251","Ludwigsau","-14 °C","Fritzlar"]
["716..","Ludwigsburg/Württ.","-12 °C","Stuttgart"]
["02829","Ludwigsdorf","-14 °C","Görlitz"]
["14974","Ludwigsfelde","-14 °C","Potsdam"]
["670..","Ludwigshafen am Rhein","-12 °C","Saarbrücken"]
["19288","Ludwigslust","-14 °C","Schwerin"]
["66996","Ludwigswinkel","-12 °C","Saarbrücken"]
["37635","Lüerdissen","-14 °C","Fritzlar"]
["09385","Lugau","-14 °C","Erfurt"]
["03253","Lugau","-16 °C","Lindenberg"]
["32676","Lügde","-14 °C","Fritzlar"]
["31711","Luhden","-14 °C","Hannover"]
["92706","Luhe","-16 °C","Nürnberg"]
["17495","Lühmannsdorf","-12 °C","Greifswald"]
["24816","Luhnstedt","-12 °C","Schleswig"]
["85235","Lukka","-16 °C","München"]
["06869","Luko","-14 °C","Leipzig"]
["2133.","Lüneburg","-12 °C","Bremen"]
["4453.","Lünen","-12 °C","Düsseldorf"]
["44532","Lünen - Horstmar","-12 °C","Düsseldorf"]
["59427","Lünern","-12 °C","Nürburg-Barweiler"]
["48480","Lünne","-12 °C","Hannover"]
["09328","Lunzenau","-14 °C","Erfurt"]
["41065","Lürrip","-10 °C","Düsseldorf"]
["24850","Lürschau","-12 °C","Schleswig"]
["14806","Lüsse","-14 °C","Potsdam"]
["17506","Lüssow","-12 °C","Greifswald"]
["24321","Lütjenburg","-10 °C","Schleswig"]
["22952","Lütjensee","-12 °C","Hamburg"]
["37671","Lütmarsen","-14 °C","Fritzlar"]
["17258","Lüttenhagen","-14 °C","Greifswald"]
["37318","Lutter","-16 °C","Fritzlar"]
["38729","Lutter am Barenberg","-14 °C","Magdeburg"]
["34355","Lutterberg","-12 °C","Fritzlar"]
["04721","Lüttewitz","-14 °C","Leipzig"]
["79725","Luttingen","-12 °C","Stuttgart"]
["46509","Lüttingen","-10 °C","Düsseldorf"]
["04769","Lüttnitz","-14 °C","Leipzig"]
["02627","Luttowizt","-16 °C","Görlitz"]
["42899","Lüttringhausen","-12 °C","Düsseldorf"]
["86456","Lützelburg","-16 °C","Augsburg"]
["35398","Lützellinden","-14 °C","Fritzlar"]
["06686","Lützen","-14 °C","Leipzig"]
["72178","Lützenhardt","-16 °C","Stuttgart"]
["56826","Lutzerath","-14 °C","Nürburg-Barweiler"]
["89440","Lutzingen","-16 °C","Augsburg"]
["04159","Lützschena","-14 °C","Leipzig"]
["04469","Lützschena","-16 °C","Leipzig"]
["56729","Luxem","-14 °C","Nürburg-Barweiler"]
["17279","Lychen","-14 °C","Greifswald"]
["24404","Maasholm-Bad","-10 °C","Schleswig"]
["04827","Machern","-14 °C","Leipzig"]
["89150","Machtolsheim ","-18 °C","Augsburg"]
["31177","Machtsum","-14 °C","Hannover"]
["67686","Mackenbach","-12 °C","Saarbrücken"]
["37318","Mackenrode","-16 °C","Fritzlar"]
["55758","Mackenrodt","-14 °C","Trier"]
["37586","Mackensen","-14 °C","Fritzlar"]
["3912.","Magdeburg","-14 °C","Magdeburg"]
["06493","Mägdesprung","-16 °C","Leipzig"]
["72818","Mägerkingen","-18 °C","Stuttgart"]
["71106","Magstadt","-16 °C","Stuttgart"]
["94508","Mahd","-18 °C","Straubing"]
["04874","Mahitschen","-16 °C","Leipzig"]
["15831","Mahlow","-14 °C","Lindenberg"]
["39517","Mahlwinkel","-14 °C","Magdeburg"]
["89081","Mähringen","-16 °C","Augsburg"]
["35510","Maibach","-14 °C","Fritzlar"]
["71069","Maichingen","-16 °C","Stuttgart"]
["86747","Maihingen","-16 °C","Augsburg"]
["84048","Mainburg","-18 °C","Straubing"]
["74535","Mainhardt","-16 °C","Stuttgart"]
["95336","Mainleus","-16 °C","Hof"]
["63477","Maintal","-12 °C","Würzburg"]
["551..","Mainz","-12 °C","Karlsruhe"]
["55246","Mainz-Kostheim","-12 °C","Karlsruhe"]
["82216","Maisach","-16 °C","Kempten"]
["75378","Maisenbach","-16 °C","Stuttgart"]
["73037","Maitis","-16 °C","Stuttgart"]
["17213","Malchow","-14 °C","Greifswald"]
["84066","Mallersdorf","-18 °C","Straubing"]
["19294","Malliß","-12 °C","Schwerin"]
["71272","Malmsheim","-16 °C","Stuttgart"]
["76316","Malsch","-12 °C","Karlsruhe"]
["69254","Malsch","-12 °C","Würzburg"]
["02694","Malschwitz","-16 °C","Görlitz"]
["79364","Malterdingen","-12 °C","Karlsruhe"]
["02627","Maltitz","-16 °C","Görlitz"]
["57636","Mammelzen","-14 °C","Nürburg-Barweiler"]
["82291","Mammendorf","-16 °C","Kempten"]
["94437","Mamming","-18 °C","Straubing"]
["35716","Mandeln","-14 °C","Fritzlar"]
["31535","Mandelsloh","-12 °C","Hannover"]
["54531","Manderscheid","-14 °C","Trier"]
["68...","Mannheim","-12 °C","Karlsruhe"]
["96257","Mannsgereuth","-16 °C","Bamberg"]
["06343","Mansfeld","-14 °C","Leipzig"]
["79588","Mappach","-12 °C","Karlsruhe"]
["09661","Marbach","-14 °C","Erfurt"]
["94536","Marbach","-18 °C","Straubing"]
["71672","Marbach","-12 °C","Stuttgart"]
["72532","Marbach","-18 °C","Stuttgart"]
["78056","Marbach","-18 °C","Stuttgart"]
["3503.","Marburg/Lahn","-12 °C","Fritzlar"]
["31535","Mardorf","-14 °C","Hannover"]
["85447","Maria Thalheim","-16 °C","München"]
["94424","Mariakirchen","-16 °C","Straubing"]
["31863","Marienau","-14 °C","Hannover"]
["09496","Marienberg","-16 °C","Meiningen"]
["97828","Marienbrunn","-14 °C","Würzburg"]
["34516","Marienhagen","-14 °C","Fritzlar"]
["31094","Marienhagen","-14 °C","Hannover"]
["51709","Marienheide","-12 °C","Nürburg-Barweiler"]
["37696","Marienmünster","-14 °C","Fritzlar"]
["54484","Maring-Noviand","-12 °C","Trier"]
["88677","Markdorf","-14 °C","Stuttgart"]
["97980","Markelsheim","-16 °C","Würzburg"]
["09236","Markersdorf","-14 °C","Erfurt"]
["15528","Markgrafpieske","-14 °C","Lindenberg"]
["71706","Markgröningen","-12 °C","Stuttgart"]
["04416","Markkleeberg","-14 °C","Leipzig"]
["31608","Marklohe","-12 °C","Hannover"]
["08258","Markneukirchen","-18 °C","Meiningen"]
["04420","Markranstädt","-14 °C","Leipzig"]
["79576","Märkt","-12 °C","Karlsruhe"]
["91801","Markt Berolzheim","-16 °C","Nürnberg"]
["91459","Markt Erlbach","-16 °C","Nürnberg"]
["85229","Markt Indersdorf","-16 °C","München"]
["85570","Markt Schwaben","-16 °C","München"]
["91613","Marktbergel","-16 °C","Nürnberg"]
["91477","Markt-Bibart","-16 °C","Nürnberg"]
["96257","Marktgraitz","-16 °C","Bamberg"]
["97828","Marktheidenfeld","-14 °C","Würzburg"]
["95352","Marktleugast","-16 °C","Hof"]
["95168","Marktleuthen","-18 °C","Hof"]
["87616","Marktoberdorf","-16 °C","Kempten"]
["95615","Marktredwitz","-18 °C","Hof"]
["83487","Marktschellenberg","-18 °C","Hohenpeißenberg"]
["95509","Marktschorgast","-16 °C","Hof"]
["457..","Marl","-10 °C","Düsseldorf"]
["77694","Marlen","-12 °C","Karlsruhe"]
["18337","Marlow","-12 °C","Rostock"]
["53947","Marmagen","-14 °C","Nürburg-Barweiler"]
["21077","Marmstorf/Hamburg","-12 °C","Hamburg"]
["82362","Marnbach","-16 °C","Kempten"]
["66646","Marpingen","-12 °C","Saarbrücken"]
["83250","Marquartstein","-18 °C","Hohenpeißenberg"]
["97340","Martinsheim","-16 °C","Würzburg"]
["75387","Martinsmoos","-16 °C","Stuttgart"]
["16727","Marwitz","-14 °C","Neuruppin"]
["86688","Marxheim","-16 °C","Augsburg"]
["76359","Marxzell","-14 °C","Stuttgart"]
["88437","Maselheim","-16 °C","Stuttgart"]
["92242","Massenricht","-16 °C","Nürnberg"]
["84323","Massing","-16 °C","Straubing"]
["23972","Maßlow","-10 °C","Schwerin"]
["56869","Mastershausen","-14 °C","Nürburg-Barweiler"]
["66909","Matzenbach","-12 °C","Saarbrücken"]
["67067","Maudach","-12 °C","Saarbrücken"]
["69256","Mauer","-12 °C","Würzburg"]
["75181","Mauerach","-14 °C","Stuttgart"]
["75181","Mauerach","-14 °C","Stuttgart"]
["85419","Mauern","-16 °C","München"]
["75433","Maulbronn","-14 °C","Stuttgart"]
["79689","Maulburg","-12 °C","Stuttgart"]
["57635","Maulsbach","-14 °C","Nürburg-Barweiler"]
["67133","Maxdorf","-12 °C","Saarbrücken"]
["01809","Maxen","-14 °C","Dresden"]
["93142","Maxhütte","-16 °C","Straubing"]
["56727","Mayen","-14 °C","Nürburg-Barweiler"]
["53508","Mayschoß","-14 °C","Nürburg-Barweiler"]
["29416","Mechau","-14 °C","Hannover"]
["08541","Mechelgrün","-16 °C","Meiningen"]
["53894","Mechernich","-14 °C","Nürburg-Barweiler"]
["16866","Mechow","-14 °C","Neuruppin"]
["67354","Mechtersheim","-12 °C","Saarbrücken"]
["88074","Meckenbeuren","-14 °C","Konstanz"]
["53340","Meckenheim","-14 °C","Nürburg-Barweiler"]
["74909","Meckesheim","-12 °C","Stuttgart"]
["67744","Medard","-12 °C","Saarbrücken"]
["59964","Medebach","-16 °C","Nürburg-Barweiler"]
["35767","Medenbach","-14 °C","Fritzlar"]
["01458","Medingen","-14 °C","Dresden"]
["08393","Meerane","-14 °C","Erfurt"]
["31715","Meerbeck","-14 °C","Hannover"]
["40667","Meerbusch","-10 °C","Düsseldorf"]
["88709","Meersburg/Bodensee","-12 °C","Konstanz"]
["24799","Meggerdorf","-12 °C","Schleswig"]
["04889","Mehderitzsch","-16 °C","Leipzig"]
["67735","Mehlbach","-12 °C","Saarbrücken"]
["08539","Mehlteuer","-16 °C","Meiningen"]
["46499","Mehrhoog","-10 °C","Düsseldorf"]
["54346","Mehring","-10 °C","Trier"]
["16356","Mehrow","-14 °C","Neuruppin"]
["46562","Mehrum","-10 °C","Düsseldorf"]
["31249","Mehrum","-14 °C","Hannover"]
["72531","Meidelstetten","-18 °C","Stuttgart"]
["38527","Meine","-14 °C","Magdeburg"]
["34497","Meineringhausen","-14 °C","Fritzlar"]
["09390","Meinersdorf","-14 °C","Meiningen"]
["58540","Meinerzhagen","-12 °C","Nürburg-Barweiler"]
["37276","Meinhard","-16 °C","Fritzlar"]
["91802","Meinheim","-16 °C","Nürnberg"]
["98617","Meiningen","-16 °C","Meiningen"]
["06862","Meinsdorf","-14 °C","Leipzig"]
["55590","Meisenheim","-12 °C","Trier"]
["01662","Meißen","-14 °C","Dresden"]
["77974","Meißenheim","-12 °C","Karlsruhe"]
["37290","Meißner","-14 °C","Fritzlar"]
["59602","Meiste","-14 °C","Nürburg-Barweiler"]
["75323","Meistern","-16 °C","Stuttgart"]
["86405","Meitingen","-16 °C","Augsburg"]
["21406","Melbeck","-12 °C","Hamburg"]
["99097","Melchendorf","-14 °C","Erfurt"]
["72393","Melchingen","-18 °C","Stuttgart"]
["88145","Mellatz","-16 °C","Konstanz"]
["49324","Melle","-12 °C","Hannover"]
["27249","Mellinghausen","-12 °C","Bremen"]
["97638","Mellrichstadt","-16 °C","Würzburg"]
["04860","Melpitz","-16 °C","Leipzig"]
["34212","Melsungen","-12 °C","Fritzlar"]
["96117","Memmelsdorf","-16 °C","Bamberg"]
["87700","Memmingen","-16 °C","Augsburg"]
["87766","Memmingerberg","-16 °C","Augsburg"]
["77866","Memprechtshofen","-12 °C","Karlsruhe"]
["58708","Menden/Sauerland","-12 °C","Nürburg-Barweiler"]
["02894","Mengelsdorf","-16 °C","Görlitz"]
["88512","Mengen","-14 °C","Stuttgart"]
["88512","Mengen-Ennetach","-14 °C","Stuttgart"]
["84152","Mengkofen","-18 °C","Straubing"]
["49637","Menslage","-12 °C","Hannover"]
["49716","Meppen","-10 °C","Hannover"]
["86504","Merching","-16 °C","Augsburg"]
["74747","Merchingen","-14 °C","Stuttgart"]
["35799","Merenberg","-12 °C","Fritzlar"]
["89522","Mergelstetten","-16 °C","Augsburg"]
["86415","Mering","-16 °C","Augsburg"]
["96117","Merkendorf","-16 °C","Bamberg"]
["89188","Merklingen","-16 °C","Augsburg"]
["71263","Merklingen","-16 °C","Stuttgart"]
["52134","Merkstein","-12 °C","Aachen"]
["04639","Merlach","-14 °C","Leipzig"]
["06217","Merseburg/Saale","-14 °C","Leipzig"]
["54318","Mertesdorf","-12 °C","Trier"]
["67271","Mertesheim","-12 °C","Saarbrücken"]
["55627","Merxheim","-12 °C","Trier"]
["52399","Merzenich","-12 °C","Aachen"]
["79249","Merzhausen","-14 °C","Karlsruhe"]
["66663","Merzig","-12 °C","Saarbrücken"]
["59872","Meschede","-14 °C","Nürburg-Barweiler"]
["17498","Mesekenhagen","-12 °C","Greifswald"]
["08527","Meßbach","-16 °C","Meiningen"]
["64409","Messel","-12 °C","Würzburg"]
["88605","Meßkirch","-14 °C","Stuttgart"]
["72469","Meßstetten","-18 °C","Stuttgart"]
["23972","Metelsdorf","-10 °C","Schwerin"]
["94526","Metten/Niederbay.","-18 °C","Straubing"]
["66693","Mettlach","-12 °C","Saarbrücken"]
["40822","Mettmann","-12 °C","Dortmund"]
["55777","Mettweiler","-14 °C","Trier"]
["72555","Metzingen","-16 °C","Stuttgart"]
["06686","Meuchen","-14 °C","Leipzig"]
["01994","Meuro","-16 °C","Dresden"]
["06217","Meuschau","-14 °C","Leipzig"]
["16306","Meyenburg","-16 °C","Neuruppin"]
["02979","Michacken","-16 °C","Görlitz"]
["96247","Michelau","-16 °C","Bamberg"]
["97782","Michelau","-14 °C","Würzburg"]
["74858","Michelbach","-12 °C","Stuttgart"]
["74613","Michelbach am Wald","-14 °C","Stuttgart"]
["74544","Michelbach an der Bilz","-16 °C","Stuttgart"]
["74545","Michelfeld","-16 °C","Stuttgart"]
["74918","Michelfeld","-12 °C","Stuttgart"]
["88339","Michelwinnaden","-16 °C","Stuttgart"]
["12051","Michendorf","-14 °C","Berlin"]
["86866","Mickhausen","-14 °C","Kempten"]
["83714","Miesbach","-18 °C","Hohenpeißenberg"]
["77933","Mietersheim","-12 °C","Karlsruhe"]
["88487","Mietingen","-16 °C","Stuttgart"]
["52538","Millen","-10 °C","Aachen"]
["93468","Miltach","-18 °C","Straubing"]
["17091","Miltitzwalde","-14 °C","Greifswald"]
["89350","Mindelaltheim","-16 °C","Augsburg"]
["87719","Mindelheim","-16 °C","Augsburg"]
["86513","Mindelzell","-16 °C","Augsburg"]
["3242.","Minden/Westf.","-12 °C","Fritzlar"]
["76872","Minfeld","-12 °C","Karlsruhe"]
["19079","Mirow","-12 °C","Schwerin"]
["30629","Misburg","-14 °C","Hannover"]
["91785","Mischelbach","-16 °C","Nürnberg"]
["04720","Mischütz","-14 °C","Leipzig"]
["27632","Misselwarden","-10 °C","Bremen"]
["95490","Mistelgau","-16 °C","Hof"]
["56729","Mittelbaar","-14 °C","Nürburg-Barweiler"]
["87466","Mittelberg b. Oy","-18 °C","Kempten"]
["88441","Mittelbiberach","-16 °C","Stuttgart"]
["88416","Mittelbuch","-16 °C","Stuttgart"]
["91734","Mitteleschenbach","-16 °C","Nürnberg"]
["99195","Mittelhausen","-14 °C","Erfurt"]
["02763","Mittelherwigsdorf","-16 °C","Görlitz"]
["86868","Mittelneufnach","-16 °C","Kempten"]
["88682","Mittelstenweiler","-14 °C","Stuttgart"]
["72270","Mitteltal","-16 °C","Stuttgart"]
["35756","Mittenaar","-12 °C","Fritzlar"]
["82481","Mittenwald","-16 °C","Kempten"]
["94360","Mitterfels","-18 °C","Straubing"]
["95666","Mitterteich","-18 °C","Hof"]
["09648","Mittweida","-14 °C","Erfurt"]
["96268","Mitwitz","-16 °C","Bamberg"]
["09661","Mobendorf","-14 °C","Erfurt"]
["04720","Möbertitz","-14 °C","Leipzig"]
["04720","Mochau","-14 °C","Leipzig"]
["06888","Mochau","-14 °C","Leipzig"]
["74219","Möckmühl","-14 °C","Stuttgart"]
["04838","Mockrehna","-14 °C","Leipzig"]
["04720","Mockritz","-14 °C","Leipzig"]
["04860","Mockritz","-16 °C","Leipzig"]
["06193","Möderau","-14 °C","Leipzig"]
["19374","Möderitz","-14 °C","Schwerin"]
["89426","Mödingen","-16 °C","Augsburg"]
["4744.","Moers","-10 °C","Düsseldorf"]
["73563","Mögglingen","-16 °C","Stuttgart"]
["59519","Möhnesee","-12 °C","Nürburg-Barweiler"]
["86498","Mohrenhausen","-16 °C","Augsburg"]
["70567","Möhringen","-14 °C","Stuttgart"]
["23560","Moisling","-12 °C","Schwerin"]
["49696","Molbergen","-12 °C","Hannover"]
["04579","Mölbis","-14 °C","Leipzig"]
["04838","Mölbitz","-14 °C","Leipzig"]
["04457","Mölkau","-14 °C","Leipzig"]
["17237","Möllenbeck","-14 °C","Greifswald"]
["17091","Mölln","-14 °C","Greifswald"]
["23879","Mölln","-12 °C","Schwerin"]
["57482","Möllnicke","-14 °C","Nürburg-Barweiler"]
["99869","Molschleben","-14 °C","Erfurt"]
["18246","Moltenow","-12 °C","Rostock"]
["55278","Mommenheim","-12 °C","Trier"]
["75378","Monakam","-14 °C","Stuttgart"]
["71083","Mönchberg","-16 °C","Stuttgart"]
["4106.","Mönchengladbach","-10 °C","Düsseldorf"]
["78087","Mönchweiler","-18 °C","Stuttgart"]
["53859","Mondorf","-12 °C","Nürburg-Barweiler"]
["86653","Monheim","-16 °C","Augsburg"]
["40789","Monheim/Rheinl.","-10 °C","Düsseldorf"]
["17375","Mönkebude","-12 °C","Greifswald"]
["52156","Monschau","-14 °C","Aachen"]
["67590","Monsheim","-12 °C","Saarbrücken"]
["71297","Mönsheim","-14 °C","Stuttgart"]
["82271","Moorenweis","-16 °C","Kempten"]
["77815","Moos","-12 °C","Karlsruhe"]
["87493","Moos","-16 °C","Kempten"]
["94554","Moos","-18 °C","Straubing"]
["89613","Moosbeuren","-16 °C","Augsburg"]
["76571","Moosbronn","-14 °C","Karlsruhe"]
["85368","Moosburg/Isar","-16 °C","München"]
["84164","Moosthenning","-18 °C","Straubing"]
["67700","Morbach","-12 °C","Saarbrücken"]
["71577","Morbach","-16 °C","Stuttgart"]
["54497","Morbach","-14 °C","Trier"]
["99735","Mörbach","-14 °C","Erfurt"]
["53913","Morenhoven","-14 °C","Nürburg-Barweiler"]
["64546","Mörfelden-Walldorf","-12 °C","Würzburg"]
["08262","Morgenröthe","-18 °C","Meiningen"]
["37186","Moringen","-16 °C","Fritzlar"]
["01468","Moritzburg","-14 °C","Dresden"]
["06193","Morl","-14 °C","Leipzig"]
["61161","Mörlach","-16 °C","Fritzlar"]
["69509","Mörlenbach","-12 °C","Würzburg"]
["91804","Mörnsheim","-16 °C","Nürnberg"]
["51597","Morsbach","-12 °C","Nürburg-Barweiler"]
["76287","Mörsch","-12 °C","Karlsruhe"]
["55758","Mörschied","-14 °C","Trier"]
["04838","Mörtitz","-14 °C","Leipzig"]
["02999","Mortka","-16 °C","Görlitz"]
["14806","Mörz","-14 °C","Potsdam"]
["76829","Mörzheim","-12 °C","Karlsruhe"]
["74821","Mosbach","-12 °C","Stuttgart"]
["07973","Moschwitz","-16 °C","Erfurt"]
["56073","Moselweiß","-14 °C","Nürburg-Barweiler"]
["39291","Möser/Magdeburg","-14 °C","Magdeburg"]
["72116","Mössingen","-18 °C","Stuttgart"]
["14715","Möthlow","-14 °C","Potsdam"]
["86753","Möttingen","-16 °C","Augsburg"]
["75378","Möttlingen","-16 °C","Stuttgart"]
["71159","Mötzingen","-16 °C","Stuttgart"]
["07381","Moxa","-14 °C","Erfurt"]
["53804","Much","-12 °C","Nürburg-Barweiler"]
["35325","Mücke","-14 °C","Fritzlar"]
["69427","Mudau","-16 °C","Würzburg"]
["19063","Mueß","-12 °C","Schwerin"]
["04769","Mügeln","-14 °C","Leipzig"]
["79674","Muggenbrunn","-18 °C","Stuttgart"]
["91346","Muggendorf","-16 °C","Nürnberg"]
["76461","Muggensturm","-12 °C","Karlsruhe"]
["75417","Mühlacker","-14 °C","Stuttgart"]
["09241","Mühlau","-14 °C","Erfurt"]
["09557","Mühlbach","-14 °C","Erfurt"]
["75031","Mühlbach","-14 °C","Stuttgart"]
["99869","Mühlberg","-14 °C","Erfurt"]
["04931","Mühlberg","-16 °C","Leipzig"]
["84453","Mühldorf","-16 °C","Straubing"]
["77796","Mühlenbach","-16 °C","Stuttgart"]
["16567","Mühlenbeck","-14 °C","Neuruppin"]
["86444","Mühlhausen","-16 °C","Augsburg"]
["99974","Mühlhausen","-14 °C","Erfurt"]
["08626","Mühlhausen","-18 °C","Meiningen"]
["92360","Mühlhausen","-16 °C","Nürnberg"]
["78056","Mühlhausen","-18 °C","Stuttgart"]
["69242","Mühlhausen","-12 °C","Würzburg"]
["73347","Mühlhausen im Täle","-16 °C","Stuttgart"]
["72172","Mühlheim","-16 °C","Stuttgart"]
["78570","Mühlheim / Donau","-16 °C","Stuttgart"]
["63165","Mühlheim/Main","-12 °C","Würzburg"]
["90453","Mühlhof","-16 °C","Nürnberg"]
["07919","Mühltroff","-16 °C","Meiningen"]
["91735","Muhr am See","-16 °C","Nürnberg"]
["09619","Mulda","-16 °C","Meiningen"]
["08269","Muldenberg","-18 °C","Meiningen"]
["53945","Mülheim","-14 °C","Nürburg-Barweiler"]
["4547.","Mülheim/Ruhr","-10 °C","Düsseldorf"]
["79379","Müllheim","-12 °C","Karlsruhe"]
["15299","Müllrose","-16 °C","Lindenberg"]
["08132","Mülsen bei St. Jacob","-14 °C","Erfurt"]
["95213","Münchberg","-18 °C","Hof"]
["15748","Münchehofe","-14 °C","Lindenberg"]
["35759","Münchhausen","-14 °C","Fritzlar"]
["70825","Münchingen","-14 °C","Stuttgart"]
["84034","Münchnerau","-16 °C","Straubing"]
["41516","Münchrath","-10 °C","Düsseldorf"]
["94439","Münchsdorf","-16 °C","Straubing"]
["77955","Münchweier","-12 °C","Karlsruhe"]
["66981","Münchweiler","-12 °C","Saarbrücken"]
["78183","Mundelfingen","-16 °C","Stuttgart"]
["74395","Mundelsheim","-12 °C","Stuttgart"]
["89597","Munderkingen","-14 °C","Augsburg"]
["79312","Mundingen","-12 °C","Karlsruhe"]
["50933","Müngersdorf","-12 °C","Düsseldorf"]
["82541","Münsing","-16 °C","Kempten"]
["72525","Münsingen/Württ.","-16 °C","Stuttgart"]
["29633","Munster","-14 °C","Hannover"]
["481..","Münster","-12 °C","Hannover"]
["65618","Münster","-14 °C","Nürburg-Barweiler"]
["86692","Münster/Lech","-16 °C","Augsburg"]
["56294","Münstermaifeld","-12 °C","Nürburg-Barweiler"]
["79244","Münstertal","-18 °C","Karlsruhe"]
["35516","Münzenberg","-14 °C","Fritzlar"]
["76703","Münzesheim","-12 °C","Stuttgart"]
["86757","Munzingen","-16 °C","Augsburg"]
["79730","Murg","-12 °C","Stuttgart"]
["82418","Murnau","-16 °C","Kempten"]
["71711","Murr","-12 °C","Stuttgart"]
["71540","Murrhardt","-16 °C","Stuttgart"]
["09228","Murschnitz","-14 °C","Erfurt"]
["88371","Musbach","-14 °C","Stuttgart"]
["70771","Musberg","-14 °C","Stuttgart"]
["06679","Muschwitz","-14 °C","Leipzig"]
["46395","Mussum","-10 °C","Düsseldorf"]
["73557","Mutlangen","-16 °C","Stuttgart"]
["76307","Mutschelbach","-14 °C","Stuttgart"]
["88456","Muttensweiler","-16 °C","Stuttgart"]
["67112","Mutterstadt","-12 °C","Saarbrücken"]
["14823","Mützdorf","-14 °C","Potsdam"]
["39307","Mützel","-14 °C","Magdeburg"]
["54608","Mützenich","-14 °C","Trier"]
["04688","Mutzschen","-14 °C","Leipzig"]
["41849","Myhl","-10 °C","Düsseldorf"]
["08499","Mylau","-16 °C","Erfurt"]
["73230","Nabern","-16 °C","Stuttgart"]
["55299","Nackenheim","-12 °C","Trier"]
["06785","Naderkau","-14 °C","Leipzig"]
["72202","Nagold","-16 °C","Stuttgart"]
["86720","Nähermemmingen","-16 °C","Augsburg"]
["07973","Naitschau","-16 °C","Erfurt"]
["66809","Nalbach","-12 °C","Saarbrücken"]
["85405","Nandlstadt","-16 °C","München"]
["02979","Nardt","-16 °C","Görlitz"]
["04657","Narsdorf","-14 °C","Leipzig"]
["27404","Nartum","-12 °C","Bremen"]
["23936","Naschendorf","-10 °C","Schwerin"]
["04758","Nasenberg","-14 °C","Leipzig"]
["29857","Natendorf","-14 °C","Hannover"]
["89564","Nattheim","-16 °C","Augsburg"]
["14641","Nauen","-14 °C","Potsdam"]
["64569","Nauheim","-12 °C","Karlsruhe"]
["34311","Naumburg","-14 °C","Fritzlar"]
["06618","Naumburg","-14 °C","Leipzig"]
["01796","Naundorf","-14 °C","Dresden"]
["04683","Naunhof","-14 °C","Leipzig"]
["04703","Naunhof","-14 °C","Leipzig"]
["56237","Nauort","-14 °C","Nürburg-Barweiler"]
["65207","Naurod","-14 °C","Nürburg-Barweiler"]
["06571","Nausitz","-14 °C","Leipzig"]
["01920","Naußlitz","-16 °C","Dresden"]
["71126","Nebringen","-16 °C","Stuttgart"]
["74924","Neckarbischofsheim","-12 °C","Stuttgart"]
["69151","Neckargemünd","-12 °C","Würzburg"]
["69437","Neckargerach","-12 °C","Würzburg"]
["72622","Neckarhausen","-14 °C","Stuttgart"]
["71686","Neckarrems","-12 °C","Stuttgart"]
["74172","Neckarsulm","-12 °C","Stuttgart"]
["72666","Neckartailfingen","-14 °C","Stuttgart"]
["72654","Neckartenzlingen","-16 °C","Stuttgart"]
["74382","Neckarwestheim","-12 °C","Stuttgart"]
["74865","Neckarzimmern","-12 °C","Stuttgart"]
["17039","Neddemin","-14 °C","Greifswald"]
["26802","Neermoor","-10 °C","Emden"]
["21398","Neetze","-12 °C","Hamburg"]
["37643","Negenborn","-14 °C","Fritzlar"]
["597..","Neheim-Hüsten","-12 °C","Nürburg-Barweiler"]
["06193","Nehlitz","-14 °C","Leipzig"]
["72147","Nehren","-16 °C","Stuttgart"]
["73272","Neidlingen","-16 °C","Stuttgart"]
["74336","Neipperg","-12 °C","Stuttgart"]
["57638","Neitersen","-14 °C","Nürburg-Barweiler"]
["89191","Nellingen","-18 °C","Augsburg"]
["73760","Nellingen","-14 °C","Stuttgart"]
["72149","Nellingsheim","-16 °C","Stuttgart"]
["71397","Nellmersbach","-14 °C","Stuttgart"]
["06268","Nemsdorf","-14 °C","Leipzig"]
["78532","Nendingen","-16 °C","Stuttgart"]
["56412","Nentershausen","-14 °C","Nürburg-Barweiler"]
["04828","Nepperwitz","-16 °C","Leipzig"]
["04685","Nerchau","-14 °C","Leipzig"]
["54570","Neroth","-14 °C","Trier"]
["14806","Neschholz","-14 °C","Potsdam"]
["02699","Neschwitz","-16 °C","Görlitz"]
["27612","Nesse","-10 °C","Bremen"]
["77767","Nesselried","-12 °C","Karlsruhe"]
["57250","Netphen","-14 °C","Nürburg-Barweiler"]
["53947","Nettersheim","-14 °C","Nürburg-Barweiler"]
["41334","Nettetal","-10 °C","Düsseldorf"]
["31185","Nettlingen","-14 °C","Hannover"]
["31099","Netze","-16 °C","Hannover"]
["17440","Netzelkow","-12 °C","Greifswald"]
["08491","Netzschkau","-16 °C","Erfurt"]
["61267","Neu Anspach","-14 °C","Fritzlar"]
["55546","Neu Bamberg","-12 °C","Trier"]
["02699","Neu Jeßnitz","-16 °C","Görlitz"]
["17348","Neu Käbelich","-14 °C","Greifswald"]
["06449","Neu Königsaue","-14 °C","Leipzig"]
["02829","Neu Krauscha","-16 °C","Görlitz"]
["18586","Neu Reddevitz","-10 °C","Rostock"]
["21629","Neu Wulmsdorf","-12 °C","Bremen"]
["24879","Neuberend","-10 °C","Schleswig"]
["83115","Neubeuern","-18 °C","Hohenpeißenberg"]
["1703.","Neubrandenburg","-14 °C","Greifswald"]
["73453","Neubronn","-16 °C","Stuttgart"]
["75387","Neubulach","-16 °C","Stuttgart"]
["76776","Neuburg","-12 °C","Karlsruhe"]
["74861","Neudenau","-12 °C","Stuttgart"]
["78166","Neudingen","-16 °C","Stuttgart"]
["76676","Neudorf","-12 °C","Karlsruhe"]
["01920","Neudörfel","-16 °C","Dresden"]
["08543","Neudörfel","-16 °C","Meiningen"]
["02739","Neueibau","-16 °C","Görlitz"]
["33100","Neuenbeken","-14 °C","Fritzlar"]
["75305","Neuenbürg","-14 °C","Stuttgart"]
["7939.","Neuenburg am Rhein","-12 °C","Karlsruhe"]
["18516","Neuendorf","-12 °C","Rostock"]
["15518","Neuendorf im Sande","-14 °C","Lindenberg"]
["15366","Neuenhagen","-14 °C","Lindenberg"]
["72631","Neuenhaus","-14 °C","Stuttgart"]
["39345","Neuenhofe","-14 °C","Magdeburg"]
["28790","Neuenkirchen","-10 °C","Bremen"]
["17498","Neuenkirchen","-12 °C","Greifswald"]
["29643","Neuenkirchen","-12 °C","Hannover"]
["48485","Neuenkirchen","-12 °C","Hannover"]
["49434","Neuenkirchen","-12 °C","Hannover"]
["18445","Neuenpleen","-10 °C","Rostock"]
["08451","Neuensalz","-16 °C","Erfurt"]
["74196","Neuenstadt","-12 °C","Stuttgart"]
["36286","Neuenstein","-16 °C","Fritzlar"]
["85375","Neufahrn","-18 °C","München"]
["84088","Neufahrn","-18 °C","Straubing"]
["72639","Neuffen","-16 °C","Stuttgart"]
["85464","Neufinsing","-16 °C","München"]
["72419","Neufra","-16 °C","Stuttgart"]
["88499","Neufra","-14 °C","Stuttgart"]
["88682","Neufrach","-14 °C","Stuttgart"]
["84181","Neufraunhofen","-16 °C","Straubing"]
["02727","Neugersdorf","-16 °C","Görlitz"]
["85659","Neuharting","-16 °C","München"]
["37603","Neuhaus","-14 °C","Fritzlar"]
["91284","Neuhaus","-16 °C","Nürnberg"]
["19273","Neuhaus","-12 °C","Schwerin"]
["89291","Neuhausen","-16 °C","Augsburg"]
["67547","Neuhausen","-12 °C","Saarbrücken"]
["72555","Neuhausen","-16 °C","Stuttgart"]
["73765","Neuhausen","-14 °C","Stuttgart"]
["75242","Neuhausen","-14 °C","Stuttgart"]
["75382","Neuhengstett","-14 °C","Stuttgart"]
["01920","Neuhof","-16 °C","Dresden"]
["90616","Neuhof a. d. Zenn","-16 °C","Nürnberg"]
["67141","Neuhofen","-12 °C","Saarbrücken"]
["16515","Neuholland","-14 °C","Neuruppin"]
["63263","Neu-Isenburg","-12 °C","Würzburg"]
["02699","Neu-Jessnitz","-16 °C","Görlitz"]
["01904","Neukirch","-16 °C","Dresden"]
["01936","Neukirch","-16 °C","Dresden"]
["88099","Neukirch","-14 °C","Konstanz"]
["08459","Neukirchen","-14 °C","Erfurt"]
["92259","Neukirchen","-16 °C","Nürnberg"]
["23779","Neukirchen","-10 °C","Schwerin"]
["93453","Neukirchen","-18 °C","Straubing"]
["94127","Neukirchen","-16 °C","Straubing"]
["94362","Neukirchen","-18 °C","Straubing"]
["94154","Neukirchen v. W.","-16 °C","Straubing"]
["47506","Neukirchen-Vluyn","-10 °C","Düsseldorf"]
["23992","Neukloster","-12 °C","Schwerin"]
["21710","Neuland, Kr. Stade","-10 °C","Hamburg"]
["98744","Neu-Leibis","-16 °C","Meiningen"]
["73491","Neuler","-16 °C","Stuttgart"]
["75245","Neulingen","-14 °C","Stuttgart"]
["68809","Neulußheim","-12 °C","Karlsruhe"]
["54347","Neumagen","-10 °C","Trier"]
["15306","Neu-Mahlisch","-16 °C","Lindenberg"]
["92318","Neumarkt","-16 °C","Nürnberg"]
["2453.","Neumünster","-12 °C","Schleswig"]
["39418","Neundorf","-14 °C","Magdeburg"]
["08527","Neundorf","-16 °C","Meiningen"]
["73479","Neunheim","-16 °C","Stuttgart"]
["57520","Neunkhausen","-14 °C","Nürburg-Barweiler"]
["53819","Neunkirchen","-12 °C","Nürburg-Barweiler"]
["57290","Neunkirchen","-14 °C","Nürburg-Barweiler"]
["91233","Neunkirchen","-16 °C","Nürnberg"]
["74867","Neunkirchen","-12 °C","Stuttgart"]
["91077","Neunkirchen a.B.","-16 °C","Nürnberg"]
["665..","Neunkirchen/Saar","-12 °C","Saarbrücken"]
["91567","Neunstetten","-16 °C","Nürnberg"]
["84524","Neuötting","-16 °C","Straubing"]
["06333","Neuplatendorf","-14 °C","Leipzig"]
["02699","Neupuschwitz","-16 °C","Görlitz"]
["41517","Neurath","-12 °C","Düsseldorf"]
["76149","Neureut","-12 °C","Karlsruhe"]
["77743","Neuried","-12 °C","Karlsruhe"]
["16816","Neuruppin","-14 °C","Neuruppin"]
["02742","Neusalza-Spremberg","-16 °C","Görlitz"]
["86356","Neusäß","-16 °C","Augsburg"]
["91330","Neuses","-16 °C","Nürnberg"]
["91616","Neusitz","-16 °C","Nürnberg"]
["95700","Neusorg","-18 °C","Hof"]
["41363","Neu-Spenrath","-12 °C","Düsseldorf"]
["4146.","Neuss","-10 °C","Düsseldorf"]
["41472","Neuss - Grefrath","-10 °C","Düsseldorf"]
["41470","Neuss - Rosellen","-10 °C","Düsseldorf"]
["01844","Neustadt","-14 °C","Dresden"]
["53577","Neustadt","-14 °C","Nürburg-Barweiler"]
["92660","Neustadt","-16 °C","Nürnberg"]
["71336","Neustadt","-14 °C","Stuttgart"]
["19306","Neustadt - Glewe","-14 °C","Schwerin"]
["35279","Neustadt (Hessen)","-14 °C","Fritzlar"]
["95514","Neustadt a. Kulm","-16 °C","Hof"]
["31535","Neustadt am Rübenberge","-14 °C","Hannover"]
["91413","Neustadt an der Aisch","-16 °C","Nürnberg"]
["96465","Neustadt bei Coburg","-16 °C","Bamberg"]
["93333","Neustadt/Donau","-18 °C","Straubing"]
["07806","Neustadt/Orla","-14 °C","Erfurt"]
["67433","Neustadt/Weinstraße","-10 °C","Saarbrücken"]
["72149","Neustetten","-16 °C","Stuttgart"]
["17235","Neustrelitz","-14 °C","Greifswald"]
["17268","Neu-Temmen","-14 °C","Greifswald"]
["76689","Neuthard","-12 °C","Karlsruhe"]
["93073","Neutraubling","-16 °C","Straubing"]
["15320","Neutrebbin","-14 °C","Lindenberg"]
["8923.","Neu-Ulm","-14 °C","Augsburg"]
["30916","Neuwarmbüchen","-14 °C","Hannover"]
["39393","Neuwegersleben","-14 °C","Magdeburg"]
["76534","Neuweier","-14 °C","Karlsruhe"]
["71093","Neuweiler","-16 °C","Stuttgart"]
["75389","Neuweiler","-16 °C","Stuttgart"]
["04828","Neuweißenborn","-14 °C","Leipzig"]
["41066","Neuwerk","-10 °C","Düsseldorf"]
["5656.","Neuwied","-12 °C","Nürburg-Barweiler"]
["23816","Neversdorf","-12 °C","Schwerin"]
["4254.","Neviges","-12 °C","Düsseldorf"]
["54309","Newel","-14 °C","Trier"]
["03253","Nexdorf","-16 °C","Lindenberg"]
["56645","Nickenich","-14 °C","Nürburg-Barweiler"]
["04703","Nicollschwitz","-14 °C","Leipzig"]
["63667","Nidda","-12 °C","Würzburg"]
["61194","Niddatal","-12 °C","Fritzlar"]
["61130","Nidderau-Windecken","-12 °C","Fritzlar"]
["52385","Nideggen","-14 °C","Aachen"]
["75210","Niebelsbach","-14 °C","Stuttgart"]
["07580","Niebra","-14 °C","Erfurt"]
["65934","Nied","-12 °C","Frankfurt am Main"]
["34305","Niedenstein","-14 °C","Fritzlar"]
["02906","Nieder Seifersdorf","-16 °C","Görlitz"]
["56729","Niederbaar","-14 °C","Nürburg-Barweiler"]
["53343","Niederbachem","-14 °C","Nürburg-Barweiler"]
["09627","Niederbobritzsch","-16 °C","Erfurt"]
["65611","Niederbrechen","-12 °C","Nürburg-Barweiler"]
["02708","Niedercunnersdorf","-16 °C","Görlitz"]
["33739","Niederdornberg","-12 °C","Fritzlar"]
["56651","Niederdürenbach","-14 °C","Nürburg-Barweiler"]
["56412","Niederelbert","-14 °C","Nürburg-Barweiler"]
["60437","Nieder-Erlenbach","-14 °C","Frankfurt am Main"]
["78078","Niedereschach","-16 °C","Stuttgart"]
["67592","Nieder-Flörsheim","-12 °C","Saarbrücken"]
["09243","Niederfrohna","-14 °C","Erfurt"]
["04618","Niederhain","-14 °C","Leipzig"]
["65760","Niederhöchstadt","-12 °C","Nürburg-Barweiler"]
["79730","Niederhof","-12 °C","Stuttgart"]
["89604","Niederhofen","-14 °C","Augsburg"]
["37269","Niederhone","-14 °C","Fritzlar"]
["53501","Niederich","-14 °C","Nürburg-Barweiler"]
["63486","Niederissigheim","-12 °C","Würzburg"]
["65817","Niederjosbach","-10 °C","Nürburg-Barweiler"]
["53859","Niederkassel","-12 °C","Nürburg-Barweiler"]
["41372","Niederkrüchten","-10 °C","Düsseldorf"]
["15751","Niederlehme","-14 °C","Lindenberg"]
["39264","Niederlepte","-14 °C","Magdeburg"]
["56556","Niederlützingen","-12 °C","Nürburg-Barweiler"]
["08138","Niedermülsen","-14 °C","Erfurt"]
["92545","Niedermurach","-18 °C","Nürnberg"]
["39167","Niederndodeleben","-14 °C","Magdeburg"]
["74676","Niedernhall","-14 °C","Stuttgart"]
["65527","Niedernhausen","-14 °C","Nürburg-Barweiler"]
["37133","Niedernjesa","-16 °C","Fritzlar"]
["27432","Nieder-Ochtenhausen","-12 °C","Bremen"]
["02791","Niederoderwitz","-16 °C","Görlitz"]
["35325","Nieder-Ohmen","-14 °C","Fritzlar"]
["35325","Nieder-Ohmen","-14 °C","Fritzlar"]
["86381","Niederraunau","-16 °C","Augsburg"]
["87767","Niederrieden","-16 °C","Augsburg"]
["08393","Niederschindmaas","-14 °C","Erfurt"]
["34497","Niederschleidern","-16 °C","Fritzlar"]
["77749","Niederschopfheim","-12 °C","Karlsruhe"]
["54570","Niederstadtfeld","-14 °C","Trier"]
["89168","Niederstotzingen","-16 °C","Augsburg"]
["84494","Niedertaufkirchen","-16 °C","Straubing"]
["35274","Niederwald","-12 °C","Fritzlar"]
["56357","Niederwallmenach","-12 °C","Nürburg-Barweiler"]
["79379","Niederweiler","-14 °C","Karlsruhe"]
["08396","Niederwiera","-14 °C","Erfurt"]
["79733","Niederwihl","-14 °C","Stuttgart"]
["79297","Niederwinden","-16 °C","Stuttgart"]
["55758","Niederworresbach","-14 °C","Trier"]
["66440","Niederwürzbach","-12 °C","Saarbrücken"]
["52382","Niederzier","-12 °C","Aachen"]
["56651","Niederzissen","-14 °C","Nürburg-Barweiler"]
["75223","Niefern","-14 °C","Stuttgart"]
["67308","Niefernheim","-12 °C","Saarbrücken"]
["01561","Niegeroda","-16 °C","Dresden"]
["33039","Nieheim","-14 °C","Fritzlar"]
["19258","Nieklitz","-12 °C","Schwerin"]
["01968","Niemtsch","-16 °C","Dresden"]
["31582","Nienburg/Weser","-12 °C","Hannover"]
["29690","Nienhagen","-12 °C","Hannover"]
["29364","Nienhof","-14 °C","Hannover"]
["19017","Nienmark","-12 °C","Schwerin"]
["31688","Nienstädt","-14 °C","Hannover"]
["31035","Nienstedt","-14 °C","Hannover"]
["31848","Nienstedt","-14 °C","Hannover"]
["01609","Nieska","-16 °C","Dresden"]
["02906","Niesky","-16 °C","Görlitz"]
["79331","Nimburg","-12 °C","Karlsruhe"]
["04626","Nischwitz","-14 °C","Leipzig"]
["04808","Nischwitz","-14 °C","Leipzig"]
["54453","Nittel","-12 °C","Trier"]
["93152","Nittendorf","-16 °C","Straubing"]
["56729","Nitz","-14 °C","Nürburg-Barweiler"]
["39539","Nitzow","-14 °C","Magdeburg"]
["04639","Nitzschka","-14 °C","Leipzig"]
["66625","Nohfelden","-14 °C","Saarbrücken"]
["54579","Nollenbach","-14 °C","Trier"]
["53639","Nonnenberg","-12 °C","Nürburg-Barweiler"]
["77963","Nonnenweier","-12 °C","Karlsruhe"]
["66620","Nonnweiler","-14 °C","Saarbrücken"]
["24811","Norby","-12 °C","Schleswig"]
["26954","Nordenham","-10 °C","Emden"]
["26548","Norderney","-10 °C","Emden"]
["22851","Norderstedt","-12 °C","Hamburg"]
["96365","Nordhalden","-18 °C","Bamberg"]
["99734","Nordhausen","-14 °C","Erfurt"]
["74226","Nordhausen","-12 °C","Stuttgart"]
["27637","Nordholz","-10 °C","Bremen"]
["4852.","Nordhorn","-10 °C","Hannover"]
["86720","Nördlingen","-16 °C","Augsburg"]
["77787","Nordrach","-14 °C","Stuttgart"]
["34132","Nordshausen/Kassel","-14 °C","Fritzlar"]
["31171","Nordstemmen","-14 °C","Hannover"]
["72160","Nordstetten","-16 °C","Stuttgart"]
["25845","Nordstrand","-10 °C","List auf Sylt"]
["79341","Nordweil","-12 °C","Karlsruhe"]
["27211","Nordwohlde","-12 °C","Bremen"]
["89312","Nornheim","-16 °C","Augsburg"]
["37176","Nörten-Hardenberg","-16 °C","Fritzlar"]
["37154","Northeim","-16 °C","Fritzlar"]
["52388","Nörvenich","-12 °C","Aachen"]
["04749","Noschkowitz","-14 °C","Leipzig"]
["02627","Nostitz","-16 °C","Görlitz"]
["53902","Nöthen","-14 °C","Nürburg-Barweiler"]
["79254","Notschrei","-18 °C","Stuttgart"]
["75196","Nöttingen","-14 °C","Stuttgart"]
["48301","Nottuln","-12 °C","Hannover"]
["73274","Notzingen","-16 °C","Stuttgart"]
["97720","Nüdlingen","-14 °C","Würzburg"]
["71154","Nufringen","-16 °C","Stuttgart"]
["51588","Nümbrecht","-12 °C","Nürburg-Barweiler"]
["66687","Nunkirchen","-12 °C","Saarbrücken"]
["53520","Nürburg","-14 °C","Nürburg-Barweiler"]
["72622","Nürtingen","-14 °C","Stuttgart"]
["54675","Nusbaum","-14 °C","Trier"]
["77704","Nußbach","-12 °C","Karlsruhe"]
["83131","Nußdorf","-18 °C","Hohenpeißenberg"]
["71735","Nussdorf","-14 °C","Stuttgart"]
["69226","Nußloch","-12 °C","Würzburg"]
["36088","Nüst","-14 °C","Fritzlar"]
["76703","Oberacker","-12 °C","Stuttgart"]
["70771","Oberaichen","-14 °C","Stuttgart"]
["79761","Oberalpfen","-14 °C","Stuttgart"]
["82487","Oberammergau","-18 °C","Kempten"]
["04618","Oberarnsdorf","-14 °C","Leipzig"]
["82496","Oberau","-18 °C","Kempten"]
["83080","Oberaudorf","-18 °C","Hohenpeißenberg"]
["56729","Oberbaar","-14 °C","Nürburg-Barweiler"]
["97772","Oberbach","-16 °C","Würzburg"]
["78073","Oberbaldingen","-16 °C","Stuttgart"]
["79235","Oberbergen","-12 °C","Karlsruhe"]
["72644","Oberboihingen","-14 °C","Stuttgart"]
["65611","Oberbrechen","-12 °C","Nürburg-Barweiler"]
["36284","Oberbreitzbach","-14 °C","Fritzlar"]
["52525","Oberbruch","-10 °C","Aachen"]
["01762","Obercarsdorf","-14 °C","Dresden"]
["08147","Obercrinitz","-16 °C","Erfurt"]
["02708","Obercunnersdorf","-16 °C","Görlitz"]
["75038","Oberderdingen","-14 °C","Stuttgart"]
["69429","Oberdielbach","-14 °C","Würzburg"]
["88085","Oberdorf","-12 °C","Konstanz"]
["73441","Oberdorf","-16 °C","Stuttgart"]
["88348","Obereggatsweiler","-16 °C","Stuttgart"]
["79418","Obereggenen","-14 °C","Karlsruhe"]
["97247","Obereisenheim","-14 °C","Würzburg"]
["56412","Oberelbert","-14 °C","Nürburg-Barweiler"]
["99819","Oberellen","-16 °C","Meiningen"]
["61352","Ober-Erlenbach","-14 °C","Fritzlar"]
["88436","Oberessendorf","-16 °C","Stuttgart"]
["90559","Oberferrieden (Burgthann)","-16 °C","Nürnberg"]
["01762","Oberfrauendorf","-14 °C","Dresden"]
["53894","Obergartzem","-14 °C","Nürburg-Barweiler"]
["94486","Obergessenbach","-18 °C","Straubing"]
["74831","Obergriesheim","-12 °C","Stuttgart"]
["76646","Obergrombach","-12 °C","Stuttgart"]
["73569","Obergröningen","-16 °C","Stuttgart"]
["82041","Oberhaching","-16 °C","Kempten"]
["18239","Oberhagen","-12 °C","Rostock"]
["96173","Oberhaid","-16 °C","Bamberg"]
["77784","Oberharmersbach","-14 °C","Stuttgart"]
["75387","Oberhaugstett","-16 °C","Stuttgart"]
["86154","Oberhausen","-16 °C","Augsburg"]
["46147","Oberhausen","-10 °C","Dortmund"]
["68794","Oberhausen","-12 °C","Karlsruhe"]
["82386","Oberhausen","-16 °C","Kempten"]
["76887","Oberhausen","-12 °C","Saarbrücken"]
["68794","Oberhausen-Rheinhausen","-12 °C","Karlsruhe"]
["08468","Oberheinsdorf","-16 °C","Erfurt"]
["98559","Oberhof","-16 °C","Meiningen"]
["23948","Oberhof","-10 °C","Schwerin"]
["88447","Oberhöfen","-16 °C","Stuttgart"]
["84503","Oberholzhausen","-16 °C","Straubing"]
["88480","Oberholzheim","-16 °C","Stuttgart"]
["97258","Oberickelsheim","-16 °C","Würzburg"]
["72296","Oberiflingen","-16 °C","Stuttgart"]
["71083","Oberjesingen","-16 °C","Stuttgart"]
["71131","Oberjettingen","-16 °C","Stuttgart"]
["77704","Oberkirch","-14 °C","Karlsruhe"]
["31683","Oberkirchen","-14 °C","Hannover"]
["57392","Oberkirchen","-14 °C","Nürburg-Barweiler"]
["73447","Oberkochen","-16 °C","Stuttgart"]
["75394","Oberkollbach","-16 °C","Stuttgart"]
["07922","Oberkoskau","-16 °C","Meiningen"]
["97488","Oberlauringen","-16 °C","Würzburg"]
["07356","Oberlemnitz","-18 °C","Meiningen"]
["75328","Oberlengenhardt","-16 °C","Stuttgart"]
["08527","Oberlosa","-16 °C","Meiningen"]
["32479","Oberlübbe","-12 °C","Fritzlar"]
["89611","Obermarchtal","-14 °C","Augsburg"]
["86836","Obermeitingen","-16 °C","Kempten"]
["90587","Obermichelbach","-16 °C","Nürnberg"]
["61239","Ober-Mörlen","-14 °C","Fritzlar"]
["67823","Obermoschel","-12 °C","Saarbrücken"]
["63785","Obernburg","-12 °C","Würzburg"]
["86698","Oberndorf","-16 °C","Augsburg"]
["99310","Oberndorf","-14 °C","Erfurt"]
["35606","Oberndorf","-12 °C","Fritzlar"]
["84107","Oberndorf","-16 °C","Straubing"]
["72108","Oberndorf","-16 °C","Stuttgart"]
["78727","Oberndorf/Neckar","-16 °C","Stuttgart"]
["75217","Obernhausen","-14 °C","Stuttgart"]
["72364","Obernheim","-18 °C","Stuttgart"]
["37124","Obernjesa","-16 °C","Fritzlar"]
["94130","Obernzell","-16 °C","Straubing"]
["02744","Oberoderwitz","-16 °C","Görlitz"]
["86869","Oberostendorf","-16 °C","Kempten"]
["76889","Oberotterbach","-12 °C","Saarbrücken"]
["86507","Oberottmarshausen","-16 °C","Augsburg"]
["76703","Oberöwisheim","-12 °C","Stuttgart"]
["53639","Oberpleis","-12 °C","Nürburg-Barweiler"]
["94562","Oberpöring","-18 °C","Straubing"]
["79215","Oberprechtal","-16 °C","Stuttgart"]
["35641","Oberquembach","-14 °C","Fritzlar"]
["64372","Ober-Ramstadt","-14 °C","Würzburg"]
["04720","Oberranschütz","-14 °C","Leipzig"]
["91097","Oberreichenbach","-16 °C","Nürnberg"]
["75394","Oberreichenbach","-16 °C","Stuttgart"]
["61389","Oberreifenberg","-16 °C","Fritzlar"]
["79254","Oberried","-18 °C","Stuttgart"]
["71739","Oberriexingen","-12 °C","Stuttgart"]
["79206","Oberrimsingen","-12 °C","Karlsruhe"]
["06528","Oberröblingen","-14 °C","Leipzig"]
["36041","Oberrode","-14 °C","Fritzlar"]
["74420","Oberrot","-16 °C","Stuttgart"]
["79233","Oberrotweil","-12 °C","Stuttgart"]
["91483","Oberscheinfeld","-16 °C","Nürnberg"]
["76889","Oberschlettenbach","-12 °C","Saarbrücken"]
["73485","Oberschneidheim","-16 °C","Stuttgart"]
["94363","Oberschneiding","-18 °C","Straubing"]
["09600","Oberschöna","-16 °C","Erfurt"]
["77948","Oberschopfheim","-12 °C","Karlsruhe"]
["72221","Oberschwandorf","-16 °C","Stuttgart"]
["97478","Oberschwappach","-16 °C","Würzburg"]
["88410","Oberschwarzach","-16 °C","Stuttgart"]
["02763","Oberseifersdorf","-16 °C","Görlitz"]
["65520","Oberselters","-14 °C","Nürburg-Barweiler"]
["57078","Obersetzen","-14 °C","Nürburg-Barweiler"]
["38173","Obersickte","-14 °C","Magdeburg"]
["66957","Obersimten","-12 °C","Saarbrücken"]
["74423","Obersontheim","-16 °C","Stuttgart"]
["97509","Oberspiesheim","-14 °C","Würzburg"]
["89613","Oberstadion","-14 °C","Augsburg"]
["54570","Oberstadtfeld","-14 °C","Trier"]
["8752.","Oberstaufen","-18 °C","Kempten"]
["71720","Oberstenfeld","-14 °C","Stuttgart"]
["72531","Oberstetten","-18 °C","Stuttgart"]
["88416","Oberstetten ","-16 °C","Stuttgart"]
["97640","Oberstreu","-14 °C","Würzburg"]
["74182","Obersulm","-14 °C","Stuttgart"]
["88471","Obersulmetingen","-16 °C","Stuttgart"]
["84101","Obersüßbach","-16 °C","Straubing"]
["99444","Obersynderstedt","-14 °C","Erfurt"]
["88094","Oberteuringen","-14 °C","Konstanz"]
["97723","Oberthulba","-14 °C","Würzburg"]
["73656","Oberurbach","-16 °C","Stuttgart"]
["61440","Oberursel/Taunus","-12 °C","Fritzlar"]
["92526","Oberviechtach","-16 °C","Nürnberg"]
["34281","Obervorschütz","-14 °C","Fritzlar"]
["89349","Oberwaldbach","-16 °C","Augsburg"]
["79780","Oberwangen","-14 °C","Stuttgart"]
["77948","Oberweier","-12 °C","Karlsruhe"]
["72226","Oberweiler","-16 °C","Stuttgart"]
["71554","Oberweissach","-14 °C","Stuttgart"]
["79862","Oberweschnegg","-16 °C","Stuttgart"]
["55430","Oberwesel","-14 °C","Trier"]
["34399","Oberweser","-12 °C","Fritzlar"]
["08396","Oberwiera","-14 °C","Erfurt"]
["92355","Oberwiesenacker","-16 °C","Nürnberg"]
["86519","Oberwiesenbach","-16 °C","Augsburg"]
["79733","Oberwihl","-12 °C","Stuttgart"]
["74747","Oberwittstadt","-14 °C","Stuttgart"]
["77709","Oberwolfach","-14 °C","Stuttgart"]
["56651","Oberzissen","-14 °C","Nürburg-Barweiler"]
["83119","Obing","-16 °C","Hohenpeißenberg"]
["53506","Obliers","-14 °C","Nürburg-Barweiler"]
["46485","Obrighoven","-10 °C","Düsseldorf"]
["97199","Ochsenfurt","-14 °C","Würzburg"]
["88416","Ochsenhausen","-16 °C","Stuttgart"]
["88418","Ochsenhausen","-16 °C","Stuttgart"]
["31134","Ochtersum","-14 °C","Hannover"]
["61169","Ockstadt","-14 °C","Fritzlar"]
["85235","Odelzhausen","-16 °C","München"]
["41199","Odenkirchen","-10 °C","Düsseldorf"]
["72531","Ödenwaldstetten","-18 °C","Stuttgart"]
["55571","Odernheim","-12 °C","Trier"]
["02791","Oderwitz","-16 °C","Görlitz"]
["21775","Odisheim","-12 °C","Hamburg"]
["36404","Oechsen","-16 °C","Fritzlar"]
["91249","Oed","-16 °C","Nürnberg"]
["34399","Oedelsheim","-12 °C","Fritzlar"]
["09569","Oederan","-14 °C","Erfurt"]
["74229","Oedheim","-12 °C","Stuttgart"]
["02625","Oehna","-16 °C","Görlitz"]
["98704","Oehrenstock","-16 °C","Meiningen"]
["38271","Oelber a. weißen Wege","-14 °C","Magdeburg"]
["59302","Oelde","-12 °C","Nürburg-Barweiler"]
["09376","Oelsnitz","-14 °C","Erfurt"]
["08606","Oelsnitz","-16 °C","Meiningen"]
["45739","Oer-Erkenschwick","-10 °C","Dortmund"]
["65375","Oestrich-Winkel","-12 °C","Nürburg-Barweiler"]
["86732","Oettingen","-16 °C","Augsburg"]
["5975.","Oeventrop","-14 °C","Nürburg-Barweiler"]
["53501","Oeverich","-14 °C","Nürburg-Barweiler"]
["52477","Ofden","-12 °C","Aachen"]
["74254","Offenau","-12 °C","Stuttgart"]
["76877","Offenbach","-12 °C","Karlsruhe"]
["6307.","Offenbach/Main","-12 °C","Würzburg"]
["67749","Offenbach-Hundheim","-14 °C","Saarbrücken"]
["7765.","Offenburg","-12 °C","Karlsruhe"]
["91238","Offenhausen","-16 °C","Nürnberg"]
["65555","Offheim","-12 °C","Nürburg-Barweiler"]
["89362","Offingen","-16 °C","Augsburg"]
["79664","Öflingen","-12 °C","Stuttgart"]
["72131","Ofterdingen","-16 °C","Stuttgart"]
["68723","Oftersheim","-12 °C","Karlsruhe"]
["88448","Oggelsbeuren","-16 °C","Stuttgart"]
["88422","Oggelshausen","-16 °C","Stuttgart"]
["89522","Oggenhausen","-16 °C","Augsburg"]
["21220","Ohlendorf","-12 °C","Hamburg"]
["77797","Ohlsbach","-12 °C","Karlsruhe"]
["73275","Ohmden","-16 °C","Stuttgart"]
["72770","Ohmenhausen","-16 °C","Stuttgart"]
["72813","Ohnastetten","-18 °C","Stuttgart"]
["01896","Ohorn","-14 °C","Dresden"]
["74613","Öhringen","-14 °C","Stuttgart"]
["74613","Ohrnberg","-14 °C","Stuttgart"]
["49626","Ohrtermersch","-12 °C","Hannover"]
["27337","Oiste","-12 °C","Bremen"]
["65795","Okriftel","-12 °C","Karlsruhe"]
["01458","Okrilla","-14 °C","Dresden"]
["09526","Olbernhau","-16 °C","Meiningen"]
["02785","Olbersdorf","-16 °C","Görlitz"]
["09432","Olbersdorf","-16 °C","Meiningen"]
["75248","Ölbronn-Dürrn","-14 °C","Stuttgart"]
["82140","Olching","-16 °C","Kempten"]
["29313","Oldau","-12 °C","Hannover"]
["2613.","Oldenburg/Oldb.","-10 °C","Emden"]
["29320","Oldendorf","-14 °C","Hannover"]
["33719","Oldentrup","-12 °C","Fritzlar"]
["26802","Oldersum","-10 °C","Emden"]
["53937","Olef","-14 °C","Nürburg-Barweiler"]
["59399","Olfen","-12 °C","Nürburg-Barweiler"]
["37635","Ölkassen","-14 °C","Fritzlar"]
["74249","Olnhausen","-14 °C","Stuttgart"]
["57462","Olpe","-14 °C","Nürburg-Barweiler"]
["88427","Olzreute","-16 °C","Stuttgart"]
["77855","Önsbach","-12 °C","Karlsruhe"]
["72458","Onstmettingen","-18 °C","Stuttgart"]
["88145","Opfenbach","-16 °C","Konstanz"]
["97241","Opferbaum","-14 °C","Würzburg"]
["79112","Opfingen","-12 °C","Karlsruhe"]
["79...","Opfingen","-12 °C","Karlsruhe"]
["89614","Öpfingen","-14 °C","Augsburg"]
["513..","Opladen","-10 °C","Nürburg-Barweiler"]
["02736","Oppach","-16 °C","Görlitz"]
["77728","Oppenau","-16 °C","Stuttgart"]
["71570","Oppenweiler","-14 °C","Stuttgart"]
["06785","Oranienbaum","-14 °C","Leipzig"]
["16515","Oranienburg","-14 °C","Neuruppin"]
["54298","Orenhofen","-14 °C","Trier"]
["34474","Orpethal","-14 °C","Fritzlar"]
["77972","Orschweier","-12 °C","Karlsruhe"]
["88477","Orsenhausen","-16 °C","Stuttgart"]
["78359","Orsingen-Nenzingen","-14 °C","Konstanz"]
["95233","Ort","-18 °C","Hof"]
["77799","Ortenberg","-12 °C","Karlsruhe"]
["63683","Ortenberg","-12 °C","Würzburg"]
["94496","Ortenburg","-16 °C","Straubing"]
["86647","Ortlfingen","-16 °C","Augsburg"]
["86678","Ortlfingen","-16 °C","Augsburg"]
["01990","Ortrand","-16 °C","Dresden"]
["31167","Ortshausen","-14 °C","Hannover"]
["04758","Oschatz","-14 °C","Leipzig"]
["71126","Öschelbronn","-16 °C","Stuttgart"]
["75223","Öschelbronn","-14 °C","Stuttgart"]
["72116","Öschingen","-18 °C","Stuttgart"]
["06184","Osmünde","-14 °C","Leipzig"]
["4908.","Osnabrück","-12 °C","Hannover"]
["99510","Oßmannstedt","-14 °C","Erfurt"]
["48346","Ostbevern","-12 °C","Hannover"]
["72336","Ostdorf","-16 °C","Stuttgart"]
["75395","Ostelsheim","-16 °C","Stuttgart"]
["39606","Osterburg","-14 °C","Magdeburg"]
["74706","Osterburken","-14 °C","Stuttgart"]
["94486","Osterhofen","-18 °C","Straubing"]
["83104","Ostermünchen","-16 °C","Hohenpeißenberg"]
["37520","Osterode/Harz","-16 °C","Fritzlar"]
["31020","Osterwald","-14 °C","Hannover"]
["39171","Osterweddingen","-14 °C","Magdeburg"]
["87662","Osterzell","-16 °C","Kempten"]
["73760","Ostfildern","-14 °C","Stuttgart"]
["67574","Osthofen","-12 °C","Saarbrücken"]
["39343","Ostingersleben","-14 °C","Magdeburg"]
["59510","Östinghausen","-12 °C","Nürburg-Barweiler"]
["88356","Ostrach","-14 °C","Stuttgart"]
["04749","Ostrau","-14 °C","Leipzig"]
["76684","Östringen","-12 °C","Stuttgart"]
["02899","Ostritz","-16 °C","Görlitz"]
["18375","Ostseebad Prerow","-10 °C","Rostock"]
["76470","Ötigheim","-12 °C","Karlsruhe"]
["75443","Ötisheim","-14 °C","Stuttgart"]
["37671","Ottbergen","-14 °C","Fritzlar"]
["73113","Ottenbach","-16 °C","Stuttgart"]
["75382","Ottenbronn","-14 °C","Stuttgart"]
["75382","Ottenbronn","-16 °C","Stuttgart"]
["09648","Ottendorf","-14 °C","Erfurt"]
["02708","Ottenhain","-16 °C","Görlitz"]
["75334","Ottenhausen","-14 °C","Stuttgart"]
["77963","Ottenheim","-12 °C","Karlsruhe"]
["77883","Ottenhöfen","-14 °C","Stuttgart"]
["31868","Ottenstein","-14 °C","Hannover"]
["48683","Ottenstein","-10 °C","Hannover"]
["67697","Otterberg","-12 °C","Saarbrücken"]
["83624","Otterfing","-16 °C","Hohenpeißenberg"]
["21762","Otterndorf","-10 °C","Hamburg"]
["31535","Otternhagen","-14 °C","Hannover"]
["28870","Ottersberg","-12 °C","Bremen"]
["85652","Ottersberg","-16 °C","München"]
["68723","Ottersheim","-12 °C","Karlsruhe"]
["28870","Otterstedt","-12 °C","Bremen"]
["88427","Otterswang","-16 °C","Stuttgart"]
["77833","Ottersweier","-14 °C","Karlsruhe"]
["04668","Otterwisch","-14 °C","Leipzig"]
["04720","Ottewig","-14 °C","Leipzig"]
["86316","Ottmaring","-16 °C","Augsburg"]
["94533","Ottmaring","-18 °C","Straubing"]
["48308","Ottmarsbocholt","-12 °C","Hannover"]
["86536","Ottmarshausen","-16 °C","Augsburg"]
["87724","Ottobeuren","-16 °C","Augsburg"]
["85521","Ottobrunn","-16 °C","München"]
["66564","Ottweiler","-12 °C","Saarbrücken"]
["41363","Otzenrath","-10 °C","Düsseldorf"]
["94563","Otzing","-18 °C","Straubing"]
["29313","Ovelgönne","-12 °C","Hannover"]
["37671","Ovenhausen","-14 °C","Fritzlar"]
["51491","Overath","-12 °C","Nürburg-Barweiler"]
["51491","Overrath","-12 °C","Nürburg-Barweiler"]
["73277","Owen","-16 °C","Stuttgart"]
["72401","Owingen","-16 °C","Stuttgart"]
["88696","Owingen","-12 °C","Stuttgart"]
["24811","Owschlag","-12 °C","Schleswig"]
["89335","Oxenbronn","-16 °C","Augsburg"]
["28876","Oyten - Bassen","-12 °C","Bremen"]
["38836","Pabstorf","-14 °C","Magdeburg"]
["04886","Packisch","-16 °C","Leipzig"]
["3310.","Paderborn","-12 °C","Fritzlar"]
["04603","Pähnitz","-14 °C","Leipzig"]
["07580","Paitzdorf","-14 °C","Erfurt"]
["76133","Palmbach","-14 °C","Karlsruhe"]
["54439","Palzem","-12 °C","Trier"]
["19075","Pampow","-12 °C","Schwerin"]
["04451","Panitzsch","-14 °C","Leipzig"]
["16341","Panketal","-14 °C","Neuruppin"]
["01920","Panschwitz","-16 °C","Dresden"]
["54531","Pantenburg","-14 °C","Trier"]
["37696","Papenhöfen","-14 °C","Fritzlar"]
["89136","Pappelau","-14 °C","Augsburg"]
["09661","Pappendorf","-14 °C","Erfurt"]
["39291","Parchau","-14 °C","Magdeburg"]
["19370","Parchim","-14 °C","Schwerin"]
["14669","Paretz","-14 °C","Potsdam"]
["39317","Parey","-14 °C","Magdeburg"]
["92331","Parsberg/Oberfr.","-16 °C","Nürnberg"]
["85599","Parsdorf","-16 °C","München"]
["55288","Partenheim","-12 °C","Trier"]
["19073","Parum","-12 °C","Schwerin"]
["19243","Parum","-12 °C","Schwerin"]
["04769","Paschkowitz","-14 °C","Leipzig"]
["17309","Pasewalk","-14 °C","Greifswald"]
["9403.","Passau","-14 °C","Straubing"]
["18184","Pastow","-10 °C","Rostock"]
["30982","Pattensen","-14 °C","Hannover"]
["85307","Paunzhausen","-16 °C","München"]
["07952","Pausa","-16 °C","Erfurt"]
["01616","Paußnitz","-16 °C","Dresden"]
["91352","Pautzfeld","-16 °C","Nürnberg"]
["95701","Pechbrunn","-18 °C","Hof"]
["08485","Pechtelsgrün","-16 °C","Erfurt"]
["34439","Peckelsheim","-14 °C","Fritzlar"]
["04523","Pegau","-14 °C","Leipzig"]
["91257","Pegnitz","-16 °C","Nürnberg"]
["01945","Peickwitz","-16 °C","Dresden"]
["3122.","Peine","-14 °C","Hannover"]
["04460","Peißen","-14 °C","Leipzig"]
["82380","Peißenberg","-16 °C","Kempten"]
["03185","Peitz","-16 °C","Lindenberg"]
["54331","Pellingen","-12 °C","Trier"]
["25849","Pellworm","-10 °C","List auf Sylt"]
["93482","Pemfling","-18 °C","Straubing"]
["17328","Penkun","-14 °C","Greifswald"]
["82377","Penzberg","-18 °C","Kempten"]
["91126","Penzendorf","-16 °C","Nürnberg"]
["86929","Penzing","-16 °C","Kempten"]
["94366","Perasdorf","-18 °C","Straubing"]
["82319","Perchting","-16 °C","Kempten"]
["66706","Perl","-12 °C","Saarbrücken"]
["71277","Perouse","-16 °C","Stuttgart"]
["91580","Petersaurach","-16 °C","Nürnberg"]
["17268","Petersdorf","-14 °C","Greifswald"]
["32469","Petershagen","-12 °C","Fritzlar"]
["15236","Petershagen","-16 °C","Lindenberg"]
["15370","Petershagen","-14 °C","Lindenberg"]
["85238","Petershausen","-16 °C","München"]
["89423","Peterswörth","-16 °C","Augsburg"]
["78112","Peterzell","-16 °C","Stuttgart"]
["31079","Petze","-14 °C","Hannover"]
["84066","Pfaffenberg","-18 °C","Straubing"]
["87772","Pfaffenhausen","-16 °C","Augsburg"]
["89284","Pfaffenhofen","-16 °C","Augsburg"]
["85276","Pfaffenhofen","-16 °C","München"]
["76359","Pfaffenrot","-14 °C","Stuttgart"]
["79292","Pfaffenweier","-14 °C","Stuttgart"]
["79292","Pfaffenweiler","-14 °C","Stuttgart"]
["72119","Pfäffingen","-16 °C","Stuttgart"]
["09526","Pfaffroda","-16 °C","Meiningen"]
["73479","Pfahlheim","-16 °C","Stuttgart"]
["56291","Pfalzfeld","-14 °C","Nürburg-Barweiler"]
["72285","Pfalzgrafenweiler","-16 °C","Stuttgart"]
["84347","Pfarrkirchen","-16 °C","Straubing"]
["93102","Pfatter","-18 °C","Straubing"]
["67547","Pfeddersheim","-12 °C","Saarbrücken"]
["74629","Pfedelbach","-14 °C","Stuttgart"]
["99869","Pferdingsleben","-14 °C","Erfurt"]
["76327","Pfinztal","-12 °C","Stuttgart"]
["75334","Pfinzweiler","-14 °C","Stuttgart"]
["86926","Pflaumdorf","-16 °C","Kempten"]
["86946","Pflugdorf","-16 °C","Kempten"]
["71636","Pflugfelden","-12 °C","Stuttgart"]
["78166","Pfohren","-18 °C","Stuttgart"]
["7517.","Pforzheim","-12 °C","Stuttgart"]
["75181","Pforzheim - Huchenfeld","-14 °C","Stuttgart"]
["83064","Pfraundorf","-18 °C","Hohenpeißenberg"]
["92536","Pfreimd","-16 °C","Nürnberg"]
["72074","Pfrondorf","-16 °C","Stuttgart"]
["72539","Pfronstetten","-16 °C","Stuttgart"]
["87459","Pfronten","-18 °C","Kempten"]
["88271","Pfrungen","-14 °C","Stuttgart"]
["89233","Pfuhl","-14 °C","Augsburg"]
["88630","Pfullendorf","-14 °C","Stuttgart"]
["72793","Pfullingen","-16 °C","Stuttgart"]
["64319","Pfungstadt","-12 °C","Würzburg"]
["76661","Philippsburg","-12 °C","Karlsruhe"]
["94158","Philippsreut","-18 °C","Straubing"]
["36269","Philippsthal","-14 °C","Fritzlar"]
["83451","Piding","-16 °C","Hohenpeißenberg"]
["66809","Piesbach","-12 °C","Saarbrücken"]
["83666","Piesenkam","-18 °C","Hohenpeißenberg"]
["54498","Piesport","-10 °C","Trier"]
["75446","Pinache","-14 °C","Stuttgart"]
["25421","Pinneberg","-12 °C","Schleswig"]
["6695.","Pirmasens","-12 °C","Saarbrücken"]
["01796","Pirna","-14 °C","Dresden"]
["01920","Piskowitz","-16 °C","Dresden"]
["83132","Pittenhart","-16 °C","Hohenpeißenberg"]
["56637","Plaidt","-14 °C","Nürburg-Barweiler"]
["55545","Planig","-12 °C","Trier"]
["08606","Planschwitz","-16 °C","Meiningen"]
["19086","Plate","-12 °C","Schwerin"]
["70794","Plattenhardt","-14 °C","Stuttgart"]
["94447","Plattling","-18 °C","Straubing"]
["99338","Plaue","-14 °C","Meiningen"]
["08527","Plauen","-16 °C","Meiningen"]
["91287","Plech","-16 °C","Nürnberg"]
["74385","Pleidelsheim","-12 °C","Stuttgart"]
["91785","Pleinfeld","-16 °C","Nürnberg"]
["09246","Pleißa","-14 °C","Erfurt"]
["86971","Pleiting","-16 °C","Kempten"]
["04928","Plessa","-16 °C","Leipzig"]
["58840","Plettenberg","-12 °C","Nürburg-Barweiler"]
["72124","Pliezhausen","-16 °C","Stuttgart"]
["73207","Plochingen","-16 °C","Stuttgart"]
["08228","Plohn","-16 °C","Meiningen"]
["24306","Plön","-12 °C","Schleswig"]
["06667","Plotha","-14 °C","Leipzig"]
["07907","Plothen","-16 °C","Meiningen"]
["39245","Plötzky","-14 °C","Magdeburg"]
["73655","Plüderhausen","-16 °C","Stuttgart"]
["09496","Pobershau","-16 °C","Meiningen"]
["09509","Pockau","-16 °C","Meiningen"]
["18516","Poggendorf","-12 °C","Rostock"]
["19243","Pogreß","-12 °C","Schwerin"]
["08543","Pöhl","-16 °C","Meiningen"]
["01906","Pohla","-16 °C","Dresden"]
["08352","Pöhla","-16 °C","Meiningen"]
["31867","Pohle","-14 °C","Hannover"]
["35415","Pohlheim","-14 °C","Fritzlar"]
["85586","Poing","-16 °C","München"]
["18059","Pölchow","-12 °C","Rostock"]
["01844","Polenz","-14 °C","Dresden"]
["06408","Poley","-14 °C","Leipzig"]
["54340","Pölich","-10 °C","Trier"]
["92334","Pollanten","-16 °C","Nürnberg"]
["37647","Polle","-12 °C","Fritzlar"]
["06295","Polleben","-14 °C","Leipzig"]
["82398","Polling","-16 °C","Kempten"]
["84570","Polling","-16 °C","Straubing"]
["92318","Pölling","-16 °C","Nürnberg"]
["91805","Polsingen","-16 °C","Nürnberg"]
["72119","Poltringen","-16 °C","Stuttgart"]
["19303","Polz","-12 °C","Schwerin"]
["91224","Pommelsbrunn","-14 °C","Nürnberg"]
["39249","Pömmelte","-14 °C","Magdeburg"]
["96178","Pommersfelden","-16 °C","Bamberg"]
["04668","Pomßen","-14 °C","Leipzig"]
["04639","Ponitz","-14 °C","Leipzig"]
["18184","Poppendorf","-12 °C","Rostock"]
["97490","Poppenhausen","-16 °C","Würzburg"]
["92284","Poppenricht","-16 °C","Nürnberg"]
["71642","Poppenweiler","-12 °C","Stuttgart"]
["04769","Poppitz","-14 °C","Leipzig"]
["94501","Pörndorf","-16 °C","Straubing"]
["01833","Porschendorf","-14 °C","Dresden"]
["52525","Porselen","-10 °C","Aachen"]
["32457","Porta Westfalica","-12 °C","Fritzlar"]
["506..","Porz","-10 °C","Düsseldorf"]
["08606","Posseck","-18 °C","Meiningen"]
["97346","Possenheim","-16 °C","Würzburg"]
["07381","Pößneck","-14 °C","Erfurt"]
["1448.","Potsdam","-14 °C","Potsdam"]
["91278","Pottenstein","-16 °C","Nürnberg"]
["86554","Pöttmes","-16 °C","Augsburg"]
["24253","Prasdorf","-10 °C","Schleswig"]
["01594","Prausitz","-16 °C","Dresden"]
["03185","Preilack","-16 °C","Lindenberg"]
["17291","Prenzlau","-14 °C","Greifswald"]
["18375","Prerow","-10 °C","Rostock"]
["04849","Pressel","-14 °C","Leipzig"]
["91362","Pretzfeld","-16 °C","Nürnberg"]
["39245","Pretzien","-14 °C","Magdeburg"]
["06909","Pretzsch","-14 °C","Leipzig"]
["01774","Pretzschendorf","-16 °C","Dresden"]
["97357","Prichsenstadt","-16 °C","Würzburg"]
["83209","Prien","-16 °C","Hohenpeißenberg"]
["06909","Priesitz","-14 °C","Leipzig"]
["04651","Prießnitz","-14 °C","Leipzig"]
["04509","Priester","-14 °C","Leipzig"]
["66620","Primstal","-12 °C","Saarbrücken"]
["19300","Prislich","-14 °C","Schwerin"]
["06667","Prittitz","-14 °C","Leipzig"]
["86931","Prittriching","-16 °C","Kempten"]
["17440","Pritzier","-12 °C","Greifswald"]
["07330","Probstzella","-18 °C","Meiningen"]
["39264","Prödel","-14 °C","Magdeburg"]
["18455","Prohn","-10 °C","Rostock"]
["23968","Proseken","-10 °C","Schwerin"]
["97279","Prosselsheim","-14 °C","Würzburg"]
["15345","Prötzel","-14 °C","Lindenberg"]
["18356","Pruchten","-10 °C","Rostock"]
["54595","Prüm","-14 °C","Trier"]
["83134","Prutting","-16 °C","Hohenpeißenberg"]
["82256","Puch (Post FFB)","-16 °C","Kempten"]
["92715","Püchersreuth","-18 °C","Nürnberg"]
["82178","Puchheim","-16 °C","Kempten"]
["52499","Puffendorf","-12 °C","Aachen"]
["50259","Pulheim","-12 °C","Düsseldorf"]
["01896","Pulsnitz","-14 °C","Dresden"]
["56862","Pünderich","-12 °C","Nürburg-Barweiler"]
["86932","Pürgen","-16 °C","Kempten"]
["06925","Purzien","-14 °C","Leipzig"]
["03159","Pusack","-16 °C","Lindenberg"]
["90617","Puschendorf","-16 °C","Nürnberg"]
["02699","Puschwitz","-16 °C","Görlitz"]
["01877","Putzkau","-16 °C","Dresden"]
["06484","Quedlinburg","-14 °C","Leipzig"]
["66851","Queidersbach","-12 °C","Saarbrücken"]
["06386","Quellendorf","-14 °C","Leipzig"]
["06333","Quenstedt","-14 °C","Leipzig"]
["37235","Quentel","-14 °C","Fritzlar"]
["77694","Querbach","-12 °C","Karlsruhe"]
["04769","Querbitzsch","-14 °C","Leipzig"]
["25712","Quickborn Post Burg","-12 °C","Schleswig"]
["66287","Quierschied","-12 °C","Saarbrücken"]
["66909","Quirnbach","-12 °C","Saarbrücken"]
["19065","Raben Steinfeld","-12 °C","Schwerin"]
["01920","Rächelwitz","-16 °C","Dresden"]
["02997","Rachlau","-16 °C","Görlitz"]
["21449","Radbruch","-12 °C","Hamburg"]
["03226","Raddusch","-16 °C","Lindenberg"]
["01454","Radeberg","-14 °C","Dresden"]
["01445","Radebeul","-14 °C","Dresden"]
["04509","Radefeld","-14 °C","Leipzig"]
["89173","Radelstetten","-16 °C","Augsburg"]
["42477","Radevormwald","-12 °C","Düsseldorf"]
["02627","Radibor","-16 °C","Görlitz"]
["36399","Radmühl","-14 °C","Fritzlar"]
["78315","Radolfzell","-12 °C","Konstanz"]
["46348","Raesfeld","-10 °C","Düsseldorf"]
["04668","Ragewitz","-14 °C","Leipzig"]
["14806","Ragösen","-14 °C","Potsdam"]
["06779","Raguhn","-14 °C","Leipzig"]
["22147","Rahlstedt","-12 °C","Hamburg"]
["12589","Rahnsdorf","-14 °C","Berlin"]
["72622","Raidwangen","-16 °C","Stuttgart"]
["86641","Rain","-16 °C","Augsburg"]
["73492","Rainau","-16 °C","Stuttgart"]
["09074","Raitersaich","-16 °C","Erfurt"]
["18516","Rakow","-12 °C","Rostock"]
["01920","Ralbitz","-16 °C","Dresden"]
["54310","Ralingen","-12 °C","Trier"]
["65207","Rambach","-12 °C","Nürburg-Barweiler"]
["76857","Ramberg","-12 °C","Saarbrücken"]
["23966","Rambow","-12 °C","Schwerin"]
["83561","Ramerberg","-16 °C","Hohenpeißenberg"]
["53359","Ramershoven","-14 °C","Nürburg-Barweiler"]
["31303","Ramlingen","-14 °C","Hannover"]
["89192","Rammingen","-16 °C","Augsburg"]
["86871","Rammingen","-16 °C","Kempten"]
["19067","Rampe","-12 °C","Schwerin"]
["83486","Ramsau","-18 °C","Hohenpeißenberg"]
["91785","Ramsberg","-16 °C","Nürnberg"]
["46342","Ramsdorf","-10 °C","Düsseldorf"]
["97236","Randersacker","-14 °C","Würzburg"]
["72414","Rangendingen","-16 °C","Stuttgart"]
["15834","Rangsdorf","-14 °C","Lindenberg"]
["07389","Ranis","-14 °C","Erfurt"]
["56235","Ransbach-Baumbach","-14 °C","Nürburg-Barweiler"]
["76829","Ranschbach","-12 °C","Karlsruhe"]
["25980","Rantum/Sylt","-10 °C","List auf Sylt"]
["04420","Räpitz","-14 °C","Leipzig"]
["17509","Rappenhagen","-12 °C","Greifswald"]
["54497","Rapperath","-14 °C","Trier"]
["08352","Raschau","-16 °C","Meiningen"]
["76437","Rastatt","-12 °C","Karlsruhe"]
["26180","Rastede","-12 °C","Emden"]
["19077","Rastow","-12 °C","Schwerin"]
["52385","Rath","-14 °C","Aachen"]
["41836","Ratheim","-10 °C","Düsseldorf"]
["04657","Rathendorf","-14 °C","Leipzig"]
["14712","Rathenow","-14 °C","Potsdam"]
["91080","Rathsberg","-16 °C","Nürnberg"]
["16259","Rathsdorf","-14 °C","Neuruppin"]
["4088.","Ratingen","-10 °C","Düsseldorf"]
["72365","Ratshausen","-18 °C","Stuttgart"]
["83064","Raubling","-18 °C","Hohenpeißenberg"]
["69231","Rauenberg","-12 °C","Würzburg"]
["09366","Raum","-16 °C","Meiningen"]
["65479","Raunheim","-12 °C","Karlsruhe"]
["01920","Rauschwitz","-16 °C","Dresden"]
["31177","Rautenberg","-14 °C","Hannover"]
["38126","Rautheim","-14 °C","Magdeburg"]
["8821.","Ravensburg","-14 °C","Konstanz"]
["74747","Ravenstein","-14 °C","Stuttgart"]
["08209","Rebesgrün","-16 °C","Meiningen"]
["53506","Rech / Ahr","-14 °C","Nürburg-Barweiler"]
["73529","Rechberg","-16 °C","Stuttgart"]
["73098","Rechberghausen","-16 °C","Stuttgart"]
["76889","Rechtenbach","-12 °C","Saarbrücken"]
["14778","Reckahn","-14 °C","Potsdam"]
["45665","Recklinghausen","-10 °C","Düsseldorf"]
["04720","Redemitz","-14 °C","Leipzig"]
["23946","Redewisch","-10 °C","Schwerin"]
["91126","Rednitzhembach","-16 °C","Nürnberg"]
["46459","Rees","-10 °C","Düsseldorf"]
["73495","Regelsweiler","-16 °C","Stuttgart"]
["94209","Regen","-18 °C","Straubing"]
["93197","Regendorf","-16 °C","Straubing"]
["93059","Regensburg","-16 °C","Straubing"]
["93128","Regenstauf","-16 °C","Straubing"]
["89165","Regglisweiler","-16 °C","Augsburg"]
["04565","Regis - Breitingen","-14 °C","Leipzig"]
["04565","Regis-Breitingen","-14 °C","Leipzig"]
["95194","Regnitzlosau","-18 °C","Hof"]
["95111","Rehau","-18 °C","Hof"]
["55592","Rehborn","-12 °C","Trier"]
["31547","Rehburg","-14 °C","Hannover"]
["01773","Rehefeld","-16 °C","Dresden"]
["25593","Reher","-12 °C","Schleswig"]
["86508","Rehling","-16 °C","Augsburg"]
["66780","Rehlingen","-12 °C","Saarbrücken"]
["19217","Rehna","-12 °C","Schwerin"]
["57462","Rehringhausen","-14 °C","Nürburg-Barweiler"]
["06786","Rehsen","-14 °C","Leipzig"]
["66907","Rehweiler","-12 °C","Saarbrücken"]
["04509","Reibitz","-14 °C","Leipzig"]
["04229","Reichardtshausen","-14 °C","Leipzig"]
["74934","Reichartshausen","-12 °C","Stuttgart"]
["64385","Reichelsheim","-14 °C","Würzburg"]
["61203","Reichelsheim i. d. Wetterau","-12 °C","Fritzlar"]
["01762","Reichenau","-16 °C","Dresden"]
["01936","Reichenau","-16 °C","Dresden"]
["99947","Reichenbach","-14 °C","Erfurt"]
["02894","Reichenbach","-16 °C","Görlitz"]
["77933","Reichenbach","-14 °C","Karlsruhe"]
["73463","Reichenbach","-16 °C","Stuttgart"]
["78564","Reichenbach","-18 °C","Stuttgart"]
["73072","Reichenbach (Donzdorf)","-16 °C","Stuttgart"]
["73262","Reichenbach an der Fils","-16 °C","Stuttgart"]
["08468","Reichenbach/Vogtland","-16 °C","Erfurt"]
["97234","Reichenberg","-14 °C","Würzburg"]
["76593","Reichental","-14 °C","Karlsruhe"]
["83677","Reichersbeuern","-18 °C","Hohenpeißenberg"]
["85293","Reichertshausen","-16 °C","München"]
["51580","Reichshof","-12 °C","Nürburg-Barweiler"]
["94428","Reichstorf","-16 °C","Straubing"]
["06116","Reideburg","-14 °C","Leipzig"]
["66507","Reifenberg","-12 °C","Saarbrücken"]
["09514","Reifland","-16 °C","Meiningen"]
["74889","Reihen","-14 °C","Stuttgart"]
["68799","Reilingen","-12 °C","Karlsruhe"]
["86756","Reimlingen","-16 °C","Augsburg"]
["21465","Reinbek","-12 °C","Hamburg"]
["32609","Reineberg","-12 °C","Fritzlar"]
["23858","Reinfeld","-12 °C","Schwerin"]
["01814","Reinhardtsdorf","-16 °C","Dresden"]
["01768","Reinhardtsgrimma","-14 °C","Dresden"]
["64354","Reinheim","-14 °C","Würzburg"]
["09629","Reinsberg","-14 °C","Erfurt"]
["06896","Reinsdorf","-14 °C","Leipzig"]
["54421","Reinsfeld","-14 °C","Trier"]
["88416","Reinstetten","-16 °C","Stuttgart"]
["94419","Reisbach","-16 °C","Straubing"]
["85462","Reisen","-16 °C","München"]
["89321","Reisensburg","-16 °C","Augsburg"]
["35625","Reiskirchen","-14 °C","Fritzlar"]
["83242","Reit im Winkl","-18 °C","Hohenpeißenberg"]
["94419","Reith","-16 °C","Straubing"]
["69242","Reitigheim","-12 °C","Würzburg"]
["09249","Reitzenhain","-14 °C","Erfurt"]
["48734","Reken","-10 °C","Hannover"]
["25462","Rellingen","-12 °C","Schleswig"]
["53424","Remagen","-12 °C","Nürburg-Barweiler"]
["75196","Remchingen","-14 °C","Stuttgart"]
["72149","Remmingsheim","-16 °C","Stuttgart"]
["4285.","Remscheid","-12 °C","Düsseldorf"]
["08373","Remse","-14 °C","Erfurt"]
["71686","Remseck","-12 °C","Stuttgart"]
["73630","Remshalden","-14 °C","Stuttgart"]
["77871","Renchen","-12 °C","Karlsruhe"]
["61184","Rendel","-12 °C","Fritzlar"]
["24768","Rendsburg","-10 °C","Schleswig"]
["72172","Renfrizhausen","-16 °C","Stuttgart"]
["37318","Rengelrode","-16 °C","Fritzlar"]
["97980","Rengershausen","-14 °C","Würzburg"]
["90602","Rengersricht","-16 °C","Nürnberg"]
["56579","Rengsdorf","-12 °C","Nürburg-Barweiler"]
["56477","Rennerod","-14 °C","Nürburg-Barweiler"]
["71272","Renningen","-16 °C","Stuttgart"]
["78603","Renquishausen","-16 °C","Stuttgart"]
["96184","Rentweinsdorf","-14 °C","Bamberg"]
["45892","Resse","-10 °C","Düsseldorf"]
["27336","Rethem","-12 °C","Bremen"]
["31319","Rethmar","-14 °C","Hannover"]
["18211","Rethwisch","-10 °C","Rostock"]
["87549","Rettenberg","-18 °C","Kempten"]
["69242","Rettigheim","-12 °C","Würzburg"]
["17279","Retzow","-14 °C","Greifswald"]
["97282","Retzstadt","-14 °C","Würzburg"]
["77871","Reuchen","-12 °C","Karlsruhe"]
["72622","Reudern","-14 °C","Stuttgart"]
["96158","Reundorf","-16 °C","Bamberg"]
["96215","Reundorf","-16 °C","Bamberg"]
["72119","Reusten","-16 °C","Stuttgart"]
["79276","Reute","-12 °C","Karlsruhe"]
["88339","Reute","-16 °C","Stuttgart"]
["88441","Reute","-16 °C","Stuttgart"]
["17153","Reuterstadt","-14 °C","Greifswald"]
["08496","Reuth","-16 °C","Erfurt"]
["08538","Reuth","-18 °C","Meiningen"]
["72275","Reutin","-16 °C","Stuttgart"]
["72760","Reutlingen","-16 °C","Stuttgart"]
["72160","Rexingen","-16 °C","Stuttgart"]
["33378","Rheda-Wiedenbrück","-12 °C","Fritzlar"]
["46414","Rhede","-10 °C","Düsseldorf"]
["53859","Rheidt","-12 °C","Nürburg-Barweiler"]
["68219","Rheinau","-12 °C","Karlsruhe"]
["77866","Rheinau","-12 °C","Karlsruhe"]
["77866","Rheinau-Linx","-12 °C","Karlsruhe"]
["53359","Rheinbach","-14 °C","Nürburg-Barweiler"]
["47495","Rheinberg","-10 °C","Düsseldorf"]
["77866","Rheinbischoffsheim","-12 °C","Karlsruhe"]
["55494","Rheinböllen","-14 °C","Trier"]
["53619","Rheinbreitbach","-12 °C","Nürburg-Barweiler"]
["56598","Rheinbrohl","-12 °C","Nürburg-Barweiler"]
["41179","Rheindahlen","-10 °C","Düsseldorf"]
["48429","Rheine","-12 °C","Hannover"]
["79618","Rheinfelden","-12 °C","Stuttgart"]
["67067","Rheingönheim","-12 °C","Saarbrücken"]
["68794","Rheinhausen","-12 °C","Karlsruhe"]
["79365","Rheinhausen /Breisgau","-12 °C","Karlsruhe"]
["47169","Rheinhausen/Niederrh.","-10 °C","Düsseldorf"]
["79790","Rheinheim","-12 °C","Stuttgart"]
["4744.","Rheinkamp","-10 °C","Düsseldorf"]
["77836","Rheinmünster","-12 °C","Karlsruhe"]
["16831","Rheinsberg","-14 °C","Neuruppin"]
["76661","Rheinsheim","-12 °C","Karlsruhe"]
["76287","Rheinstetten","-12 °C","Karlsruhe"]
["79415","Rheinweiler","-12 °C","Karlsruhe"]
["76764","Rheinzabern","-12 °C","Karlsruhe"]
["47509","Rheurdt","-10 °C","Düsseldorf"]
["4106.","Rheydt","-10 °C","Düsseldorf"]
["37434","Rhumspringe","-16 °C","Fritzlar"]
["18311","Ribnitz-Damgarten","-10 °C","Rostock"]
["79736","Rickenbach","-14 °C","Stuttgart"]
["99334","Riechheim","-14 °C","Erfurt"]
["68642","Ried","-12 °C","Karlsruhe"]
["78176","Riedböhringen","-16 °C","Stuttgart"]
["70619","Riedenberg","-14 °C","Stuttgart"]
["93339","Riedenburg","-16 °C","Straubing"]
["72585","Riederich","-16 °C","Stuttgart"]
["79777","Riedern","-14 °C","Stuttgart"]
["89340","Riedheim","-16 °C","Augsburg"]
["78247","Riedheim","-12 °C","Konstanz"]
["94566","Riedlhütte","-18 °C","Straubing"]
["88499","Riedlingen","-14 °C","Stuttgart"]
["86637","Riedsend","-16 °C","Augsburg"]
["64560","Riedstadt","-12 °C","Karlsruhe"]
["79359","Riegel","-12 °C","Karlsruhe"]
["78239","Rielasingen-Worblingen","-12 °C","Konstanz"]
["71672","Rielingshausen","-14 °C","Stuttgart"]
["97794","Rieneck","-14 °C","Würzburg"]
["0159.","Riesa","-16 °C","Dresden"]
["66509","Rieschweiler-Mühlbach","-12 °C","Saarbrücken"]
["24354","Rieseby","-10 °C","Schleswig"]
["48477","Riesenbeck","-12 °C","Hannover"]
["06786","Riesigk","-14 °C","Leipzig"]
["49597","Rieste","-12 °C","Hannover"]
["55499","Riesweiler","-14 °C","Trier"]
["33397","Rietberg","-12 °C","Fritzlar"]
["78604","Rietheim-Weilheim","-18 °C","Stuttgart"]
["99195","Riethnordhausen","-14 °C","Erfurt"]
["02956","Rietschen","-16 °C","Görlitz"]
["14778","Riewend","-14 °C","Potsdam"]
["84326","Rimbach","-16 °C","Straubing"]
["93485","Rimbach","-18 °C","Straubing"]
["64668","Rimbach / Odw","-14 °C","Würzburg"]
["83253","Rimsting","-16 °C","Hohenpeißenberg"]
["73479","Rindelbach","-16 °C","Stuttgart"]
["53501","Ringen","-14 °C","Nürburg-Barweiler"]
["46499","Ringenberg","-10 °C","Düsseldorf"]
["01904","Ringenhain","-16 °C","Dresden"]
["09648","Ringethal","-14 °C","Erfurt"]
["88605","Ringgenbach","-14 °C","Stuttgart"]
["89155","Ringingen","-14 °C","Augsburg"]
["72393","Ringingen","-18 °C","Stuttgart"]
["88400","Ringschnait","-16 °C","Stuttgart"]
["77975","Ringsheim","-12 °C","Karlsruhe"]
["48317","Rinkerode","-12 °C","Hannover"]
["31737","Rinteln","-12 °C","Hannover"]
["32676","Rischenau","-14 °C","Fritzlar"]
["88400","Rißegg","-16 °C","Stuttgart"]
["89584","Rißtissen","-14 °C","Augsburg"]
["27721","Ritterhude","-12 °C","Bremen"]
["08355","Rittersgrün","-18 °C","Meiningen"]
["35716","Rittershausen","-14 °C","Fritzlar"]
["37130","Rittmarshausen","-16 °C","Fritzlar"]
["04749","Rittmitz","-14 °C","Leipzig"]
["89290","Ritzisried","-16 °C","Augsburg"]
["09322","Rochsburg","-14 °C","Erfurt"]
["06686","Röcken","-14 °C","Leipzig"]
["92361","Röckersbühl","-16 °C","Nürnberg"]
["04808","Röcknitz","-14 °C","Leipzig"]
["96476","Rodach","-16 °C","Bamberg"]
["66976","Rodalben","-12 °C","Saarbrücken"]
["64401","Rodau","-14 °C","Würzburg"]
["17268","Röddelin","-12 °C","Greifswald"]
["67688","Rodenbach","-12 °C","Saarbrücken"]
["63517","Rodenbach","-12 °C","Würzburg"]
["31552","Rodenberg","-14 °C","Hannover"]
["5067.","Rodenkirchen","-10 °C","Düsseldorf"]
["01619","Röderau","-16 °C","Dresden"]
["63322","Rödermark","-12 °C","Würzburg"]
["01561","Rödern","-16 °C","Dresden"]
["08538","Rodersdorf","-16 °C","Meiningen"]
["31637","Rodewald","-12 °C","Hannover"]
["08228","Rodewisch","-16 °C","Meiningen"]
["63110","Rodgau","-12 °C","Würzburg"]
["04838","Rödgen","-14 °C","Leipzig"]
["93142","Roding","-16 °C","Straubing"]
["93426","Roding","-16 °C","Straubing"]
["52445","Rödingen","-12 °C","Aachen"]
["51709","Rodt","-12 °C","Nürburg-Barweiler"]
["39326","Rogätz","-14 °C","Magdeburg"]
["89297","Roggenburg","-16 °C","Augsburg"]
["17039","Roggenhagen","-14 °C","Greifswald"]
["17252","Roggentin","-14 °C","Greifswald"]
["18230","Roggow","-10 °C","Rostock"]
["73479","Röhlingen","-16 °C","Stuttgart"]
["91189","Rohr","-16 °C","Nürnberg"]
["70565","Rohr","-14 °C","Stuttgart"]
["71116","Rohrau","-16 °C","Stuttgart"]
["74889","Rohrbach","-12 °C","Stuttgart"]
["83101","Rohrdorf","-18 °C","Hohenpeißenberg"]
["72184","Rohrdorf","-16 °C","Stuttgart"]
["72229","Rohrdorf","-16 °C","Stuttgart"]
["88605","Rohrdorf","-14 °C","Stuttgart"]
["99310","Röhrensee","-14 °C","Erfurt"]
["85244","Röhrmoos","-16 °C","München"]
["01665","Röhrsdorf","-14 °C","Dresden"]
["09247","Röhrsdorf","-14 °C","Erfurt"]
["31627","Rohrsen","-12 °C","Hannover"]
["38836","Rohrsheim","-14 °C","Magdeburg"]
["53332","Roisdorf","-12 °C","Nürburg-Barweiler"]
["23948","Rolofshagen","-10 °C","Schwerin"]
["67354","Römerberg","-12 °C","Saarbrücken"]
["72587","Römerstein","-18 °C","Stuttgart"]
["98631","Römhild","-16 °C","Meiningen"]
["72768","Rommelsbach","-16 °C","Stuttgart"]
["71394","Rommelshausen","-14 °C","Stuttgart"]
["41569","Rommerskirchen","-12 °C","Düsseldorf"]
["30952","Ronnenberg","-14 °C","Hannover"]
["36124","Rönshausen","-14 °C","Fritzlar"]
["37124","Rosdorf","-16 °C","Fritzlar"]
["21514","Roseburg","-12 °C","Hamburg"]
["91622","Rosenberg","-16 °C","Nürnberg"]
["73494","Rosenberg","-16 °C","Stuttgart"]
["74749","Rosenberg","-16 °C","Stuttgart"]
["31840","Rosenbusch","-14 °C","Hannover"]
["48720","Rosendahl-Osterwick","-10 °C","Hannover"]
["72348","Rosenfeld","-16 °C","Stuttgart"]
["21224","Rosengarten","-12 °C","Hamburg"]
["8302.","Rosenheim/Oberbay.","-16 °C","Hohenpeißenberg"]
["17091","Rosenow","-14 °C","Greifswald"]
["19205","Rosenow","-12 °C","Schwerin"]
["01920","Rosenthal","-16 °C","Dresden"]
["35119","Rosenthal-Roda","-14 °C","Fritzlar"]
["04617","Rositz","-14 °C","Leipzig"]
["51503","Rösrath","-12 °C","Nürburg-Barweiler"]
["67752","Roßbach","-12 °C","Saarbrücken"]
["94439","Roßbach","-16 °C","Straubing"]
["64380","Roßdorf","-12 °C","Würzburg"]
["31171","Rössing","-14 °C","Hannover"]
["06862","Roßlau","-14 °C","Leipzig"]
["06571","Roßleben","-14 °C","Leipzig"]
["08527","Rößnitz","-16 °C","Meiningen"]
["90574","Roßtal","-16 °C","Nürnberg"]
["71665","Roßwag","-14 °C","Stuttgart"]
["73061","Roßwälden","-16 °C","Stuttgart"]
["72336","Roßwangen","-18 °C","Stuttgart"]
["04741","Roßwein","-14 °C","Leipzig"]
["88430","Rot a.d. Rot","-16 °C","Stuttgart"]
["74585","Rot am See","-16 °C","Stuttgart"]
["75394","Rötenbach","-16 °C","Stuttgart"]
["78733","Rötenberg","-16 °C","Stuttgart"]
["52159","Rötgen/Eifel","-12 °C","Aachen"]
["91154","Roth","-16 °C","Nürnberg"]
["04571","Rötha","-14 °C","Leipzig"]
["37688","Rothe","-14 °C","Fritzlar"]
["07922","Rothenacker","-18 °C","Meiningen"]
["56459","Rothenbach","-14 °C","Nürburg-Barweiler"]
["01744","Röthenbach","-16 °C","Dresden"]
["64757","Rothenberg","-14 °C","Würzburg"]
["63584","Rothenbergen","-14 °C","Würzburg"]
["91284","Rothenbruck","-16 °C","Nürnberg"]
["91541","Rothenburg ob der Tauber","-14 °C","Nürnberg"]
["08237","Rothenkirchen","-16 °C","Meiningen"]
["04924","Rothstein","-16 °C","Leipzig"]
["95336","Rothwind","-16 °C","Hof"]
["08468","Rotschau","-16 °C","Erfurt"]
["52159","Rott","-14 °C","Aachen"]
["82216","Rottbach","-16 °C","Kempten"]
["99444","Rottdorf","-14 °C","Erfurt"]
["06295","Rottelsdorf","-14 °C","Leipzig"]
["91341","Röttenbach","-16 °C","Nürnberg"]
["72108","Rottenburg","-16 °C","Stuttgart"]
["36275","Rotterterode","-14 °C","Fritzlar"]
["94094","Rotthalmünster","-16 °C","Straubing"]
["45884","Rotthausen","-10 °C","Düsseldorf"]
["14793","Rottstock","-14 °C","Potsdam"]
["78628","Rottweil","-16 °C","Stuttgart"]
["92444","Rötz","-18 °C","Nürnberg"]
["17094","Rowa","-14 °C","Greifswald"]
["55595","Roxheim","-12 °C","Trier"]
["56070","Rübenach","-14 °C","Nürburg-Barweiler"]
["03238","Rückersdorf","-16 °C","Lindenberg"]
["24960","Rüde","-10 °C","Schleswig"]
["73635","Rudersberg","-14 °C","Stuttgart"]
["15562","Rüdersdorf","-14 °C","Lindenberg"]
["94161","Ruderting","-16 °C","Straubing"]
["65385","Rüdesheim","-12 °C","Nürburg-Barweiler"]
["91438","Rüdisbronn","-16 °C","Nürnberg"]
["07407","Rudolstadt","-14 °C","Erfurt"]
["19069","Rugensee","-12 °C","Schwerin"]
["23970","Rüggow","-10 °C","Schwerin"]
["91622","Rügland","-16 °C","Nürnberg"]
["99842","Ruhla","-16 °C","Meiningen"]
["01945","Ruhland","-16 °C","Dresden"]
["06917","Ruhlsdorf","-14 °C","Leipzig"]
["79639","Rührberg","-12 °C","Stuttgart"]
["94099","Ruhstorf","-16 °C","Straubing"]
["26969","Ruhwarden","-10 °C","Emden"]
["75015","Ruit","-14 °C","Stuttgart"]
["88512","Rulfingen","-14 °C","Stuttgart"]
["79595","Rümmingen","-12 °C","Karlsruhe"]
["93486","Runding","-18 °C","Straubing"]
["88448","Rupertshofen","-16 °C","Stuttgart"]
["56558","Ruppenrod","-14 °C","Nürburg-Barweiler"]
["35325","Ruppertenrod","-14 °C","Fritzlar"]
["67152","Ruppertsberg","-12 °C","Saarbrücken"]
["08435","Ruppertsgrün","-16 °C","Erfurt"]
["08543","Ruppertsgrün","-16 °C","Meiningen"]
["65779","Ruppertshain","-14 °C","Nürburg-Barweiler"]
["73577","Ruppertshofen","-16 °C","Stuttgart"]
["66957","Ruppertsweiler","-12 °C","Saarbrücken"]
["53809","Ruppichteroth","-12 °C","Nürburg-Barweiler"]
["88410","Rupprechts","-16 °C","Stuttgart"]
["52152","Rurberg","-14 °C","Aachen"]
["55776","Ruschberg","-14 °C","Trier"]
["65428","Rüsselsheim","-12 °C","Karlsruhe"]
["91320","Rüssenbach","-16 °C","Nürnberg"]
["18230","Russow","-10 °C","Rostock"]
["79733","Rüßwihl","-14 °C","Stuttgart"]
["77977","Rust","-12 °C","Karlsruhe"]
["71277","Rutesheim","-14 °C","Stuttgart"]
["67752","Rutsweiler","-12 °C","Saarbrücken"]
["94339","Rutzenbach","-18 °C","Straubing"]
["18317","Saal","-10 °C","Rostock"]
["07318","Saalfeld/Saale","-14 °C","Meiningen"]
["15806","Saalow","-14 °C","Lindenberg"]
["66115","Saarbrücken","-12 °C","Saarbrücken"]
["54439","Saarburg","-12 °C","Trier"]
["66701","Saarfels","-12 °C","Saarbrücken"]
["66740","Saarlouis","-12 °C","Saarbrücken"]
["66793","Saarwellingen","-12 °C","Saarbrücken"]
["32816","Sabbenhausen","-14 °C","Fritzlar"]
["89537","Sachsenhausen","-16 °C","Augsburg"]
["34513","Sachsenhausen","-14 °C","Fritzlar"]
["74343","Sachsenheim","-12 °C","Stuttgart"]
["83679","Sachsenkam","-18 °C","Hohenpeißenberg"]
["01561","Sacka","-16 °C","Dresden"]
["17099","Sadelkow","-14 °C","Greifswald"]
["21493","Sahms","-12 °C","Hamburg"]
["21272","Sahrendorf","-14 °C","Hamburg"]
["73084","Salach","-16 °C","Stuttgart"]
["57290","Salchendorf","-14 °C","Nürburg-Barweiler"]
["94330","Salching","-18 °C","Straubing"]
["94163","Saldenburg","-16 °C","Straubing"]
["88682","Salem","-14 °C","Stuttgart"]
["03238","Sallgast","-16 °C","Lindenberg"]
["72393","Salmendingen","-18 °C","Stuttgart"]
["54528","Salmtal","-14 °C","Trier"]
["63628","Salmünster","-14 °C","Würzburg"]
["97616","Salz","-14 °C","Würzburg"]
["02627","Salzenforst","-16 °C","Görlitz"]
["38226","Salzgitter","-14 °C","Magdeburg"]
["31020","Salzhemmendorf","-14 °C","Hannover"]
["33154","Salzkotten","-12 °C","Fritzlar"]
["72178","Salzstetten","-16 °C","Stuttgart"]
["29410","Salzwedel","-14 °C","Hannover"]
["94121","Salzweg","-16 °C","Straubing"]
["39326","Samswegen","-14 °C","Magdeburg"]
["34308","Sand","-14 °C","Fritzlar"]
["77731","Sand","-12 °C","Karlsruhe"]
["39524","Sandau","-14 °C","Magdeburg"]
["16559","Sandberge","-14 °C","Neuruppin"]
["33106","Sande","-12 °C","Fritzlar"]
["06792","Sandersdorf","-14 °C","Leipzig"]
["34266","Sandershausen","-12 °C","Fritzlar"]
["06456","Sandersleben","-14 °C","Leipzig"]
["23898","Sandesneben","-12 °C","Schwerin"]
["76532","Sandweier ( Baden-Baden)","-12 °C","Karlsruhe"]
["06526","Sangerhausen","-14 °C","Leipzig"]
["18190","Sanitz","-12 °C","Rostock"]
["37444","Sankt Andreasberg","-16 °C","Fritzlar"]
["53757","Sankt Augustin","-12 °C","Nürburg-Barweiler"]
["79837","Sankt Blasien","-16 °C","Stuttgart"]
["21357","Sankt Dionys","-12 °C","Hamburg"]
["78112","Sankt Georgen","-16 °C","Stuttgart"]
["56346","Sankt Goarshausen","-12 °C","Nürburg-Barweiler"]
["66383","Sankt Ingbert","-12 °C","Saarbrücken"]
["56727","Sankt Johann","-14 °C","Nürburg-Barweiler"]
["72813","Sankt Johann","-16 °C","Stuttgart"]
["68789","Sankt Leon-Rot","-12 °C","Karlsruhe"]
["79274","Sankt Märgen","-18 °C","Stuttgart"]
["09618","Sankt Michaelis","-16 °C","Erfurt"]
["25826","Sankt Peter-Ording","-10 °C","Schleswig"]
["66606","Sankt Wendel","-12 °C","Saarbrücken"]
["23719","Sarau","-12 °C","Schwerin"]
["02627","Särka","-16 °C","Görlitz"]
["31157","Sarstedt","-14 °C","Hannover"]
["77880","Sasbach","-12 °C","Karlsruhe"]
["79361","Sasbach","-12 °C","Karlsruhe"]
["77887","Sasbachwalden","-14 °C","Stuttgart"]
["48336","Sassenberg","-12 °C","Hannover"]
["18546","Saßnitz","-10 °C","Rostock"]
["18239","Satow","-12 °C","Rostock"]
["74589","Satteldorf","-16 °C","Stuttgart"]
["82054","Sauerlach","-16 °C","Kempten"]
["88524","Sauggart","-14 °C","Stuttgart"]
["94344","Saulburg","-18 °C","Straubing"]
["88605","Sauldorf","-14 °C","Stuttgart"]
["88348","Saulgau","-14 °C","Stuttgart"]
["82442","Saulgrub","-18 °C","Kempten"]
["78078","Schabenhausen","-16 °C","Stuttgart"]
["37318","Schachtebich","-16 °C","Fritzlar"]
["39343","Schackensleben","-14 °C","Magdeburg"]
["06449","Schadeleben","-14 °C","Leipzig"]
["36358","Schadges","-14 °C","Fritzlar"]
["24980","Schafflund","-10 °C","Schleswig"]
["71263","Schafhausen","-16 °C","Stuttgart"]
["76744","Schaidt","-12 °C","Karlsruhe"]
["58579","Schalckmühle","-12 °C","Nürburg-Barweiler"]
["96528","Schalkau","-16 °C","Bamberg"]
["53426","Schalkenbach","-14 °C","Nürburg-Barweiler"]
["58579","Schalksmühle","-12 °C","Nürburg-Barweiler"]
["79227","Schallstadt","-14 °C","Karlsruhe"]
["83547","Schambach","-16 °C","Hohenpeißenberg"]
["38162","Schandelah","-14 °C","Magdeburg"]
["77776","Schapbach","-16 °C","Stuttgart"]
["2368.","Scharbeutz","-10 °C","Schwerin"]
["01665","Scharfenberg","-14 °C","Dresden"]
["59929","Scharfenberg","-14 °C","Nürburg-Barweiler"]
["33154","Scharmede","-12 °C","Fritzlar"]
["69168","Schatthausen","-12 °C","Würzburg"]
["31737","Schaumburg","-14 °C","Hannover"]
["24960","Schausende","-10 °C","Schleswig"]
["83135","Schechen","-16 °C","Hohenpeißenberg"]
["73579","Schechingen","-16 °C","Stuttgart"]
["37127","Scheden","-14 °C","Fritzlar"]
["08056","Schedewitz","-14 °C","Erfurt"]
["72516","Scheer","-14 °C","Stuttgart"]
["27383","Scheeßel","-12 °C","Bremen"]
["74850","Schefflenz","-14 °C","Stuttgart"]
["09481","Scheibenberg","-16 °C","Meiningen"]
["04460","Scheidens","-14 °C","Leipzig"]
["56379","Scheidt","-12 °C","Nürburg-Barweiler"]
["91443","Scheinfeld","-16 °C","Nürnberg"]
["79235","Schelingen","-12 °C","Karlsruhe"]
["89601","Schelklingen","-16 °C","Augsburg"]
["75242","Schellbronn","-14 °C","Stuttgart"]
["01776","Schellerhau","-16 °C","Dresden"]
["31174","Schellerten","-14 °C","Hannover"]
["08301","Schelma","-16 °C","Meiningen"]
["88433","Schemmerberg","-16 °C","Stuttgart"]
["88433","Schemmerhofen","-16 °C","Stuttgart"]
["04509","Schenkenberg","-14 °C","Leipzig"]
["03172","Schenkendöbern","-16 °C","Lindenberg"]
["77773","Schenkenzell","-14 °C","Stuttgart"]
["36288","Schenklengsfeld","-14 °C","Fritzlar"]
["46514","Schermbeck","-10 °C","Düsseldorf"]
["86872","Scherstetten","-16 °C","Kempten"]
["96110","Scheßlitz","-16 °C","Bamberg"]
["53572","Scheuren","-12 °C","Nürburg-Barweiler"]
["85298","Scheyern","-16 °C","München"]
["32816","Schieder-Schwalenberg","-14 °C","Fritzlar"]
["652..","Schierstein","-12 °C","Würzburg"]
["27619","Schiffdorf","-12 °C","Bremen"]
["67105","Schifferstadt","-12 °C","Saarbrücken"]
["03253","Schilda","-16 °C","Lindenberg"]
["04889","Schildau","-16 °C","Leipzig"]
["16552","Schildow","-14 °C","Neuruppin"]
["91583","Schillingsfürst","-16 °C","Nürnberg"]
["74744","Schillingstadt","-16 °C","Stuttgart"]
["77761","Schiltach","-16 °C","Stuttgart"]
["02681","Schirgiswalde","-16 °C","Görlitz"]
["04435","Schkeuditz","-14 °C","Leipzig"]
["04420","Schkölen","-14 °C","Leipzig"]
["06258","Schkopau","-14 °C","Leipzig"]
["52372","Schlagstein","-14 °C","Aachen"]
["04749","Schlagwitz","-14 °C","Leipzig"]
["72667","Schlaitdorf","-16 °C","Stuttgart"]
["33189","Schlangen","-14 °C","Fritzlar"]
["65388","Schlangenbad","-14 °C","Nürburg-Barweiler"]
["29459","Schlannau","-14 °C","Hannover"]
["06785","Schleesen","-14 °C","Leipzig"]
["54340","Schleich","-10 °C","Trier"]
["52457","Schleiden","-12 °C","Aachen"]
["53937","Schleiden","-14 °C","Nürburg-Barweiler"]
["53937","Schleiden/Efel","-14 °C","Nürburg-Barweiler"]
["07907","Schleiz","-16 °C","Meiningen"]
["24837","Schleswig","-10 °C","Schleswig"]
["41470","Schlicherum","-10 °C","Düsseldorf"]
["73614","Schlichten","-16 °C","Stuttgart"]
["04936","Schlieben","-16 °C","Leipzig"]
["79418","Schliengen","-12 °C","Karlsruhe"]
["88281","Schlier","-14 °C","Stuttgart"]
["63636","Schlierbach","-12 °C","Würzburg"]
["74706","Schlierstadt","-16 °C","Stuttgart"]
["36110","Schlitz","-14 °C","Fritzlar"]
["07646","Schlöben","-14 °C","Erfurt"]
["33758","Schloß Holte","-12 °C","Fritzlar"]
["33104","Schloß Neuhaus","-12 °C","Fritzlar"]
["30826","Schloss Ricklingen","-14 °C","Hannover"]
["73441","Schloßberg","-16 °C","Stuttgart"]
["09439","Schlößchen","-14 °C","Meiningen"]
["99195","Schloßvippach","-14 °C","Erfurt"]
["79859","Schluchsee","-18 °C","Stuttgart"]
["36381","Schlüchtern","-14 °C","Fritzlar"]
["32469","Schlüsselburg","-12 °C","Fritzlar"]
["96132","Schlüsselfeld","-16 °C","Bamberg"]
["27804","Schlüte","-10 °C","Bremen"]
["76275","Schluttenbach","-14 °C","Karlsruhe"]
["57392","Schmallenberg","-14 °C","Nürburg-Barweiler"]
["06295","Schmalzerode","-14 °C","Leipzig"]
["98530","Schmeheim","-16 °C","Meiningen"]
["95336","Schmeilsdorf","-16 °C","Hof"]
["66839","Schmelz","-12 °C","Saarbrücken"]
["04895","Schmerkendorf","-16 °C","Leipzig"]
["14776","Schmerzke","-14 °C","Potsdam"]
["52385","Schmidt","-14 °C","Aachen"]
["55758","Schmidthachenbach","-14 °C","Trier"]
["53949","Schmidtheim","-14 °C","Nürburg-Barweiler"]
["89601","Schmiechen","-16 °C","Augsburg"]
["98711","Schmiedefeld","-16 °C","Meiningen"]
["99518","Schmiedehausen","-14 °C","Erfurt"]
["77971","Schmieheim","-12 °C","Karlsruhe"]
["99094","Schmira","-14 °C","Erfurt"]
["61389","Schmitten","-16 °C","Fritzlar"]
["17506","Schmoldow","-12 °C","Greifswald"]
["04828","Schmölen","-14 °C","Leipzig"]
["17291","Schmölln","-14 °C","Greifswald"]
["04626","Schmölln","-14 °C","Leipzig"]
["71384","Schnait","-14 °C","Stuttgart"]
["91220","Schnaittach","-16 °C","Nürnberg"]
["92253","Schnaittenbach","-16 °C","Nürnberg"]
["32609","Schnathorst","-12 °C","Fritzlar"]
["67699","Schneckenhausen","-12 °C","Saarbrücken"]
["08289","Schneeberg","-16 °C","Meiningen"]
["29465","Schnega","-14 °C","Hannover"]
["34286","Schnellrode","-14 °C","Fritzlar"]
["29640","Schneverdingen","-14 °C","Hannover"]
["96215","Schney","-16 °C","Bamberg"]
["89194","Schnürpflingen","-16 °C","Augsburg"]
["06179","Schochwitz","-14 °C","Leipzig"]
["35641","Schöffengrund","-14 °C","Fritzlar"]
["27305","Scholen","-12 °C","Bremen"]
["63825","Schöllkrippen","-14 °C","Würzburg"]
["94508","Schöllnach","-18 °C","Straubing"]
["72290","Schömberg","-14 °C","Stuttgart"]
["72355","Schömberg","-18 °C","Stuttgart"]
["75328","Schömberg","-16 °C","Stuttgart"]
["04838","Schöna","-14 °C","Leipzig"]
["71101","Schönaich","-16 °C","Stuttgart"]
["08121","Schönau","-14 °C","Erfurt"]
["83471","Schönau","-18 °C","Hohenpeißenberg"]
["84337","Schönau","-16 °C","Straubing"]
["79677","Schönau","-16 °C","Stuttgart"]
["69250","Schönau","-12 °C","Würzburg"]
["08496","Schönbach","-16 °C","Erfurt"]
["02708","Schönbach","-16 °C","Görlitz"]
["17349","Schönbeck","-14 °C","Greifswald"]
["23923","Schönberg","-10 °C","Schwerin"]
["94513","Schönberg","-18 °C","Straubing"]
["01465","Schönborn","-14 °C","Dresden"]
["56370","Schönborn","-14 °C","Nürburg-Barweiler"]
["71557","Schönbronn","-16 °C","Stuttgart"]
["72218","Schönbronn","-16 °C","Stuttgart"]
["08485","Schönbrunn","-16 °C","Erfurt"]
["08606","Schönbrunn","-18 °C","Meiningen"]
["86938","Schondorf","-16 °C","Kempten"]
["07924","Schöndorf","-16 °C","Meiningen"]
["39218","Schönebeck/Elbe","-14 °C","Magdeburg"]
["88477","Schönebürg","-16 °C","Stuttgart"]
["61137","Schöneck","-12 °C","Fritzlar"]
["08261","Schöneck","-18 °C","Meiningen"]
["12529","Schönefeld","-14 °C","Berlin"]
["17291","Schönermark","-14 °C","Greifswald"]
["09569","Schönerstadt","-14 °C","Erfurt"]
["04703","Schönerstädt","-14 °C","Leipzig"]
["86676","Schönesberg","-16 °C","Augsburg"]
["19205","Schönfeld","-12 °C","Schwerin"]
["08115","Schönfels","-16 °C","Erfurt"]
["15326","Schönfließ","-14 °C","Lindenberg"]
["16567","Schönfließ","-14 °C","Neuruppin"]
["86956","Schongau","-16 °C","Kempten"]
["37170","Schönhagen","-14 °C","Fritzlar"]
["73574","Schönhardt","-16 °C","Stuttgart"]
["39524","Schönhausen","-14 °C","Magdeburg"]
["03130","Schönheide","-16 °C","Lindenberg"]
["08304","Schönheide","-16 °C","Meiningen"]
["37170","Schoningen","-14 °C","Fritzlar"]
["16321","Schönow","-14 °C","Neuruppin"]
["92539","Schönsee","-18 °C","Hof"]
["83137","Schonstett","-16 °C","Hohenpeißenberg"]
["74214","Schöntal","-14 °C","Stuttgart"]
["01471","Schönteichen","-16 °C","Dresden"]
["01920","Schönteichen","-16 °C","Dresden"]
["78141","Schönwald","-18 °C","Stuttgart"]
["14621","Schönwalde","-14 °C","Potsdam"]
["79650","Schopfheim","-12 °C","Stuttgart"]
["72296","Schopfloch","-16 °C","Stuttgart"]
["67707","Schopp","-12 °C","Saarbrücken"]
["38170","Schöppenstedt","-14 °C","Magdeburg"]
["37627","Schorborn","-14 °C","Fritzlar"]
["73614","Schornbach","-16 °C","Stuttgart"]
["93489","Schorndorf","-18 °C","Straubing"]
["73614","Schorndorf- Schlichten","-16 °C","Stuttgart"]
["73614","Schorndorf/Württ.","-16 °C","Stuttgart"]
["55288","Schornsheim","-12 °C","Trier"]
["06369","Schortewitz","-14 °C","Leipzig"]
["72355","Schörzingen","-18 °C","Stuttgart"]
["19073","Schossin","-12 °C","Schwerin"]
["63679","Schotten/Hessen","-12 °C","Würzburg"]
["04928","Schraden","-16 °C","Leipzig"]
["78713","Schramberg","-16 °C","Stuttgart"]
["04720","Schrebitz","-14 °C","Leipzig"]
["08233","Schreiersgrün","-16 °C","Meiningen"]
["73479","Schrezheim","-16 °C","Stuttgart"]
["69198","Schriesheim","-12 °C","Würzburg"]
["86529","Schrobenhausen","-18 °C","Augsburg"]
["24850","Schuby","-12 °C","Schleswig"]
["54586","Schüller","-14 °C","Trier"]
["15732","Schulzendorf","-14 °C","Lindenberg"]
["77948","Schuttern","-12 °C","Karlsruhe"]
["77978","Schuttertal","-14 °C","Stuttgart"]
["77746","Schutterwald","-12 °C","Karlsruhe"]
["77746","Schutterwald-Höfen","-12 °C","Karlsruhe"]
["53894","Schützendorf","-14 °C","Nürburg-Barweiler"]
["18258","Schwaan","-12 °C","Rostock"]
["91126","Schwabach","-16 °C","Nürnberg"]
["74626","Schwabbach","-14 °C","Stuttgart"]
["55270","Schwabenheim","-12 °C","Trier"]
["85247","Schwabhausen","-16 °C","München"]
["7352.","Schwäbisch Gmünd","-16 °C","Stuttgart"]
["74523","Schwäbisch Hall","-16 °C","Stuttgart"]
["86830","Schwabmünchen","-16 °C","Kempten"]
["86987","Schwabsoien","-16 °C","Kempten"]
["90571","Schwaig","-16 °C","Nürnberg"]
["74193","Schwaigern","-14 °C","Stuttgart"]
["71409","Schwaikheim","-14 °C","Stuttgart"]
["65824","Schwalbach","-14 °C","Nürburg-Barweiler"]
["66773","Schwalbach","-12 °C","Saarbrücken"]
["72108","Schwalldorf","-16 °C","Stuttgart"]
["34613","Schwalmstadt","-14 °C","Fritzlar"]
["41366","Schwalmtal","-10 °C","Düsseldorf"]
["36318","Schwalmtal","-14 °C","Fritzlar"]
["77963","Schwanau","-12 °C","Karlsruhe"]
["08538","Schwand","-16 °C","Meiningen"]
["08538","Schwand","-16 °C","Meiningen"]
["90596","Schwand","-16 °C","Nürnberg"]
["92421","Schwandorf","-16 °C","Nürnberg"]
["16341","Schwanebeck","-14 °C","Neuruppin"]
["14806","Schwanebeck","-14 °C","Potsdam"]
["41812","Schwanenberg","-10 °C","Düsseldorf"]
["28790","Schwanewede","-10 °C","Bremen"]
["97523","Schwanfeld","-14 °C","Würzburg"]
["75334","Schwann","-14 °C","Stuttgart"]
["99195","Schwansee","-14 °C","Erfurt"]
["90596","Schwanstetten","-16 °C","Nürnberg"]
["29690","Schwarmstedt","-12 °C","Hannover"]
["92548","Schwarzach","-16 °C","Nürnberg"]
["94491","Schwarzach","-18 °C","Straubing"]
["74869","Schwarzach","-12 °C","Stuttgart"]
["95126","Schwarzenbach/Saale","-18 °C","Hof"]
["21493","Schwarzenbek","-12 °C","Hamburg"]
["93458","Schwarzenberg","-18 °C","Straubing"]
["75328","Schwarzenberg","-16 °C","Stuttgart"]
["08340","Schwarzenberg/Erzgeb.","-16 °C","Meiningen"]
["90592","Schwarzenbruck","-16 °C","Nürnberg"]
["92521","Schwarzenfeld","-16 °C","Nürnberg"]
["02977","Schwarzkollm","-16 °C","Görlitz"]
["24229","Schwedeneck","-10 °C","Schleswig"]
["16303","Schwedt/Oder","-16 °C","Neuruppin"]
["54338","Schweich","-10 °C","Trier"]
["76889","Schweigen","-12 °C","Saarbrücken"]
["77978","Schweighausen","-14 °C","Stuttgart"]
["76889","Schweighofen","-12 °C","Saarbrücken"]
["09326","Schweikertshain","-14 °C","Erfurt"]
["97422","Schweinfurt","-14 °C","Würzburg"]
["88454","Schweinhausen","-16 °C","Stuttgart"]
["06928","Schweinitz","-14 °C","Leipzig"]
["58332","Schwelm","-12 °C","Nürburg-Barweiler"]
["88477","Schwendi","-16 °C","Stuttgart"]
["72477","Schwenningen","-16 °C","Stuttgart"]
["780..","Schwenningen/Neckar","-16 °C","Stuttgart"]
["01936","Schwepnitz","-16 °C","Dresden"]
["53909","Schwerfen","-14 °C","Nürburg-Barweiler"]
["15755","Schwerin","-14 °C","Lindenberg"]
["1906.","Schwerin","-12 °C","Schwerin"]
["99634","Schwerstedt","-14 °C","Erfurt"]
["58239","Schwerte/Ruhr","-12 °C","Nürburg-Barweiler"]
["06188","Schwerz","-14 °C","Leipzig"]
["04769","Schweta","-14 °C","Leipzig"]
["68723","Schwetzingen","-12 °C","Karlsruhe"]
["71701","Schwieberdingen","-14 °C","Stuttgart"]
["86940","Schwifting","-16 °C","Kempten"]
["84419","Schwindegg","-16 °C","Straubing"]
["06295","Schwittersdorf","-14 °C","Leipzig"]
["86754","Schwörsheim","-16 °C","Augsburg"]
["79739","Schwörstadt","-12 °C","Stuttgart"]
["31311","Schwüblingsen","-14 °C","Hannover"]
["38179","Schwülper","-14 °C","Magdeburg"]
["96247","Schwürbitz","-16 °C","Bamberg"]
["01855","Sebnitz","-16 °C","Dresden"]
["71566","Sechselberg","-14 °C","Stuttgart"]
["53332","Sechtem","-12 °C","Nürburg-Barweiler"]
["74743","Seckach","-14 °C","Stuttgart"]
["77889","Seebach","-16 °C","Stuttgart"]
["17420","Seebad Heringsdorf","-12 °C","Greifswald"]
["72108","Seebronn","-16 °C","Stuttgart"]
["83358","Seebruck","-16 °C","Hohenpeißenberg"]
["37136","Seeburg","-16 °C","Fritzlar"]
["39307","Seedorf","-14 °C","Magdeburg"]
["39319","Seedorf","-14 °C","Magdeburg"]
["78655","Seedorf","-16 °C","Stuttgart"]
["82229","Seefeld","-16 °C","Kempten"]
["06888","Seegrehna","-14 °C","Leipzig"]
["82418","Seehausen","-16 °C","Kempten"]
["39615","Seehausen","-14 °C","Magdeburg"]
["64342","Seeheim-Jugenheim","-12 °C","Würzburg"]
["77960","Seelbach","-14 °C","Karlsruhe"]
["01909","Seeligstadt","-14 °C","Dresden"]
["04687","Seeligstädt","-14 °C","Leipzig"]
["09306","Seelitz","-14 °C","Erfurt"]
["04769","Seelitz","-14 °C","Leipzig"]
["53819","Seelscheid","-12 °C","Nürburg-Barweiler"]
["30926","Seelze","-14 °C","Hannover"]
["38723","Seesen","-14 °C","Magdeburg"]
["86925","Seestall","-16 °C","Kempten"]
["212..","Seevetal","-12 °C","Bremen"]
["21217","Seevetal - Over","-12 °C","Hamburg"]
["72297","Seewald","-16 °C","Stuttgart"]
["79733","Segeten","-16 °C","Stuttgart"]
["31196","Sehlem","-16 °C","Hannover"]
["54518","Sehlem","-14 °C","Trier"]
["09465","Sehma","-16 °C","Meiningen"]
["31319","Sehnde","-14 °C","Hannover"]
["88410","Seibranz","-16 °C","Stuttgart"]
["09548","Seiffen","-16 °C","Meiningen"]
["07389","Seisla","-14 °C","Erfurt"]
["89143","Seißen","-16 °C","Augsburg"]
["78606","Seitingen - Oberflacht","-18 °C","Stuttgart"]
["95100","Selb","-18 °C","Hof"]
["52538","Selfkant","-10 °C","Aachen"]
["63500","Seligenstadt","-12 °C","Würzburg"]
["98593","Seligenthal","-16 °C","Meiningen"]
["24884","Selk","-12 °C","Schleswig"]
["04626","Selka","-14 °C","Leipzig"]
["18586","Sellin","-10 °C","Rostock"]
["27619","Sellstedt","-12 °C","Bremen"]
["59379","Selm","-12 °C","Nürburg-Barweiler"]
["23923","Selmsdorf","-10 °C","Schwerin"]
["27446","Selsingen","-12 °C","Bremen"]
["65618","Selters","-14 °C","Nürburg-Barweiler"]
["55278","Selzen","-12 °C","Trier"]
["89250","Senden","-16 °C","Augsburg"]
["48308","Senden","-12 °C","Hannover"]
["48324","Sendenhorst","-12 °C","Hannover"]
["01968","Senftenberg","-16 °C","Dresden"]
["92369","Sengenthal","-16 °C","Nürnberg"]
["56820","Senheim","-12 °C","Nürburg-Barweiler"]
["33659","Senne I","-12 °C","Fritzlar"]
["33102","Sennelager","-12 °C","Fritzlar"]
["06193","Sennewitz","-14 °C","Leipzig"]
["97526","Sennfeld","-14 °C","Würzburg"]
["15754","Senzig","-14 °C","Lindenberg"]
["04668","Sermuth","-14 °C","Leipzig"]
["18292","Serrahn","-12 °C","Rostock"]
["75446","Serres","-14 °C","Stuttgart"]
["54455","Serrig","-12 °C","Trier"]
["74372","Sersheim","-12 °C","Stuttgart"]
["16230","Serwest","-14 °C","Neuruppin"]
["56244","Sessenhausen","-14 °C","Nürburg-Barweiler"]
["37124","Settmarshausen","-16 °C","Fritzlar"]
["92358","Seubersdorf","-16 °C","Nürnberg"]
["90556","Seukendorf","-16 °C","Nürnberg"]
["37136","Seulingen","-16 °C","Fritzlar"]
["79350","Sexau","-14 °C","Stuttgart"]
["31079","Sibbesse","-14 °C","Hannover"]
["72379","Sickingen","-16 °C","Stuttgart"]
["38173","Sickte","-14 °C","Magdeburg"]
["76833","Siebeldingen","-12 °C","Karlsruhe"]
["09634","Siebenlehn","-14 °C","Erfurt"]
["06308","Siebigerode","-14 °C","Leipzig"]
["01920","Siebitz","-16 °C","Dresden"]
["17089","Siedenbollentin","-14 °C","Greifswald"]
["35768","Siegbach","-14 °C","Fritzlar"]
["53721","Siegburg","-12 °C","Nürburg-Barweiler"]
["74936","Siegelsbach","-12 °C","Stuttgart"]
["5707.","Siegen","-12 °C","Nürburg-Barweiler"]
["93354","Siegenburg","-18 °C","Straubing"]
["5384.","Sieglar","-12 °C","Nürburg-Barweiler"]
["06420","Sieglitz","-14 °C","Leipzig"]
["83313","Siegsdorf","-16 °C","Hohenpeißenberg"]
["70794","Sielmingen","-14 °C","Stuttgart"]
["03055","Sielow","-16 °C","Lindenberg"]
["52457","Siersdorf","-12 °C","Aachen"]
["29664","Sieverdingen","-12 °C","Hannover"]
["27607","Sievern","-10 °C","Bremen"]
["23936","Sievershagen","-10 °C","Schwerin"]
["31275","Sievershausen","-14 °C","Hannover"]
["19376","Siggelkow","-14 °C","Schwerin"]
["72488","Sigmaringen","-14 °C","Stuttgart"]
["72517","Sigmaringendorf","-14 °C","Stuttgart"]
["72172","Sigmarswangen","-16 °C","Stuttgart"]
["37603","Silberborn","-14 °C","Fritzlar"]
["06493","Silberhütte","-16 °C","Leipzig"]
["24887","Silberstedt","-12 °C","Schleswig"]
["08121","Silberstraße","-14 °C","Erfurt"]
["37345","Silkerode","-16 °C","Fritzlar"]
["94436","Simbach","-16 °C","Straubing"]
["91245","Simmelsdorf","-16 °C","Nürnberg"]
["52152","Simmerath","-14 °C","Aachen"]
["55469","Simmern","-14 °C","Trier"]
["35713","Simmersbach","-14 °C","Fritzlar"]
["03149","Simmersdorf","-16 °C","Lindenberg"]
["72226","Simmersfeld","-16 °C","Stuttgart"]
["97215","Simmershofen","-16 °C","Würzburg"]
["55618","Simmertal","-14 °C","Trier"]
["75397","Simmozheim","-16 °C","Stuttgart"]
["79263","Simonswald","-18 °C","Stuttgart"]
["04720","Simselwitz","-14 °C","Leipzig"]
["71063","Sindelfingen","-14 °C","Stuttgart"]
["82404","Sindelsdorf","-18 °C","Kempten"]
["75196","Singen","-14 °C","Stuttgart"]
["7820.","Singen-Hohentwiel","-14 °C","Konstanz"]
["50259","Sinnersdorf","-12 °C","Düsseldorf"]
["74889","Sinsheim","-12 °C","Stuttgart"]
["21079","Sinstorf (Hamburg)","-12 °C","Hamburg"]
["76545","Sinzheim","-12 °C","Karlsruhe"]
["76547","Sinzheim","-12 °C","Karlsruhe"]
["53489","Sinzig","-12 °C","Nürburg-Barweiler"]
["67729","Sippersfeld","-12 °C","Saarbrücken"]
["07557","Sirbis","-14 °C","Erfurt"]
["72574","Sirchingen","-16 °C","Stuttgart"]
["23898","Sirksfelde","-12 °C","Schwerin"]
["04703","Sitten","-14 °C","Leipzig"]
["27419","Sittensen","-12 °C","Bremen"]
["04889","Sitzenroda","-16 °C","Leipzig"]
["01561","Skäßchen","-16 °C","Dresden"]
["83139","Söchtenau","-16 °C","Hohenpeißenberg"]
["82319","Söcking","-16 °C","Kempten"]
["63834","Soden","-14 °C","Würzburg"]
["59494","Soest/Westf.","-12 °C","Nürburg-Barweiler"]
["89077","Söflingen","-14 °C","Augsburg"]
["49751","Sögel","-12 °C","Hannover"]
["08626","Sohl","-18 °C","Meiningen"]
["02689","Sohland","-16 °C","Görlitz"]
["31185","Söhlde","-14 °C","Hannover"]
["79294","Sölden","-16 °C","Stuttgart"]
["426..","Solingen","-12 °C","Düsseldorf"]
["18445","Solkendorf","-10 °C","Rostock"]
["06774","Söllichau","-14 °C","Leipzig"]
["76327","Söllingen","-12 °C","Stuttgart"]
["02633","Sollschwitz","-16 °C","Görlitz"]
["99759","Sollstedt","-14 °C","Erfurt"]
["35606","Solms","-12 °C","Fritzlar"]
["29614","Soltau","-12 °C","Hannover"]
["99610","Sömmerda","-14 °C","Erfurt"]
["72766","Sondelfingen","-16 °C","Stuttgart"]
["99706","Sondershausen","-14 °C","Erfurt"]
["94146","Sonndorf","-18 °C","Straubing"]
["96515","Sonneberg","-16 °C","Bamberg"]
["32683","Sonneborn","-14 °C","Fritzlar"]
["31634","Sonnenborstel","-12 °C","Hannover"]
["72820","Sonnenbühl","-18 °C","Stuttgart"]
["03249","Sonnenwalde","-16 °C","Lindenberg"]
["47665","Sonsbeck","-10 °C","Düsseldorf"]
["89555","Sontheim","-16 °C","Augsburg"]
["89567","Sontheim","-16 °C","Augsburg"]
["04769","Sornitz-Ablaß","-14 °C","Leipzig"]
["04769","Sornzig","-14 °C","Leipzig"]
["04769","Sornzig","-14 °C","Leipzig"]
["31134","Sorsum","-14 °C","Hannover"]
["08326","Sosa","-16 °C","Meiningen"]
["27367","Sottrum","-12 °C","Bremen"]
["67620","Soufflenheim (Frankreich)","-12 °C","Saarbrücken"]
["27619","Spaden","-12 °C","Bremen"]
["78549","Spaichingen","-18 °C","Stuttgart"]
["54529","Spangdahlem","-14 °C","Trier"]
["34286","Spangenberg","-14 °C","Fritzlar"]
["95234","Sparneck","-18 °C","Hof"]
["73066","Sparwiesen","-16 °C","Stuttgart"]
["82447","Spatzenhausen","-16 °C","Kempten"]
["74937","Spechbach","-12 °C","Stuttgart"]
["16250","Spechthausen","-14 °C","Neuruppin"]
["34355","Speele","-12 °C","Fritzlar"]
["54662","Speicher","-14 °C","Trier"]
["15848","Speichrow","-16 °C","Lindenberg"]
["48480","Spelle","-12 °C","Hannover"]
["32139","Spenge","-12 °C","Fritzlar"]
["41363","Spenrath","-12 °C","Düsseldorf"]
["16348","Sperlingsaue","-14 °C","Neuruppin"]
["76275","Spessart","-14 °C","Karlsruhe"]
["75365","Speßhardt","-16 °C","Stuttgart"]
["67346","Speyer","-12 °C","Saarbrücken"]
["94518","Spiegelau","-18 °C","Straubing"]
["71579","Spiegelberg","-14 °C","Stuttgart"]
["52445","Spiel","-12 °C","Aachen"]
["74343","Spielberg","-14 °C","Stuttgart"]
["76307","Spielberg","-14 °C","Stuttgart"]
["02794","Spitzkunnersdorf","-16 °C","Görlitz"]
["17039","Sponholz","-14 °C","Greifswald"]
["46399","Spork","-10 °C","Düsseldorf"]
["19372","Spornitz","-14 °C","Schwerin"]
["73565","Spraitbach","-16 °C","Stuttgart"]
["29365","Sprakensehl","-14 °C","Hannover"]
["15528","Spreenhagen","-14 °C","Lindenberg"]
["03130","Spremberg","-16 °C","Lindenberg"]
["31832","Springe","-14 °C","Hannover"]
["45549","Sprockhövel","-12 °C","Düsseldorf"]
["04838","Sprotta","-14 °C","Leipzig"]
["96155","Stackendorf","-16 °C","Bamberg"]
["2165.","Stade","-10 °C","Bremen"]
["61197","Staden","-12 °C","Fritzlar"]
["86946","Stadl","-16 °C","Kempten"]
["35260","Stadtallendorf","-14 °C","Fritzlar"]
["86391","Stadtbergen","-16 °C","Augsburg"]
["99326","Stadtilm","-14 °C","Erfurt"]
["54589","Stadtkyll","-14 °C","Trier"]
["26953","Stadtland","-10 °C","Emden"]
["97488","Stadtlauringen","-16 °C","Würzburg"]
["48703","Stadtlohn","-10 °C","Hannover"]
["37627","Stadtoldendorf","-14 °C","Fritzlar"]
["97909","Stadtprozelten","-14 °C","Würzburg"]
["07646","Stadtroda","-14 °C","Erfurt"]
["96231","Staffelstein","-16 °C","Bamberg"]
["96231","Staffelstein","-16 °C","Bamberg"]
["88441","Stafflangen","-16 °C","Stuttgart"]
["76297","Staffort","-12 °C","Karlsruhe"]
["37671","Stahle","-12 °C","Fritzlar"]
["56412","Stahlhofen","-14 °C","Nürburg-Barweiler"]
["14532","Stahnsdorf","-14 °C","Potsdam"]
["89195","Staig","-16 °C","Augsburg"]
["75365","Stammheim","-14 °C","Stuttgart"]
["82319","Starnberg","-16 °C","Kempten"]
["17252","Starsow","-14 °C","Greifswald"]
["72181","Starzach","-16 °C","Stuttgart"]
["39418","Staßfurt","-14 °C","Magdeburg"]
["86316","Stätzling","-16 °C","Augsburg"]
["86641","Staudheim","-16 °C","Augsburg"]
["89428","Staufen","-16 °C","Augsburg"]
["79219","Staufen","-14 °C","Karlsruhe"]
["34355","Staufenberg","-12 °C","Fritzlar"]
["17039","Staven","-14 °C","Greifswald"]
["56276","Stebach","-14 °C","Nürburg-Barweiler"]
["75050","Stebbach","-14 °C","Stuttgart"]
["04936","Stechau","-16 °C","Leipzig"]
["96135","Stegaurach","-16 °C","Bamberg"]
["39517","Stegelitz","-14 °C","Magdeburg"]
["79252","Stegen","-16 °C","Stuttgart"]
["12163","Steglitz","-14 °C","Berlin"]
["88633","Steigen","-14 °C","Stuttgart"]
["31634","Steimbke","-12 °C","Hannover"]
["57614","Steimel","-14 °C","Nürburg-Barweiler"]
["74196","Stein am Kocher","-12 °C","Stuttgart"]
["90547","Stein b. Nbg.","-16 °C","Nürnberg"]
["01920","Steina","-16 °C","Dresden"]
["04703","Steina","-14 °C","Leipzig"]
["94377","Steinach","-18 °C","Straubing"]
["77790","Steinach","-14 °C","Stuttgart"]
["36396","Steinau a.d. Straße","-14 °C","Fritzlar"]
["37308","Steinbach","-16 °C","Fritzlar"]
["04567","Steinbach","-14 °C","Leipzig"]
["09477","Steinbach","-16 °C","Meiningen"]
["97900","Steinbach","-14 °C","Würzburg"]
["97500","Steinbach bei Eltmann","-14 °C","Würzburg"]
["98587","Steinbach-Hallenberg","-16 °C","Meiningen"]
["29646","Steinbeck","-14 °C","Hannover"]
["16259","Steinbeck","-14 °C","Neuruppin"]
["92449","Steinberg","-16 °C","Nürnberg"]
["75242","Steinegg","-14 °C","Stuttgart"]
["79585","Steinen","-12 °C","Stuttgart"]
["71144","Steinenbronn","-16 °C","Stuttgart"]
["79395","Steinenstadt","-12 °C","Karlsruhe"]
["49439","Steinfeld","-12 °C","Hannover"]
["97854","Steinfeld","-14 °C","Würzburg"]
["65529","Steinfischbach","-14 °C","Nürburg-Barweiler"]
["48565","Steinfurt","-12 °C","Hannover"]
["33803","Steinhagen","-12 °C","Fritzlar"]
["88416","Steinhausen","-16 °C","Stuttgart"]
["88427","Steinhausen","-16 °C","Stuttgart"]
["87700","Steinheim","-16 °C","Augsburg"]
["89555","Steinheim","-16 °C","Augsburg"]
["32839","Steinheim","-14 °C","Fritzlar"]
["71711","Steinheim an der Murr","-12 °C","Stuttgart"]
["72406","Steinhofen","-18 °C","Stuttgart"]
["29367","Steinhorst","-14 °C","Hannover"]
["31515","Steinhude","-14 °C","Hannover"]
["01904","Steinigtwolmsdorf","-16 °C","Dresden"]
["29416","Steinitz","-14 °C","Hannover"]
["39319","Steinitz","-14 °C","Magdeburg"]
["38275","Steinlah","-14 °C","Magdeburg"]
["76479","Steinmauern","-12 °C","Karlsruhe"]
["17391","Steinmocker","-12 °C","Greifswald"]
["08432","Steinpleis (Werdau)","-16 °C","Erfurt"]
["08538","Steins","-16 °C","Meiningen"]
["56379","Steinsberg","-12 °C","Nürburg-Barweiler"]
["93128","Steinsberg","-16 °C","Straubing"]
["08547","Steinsdorf","-16 °C","Meiningen"]
["97539","Steinsfeld","-14 °C","Würzburg"]
["74889","Steinsfurt","-12 °C","Stuttgart"]
["76872","Steinweiler","-12 °C","Karlsruhe"]
["21435","Stelle","-12 °C","Hamburg"]
["07922","Stelzen","-18 °C","Meiningen"]
["32351","Stemwede","-12 °C","Fritzlar"]
["39576","Stendal","-14 °C","Magdeburg"]
["16306","Stendell","-14 °C","Neuruppin"]
["08144","Stenn","-14 °C","Erfurt"]
["04769","Stennschütz","-14 °C","Leipzig"]
["46145","Sterkrade","-10 °C","Düsseldorf"]
["46147","Sterkrade","-10 °C","Düsseldorf"]
["19406","Sternberg","-12 °C","Schwerin"]
["75447","Sternenfels","-14 °C","Stuttgart"]
["35094","Sterzhausen","-12 °C","Fritzlar"]
["70771","Stetten","-14 °C","Stuttgart"]
["72379","Stetten","-16 °C","Stuttgart"]
["78570","Stetten","-16 °C","Stuttgart"]
["78658","Stetten","-16 °C","Stuttgart"]
["88480","Stetten","-16 °C","Stuttgart"]
["72393","Stetten ( Burladingen )","-18 °C","Stuttgart"]
["72510","Stetten am kalten Markt","-16 °C","Stuttgart"]
["70771","Stetten auf den Fildern","-14 °C","Stuttgart"]
["86462","Stettenhofen","-16 °C","Augsburg"]
["31593","Steyerberg","-12 °C","Hannover"]
["27476","Stickenbüttel","-10 °C","Bremen"]
["88167","Stiefenhofen","-18 °C","Konstanz"]
["74597","Stimpfach","-16 °C","Stuttgart"]
["23795","Stipsdorf","-10 °C","Schwerin"]
["85235","Stockach","-16 °C","München"]
["72810","Stockach","-16 °C","Stuttgart"]
["82131","Stockdorf","-16 °C","Kempten"]
["32617","Stockelsdorf","-12 °C","Fritzlar"]
["37154","Stöckheim","-16 °C","Fritzlar"]
["79697","Stockmatt","-16 °C","Stuttgart"]
["71543","Stocksberg","-14 °C","Stuttgart"]
["31638","Stöckse","-12 °C","Hannover"]
["64589","Stockstadt","-12 °C","Karlsruhe"]
["63811","Stockstadt","-12 °C","Würzburg"]
["73495","Stödtlen","-16 °C","Stuttgart"]
["24321","Stöfs","-10 °C","Schleswig"]
["52222","Stolberg","-12 °C","Aachen"]
["06547","Stolberg","-16 °C","Leipzig"]
["5220.","Stolberg/Rheinl.","-12 °C","Aachen"]
["09366","Stollberg","-14 °C","Meiningen"]
["52224","Stollberg - Werth","-12 °C","Aachen"]
["77836","Stollhofen","-12 °C","Karlsruhe"]
["01833","Stolpen","-14 °C","Dresden"]
["16348","Stolzenhagen","-14 °C","Neuruppin"]
["04916","Stolzenhain","-14 °C","Leipzig"]
["50259","Stommeln","-12 °C","Düsseldorf"]
["31167","Störy","-14 °C","Hannover"]
["91793","Störzelbach","-16 °C","Nürnberg"]
["87677","Stöttwang","-16 °C","Kempten"]
["53881","Stotzheim","-14 °C","Nürburg-Barweiler"]
["06896","Straach","-14 °C","Leipzig"]
["41542","Straberg","-10 °C","Düsseldorf"]
["47638","Straelen","-10 °C","Düsseldorf"]
["02747","Strahwalde","-16 °C","Görlitz"]
["19073","Stralendorf","-12 °C","Schwerin"]
["1840.","Stralsund","-10 °C","Rostock"]
["08527","Straßberg","-16 °C","Meiningen"]
["72479","Straßberg","-16 °C","Stuttgart"]
["73529","Straßdorf","-16 °C","Stuttgart"]
["56587","Straßenhaus","-14 °C","Nürburg-Barweiler"]
["01936","Strassgräbchen","-16 °C","Dresden"]
["94342","Straßkirchen","-18 °C","Straubing"]
["75334","Straubenhardt","-14 °C","Stuttgart"]
["9430.","Straubing","-18 °C","Straubing"]
["15913","Straupitz","-16 °C","Lindenberg"]
["15344","Strausberg","-14 °C","Lindenberg"]
["01616","Strehla","-16 °C","Dresden"]
["72336","Streichen","-18 °C","Stuttgart"]
["54597","Strickscheid","-14 °C","Trier"]
["09661","Striegistal","-14 °C","Erfurt"]
["03046","Ströbitz","-16 °C","Lindenberg"]
["04703","Strocken","-14 °C","Leipzig"]
["77723","Strohbach","-14 °C","Karlsruhe"]
["04720","Strölla","-14 °C","Leipzig"]
["83489","Strub","-16 °C","Hohenpeißenberg"]
["96129","Strullendorf","-16 °C","Bamberg"]
["71384","Strümpfelbach","-14 °C","Stuttgart"]
["69429","Strümpfelbrunn","-14 °C","Würzburg"]
["01796","Struppen","-14 °C","Dresden"]
["96231","Stublang","-16 °C","Bamberg"]
["79778","Stühlingen","-14 °C","Stuttgart"]
["28816","Stuhr","-12 °C","Bremen"]
["27211","Stühren","-12 °C","Bremen"]
["33758","Stukenbrock","-12 °C","Fritzlar"]
["76297","Stutensee","-12 °C","Karlsruhe"]
["08328","Stützengrün","-16 °C","Meiningen"]
["41749","Süchteln","-10 °C","Düsseldorf"]
["18273","Suckow","-12 °C","Rostock"]
["26203","Süd Moslesfehn","-12 °C","Emden"]
["26624","Südbrookmerland","-10 °C","Emden"]
["29556","Suderburg","-12 °C","Hannover"]
["18516","Süderholz","-12 °C","Rostock"]
["46354","Südlohn","-10 °C","Düsseldorf"]
["46354","Südlohn","-10 °C","Düsseldorf"]
["98527","Suhl","-16 °C","Meiningen"]
["98529","Suhl","-16 °C","Meiningen"]
["9850.","Suhl","-16 °C","Meiningen"]
["38442","Sülfeld","-14 °C","Magdeburg"]
["78713","Sulgen","-16 °C","Stuttgart"]
["27232","Sulingen","-12 °C","Bremen"]
["88437","Sulmingen","-16 °C","Stuttgart"]
["77933","Sulz","-12 °C","Karlsruhe"]
["72218","Sulz","-16 °C","Stuttgart"]
["72172","Sulz am Neckar","-16 °C","Stuttgart"]
["86551","Sulzbach","-16 °C","Augsburg"]
["76316","Sulzbach","-12 °C","Karlsruhe"]
["63834","Sulzbach","-12 °C","Würzburg"]
["74429","Sulzbach - Laufen","-16 °C","Stuttgart"]
["92237","Sulzbach - Rosenberg","-16 °C","Nürnberg"]
["66280","Sulzbach/Saar","-12 °C","Saarbrücken"]
["65843","Sulzbach/Taunus","-14 °C","Nürburg-Barweiler"]
["71560","Sulzbach-Murr","-14 °C","Stuttgart"]
["79295","Sulzburg","-14 °C","Karlsruhe"]
["97528","Sulzdorf an der Lederhecke","-16 °C","Würzburg"]
["85254","Sulzemoos","-16 °C","München"]
["97262","Sulzwiesen","-14 °C","Würzburg"]
["93104","Sünching","-18 °C","Straubing"]
["59846","Sundern","-14 °C","Nürburg-Barweiler"]
["39343","Süplingen","-14 °C","Magdeburg"]
["89150","Suppingen","-16 °C","Augsburg"]
["04860","Süptitz","-16 °C","Leipzig"]
["24229","Surendorf","-10 °C","Schleswig"]
["03226","Suschow","-16 °C","Lindenberg"]
["83250","Süssen","-18 °C","Hohenpeißenberg"]
["73079","Süßen","-16 °C","Stuttgart"]
["21398","Süttorf","-12 °C","Hamburg"]
["53913","Swisttal","-14 °C","Nürburg-Barweiler"]
["16230","Sydower Fließ","-14 °C","Neuruppin"]
["28857","Syke","-12 °C","Bremen"]
["06333","Sylda","-14 °C","Leipzig"]
["89428","Syrgenstein","-16 °C","Augsburg"]
["72348","Täbingen","-16 °C","Stuttgart"]
["86356","Täfertingen","-16 °C","Augsburg"]
["71126","Tailfingen","-16 °C","Stuttgart"]
["72461","Tailfingen","-18 °C","Stuttgart"]
["69242","Tairnbach","-12 °C","Würzburg"]
["74541","Talberg","-16 °C","Stuttgart"]
["72116","Talheim","-18 °C","Stuttgart"]
["74388","Talheim","-12 °C","Stuttgart"]
["78607","Talheim","-18 °C","Stuttgart"]
["71732","Tamm","-12 °C","Stuttgart"]
["39590","Tangermünde","-14 °C","Magdeburg"]
["36251","Tann","-14 °C","Fritzlar"]
["36142","Tann/Rhön","-16 °C","Fritzlar"]
["38875","Tanne","-16 °C","Magdeburg"]
["79400","Tannenkirch","-12 °C","Karlsruhe"]
["92723","Tännesberg","-18 °C","Nürnberg"]
["88459","Tannheim","-16 °C","Stuttgart"]
["54296","Tarforst","-12 °C","Trier"]
["27412","Tarmstedt","-12 °C","Bremen"]
["01906","Taschendorf","-16 °C","Dresden"]
["25881","Tating","-10 °C","Schleswig"]
["02991","Tätschwitz","-16 °C","Görlitz"]
["97941","Tauberbischofsheim","-14 °C","Würzburg"]
["85114","Tauberfeld","-16 °C","München"]
["97285","Tauberrettersheim","-16 °C","Würzburg"]
["04425","Taucha","-14 °C","Leipzig"]
["82024","Taufkirchen","-16 °C","Kempten"]
["84574","Taufkirchen","-16 °C","Straubing"]
["84416","Taufkirchen / Vils","-16 °C","Straubing"]
["65232","Taunusstein","-14 °C","Nürburg-Barweiler"]
["01561","Tauscha","-16 °C","Dresden"]
["54456","Tawern","-12 °C","Trier"]
["85235","Taxa","-16 °C","München"]
["19288","Techentin","-14 °C","Schwerin"]
["02625","Technitz","-16 °C","Görlitz"]
["93105","Tegernheim","-16 °C","Straubing"]
["04617","Tegkwitz","-14 °C","Leipzig"]
["07407","Teichröda","-14 °C","Erfurt"]
["83317","Teisendorf","-16 °C","Hohenpeißenberg"]
["94241","Teisnach-Arnetsried","-18 °C","Straubing"]
["37339","Teistungen","-16 °C","Fritzlar"]
["48291","Telgte","-12 °C","Hannover"]
["56858","Tellig","-14 °C","Nürburg-Barweiler"]
["14513","Teltow","-14 °C","Potsdam"]
["89160","Temmenhausen","-16 °C","Augsburg"]
["16230","Tempelfelde","-14 °C","Neuruppin"]
["17268","Templin","-14 °C","Greifswald"]
["32609","Tengern","-12 °C","Fritzlar"]
["79331","Teningen","-12 °C","Karlsruhe"]
["78144","Tennenbronn","-16 °C","Stuttgart"]
["03139","Terpe","-16 °C","Lindenberg"]
["19243","Tessin","-12 °C","Schwerin"]
["17166","Teterow","-12 °C","Greifswald"]
["88069","Tettnang","-14 °C","Konstanz"]
["92552","Teunz","-18 °C","Nürnberg"]
["15755","Teupitz","-14 °C","Lindenberg"]
["96358","Teuschnitz","-18 °C","Bamberg"]
["32689","Tevenhausen","-14 °C","Fritzlar"]
["86943","Thaining","-16 °C","Kempten"]
["36157","Thalau","-16 °C","Fritzlar"]
["07616","Thalbürgel","-14 °C","Erfurt"]
["06502","Thale","-14 °C","Leipzig"]
["83629","Thalham","-18 °C","Hohenpeißenberg"]
["86657","Thalheim","-16 °C","Augsburg"]
["09380","Thalheim","-14 °C","Meiningen"]
["66871","Thallichtenberg","-14 °C","Saarbrücken"]
["04808","Thallwitz","-14 °C","Leipzig"]
["91177","Thalmässing","-16 °C","Nürnberg"]
["99947","Thamsbrück","-14 °C","Erfurt"]
["72406","Thanheim","-18 °C","Stuttgart"]
["83101","Thansau","-16 °C","Hohenpeißenberg"]
["86470","Thaunhausen","-16 °C","Augsburg"]
["33739","Theesen","-12 °C","Fritzlar"]
["39291","Theeßen","-14 °C","Magdeburg"]
["97711","Theinfeld","-16 °C","Würzburg"]
["66871","Theisbergstegen","-12 °C","Saarbrücken"]
["92245","Theuern","-16 °C","Nürnberg"]
["01561","Thiendorf","-16 °C","Dresden"]
["04567","Thierbach","-14 °C","Leipzig"]
["06888","Thießen","-14 °C","Leipzig"]
["96369","Thonberg","-16 °C","Bamberg"]
["29308","Thören","-12 °C","Hannover"]
["54340","Thörnich","-12 °C","Trier"]
["08538","Thossen","-18 °C","Meiningen"]
["04552","Thräna","-14 °C","Leipzig"]
["04683","Threna","-14 °C","Leipzig"]
["97723","Thulba","-14 °C","Würzburg"]
["33154","Thüle","-12 °C","Fritzlar"]
["09419","Thum","-14 °C","Meiningen"]
["04668","Thümmlitzwalde","-14 °C","Leipzig"]
["92703","Thumsenreuth","-16 °C","Nürnberg"]
["97711","Thundorf","-16 °C","Würzburg"]
["56743","Thür","-14 °C","Nürburg-Barweiler"]
["94169","Thurmannsbang","-18 °C","Straubing"]
["89257","Tiefenbach","-16 °C","Augsburg"]
["94113","Tiefenbach","-16 °C","Straubing"]
["76684","Tiefenbach","-12 °C","Stuttgart"]
["88422","Tiefenbach","-16 °C","Stuttgart"]
["75233","Tiefenbronn","-14 °C","Stuttgart"]
["08626","Tiefenbrunn ü. Adorf/Vogtland","-18 °C","Meiningen"]
["79862","Tiefenhäusern","-16 °C","Stuttgart"]
["16259","Tiefensee","-14 °C","Neuruppin"]
["77704","Tiergarten","-14 °C","Karlsruhe"]
["72469","Tieringen","-18 °C","Stuttgart"]
["37115","Tiftlingerode","-16 °C","Fritzlar"]
["24644","Timmaspe","-12 °C","Schleswig"]
["26629","Timmel","-10 °C","Emden"]
["23669","Timmendorfer Strand","-10 °C","Schwerin"]
["25917","Tinningstedt","-10 °C","Schleswig"]
["07546","Tinz","-14 °C","Erfurt"]
["08606","Tirpersdorf","-16 °C","Meiningen"]
["95643","Tirschenreuth","-18 °C","Hof"]
["72636","Tischardt","-16 °C","Stuttgart"]
["79822","Titisee-Neustadt","-18 °C","Stuttgart"]
["94104","Tittling","-16 °C","Straubing"]
["84529","Tittmoning","-16 °C","Straubing"]
["52445","Titz","-12 °C","Aachen"]
["08538","Tobertitz","-16 °C","Meiningen"]
["19230","Toddin","-12 °C","Schwerin"]
["79682","Todtmoos","-16 °C","Stuttgart"]
["79674","Todtnau","-16 °C","Stuttgart"]
["84513","Töging","-16 °C","Straubing"]
["04720","Töllschütz","-14 °C","Leipzig"]
["06231","Tollwitz","-14 °C","Leipzig"]
["47918","Tönisvorst","-10 °C","Düsseldorf"]
["99958","Tonna","-14 °C","Erfurt"]
["15755","Töpchin","-14 °C","Lindenberg"]
["09306","Topfseifersdorf","-14 °C","Erfurt"]
["04860","Torgau","-16 °C","Leipzig"]
["17192","Torgelow","-12 °C","Greifswald"]
["88212","Torkenweiler","-14 °C","Konstanz"]
["06774","Tornau","-14 °C","Leipzig"]
["25436","Tornesch","-10 °C","Schleswig"]
["39249","Tornitz","-14 °C","Magdeburg"]
["02991","Torno","-16 °C","Görlitz"]
["16230","Tornow","-14 °C","Neuruppin"]
["21255","Tostedt","-12 °C","Hamburg"]
["56841","Traben - Trarbach","-12 °C","Nürburg-Barweiler"]
["96257","Trainau","-16 °C","Bamberg"]
["17449","Trassenheide","-12 °C","Greifswald"]
["92283","Traunfeld","-16 °C","Nürnberg"]
["83278","Traunstein","-16 °C","Hohenpeißenberg"]
["04749","Trebanitz","-14 °C","Leipzig"]
["14959","Trebbin","-14 °C","Potsdam"]
["02959","Trebendorf","-16 °C","Görlitz"]
["14822","Trebitz","-14 °C","Potsdam"]
["19249","Trebs","-12 °C","Schwerin"]
["92699","Trebsau","-16 °C","Nürnberg"]
["89558","Treffelhausen","-16 °C","Augsburg"]
["34388","Trendelburg","-14 °C","Fritzlar"]
["15236","Treplin","-14 °C","Lindenberg"]
["08233","Treuen","-16 °C","Meiningen"]
["01561","Treugeböhla","-16 °C","Dresden"]
["34613","Treysa","-14 °C","Fritzlar"]
["78098","Triberg","-18 °C","Stuttgart"]
["08606","Triebel","-18 °C","Meiningen"]
["54294","Trier","-10 °C","Trier"]
["54311","Trierweiler","-12 °C","Trier"]
["84371","Triftern","-16 °C","Straubing"]
["72401","Trillfingen","-16 °C","Stuttgart"]
["67705","Trippstadt","-12 °C","Saarbrücken"]
["07819","Triptis","-14 °C","Erfurt"]
["54349","Trittenheim","-10 °C","Trier"]
["03253","Tröbitz","-16 °C","Lindenberg"]
["72818","Trochtelfingen","-18 °C","Stuttgart"]
["95183","Trogen","-18 °C","Hof"]
["06729","Tröglitz","-14 °C","Leipzig"]
["53840","Troisdorf","-12 °C","Nürburg-Barweiler"]
["91793","Trommertsheim","-16 °C","Nürnberg"]
["04880","Trossin","-16 °C","Leipzig"]
["78647","Trossingen","-18 °C","Stuttgart"]
["98646","Trostadt","-16 °C","Meiningen"]
["81825","Trudering","-16 °C","München"]
["66957","Trulben","-12 °C","Saarbrücken"]
["87779","Trunkelsberg","-16 °C","Augsburg"]
["08428","Trunzig","-14 °C","Erfurt"]
["98596","Trusetal","-16 °C","Meiningen"]
["34613","Trutzhain","-14 °C","Fritzlar"]
["03130","Tschernitz","-16 °C","Lindenberg"]
["7207.","Tübingen","-16 °C","Stuttgart"]
["90587","Tuchenbach","-16 °C","Nürnberg"]
["52538","Tüddern","-10 °C","Aachen"]
["795..","Tüllingen","-12 °C","Stuttgart"]
["99947","Tüngeda","-14 °C","Erfurt"]
["78609","Tuningen","-18 °C","Stuttgart"]
["79189","Tunsel","-14 °C","Karlsruhe"]
["83104","Tuntenhausen","-16 °C","Hohenpeißenberg"]
["99610","Tunzenhausen","-14 °C","Erfurt"]
["82299","Türkenfeld","-16 °C","Kempten"]
["86842","Türkheim","-16 °C","Kempten"]
["66625","Türkismühle","-14 °C","Saarbrücken"]
["03185","Turnow","-16 °C","Lindenberg"]
["29482","Tüschau","-14 °C","Hannover"]
["84577","Tüßling","-16 °C","Straubing"]
["84577","Tüssling","-16 °C","Straubing"]
["78532","Tuttlingen","-16 °C","Stuttgart"]
["17091","Tützpatz","-14 °C","Greifswald"]
["49767","Twist","-10 °C","Hannover"]
["27239","Twistringen","-12 °C","Bremen"]
["52531","Übach-Palenberg","-12 °C","Aachen"]
["86641","Überacker","-16 °C","Augsburg"]
["82216","Überacker","-16 °C","Kempten"]
["87463","Überbach","-16 °C","Kempten"]
["88662","Überlingen","-12 °C","Konstanz"]
["83236","Übersee","-16 °C","Hohenpeißenberg"]
["76698","Ubstadt","-12 °C","Stuttgart"]
["31600","Uchte","-12 °C","Hannover"]
["97532","Üchtelhausen","-16 °C","Würzburg"]
["39599","Uchtspringe","-14 °C","Magdeburg"]
["45886","Ückendorf","-10 °C","Düsseldorf"]
["53773","Uckerath","-12 °C","Nürburg-Barweiler"]
["04938","Uebigau","-16 °C","Leipzig"]
["17373","Ueckermünde","-12 °C","Greifswald"]
["47589","Uedem","-10 °C","Düsseldorf"]
["91486","Uehlfeld","-16 °C","Nürnberg"]
["49843","Uelsen","-10 °C","Hannover"]
["29525","Uelzen","-14 °C","Hannover"]
["59071","Uentrop","-12 °C","Nürburg-Barweiler"]
["31311","Uetze","-14 °C","Hannover"]
["97215","Uffenheim","-16 °C","Würzburg"]
["82449","Uffing","-16 °C","Kempten"]
["73066","Uhingen","-16 °C","Stuttgart"]
["70329","Uhlbach","-12 °C","Stuttgart"]
["79777","Ühlingen","-14 °C","Stuttgart"]
["02999","Uhyst","-16 °C","Görlitz"]
["88527","Uingendorf","-14 °C","Stuttgart"]
["32584","Ulenburg","-12 °C","Fritzlar"]
["02906","Ullersdorf","-16 °C","Görlitz"]
["77871","Ulm","-12 °C","Karlsruhe"]
["8907.","Ulm/Donau","-14 °C","Augsburg"]
["66887","Ulmet","-14 °C","Saarbrücken"]
["06543","Ulzigerode","-14 °C","Leipzig"]
["33...","Ummeln","-12 °C","Fritzlar"]
["39365","Ummendorf","-14 °C","Magdeburg"]
["88444","Ummendorf","-16 °C","Stuttgart"]
["55278","Undenheim","-12 °C","Trier"]
["53572","Unkel","-12 °C","Nürburg-Barweiler"]
["88527","Unlingen","-14 °C","Stuttgart"]
["5942.","Unna","-12 °C","Nürburg-Barweiler"]
["69518","Unterabtsteinach","-12 °C","Würzburg"]
["79774","Unteralpfen","-14 °C","Stuttgart"]
["78073","Unterbaldingen","-16 °C","Stuttgart"]
["89437","Unterbechingen","-16 °C","Augsburg"]
["86657","Unterbissingen","-16 °C","Augsburg"]
["87782","Unteregg","-16 °C","Augsburg"]
["97247","Untereisenheim","-14 °C","Würzburg"]
["74257","Untereisesheim","-12 °C","Stuttgart"]
["72669","Unterensingen","-14 °C","Stuttgart"]
["77736","Unterentersbach","-14 °C","Stuttgart"]
["88454","Unteressendorf","-16 °C","Stuttgart"]
["89278","Unterfalheim","-14 °C","Augsburg"]
["74924","Untergimpern","-12 °C","Stuttgart"]
["94107","Untergriesbach","-18 °C","Straubing"]
["74177","Untergriesheim","-12 °C","Stuttgart"]
["76646","Untergrombach","-12 °C","Stuttgart"]
["73453","Untergröningen","-16 °C","Stuttgart"]
["74199","Untergruppenbach","-12 °C","Stuttgart"]
["96173","Unterhaid","-16 °C","Bamberg"]
["91227","Unterhaidelbach","-16 °C","Nürnberg"]
["75378","Unterhaugstett ( Bad Liebenzell )","-14 °C","Stuttgart"]
["72805","Unterhausen","-18 °C","Stuttgart"]
["74199","Unterheinriet","-14 °C","Stuttgart"]
["79256","Unteribental","-18 °C","Stuttgart"]
["97340","Unterickelsheim","-16 °C","Würzburg"]
["72070","Unterjesingen","-16 °C","Stuttgart"]
["71131","Unterjettingen","-16 °C","Stuttgart"]
["06721","Unterkaka","-14 °C","Leipzig"]
["89171","Unterkirchberg","-16 °C","Augsburg"]
["89331","Unterknöringen","-16 °C","Augsburg"]
["75394","Unterkollbach","-16 °C","Stuttgart"]
["07922","Unterkoskau","-16 °C","Meiningen"]
["75328","Unterlengenhardt","-16 °C","Stuttgart"]
["73252","Unterlenningen","-16 °C","Stuttgart"]
["85410","Untermarchenbach","-16 °C","München"]
["91171","Untermässing","-16 °C","Nürnberg"]
["86929","Untermühlhausen","-16 °C","Kempten"]
["74547","Untermünkheim","-16 °C","Stuttgart"]
["79244","Untermünstertal","-18 °C","Karlsruhe"]
["76703","Unteröwisheim","-12 °C","Stuttgart"]
["82110","Unterpfaffenhofen","-16 °C","Kempten"]
["86871","Unterrammingen","-16 °C","Kempten"]
["75339","Unterreichenbach","-14 °C","Stuttgart"]
["83567","Unterreit","-16 °C","Hohenpeißenberg"]
["89299","Unterroth","-16 °C","Augsburg"]
["85716","Unterschleißheim","-16 °C","München"]
["73485","Unterschneidheim","-16 °C","Stuttgart"]
["74869","Unterschwarzach","-12 °C","Stuttgart"]
["88410","Unterschwarzach","-16 °C","Stuttgart"]
["96253","Untersiemau","-14 °C","Bamberg"]
["82395","Untersöchering","-16 °C","Kempten"]
["74423","Untersontheim","-16 °C","Stuttgart"]
["89619","Unterstadion","-14 °C","Augsburg"]
["96154","Untersteinach","-16 °C","Bamberg"]
["74629","Untersteinbach","-16 °C","Stuttgart"]
["88471","Untersulmetingen","-16 °C","Stuttgart"]
["72160","Untertalheim","-16 °C","Stuttgart"]
["70327","Untertürkheim","-12 °C","Stuttgart"]
["97654","Unterwaldbehrungen","-16 °C","Würzburg"]
["79780","Unterwangen","-14 °C","Stuttgart"]
["71554","Unterweissach","-14 °C","Stuttgart"]
["86519","Unterwiesenbach","-16 °C","Augsburg"]
["83246","Unterwössen","-16 °C","Hohenpeißenberg"]
["87496","Untrasried","-16 °C","Kempten"]
["23936","Upahl","-10 °C","Schwerin"]
["72813","Upfingen","-18 °C","Stuttgart"]
["5....","Urbach","-12 °C","Düsseldorf"]
["99765","Urbach","-14 °C","Erfurt"]
["73660","Urbach","-16 °C","Stuttgart"]
["56182","Urbar","-12 °C","Nürburg-Barweiler"]
["50389","Urfeld","-12 °C","Düsseldorf"]
["77767","Urloffen","-12 °C","Karlsruhe"]
["88693","Urnau","-14 °C","Stuttgart"]
["86513","Ursberg","-16 °C","Augsburg"]
["91710","Ursberg","-16 °C","Nürnberg"]
["61250","Usingen","-14 °C","Fritzlar"]
["37170","Uslar","-14 °C","Fritzlar"]
["88524","Uttenweiler","-14 °C","Stuttgart"]
["54619","Üttfeld","-14 °C","Trier"]
["86919","Utting/Ammersee","-16 °C","Kempten"]
["97292","Üttingen","-12 °C","Würzburg"]
["79694","Utzenfeld","-16 °C","Stuttgart"]
["73577","Utzstetten","-16 °C","Stuttgart"]
["54579","Üxheim","-14 °C","Trier"]
["90768","Vach","-16 °C","Nürnberg"]
["98617","Vachdorf","-16 °C","Meiningen"]
["83620","Vagen","-18 °C","Hohenpeißenberg"]
["70563","Vaihingen","-14 °C","Stuttgart"]
["71665","Vaihingen an der Enz","-14 °C","Stuttgart"]
["33397","Varensell","-12 °C","Fritzlar"]
["76534","Varnhalt","-14 °C","Karlsruhe"]
["34519","Vasbeck","-14 °C","Fritzlar"]
["49377","Vechta","-12 °C","Hannover"]
["38871","Veckenstedt","-14 °C","Magdeburg"]
["16866","Vehlow","-14 °C","Neuruppin"]
["90587","Veitsbronn","-16 °C","Nürnberg"]
["42549","Velbert","-12 °C","Düsseldorf"]
["42553","Velbert (Neviges)","-12 °C","Düsseldorf"]
["92355","Velburg","-16 °C","Nürnberg"]
["91235","Velden","-16 °C","Nürnberg"]
["84149","Velden/Vils","-16 °C","Straubing"]
["46342","Velen","-10 °C","Düsseldorf"]
["34246","Vellmar","-14 °C","Fritzlar"]
["55578","Vendersheim","-12 °C","Trier"]
["27283","Verden","-12 °C","Bremen"]
["72519","Veringenstadt","-16 °C","Stuttgart"]
["33415","Verl","-12 °C","Fritzlar"]
["33775","Versmold","-12 °C","Fritzlar"]
["03226","Vetschau","-16 °C","Lindenberg"]
["53560","Vettelschoß","-12 °C","Nürburg-Barweiler"]
["52391","Vettweiß","-12 °C","Aachen"]
["94234","Viechtach","-18 °C","Straubing"]
["08149","Vielau","-14 °C","Erfurt"]
["16835","Vielitz","-14 °C","Neuruppin"]
["38690","Vienenburg","-14 °C","Magdeburg"]
["02894","Vierkirchen","-16 °C","Görlitz"]
["68519","Viernheim","-12 °C","Karlsruhe"]
["17509","Vierow","-12 °C","Greifswald"]
["16306","Vierraden","-16 °C","Neuruppin"]
["417..","Viersen","-10 °C","Düsseldorf"]
["19230","Viez","-12 °C","Schwerin"]
["86946","Vilgertshofen","-16 °C","Kempten"]
["86637","Villenbach","-16 °C","Augsburg"]
["7805.","Villingen/Schwarzw.","-16 °C","Stuttgart"]
["78667","Villingendorf","-16 °C","Stuttgart"]
["84149","Vils","-16 °C","Straubing"]
["84137","Vilsbiburg","-16 °C","Straubing"]
["92249","Vilseck","-16 °C","Nürnberg"]
["84186","Vilsheim","-16 °C","Straubing"]
["94474","Vilshofen","-16 °C","Straubing"]
["72514","Vilsingen","-16 °C","Stuttgart"]
["66957","Vinningen","-12 °C","Saarbrücken"]
["32839","Vinsebeck","-14 °C","Fritzlar"]
["39599","Vinzelberg","-14 °C","Magdeburg"]
["56729","Virneburg","-14 °C","Nürburg-Barweiler"]
["53909","Virnich","-14 °C","Nürburg-Barweiler"]
["18565","Vitte/Hiddensee","-10 °C","Rostock"]
["32602","Vlotho","-12 °C","Fritzlar"]
["47506","Vluyn","-10 °C","Düsseldorf"]
["06786","Vockerode","-14 °C","Leipzig"]
["46562","Voerde/Niederrhein","-10 °C","Düsseldorf"]
["37574","Vogelbeck","-16 °C","Fritzlar"]
["04880","Vogelgesang","-16 °C","Leipzig"]
["99610","Vogelsberg","-14 °C","Erfurt"]
["08209","Vogelsgrün zw.Auerbach/Schönheide","-16 °C","Meiningen"]
["79379","Vögisheim","-12 °C","Karlsruhe"]
["88267","Vogt","-16 °C","Stuttgart"]
["79235","Vogtsburg","-12 °C","Karlsruhe"]
["85088","Vohburg","-18 °C","München"]
["34516","Vöhl","-14 °C","Fritzlar"]
["89269","Vöhringen","-16 °C","Augsburg"]
["72189","Vöhringen","-16 °C","Stuttgart"]
["72189","Vöhringen-Wittershausen","-16 °C","Stuttgart"]
["97332","Völkach","-14 °C","Würzburg"]
["37124","Volkerode","-14 °C","Fritzlar"]
["37308","Volkerode","-16 °C","Fritzlar"]
["76316","Völkersbach","-14 °C","Karlsruhe"]
["76857","Völkersweiler","-12 °C","Saarbrücken"]
["78269","Volkertshausen","-14 °C","Konstanz"]
["66333","Völklingen","-12 °C","Saarbrücken"]
["06295","Volkstedt","-14 °C","Leipzig"]
["72202","Vollmaringen","-16 °C","Stuttgart"]
["34253","Vollmarshausen","-14 °C","Fritzlar"]
["74736","Vollmersdorf","-14 °C","Stuttgart"]
["35625","Vollnkirchen","-14 °C","Fritzlar"]
["58300","Volmastein","-12 °C","Nürburg-Barweiler"]
["39393","Völpke","-14 °C","Magdeburg"]
["41179","Voosen","-10 °C","Düsseldorf"]
["18258","Vorbeck","-12 °C","Rostock"]
["49434","Vörden","-12 °C","Hannover"]
["25554","Vorder Neuendorf","-10 °C","Schleswig"]
["57271","Vormwald","-14 °C","Nürburg-Barweiler"]
["91247","Vorra","-16 °C","Nürnberg"]
["38440","Vorsfelde","-14 °C","Magdeburg"]
["47918","Vorst","-10 °C","Düsseldorf"]
["79279","Vörstetten","-12 °C","Karlsruhe"]
["37632","Vorwohle","-14 °C","Fritzlar"]
["48691","Vreden","-10 °C","Hannover"]
["37136","Waake","-16 °C","Fritzlar"]
["83666","Waakirchen","-18 °C","Hohenpeißenberg"]
["86875","Waal","-16 °C","Kempten"]
["34590","Wabern","-14 °C","Fritzlar"]
["01454","Wachau","-14 °C","Dresden"]
["53894","Wachendorf","-14 °C","Nürburg-Barweiler"]
["72181","Wachendorf","-16 °C","Stuttgart"]
["67157","Wachenheim","-12 °C","Saarbrücken"]
["53343","Wachtberg","-14 °C","Nürburg-Barweiler"]
["47669","Wachtendonk","-10 °C","Düsseldorf"]
["47669","Wachterdonk","-10 °C","Düsseldorf"]
["63607","Wächtersbach","-14 °C","Würzburg"]
["01306","Wachwitz","-14 °C","Dresden"]
["25596","Wacken","-12 °C","Schleswig"]
["55263","Wackernheim","-12 °C","Trier"]
["92442","Wackersdorf","-16 °C","Nürnberg"]
["66687","Wadern","-12 °C","Saarbrücken"]
["59329","Wadersloh","-12 °C","Nürburg-Barweiler"]
["66787","Wadgassen","-12 °C","Saarbrücken"]
["66687","Wadrill","-14 °C","Saarbrücken"]
["74838","Wagenschwend","-14 °C","Stuttgart"]
["79336","Wagenstadt","-12 °C","Karlsruhe"]
["68753","Waghäusel","-12 °C","Karlsruhe"]
["37194","Wahlsburg","-12 °C","Fritzlar"]
["04924","Wahrenbrück","-16 °C","Leipzig"]
["23923","Wahrsow","-10 °C","Schwerin"]
["18059","Wahrstorf","-12 °C","Rostock"]
["7133.","Waiblingen","-12 °C","Stuttgart"]
["74915","Waibstadt","-12 °C","Stuttgart"]
["92726","Waidhaus","-18 °C","Hof"]
["39356","Walbeck","-14 °C","Magdeburg"]
["53332","Walberberg","-12 °C","Nürburg-Barweiler"]
["88639","Walbertsweiler","-14 °C","Stuttgart"]
["37235","Walburg","-14 °C","Fritzlar"]
["94501","Walchsing","-16 °C","Straubing"]
["53902","Wald","-14 °C","Nürburg-Barweiler"]
["93192","Wald","-16 °C","Straubing"]
["88639","Wald","-14 °C","Stuttgart"]
["72178","Waldachtal","-16 °C","Stuttgart"]
["55425","Waldalgesheim","-14 °C","Trier"]
["74889","Waldangelloch","-12 °C","Stuttgart"]
["74626","Waldbach","-14 °C","Stuttgart"]
["51545","Waldbröl","-12 °C","Nürburg-Barweiler"]
["76337","Waldbronn","-14 °C","Stuttgart"]
["69429","Waldbrunn","-14 °C","Würzburg"]
["88289","Waldburg","-14 °C","Stuttgart"]
["97297","Waldbüttelbrunn","-14 °C","Würzburg"]
["72213","Walddorf","-16 °C","Stuttgart"]
["72141","Walddorfhäslach","-16 °C","Stuttgart"]
["34513","Waldeck/Hessen","-14 °C","Fritzlar"]
["65529","Waldems","-14 °C","Nürburg-Barweiler"]
["71111","Waldenbuch","-16 °C","Stuttgart"]
["08396","Waldenburg","-14 °C","Erfurt"]
["74638","Waldenburg","-16 °C","Stuttgart"]
["06844","Waldersee","-14 °C","Leipzig"]
["52525","Waldfeucht","-10 °C","Aachen"]
["67714","Waldfischbach","-12 °C","Saarbrücken"]
["35633","Waldgirmes","-12 °C","Fritzlar"]
["04736","Waldheim","-14 °C","Leipzig"]
["69151","Waldhilsbach","-12 °C","Würzburg"]
["37284","Waldkappel","-14 °C","Fritzlar"]
["79183","Waldkirch","-14 °C","Stuttgart"]
["08485","Waldkirchen","-16 °C","Erfurt"]
["84478","Waldkraiburg","-16 °C","Straubing"]
["55444","Waldlaubersheim","-12 °C","Trier"]
["69483","Wald-Michelbach","-12 °C","Würzburg"]
["66914","Waldmohr","-12 °C","Saarbrücken"]
["78713","Waldmössingen","-16 °C","Stuttgart"]
["74842","Waldmühlbach","-14 °C","Stuttgart"]
["53498","Waldorf","-14 °C","Nürburg-Barweiler"]
["71522","Waldrems","-14 °C","Stuttgart"]
["75305","Waldrennach","-14 °C","Stuttgart"]
["08393","Waldsachsen","-14 °C","Erfurt"]
["67165","Waldsee","-12 °C","Saarbrücken"]
["79761","Waldshut - Tiengen","-12 °C","Stuttgart"]
["04821","Waldsteinberg","-14 °C","Leipzig"]
["73550","Waldstetten","-16 °C","Stuttgart"]
["74931","Waldwimmersbach","-12 °C","Stuttgart"]
["74399","Walheim","-12 °C","Stuttgart"]
["64546","Walldorf","-12 °C","Würzburg"]
["69190","Walldorf","-12 °C","Würzburg"]
["74731","Walldürn","-16 °C","Stuttgart"]
["49134","Wallenhorst","-12 °C","Hannover"]
["94522","Wallersdorf","-18 °C","Straubing"]
["86757","Wallerstein","-16 °C","Augsburg"]
["55578","Wallertheim","-12 °C","Trier"]
["82499","Wallgau","-18 °C","Kempten"]
["66917","Wallhalben","-12 °C","Saarbrücken"]
["65510","Wallrabenstein","-14 °C","Nürburg-Barweiler"]
["06193","Wallwitz","-14 °C","Leipzig"]
["88487","Walpertshofen","-16 °C","Stuttgart"]
["85469","Walpertskirchen","-16 °C","München"]
["29664","Walsrode","-12 °C","Hannover"]
["4716.","Walsum","-10 °C","Düsseldorf"]
["02799","Waltersdorf","-16 °C","Görlitz"]
["99880","Waltershausen","-16 °C","Erfurt"]
["79...","Waltershofen","-12 °C","Karlsruhe"]
["45731","Waltrop","-12 °C","Düsseldorf"]
["75045","Walzbachtal","-12 °C","Stuttgart"]
["65388","Wambach","-14 °C","Nürburg-Barweiler"]
["17498","Wampen","-12 °C","Greifswald"]
["56729","Wanderath","-14 °C","Nürburg-Barweiler"]
["24997","Wanderup","-10 °C","Schleswig"]
["37281","Wanfried","-16 °C","Fritzlar"]
["85368","Wang","-16 °C","München"]
["37627","Wangelstedt","-14 °C","Fritzlar"]
["70327","Wangen","-14 °C","Stuttgart"]
["73117","Wangen","-16 °C","Stuttgart"]
["88239","Wangen","-16 °C","Stuttgart"]
["26486","Wangerooge","-10 °C","Emden"]
["72127","Wankheim","-16 °C","Stuttgart"]
["4465.","Wanne-Eickel","-10 °C","Dortmund"]
["39638","Wannefeld","-14 °C","Magdeburg"]
["37627","Wanngelnstedt","-14 °C","Fritzlar"]
["72827","Wannweil","-16 °C","Stuttgart"]
["14641","Wansdorf","-14 °C","Potsdam"]
["39164","Wanzleben","-14 °C","Magdeburg"]
["37640","Warbsen","-12 °C","Fritzlar"]
["26203","Wardenburg","-12 °C","Emden"]
["17192","Waren","-12 °C","Greifswald"]
["48231","Warendorf","-12 °C","Hannover"]
["19417","Warin","-12 °C","Schwerin"]
["19288","Warlow","-14 °C","Schwerin"]
["95485","Warmensteinach","-18 °C","Hof"]
["18119","Warnemünde","-10 °C","Rostock"]
["83627","Warngau","-18 °C","Hohenpeißenberg"]
["19057","Warnitz","-12 °C","Schwerin"]
["23948","Warnkenhausen","-10 °C","Schwerin"]
["18249","Warnow","-12 °C","Rostock"]
["14662","Warsow","-14 °C","Potsdam"]
["72213","Wart","-16 °C","Stuttgart"]
["85456","Wartenberg","-16 °C","München"]
["88447","Warthausen","-16 °C","Stuttgart"]
["97797","Wartmannsroth","-14 °C","Würzburg"]
["31061","Warzen","-14 °C","Hannover"]
["73116","Wäschenbeuren","-16 °C","Stuttgart"]
["56370","Wasenbach","-14 °C","Nürburg-Barweiler"]
["79241","Wasenweiler","-12 °C","Karlsruhe"]
["56653","Wassenach","-14 °C","Nürburg-Barweiler"]
["41849","Wassenberg","-10 °C","Düsseldorf"]
["73433","Wasseralfingen","-16 °C","Stuttgart"]
["41849","Wasserberg","-10 °C","Düsseldorf"]
["83512","Wasserburg am Inn","-16 °C","Hohenpeißenberg"]
["54332","Wasserliesch","-12 °C","Trier"]
["91717","Wassertrüdingen","-16 °C","Nürnberg"]
["96196","Wattendorf","-16 °C","Bamberg"]
["4478.","Wattenscheid","-10 °C","Dortmund"]
["35415","Watzenborn-Steinberg","-14 °C","Fritzlar"]
["66424","Websweiler","-12 °C","Saarbrücken"]
["22880","Wedel/Holstein","-10 °C","Hamburg"]
["30900","Wedemark","-14 °C","Hannover"]
["23795","Weede-Söhren","-10 °C","Schwerin"]
["47652","Weeze","-10 °C","Düsseldorf"]
["41844","Wegberg","-10 °C","Düsseldorf"]
["38828","Wegeleben","-14 °C","Magdeburg"]
["15345","Wegendorf","-14 °C","Lindenberg"]
["78564","Wehingen","-18 °C","Stuttgart"]
["37339","Wehnde","-16 °C","Fritzlar"]
["52538","Wehr","-10 °C","Aachen"]
["79664","Wehr","-12 °C","Stuttgart"]
["49152","Wehrendorf","-12 °C","Hannover"]
["61273","Wehrheim","-14 °C","Fritzlar"]
["91798","Weiboldshausen","-16 °C","Nürnberg"]
["09775","Weicherdange/Luxembourg","-14 °C","Erfurt"]
["85258","Weichs","-16 °C","München"]
["85258","Weichs-Aufhausen","-16 °C","München"]
["07570","Weida","-14 °C","Erfurt"]
["89134","Weidach","-16 °C","Augsburg"]
["91550","Weidelsbach","-16 °C","Nürnberg"]
["92637","Weiden","-16 °C","Nürnberg"]
["91746","Weidenbach","-16 °C","Nürnberg"]
["54570","Weidenbach","-14 °C","Trier"]
["04860","Weidenhain","-16 °C","Leipzig"]
["77654","Weierbach","-12 °C","Karlsruhe"]
["91249","Weigendorf","-16 °C","Nürnberg"]
["78056","Weigheim","-18 °C","Stuttgart"]
["02733","Weigsdorf-Köblitz","-16 °C","Görlitz"]
["91629","Weihenzell","-16 °C","Nürnberg"]
["90513","Weiherhof","-16 °C","Nürnberg"]
["88214","Weiherstobel","-14 °C","Konstanz"]
["84107","Weihmichl","-16 °C","Straubing"]
["88477","Weihungszell","-16 °C","Stuttgart"]
["97990","Weikersheim","-16 °C","Würzburg"]
["78250","Weil","-16 °C","Konstanz"]
["79576","Weil am Rhein","-12 °C","Karlsruhe"]
["71263","Weil der Stadt","-16 °C","Stuttgart"]
["71093","Weil im Schönbuch","-16 °C","Stuttgart"]
["35781","Weilburg","-12 °C","Fritzlar"]
["72367","Weilen unter den Rinnen","-18 °C","Stuttgart"]
["72108","Weiler","-16 °C","Stuttgart"]
["73492","Weiler","-16 °C","Stuttgart"]
["74889","Weiler","-12 °C","Stuttgart"]
["73529","Weiler in den Bergen","-16 °C","Stuttgart"]
["71397","Weiler zum Stein","-14 °C","Stuttgart"]
["91365","Weilersbach","-16 °C","Nürnberg"]
["53919","Weilerswist","-12 °C","Nürburg-Barweiler"]
["82362","Weilheim","-16 °C","Kempten"]
["72379","Weilheim","-16 °C","Stuttgart"]
["73235","Weilheim a.d.Teck","-16 °C","Stuttgart"]
["35789","Weilmünster","-14 °C","Fritzlar"]
["72336","Weilstetten","-18 °C","Stuttgart"]
["9942.","Weimar","-14 °C","Erfurt"]
["34292","Weimar","-14 °C","Fritzlar"]
["35096","Weimar","-12 °C","Fritzlar"]
["01689","Weinböhla","-14 °C","Dresden"]
["99869","Weingarten","-14 °C","Erfurt"]
["76356","Weingarten","-12 °C","Stuttgart"]
["88250","Weingarten","-14 °C","Stuttgart"]
["91358","Weingarts","-16 °C","Nürnberg"]
["88214","Weingartshof","-14 °C","Konstanz"]
["69469","Weinheim/Bergstraße","-10 °C","Würzburg"]
["90518","Weinhof","-16 °C","Nürnberg"]
["74189","Weinsberg","-14 °C","Stuttgart"]
["71384","Weinstadt","-14 °C","Stuttgart"]
["08538","Weischlitz","-16 °C","Meiningen"]
["75175","Weisen","-12 °C","Stuttgart"]
["76599","Weisenbach","-14 °C","Karlsruhe"]
["91085","Weisendorf","-16 °C","Nürnberg"]
["67273","Weisenheim","-12 °C","Saarbrücken"]
["66709","Weiskirchen","-12 °C","Saarbrücken"]
["71287","Weissach","-14 °C","Stuttgart"]
["71554","Weissach im Tal","-14 °C","Stuttgart"]
["71554","Weissach im Tal","-14 °C","Stuttgart"]
["01920","Weißbach","-16 °C","Dresden"]
["01936","Weißbach","-16 °C","Dresden"]
["09439","Weißbach","-14 °C","Meiningen"]
["95237","Weißdorf","-18 °C","Hof"]
["02627","Weissenberg","-16 °C","Görlitz"]
["09600","Weißenborn","-16 °C","Erfurt"]
["91560","Weissenbronn","-16 °C","Nürnberg"]
["91227","Weißenbrunn","-16 °C","Nürnberg"]
["91781","Weissenburg in Bayern","-16 °C","Nürnberg"]
["06667","Weißenfels","-14 °C","Leipzig"]
["89264","Weissenhorn","-16 °C","Augsburg"]
["89264","Weißenhorn","-16 °C","Augsburg"]
["93444","Weißenregen","-18 °C","Straubing"]
["02999","Weißkollm","-16 °C","Görlitz"]
["02628","Weissnaußlitz","-16 °C","Görlitz"]
["02943","Weißwasser","-16 °C","Görlitz"]
["79367","Weisweil","-12 °C","Karlsruhe"]
["23968","Weitendorf","-10 °C","Schwerin"]
["23999","Weitendorf (Insel Poel)","-10 °C","Schwerin"]
["78247","Weiterdingen","-14 °C","Konstanz"]
["01909","Weitersdorf","-16 °C","Dresden"]
["64331","Weiterstadt","-12 °C","Würzburg"]
["17033","Weitin","-14 °C","Greifswald"]
["72184","Weitingen","-16 °C","Stuttgart"]
["87480","Weitnau","-16 °C","Kempten"]
["96479","Weitramsdorf","-16 °C","Bamberg"]
["01108","Weixdorf","-14 °C","Dresden"]
["79780","Weizen","-14 °C","Stuttgart"]
["06333","Welbsleben","-14 °C","Leipzig"]
["86465","Welden","-16 °C","Augsburg"]
["21261","Welle","-12 °C","Hamburg"]
["78669","Wellendingen","-18 °C","Stuttgart"]
["04758","Wellerswalde","-14 °C","Leipzig"]
["66557","Welschbach/Saar","-12 °C","Saarbrücken"]
["56729","Welschenbach","-14 °C","Nürburg-Barweiler"]
["77790","Welschensteinach","-14 °C","Stuttgart"]
["56412","Welschneudorf","-14 °C","Nürburg-Barweiler"]
["75365","Weltenschwann","-16 °C","Stuttgart"]
["59514","Welver","-12 °C","Nürburg-Barweiler"]
["01561","Welxande","-16 °C","Dresden"]
["73642","Welzheim","-16 °C","Stuttgart"]
["38176","Wendeburg","-14 °C","Magdeburg"]
["99988","Wendehausen","-16 °C","Erfurt"]
["72108","Wendelsheim","-16 °C","Stuttgart"]
["55234","Wendelsheim","-12 °C","Trier"]
["90530","Wendelstein/Mittelfr.","-16 °C","Nürnberg"]
["57482","Wenden","-14 °C","Nürburg-Barweiler"]
["01683","Wendischbora","-14 °C","Dresden"]
["04746","Wendishain","-14 °C","Leipzig"]
["73240","Wendlingen","-14 °C","Stuttgart"]
["38448","Wendschott","-14 °C","Magdeburg"]
["84187","Weng","-18 °C","Straubing"]
["94086","Weng","-16 °C","Straubing"]
["54516","Wengerohr","-14 °C","Trier"]
["88416","Wennedach","-16 °C","Stuttgart"]
["30974","Wennigsen","-14 °C","Hannover"]
["93173","Wenzenbach","-18 °C","Straubing"]
["21279","Wenzendorf","-12 °C","Hamburg"]
["04460","Werben","-14 °C","Leipzig"]
["39615","Werben","-14 °C","Magdeburg"]
["02956","Werda","-16 °C","Görlitz"]
["08233","Werda","-16 °C","Meiningen"]
["08412","Werdau","-16 °C","Erfurt"]
["14542","Werder/Havel","-14 °C","Potsdam"]
["58791","Werdohl","-12 °C","Nürburg-Barweiler"]
["59457","Werl","-12 °C","Nürburg-Barweiler"]
["49757","Werlte","-12 °C","Hannover"]
["42929","Wermelskirchen","-12 °C","Düsseldorf"]
["04779","Wermsdorf","-14 °C","Leipzig"]
["92533","Wernberg-Köblitz","-16 °C","Nürnberg"]
["59368","Werne a.d. Lippe","-12 °C","Nürburg-Barweiler"]
["16356","Werneuchen","-14 °C","Neuruppin"]
["91174","Wernfels","-16 °C","Nürnberg"]
["38855","Wernigerode","-16 °C","Magdeburg"]
["09509","Wernsdorf bei Marienberg","-14 °C","Meiningen"]
["56414","Weroth","-14 °C","Nürburg-Barweiler"]
["57614","Weroth","-14 °C","Nürburg-Barweiler"]
["64395","Wersau","-14 °C","Würzburg"]
["53520","Wershofen","-14 °C","Nürburg-Barweiler"]
["40591","Werste","-10 °C","Düsseldorf"]
["97877","Wertheim","-14 °C","Würzburg"]
["33824","Werther","-12 °C","Fritzlar"]
["86637","Wertingen","-16 °C","Augsburg"]
["46325","Weseke","-10 °C","Düsseldorf"]
["46483","Wesel","-10 °C","Düsseldorf"]
["46485","Wesel","-10 °C","Düsseldorf"]
["19288","Weselsdorf","-14 °C","Schwerin"]
["39249","Wespen","-14 °C","Magdeburg"]
["50389","Wesseling/Rheinl.","-10 °C","Düsseldorf"]
["72406","Wessingen","-18 °C","Stuttgart"]
["82234","Weßling","-16 °C","Kempten"]
["04889","Weßnig","-16 °C","Leipzig"]
["48291","Westbevern","-12 °C","Hannover"]
["06449","Westdorf","-14 °C","Leipzig"]
["39448","Westenegeln","-14 °C","Magdeburg"]
["59199","Westerbönen","-12 °C","Nürburg-Barweiler"]
["56457","Westerburg","-14 °C","Nürburg-Barweiler"]
["32130","Westerenger","-12 °C","Fritzlar"]
["21394","Westergellersen","-12 °C","Hamburg"]
["83620","Westerham","-18 °C","Hohenpeißenberg"]
["49324","Westerhausen","-12 °C","Hannover"]
["72589","Westerheim","-18 °C","Stuttgart"]
["37589","Westerhof","-16 °C","Fritzlar"]
["73463","Westerhofen","-16 °C","Stuttgart"]
["24977","Westerholz","-10 °C","Schleswig"]
["89198","Westerstetten","-16 °C","Augsburg"]
["73463","Westhausen","-16 °C","Stuttgart"]
["91747","Westheim","-16 °C","Nürnberg"]
["97478","Westheim","-16 °C","Würzburg"]
["67593","Westhofen","-12 °C","Saarbrücken"]
["26810","Westoverledingen","-10 °C","Emden"]
["91757","Wettelsheim","-16 °C","Nürnberg"]
["35435","Wettenberg-Launsbach","-14 °C","Fritzlar"]
["58300","Wetter","-12 °C","Nürburg-Barweiler"]
["06722","Wetterzeube","-14 °C","Leipzig"]
["85139","Wettstetten","-16 °C","München"]
["93444","Wettzell","-18 °C","Straubing"]
["3557.","Wetzlar","-12 °C","Fritzlar"]
["35583","Wetzlar - Garbenheim","-12 °C","Fritzlar"]
["33106","Wewer","-12 °C","Fritzlar"]
["83629","Weyarn","-18 °C","Hohenpeißenberg"]
["56357","Weyer","-12 °C","Nürburg-Barweiler"]
["28844","Weyhe","-12 °C","Bremen"]
["89079","Wiblingen","-14 °C","Augsburg"]
["58769","Wiblingwerde","-12 °C","Nürburg-Barweiler"]
["19055","Wickendorf","-12 °C","Schwerin"]
["65439","Wicker","-12 °C","Karlsruhe"]
["41189","Wickrathberg","-10 °C","Düsseldorf"]
["52156","Widdau","-14 °C","Aachen"]
["74259","Widdern","-14 °C","Stuttgart"]
["79650","Wiechs","-12 °C","Stuttgart"]
["53577","Wied","-14 °C","Nürburg-Barweiler"]
["87534","Wiedemannsdorf","-18 °C","Kempten"]
["33378","Wiedenbrück","-12 °C","Fritzlar"]
["85259","Wiedenzhausen","-16 °C","München"]
["04938","Wiederau","-16 °C","Leipzig"]
["04158","Wiederitzsch","-14 °C","Leipzig"]
["02994","Wiednitz","-16 °C","Görlitz"]
["26215","Wiefelstede","-12 °C","Emden"]
["06571","Wiehe","-14 °C","Leipzig"]
["51674","Wiehl","-12 °C","Nürburg-Barweiler"]
["18556","Wiek auf Rügen","-10 °C","Rostock"]
["74523","Wielandsweiler","-16 °C","Stuttgart"]
["82407","Wielenbach","-16 °C","Kempten"]
["59939","Wiemeringhausen","-14 °C","Nürburg-Barweiler"]
["29342","Wienhausen","-14 °C","Hannover"]
["75446","Wiernsheim","-14 °C","Stuttgart"]
["95676","Wiesau","-18 °C","Hof"]
["65183","Wiesbaden","-10 °C","Nürburg-Barweiler"]
["86519","Wiesenbach","-16 °C","Augsburg"]
["74572","Wiesenbach","-16 °C","Stuttgart"]
["69257","Wiesenbach","-12 °C","Würzburg"]
["97355","Wiesenbronn","-16 °C","Würzburg"]
["65599","Wiesenroth","-14 °C","Nürburg-Barweiler"]
["73349","Wiesensteig","-18 °C","Stuttgart"]
["93109","Wiesent","-18 °C","Straubing"]
["68753","Wiesental","-12 °C","Karlsruhe"]
["91346","Wiesenttal","-16 °C","Nürnberg"]
["69168","Wiesloch","-12 °C","Würzburg"]
["49835","Wietmarschen","-10 °C","Hannover"]
["29323","Wietze","-12 °C","Hannover"]
["29649","Wietzendorf","-14 °C","Hannover"]
["73732","Wiflingshausen","-14 °C","Stuttgart"]
["91634","Wilburgstetten","-16 °C","Nürnberg"]
["15745","Wildau","-14 °C","Lindenberg"]
["08301","Wildbach","-16 °C","Meiningen"]
["75323","Wildbad im Schwarzwald","-14 °C","Stuttgart"]
["17091","Wildberg","-14 °C","Greifswald"]
["72218","Wildberg","-16 °C","Stuttgart"]
["08237","Wildenau","-16 °C","Meiningen"]
["08134","Wildenfels","-14 °C","Erfurt"]
["04539","Wildenhain","-14 °C","Leipzig"]
["41844","Wildenrath","-10 °C","Düsseldorf"]
["27793","Wildeshausen","-12 °C","Bremen"]
["07980","Wildetaube","-16 °C","Erfurt"]
["04924","Wildgrube","-16 °C","Leipzig"]
["87499","Wildpoldsreid","-16 °C","Kempten"]
["65719","Wildsachsen","-14 °C","Nürburg-Barweiler"]
["04838","Wildschütz","-14 °C","Leipzig"]
["75196","Wilferdingen","-14 °C","Stuttgart"]
["88515","Wilfingen","-14 °C","Stuttgart"]
["57234","Wilgersdorf","-14 °C","Nürburg-Barweiler"]
["88271","Wilhelmsdorf","-14 °C","Stuttgart"]
["69259","Wilhelmsfeld","-12 °C","Würzburg"]
["26389","Wilhelmshaven","-10 °C","Emden"]
["17291","Wilhelmshayn","-14 °C","Greifswald"]
["14557","Wilhelmshorst","-14 °C","Potsdam"]
["88263","Wilhelmskirch","-14 °C","Stuttgart"]
["91452","Wilhermsdorf","-16 °C","Nürnberg"]
["08112","Wilkau-Haßlau","-14 °C","Erfurt"]
["34439","Willebadessen","-14 °C","Fritzlar"]
["47877","Willich","-10 °C","Düsseldorf"]
["47877","Willich - Wekeln","-10 °C","Düsseldorf"]
["34508","Willingen/Upland","-14 °C","Fritzlar"]
["72820","Willmandingen","-18 °C","Stuttgart"]
["97647","Willmars","-16 °C","Würzburg"]
["93497","Willmering","-18 °C","Straubing"]
["03053","Willmersdorf","-16 °C","Lindenberg"]
["86574","Willprechtszell","-16 °C","Augsburg"]
["74182","Willsbach","-14 °C","Stuttgart"]
["77731","Willstätt","-12 °C","Karlsruhe"]
["03053","Wilmersdorf","-16 °C","Lindenberg"]
["57234","Wilnsdorf","-14 °C","Nürburg-Barweiler"]
["01833","Wilschdorf","-14 °C","Dresden"]
["01723","Wilsdruff","-14 °C","Dresden"]
["72818","Wilsingen","-16 °C","Stuttgart"]
["06449","Wilsleben","-14 °C","Leipzig"]
["27412","Wilstedt","-12 °C","Bremen"]
["54459","Wiltingen","-12 °C","Trier"]
["75365","Wimberg","-14 °C","Stuttgart"]
["71299","Wimsheim","-14 °C","Stuttgart"]
["54457","Wincheringen","-12 °C","Trier"]
["86949","Windach","-16 °C","Kempten"]
["51570","Windeck","-12 °C","Nürburg-Barweiler"]
["61276","Winden","-14 °C","Fritzlar"]
["79297","Winden i. E.","-16 °C","Stuttgart"]
["37539","Windhausen","-16 °C","Fritzlar"]
["92670","Windischeschenbach","-16 °C","Nürnberg"]
["99102","Windischholzhausen","-14 °C","Erfurt"]
["04603","Windischleuba","-14 °C","Leipzig"]
["91575","Windsbach","-16 °C","Nürnberg"]
["77652","Windschläg","-12 °C","Karlsruhe"]
["65232","Wingsbach","-14 °C","Nürburg-Barweiler"]
["21789","Wingst","-10 °C","Hamburg"]
["57664","Winkelbach","-14 °C","Nürburg-Barweiler"]
["71364","Winnenden","-14 °C","Stuttgart"]
["56333","Winningen","-12 °C","Nürburg-Barweiler"]
["30890","Winninghausen","-14 °C","Hannover"]
["67722","Winnweiler","-12 °C","Saarbrücken"]
["29308","Winsen","-12 °C","Hannover"]
["21423","Winsen (Luhe)","-12 °C","Hamburg"]
["73650","Winterbach","-16 °C","Stuttgart"]
["59955","Winterberg","-16 °C","Nürburg-Barweiler"]
["72474","Winterlingen","-16 °C","Stuttgart"]
["88400","Winterreute","-16 °C","Stuttgart"]
["54310","Wintersdorf","-12 °C","Trier"]
["88299","Winterstetten","-16 °C","Stuttgart"]
["88456","Winterstettendorf","-16 °C","Stuttgart"]
["88456","Winterstettenstadt","-16 °C","Stuttgart"]
["31088","Winzenburg","-16 °C","Hannover"]
["73072","Winzingen","-16 °C","Stuttgart"]
["97537","Wipfeld","-14 °C","Würzburg"]
["85414","Wippenhausen","-16 °C","München"]
["51688","Wipperfürth","-12 °C","Nürburg-Barweiler"]
["89134","Wippingen","-14 °C","Augsburg"]
["56422","Wirges","-14 °C","Nürburg-Barweiler"]
["39596","Wischer","-14 °C","Magdeburg"]
["06647","Wischroda","-14 °C","Leipzig"]
["23966","Wismar","-10 °C","Schwerin"]
["31061","Wispenstein","-16 °C","Hannover"]
["73550","Wißgoldingen","-16 °C","Stuttgart"]
["53879","Wißkirchen","-14 °C","Nürburg-Barweiler"]
["77960","Wittelbach","-14 °C","Karlsruhe"]
["58454","Witten","-12 °C","Nürburg-Barweiler"]
["06886","Wittenberg","-14 °C","Leipzig"]
["16515","Wittenberg","-14 °C","Neuruppin"]
["19322","Wittenberge","-14 °C","Schwerin"]
["19243","Wittenburg","-12 °C","Schwerin"]
["19243","Wittendörp","-12 °C","Schwerin"]
["19073","Wittenförden","-12 °C","Schwerin"]
["88693","Wittenhofen","-14 °C","Stuttgart"]
["77963","Wittenweier","-12 °C","Karlsruhe"]
["99189","Witterda","-14 °C","Erfurt"]
["66399","Wittersheim","-12 °C","Saarbrücken"]
["07768","Wittersroda","-14 °C","Erfurt"]
["09228","Wittgensdorf","-14 °C","Erfurt"]
["02997","Wittichenau","-16 °C","Görlitz"]
["29378","Wittingen","-14 °C","Hannover"]
["89426","Wittislingen","-16 °C","Augsburg"]
["40489","Wittlaer","-10 °C","Düsseldorf"]
["72250","Wittlensweiler","-16 °C","Stuttgart"]
["54516","Wittlich","-14 °C","Trier"]
["79599","Wittlingen","-12 °C","Stuttgart"]
["72574","Wittlingen (Bad Urach)","-16 °C","Stuttgart"]
["26409","Wittmund","-10 °C","Emden"]
["16909","Wittstock","-14 °C","Neuruppin"]
["3721.","Witzenhausen","-14 °C","Fritzlar"]
["37213","Witzenhausen / Unterrieden ","-14 °C","Fritzlar"]
["42799","Witzhelden","-10 °C","Düsseldorf"]
["94104","Witzmannsberg","-16 °C","Straubing"]
["32816","Wöbbel","-14 °C","Fritzlar"]
["52152","Woffelsbach","-14 °C","Aachen"]
["04874","Wohlau","-16 °C","Leipzig"]
["48167","Wolbeck","-12 °C","Hannover"]
["17091","Wolde","-14 °C","Greifswald"]
["77709","Wolfach","-14 °C","Stuttgart"]
["76227","Wolfartsweier","-12 °C","Karlsruhe"]
["88364","Wolfegg","-16 °C","Stuttgart"]
["06766","Wolfen","-14 °C","Leipzig"]
["3830.","Wolfenbüttel","-14 °C","Magdeburg"]
["35789","Wolfenhausen","-14 °C","Fritzlar"]
["72149","Wolfenhausen","-16 °C","Stuttgart"]
["63654","Wolferborn","-14 °C","Würzburg"]
["78166","Wolferdingen","-18 °C","Stuttgart"]
["35260","Wolferode","-14 °C","Fritzlar"]
["06295","Wolferode","-14 °C","Leipzig"]
["36266","Wölfershausen","-14 °C","Fritzlar"]
["61200","Wölfersheim","-14 °C","Fritzlar"]
["53940","Wolfert Unterw./Oberw.","-14 °C","Nürburg-Barweiler"]
["53937","Wolfgarten","-14 °C","Nürburg-Barweiler"]
["91639","Wolframs - Eschenbach","-16 °C","Nürnberg"]
["82515","Wolfratshausen","-16 °C","Kempten"]
["92269","Wolfring","-16 °C","Nürnberg"]
["3844.","Wolfsburg","-14 °C","Magdeburg"]
["99819","Wolfsburg-Unkeroda","-16 °C","Meiningen"]
["72649","Wolfschlugen","-14 °C","Stuttgart"]
["93195","Wolfsegg","-16 °C","Straubing"]
["03130","Wolfshain","-16 °C","Lindenberg"]
["64560","Wolfskehlen","-12 °C","Karlsruhe"]
["37290","Wolfterode","-14 °C","Fritzlar"]
["17438","Wolgast","-12 °C","Greifswald"]
["91126","Wolkersdorf","-16 °C","Nürnberg"]
["84166","Wollkofen","-16 °C","Straubing"]
["04720","Wollsdorf","-14 °C","Leipzig"]
["55597","Wöllstein","-12 °C","Trier"]
["39326","Wolmirstedt","-14 °C","Magdeburg"]
["16259","Wölsickendorf","-14 °C","Neuruppin"]
["04519","Wolteritz","-14 °C","Leipzig"]
["31099","Woltershausen","-16 °C","Hannover"]
["97539","Wonfurt","-14 °C","Würzburg"]
["55599","Wonsheim","-12 °C","Trier"]
["37339","Worbis","-16 °C","Fritzlar"]
["04880","Wörblitz","-16 °C","Leipzig"]
["87789","Woringen","-16 °C","Augsburg"]
["06786","Wörlitz","-14 °C","Leipzig"]
["57392","Wormbach","-14 °C","Nürburg-Barweiler"]
["53359","Wormersdorf","-14 °C","Nürburg-Barweiler"]
["01994","Wormlage","-16 °C","Dresden"]
["03205","Wormlage","-16 °C","Lindenberg"]
["6755.","Worms","-12 °C","Saarbrücken"]
["55286","Wörrstadt","-12 °C","Trier"]
["73499","Wört","-16 °C","Stuttgart"]
["76744","Wörth","-12 °C","Karlsruhe"]
["85457","Wörth","-16 °C","München"]
["93086","Wörth a.d. Donau","-18 °C","Straubing"]
["84109","Wörth an der Isar","-16 °C","Straubing"]
["82237","Wörthsee","-16 °C","Kempten"]
["76327","Wöschbach","-12 °C","Stuttgart"]
["31079","Wrisbergholzen","-14 °C","Hannover"]
["46286","Wulfen","-10 °C","Düsseldorf"]
["32545","Wulferdingen","-12 °C","Fritzlar"]
["31008","Wülfingen","-14 °C","Hannover"]
["31832","Wülfinghausen","-14 °C","Hannover"]
["42489","Wülfrath","-12 °C","Düsseldorf"]
["27628","Wulsbüttel","-12 °C","Bremen"]
["98704","Wümbach","-16 °C","Meiningen"]
["09514","Wünschendorf","-14 °C","Meiningen"]
["31515","Wunstorf-Luthe","-14 °C","Hannover"]
["4211.","Wuppertal","-12 °C","Düsseldorf"]
["42283","Wuppertal - Barmen","-12 °C","Düsseldorf"]
["42111","Wuppertal - Elberfeld","-12 °C","Düsseldorf"]
["42329","Wuppertal - Vohwinkel","-12 °C","Düsseldorf"]
["52511","Würm","-12 °C","Aachen"]
["75181","Würm","-14 °C","Stuttgart"]
["75449","Wurmberg","-14 °C","Stuttgart"]
["76448","Würmersheim","-12 °C","Karlsruhe"]
["72108","Wurmlingen","-16 °C","Stuttgart"]
["78573","Wurmlingen","-16 °C","Stuttgart"]
["01561","Würschnitz","-16 °C","Dresden"]
["52146","Würselen","-12 °C","Aachen"]
["82813","Würtingen","-18 °C","Kempten"]
["75394","Würzbach","-16 °C","Stuttgart"]
["9707.","Würzburg","-12 °C","Würzburg"]
["04808","Wurzen","-14 °C","Leipzig"]
["39524","Wust","-14 °C","Magdeburg"]
["32108","Wüsten","-12 °C","Fritzlar"]
["09358","Wüstenbrand","-14 °C","Meiningen"]
["73527","Wustenriet","-16 °C","Stuttgart"]
["71543","Wüstenrot","-16 °C","Stuttgart"]
["16868","Wusterhausen","-14 °C","Neuruppin"]
["17509","Wusterhusen","-12 °C","Greifswald"]
["16818","Wustrau","-14 °C","Neuruppin"]
["29462","Wustrow","-14 °C","Hannover"]
["04749","Wutzschwitz","-14 °C","Leipzig"]
["79369","Wyhl","-12 °C","Karlsruhe"]
["04552","Wyhra","-14 °C","Leipzig"]
["47559","Wyler","-10 °C","Düsseldorf"]
["46509","Xanten","-10 °C","Düsseldorf"]
["39307","Zabakuck","-14 °C","Magdeburg"]
["01561","Zabeltitz","-16 °C","Dresden"]
["74374","Zaberfeld","-14 °C","Stuttgart"]
["94239","Zachenberg","-18 °C","Straubing"]
["86573","Zahling","-16 °C","Augsburg"]
["06895","Zahna","-14 °C","Leipzig"]
["75378","Zainen","-16 °C","Stuttgart"]
["72587","Zainingen","-18 °C","Stuttgart"]
["89551","Zang","-16 °C","Augsburg"]
["18195","Zarnewanz","-12 °C","Rostock"]
["19246","Zarrentin","-12 °C","Schwerin"]
["39606","Zedau","-14 °C","Magdeburg"]
["07557","Zedlitz","-14 °C","Erfurt"]
["04552","Zedtlitz","-14 °C","Leipzig"]
["16792","Zehdenick","-14 °C","Neuruppin"]
["97475","Zeil am Main","-14 °C","Würzburg"]
["67378","Zeiskam","-12 °C","Saarbrücken"]
["01619","Zeithain","-16 °C","Dresden"]
["06712","Zeitz","-14 °C","Leipzig"]
["95239","Zell","-18 °C","Hof"]
["73104","Zell","-16 °C","Stuttgart"]
["77736","Zell","-14 °C","Stuttgart"]
["56856","Zell - Barl","-12 °C","Nürburg-Barweiler"]
["77736","Zell a.H.","-14 °C","Stuttgart"]
["97299","Zell am Main","-14 °C","Würzburg"]
["79669","Zell i.W.","-14 °C","Stuttgart"]
["73119","Zell u. Aichelberg","-16 °C","Stuttgart"]
["67308","Zellertal","-12 °C","Saarbrücken"]
["77654","Zell-Weierbach","-12 °C","Karlsruhe"]
["17459","Zempin","-12 °C","Greifswald"]
["16341","Zepernick","-14 °C","Neuruppin"]
["39317","Zerben","-14 °C","Magdeburg"]
["39261","Zerbst","-14 °C","Magdeburg"]
["01920","Zerna","-16 °C","Dresden"]
["29499","Zernien","-14 °C","Hannover"]
["16845","Zernitz","-14 °C","Neuruppin"]
["15758","Zernsdorf","-14 °C","Lindenberg"]
["16348","Zerpenschleuse","-14 °C","Neuruppin"]
["02699","Zescha","-16 °C","Görlitz"]
["26340","Zetel","-10 °C","Emden"]
["09306","Zetteritz","-14 °C","Erfurt"]
["93485","Zettisch","-18 °C","Straubing"]
["04758","Zeuckritz","-16 °C","Leipzig"]
["07937","Zeulenroda","-16 °C","Erfurt"]
["76698","Zeutern","-12 °C","Stuttgart"]
["15738","Zeuthen","-14 °C","Lindenberg"]
["19069","Zickhusen","-12 °C","Schwerin"]
["07980","Zickra","-14 °C","Erfurt"]
["06842","Ziebigk","-14 °C","Leipzig"]
["34613","Ziegenhain","-14 °C","Fritzlar"]
["04720","Ziegra","-14 °C","Leipzig"]
["17440","Ziemitz","-14 °C","Greifswald"]
["79395","Zienken","-12 °C","Karlsruhe"]
["23968","Zierow","-10 °C","Schwerin"]
["89446","Ziertheim","-16 °C","Augsburg"]
["14793","Ziesar","-14 °C","Potsdam"]
["18059","Ziesendorf","-12 °C","Rostock"]
["72336","Zillhausen","-18 °C","Stuttgart"]
["88484","Zillishausen","-16 °C","Stuttgart"]
["54578","Zilsdorf","-14 °C","Trier"]
["72406","Zimmern","-18 °C","Stuttgart"]
["78658","Zimmern","-16 °C","Stuttgart"]
["97828","Zimmern","-14 °C","Würzburg"]
["72369","Zimmern u.d.B.","-16 °C","Stuttgart"]
["02906","Zimpel","-16 °C","Görlitz"]
["18374","Zingst Ostseebad","-10 °C","Rostock"]
["15345","Zinndorf","-14 °C","Lindenberg"]
["17454","Zinnowitz","-12 °C","Greifswald"]
["01773","Zinnwald","-16 °C","Dresden"]
["19063","Zippendorf","-12 °C","Schwerin"]
["17419","Zirchow","-12 °C","Greifswald"]
["86609","Zirgesheim","-16 °C","Augsburg"]
["90513","Zirndorf","-16 °C","Nürnberg"]
["02763","Zittau","-16 °C","Görlitz"]
["79379","Zizingen","-12 °C","Karlsruhe"]
["04416","Zöbigker","-16 °C","Leipzig"]
["73485","Zöbingen","-16 °C","Stuttgart"]
["09517","Zöblitz","-16 °C","Meiningen"]
["02829","Zodel","-16 °C","Görlitz"]
["78052","Zollhaus","-18 °C","Stuttgart"]
["85406","Zolling","-16 °C","München"]
["15926","Zöllmersdorf","-16 °C","Lindenberg"]
["04703","Zollschwitz","-14 °C","Leipzig"]
["06780","Zörbig","-14 °C","Leipzig"]
["85604","Zorneding","-16 °C","München"]
["89447","Zöschingen","-16 °C","Augsburg"]
["89426","Zöschlingsweiler","-16 °C","Augsburg"]
["15806","Zossen","-14 °C","Lindenberg"]
["04720","Zschaitz","-14 °C","Leipzig"]
["04603","Zschechwitz","-14 °C","Leipzig"]
["04720","Zschepplitz","-14 °C","Leipzig"]
["04749","Zschochau","-14 °C","Leipzig"]
["04703","Zschockau","-14 °C","Leipzig"]
["09405","Zschopau","-14 °C","Meiningen"]
["08321","Zschorlau","-16 °C","Meiningen"]
["01920","Zschornau","-16 °C","Dresden"]
["04509","Zschortau","-14 °C","Leipzig"]
["39240","Zuchau","-14 °C","Magdeburg"]
["85051","Zuchering","-18 °C","München"]
["70435","Zuffenhausen","-12 °C","Stuttgart"]
["16515","Zühlsdorf","-14 °C","Neuruppin"]
["53909","Zülpich ","-14 °C","Nürburg-Barweiler"]
["7765.","Zunsweier (Offenburg)","-12 °C","Karlsruhe"]
["79379","Zunzingen","-14 °C","Karlsruhe"]
["86441","Zusmarshausen","-16 °C","Augsburg"]
["17495","Züssow","-12 °C","Greifswald"]
["85465","Zustorf","-16 °C","München"]
["74219","Züttlingen","-12 °C","Stuttgart"]
["16306","Zützen","-16 °C","Neuruppin"]
["74939","Zuzenhausen","-12 °C","Stuttgart"]
["04451","Zweefurth","-14 °C","Leipzig"]
["66482","Zweibrücken","-12 °C","Saarbrücken"]
["74639","Zweiflingen","-14 °C","Stuttgart"]
["04442","Zwenkau","-14 °C","Leipzig"]
["75389","Zwerenberg","-16 °C","Stuttgart"]
["0805.","Zwickau","-14 °C","Erfurt"]
["88529","Zwiefalten","-14 °C","Stuttgart"]
["94227","Zwiesel","-18 °C","Straubing"]
["69439","Zwingenberg","-12 °C","Würzburg"]
["69439","Zwingenberg","-12 °C","Würzburg"]
["08297","Zwönitz","-16 °C","Meiningen"]
["47559","Zyfflich","-10 °C","Düsseldorf"]

{"sheet":"Leistungsdaten","index":11,"n_rows":416,"n_cols":68,"rows_kept":416,"cut":false,"hidden":true,"merged":[[393,16,393,21],[393,24,393,29],[209,16,209,21],[209,24,209,29],[232,16,232,21],[232,24,232,29],[278,16,278,21],[278,24,278,29],[255,24,255,29],[370,16,370,21],[301,24,301,29],[324,24,324,29],[347,24,347,29],[370,24,370,29],[301,16,301,21],[324,16,324,21],[2,16,2,21],[48,16,48,21],[2,24,2,29],[48,24,48,29],[71,16,71,21],[25,16,25,21],[25,24,25,29],[347,16,347,21],[255,16,255,21],[94,16,94,21],[186,16,186,21],[71,24,71,29],[94,24,94,29],[117,24,117,29],[140,24,140,29],[186,24,186,29],[117,16,117,21],[140,16,140,21],[163,16,163,21],[163,24,163,29]]}
[null,null,"Warmwasser","Deckung WW","Deckung WWB",null,null,null,null,null,null,null,null,null,null,"Leistungskurve",null,null,null,null,null,null,null,"COP"]
["WP-Typ",null,"JAZ","Nur WP","Bivalent (Anteil WP)","Wärmequelle","1. Suchzeile","Anzahl WP","Bivalent möglich ?","Datenblatt","Invest (für RHI)","UK-MCS Zertifikat",null,null,null,"Luft-Wasser-Wärmepumpen",null,null,null,null,null,null,null,"Luft-Wasser-Wärmepumpen",null,null,null,null,null,null,null,null,null,null,null,null,null,null,null,null,null,null,null,null,"Sole-Wasser-WP - Heizleistungen bei Bo",null,null,null,null,null,null,null,null,null,null,null,null,null,null,null,null,"Wasser-Wasser-WP - Heizleistungen bei W7"]
["WPL 10 AC",null,2.7,0.95,0.6,1,5,1,true,8427,4900,"---",null,null,null,null,"WPL 10 AC",null,null,null,null,null,null,null,"WPL 10 AC",null,null,null,null,null,null,null,null,null,null,null,null,null,null,null,null,null,null,null,"WP-Typ",{"$f":"Berechnung!F7","v":"30 °C"},{"$f":"Berechnung!F8","v":"35 °C"},{"$f":"Berechnung!F9","v":"40 °C"},{"$f":"Berechnung!F10","v":"45 °C"},{"$f":"Berechnung!F11","v":"50 °C"},{"$f":"Berechnung!F12","v":"55 °C"},null,null,null,null,null,null,null,null,null,null,"WP-Typ",{"$f":"AT3","v":"30 °C"},"35 °C","40 °C","45 °C","50 °C","55 °C"]
["WPL 10 ACS",null,2.7,0.95,0.6,1,{"$f":"G3+23","v":28},1,true,8427,4900,"MCS HP 0046/17",null,null,null,"Außentemp","30 °C","35 °C","40 °C","45 °C","50 °C","55 °C",null,"Außentemp","30 °C","35 °C","40 °C","45 °C","50 °C","55 °C"]
["WPL 13 E/cool",null,2.7,0.95,0.6,1,{"$f":"G4+23","v":51},1,true,5968,6300,"MCS HP 0046/04 ",null,null,null,-20,{"$f":"R5+(R5-S5)","v":3.05},2.4,{"$f":"AVERAGE(R5,T5)","v":1.75},1.0999999999999999,{"$f":"AVERAGE(T5,V5)","v":0.89999999999999991},0.69999999999999984,null,-20,2.4230769230769234,2.2307692307692308,2.0384615384615383,1.846153846153846,1.7564102564102564,1.6666666666666667,null,null,null,null,null,null,null,null,null,null,null,null,null,null,{"$f":"A51","v":"WPC 04 / WPC 04 cool"},{"$f":"AU5+(AU5-AY5)/4","v":4.9124999999999996},4.7699999999999996,{"$f":"AVERAGE(AU5,AW5)","v":4.585},4.4000000000000004,{"$f":"AVERAGE(AW5,AY5)","v":4.3000000000000007},4.2,null,null,null,null,null,null,null,null,null,null,{"$f":"A145","v":"WPW 06 Set"},{"$f":"BL5+(BL5-BM5)","v":5.9624999999999995},5.81,{"$f":"AVERAGE(BL5,BN5)","v":5.6574999999999998},{"$f":"AVERAGE(BL5,BP5)","v":5.5049999999999999},{"$f":"AVERAGE(BN5,BP5)","v":5.3525},5.2]
["WPL 18 E/cool",null,2.7,0.95,0.6,1,74,1,true,5968,9200,"MCS HP 0046/11 ",null,null,null,-17.5,{"$f":"R6+(R6-S6)","v":3.65},3,{"$f":"AVERAGE(R6,T6)","v":2.35},1.7,1.5,1.2999999999999998,null,-17.5,2.8014705882352944,2.5294117647058827,2.257352941176471,1.9852941176470591,1.8259803921568629,1.6666666666666667,null,null,null,null,null,null,null,null,null,null,null,null,null,null,"WPC 05 / WPC 05 cool",{"$f":"AU6+(AU6-AY6)/4","v":5.9750000000000005},5.82,5.66,5.5,5.35,5.2,null,null,null,null,null,null,null,null,null,null,"WPW 07 Set",{"$f":"BL6+(BL6-BM6)","v":6.9124999999999996},6.77,6.6274999999999995,6.4849999999999994,6.3424999999999994,6.2]
["WPL 23 E/cool",null,2.7,0.95,0.6,1,97,1,true,5968,12200,"MCS HP 0046/12 ",null,null,null,-15,4.1500000000000004,3.5,2.85,2.2000000000000002,2,1.8000000000000003,null,-15,3.0357142857142856,2.7142857142857144,2.3928571428571432,2.0714285714285716,1.8690476190476191,1.6666666666666667,null,null,null,null,null,null,null,null,null,null,null,null,null,null,"WPC 07 / WPC 07 cool",7.7,7.5,7.2249999999999996,6.95,6.8250000000000002,6.7,null,null,null,null,null,null,null,null,null,null,"WPW 10 Set",{"$f":"BL7+(BL7-BM7)","v":9.2875000000000014},8.98,8.6724999999999994,8.3650000000000002,8.057500000000001,7.75]
["WPL 13 A basic",null,2.7,0.95,0.6,1,120,1,true,8157,6500,"MCS HP 0046/29",null,null,null,-12.5,4.5999999999999996,3.95,3.3000000000000003,2.6500000000000004,2.4500000000000002,2.2500000000000004,null,-12.5,3.1160892738174546,2.8157894736842102,2.5154896735509658,2.2151898734177218,2.0643850601656513,1.9135802469135805,null,null,null,null,null,null,null,null,null,null,null,null,null,null,"WPC 10 / WPC 10 cool",10.5625,10.26,10.030000000000001,9.8000000000000007,9.4250000000000007,9.0500000000000007,null,null,null,null,null,null,null,null,null,null,"WPW 13 Set",12.675000000000001,12.23,11.785,11.34,10.895,10.45]
["WPL 20 A basic",null,2.7,0.95,0.6,1,143,1,true,8157,10500,"MCS HP 0046/30",null,null,null,-10,4.9249999999999998,4.3,3.6749999999999998,3.05,2.8499999999999996,2.65,null,-10,3.1654411764705879,2.8749999999999996,2.5845588235294112,2.2941176470588234,2.1764705882352944,2.0588235294117649,null,null,null,null,null,null,null,null,null,null,null,null,null,null,"WPC 13 / WPC 13 cool",13.375,13.1,12.8,12.5,12.25,12,null,null,null,null,null,null,null,null,null,null,"WPW 18 Set",16.262499999999999,15.77,15.2775,14.785,14.2925,13.8]
["WPL 15 IS/IKS",null,2.7,0.98,0.6,1,166,1,true,8726,6400,"---",null,null,null,-7.5,5.1499999999999995,4.5999999999999996,4.05,3.5,3.3,3.1,null,-7.5,3.1764705882352944,3,2.8235294117647056,2.6470588235294117,2.4346405228758172,2.2222222222222223,null,null,null,null,null,null,null,null,null,null,null,null,null,null,"WPF 04 / WPF 04 cool",{"$f":"AU10+(AU10-AY10)/4","v":4.9124999999999996},4.7699999999999996,4.585,4.4000000000000004,4.3000000000000007,4.2,null,null,null,null,null,null,null,null,null,null,"WPW 22 Set",20.8125,20.260000000000002,19.707500000000003,19.155000000000001,18.602499999999999,18.05]
["WPL 25 I/IK",null,2.7,0.98,0.6,1,189,1,true,8726,11500,"MCS HP 0046/37",null,null,null,-5,5.5,5,4.5,4,3.8,3.6,null,-5,3.352573485777584,3.1273885350318467,2.9022035842861094,2.6770186335403725,2.4664162935143725,2.2558139534883721,null,null,null,null,null,null,null,null,null,null,null,null,null,null,"WPF 05 / WPF 05 cool",{"$f":"AU11+(AU11-AY11)/4","v":5.9750000000000005},5.82,5.66,5.5,5.35,5.2,null,null,null,null,null,null,null,null,null,null,"WPW 7 basic Set",{"$f":"BL11+(BL11-BM11)","v":7.2},7,{"$f":"AVERAGE(BL11,BN11)","v":6.8},{"$f":"AVERAGE(BL11,BP11)","v":6.6},{"$f":"AVERAGE(BN11,BP11)","v":6.4},6.2]
["WPL 15 ACS",null,2.7,0.98,0.6,1,212,1,true,8725,6400,"MCS HP 0046/36",null,null,null,-2.5,5.8500000000000005,5.4,4.95,4.5,4.3,4.0999999999999996,null,-2.5,3.60174119649633,3.3067484662576687,3.0117557360190075,2.7167630057803467,2.5081141232110289,2.2994652406417115,null,null,null,null,null,null,null,null,null,null,null,null,null,null,"WPF 07 / WPF 07 cool",{"$f":"AU12+(AU12-AY12)/4","v":7.7},7.5,7.2249999999999996,6.95,6.8250000000000002,6.7,null,null,null,null,null,null,null,null,null,null,"WPW 10 basic Set",9.1875,8.9,8.6125000000000007,8.3249999999999993,8.0374999999999996,7.75]
["WPL 25 A",null,2.7,0.98,0.6,1,235,1,true,8725,11500,"MCS HP 0046/38",null,null,null,0,6.4250000000000007,5.95,5.4749999999999996,5,4.8,4.5999999999999996,null,0,3.7585767691137062,3.4191616766467066,3.0797465841797069,2.7403314917127073,2.5326022940797044,2.324873096446701,null,null,null,null,null,null,null,null,null,null,null,null,null,null,"WPF 10 / WPF 10 cool",10.5625,10.26,10.030000000000001,9.8000000000000007,9.4250000000000007,9.0500000000000007,null,null,null,null,null,null,null,null,null,null,"WPW 13 basic Set",12.7,12.25,11.8,11.35,10.899999999999999,10.45]
["WPL 33 HT",null,2.7,0.98,0.6,1,258,1,true,8158,11500,"MCS HP 0046/26",null,null,null,2.5,6.9250000000000007,6.45,5.9749999999999996,5.5,5.3,5.0999999999999996,null,2.5,3.9747663551401868,3.6,3.2252336448598133,2.8504672897196266,2.6560028756290439,2.4615384615384617,null,null,null,null,null,null,null,null,null,null,null,null,null,null,"WPF 13 / WPF 13 cool",13.375,13.1,12.8,12.5,12.25,12,null,null,null,null,null,null,null,null,null,null,"WPW 18 basic Set",15.925000000000001,15.5,15.074999999999999,14.65,14.225000000000001,13.8]
["WPL 33 HTS",null,2.7,0.98,0.6,1,281,1,true,"-",11500,"MCS HP 0046/27",null,null,null,5,7.6499999999999995,7.1,6.55,6,5.8,5.6,null,5,4.1909909909909908,3.8,3.4090090090090088,3.0180180180180183,2.8478519842156209,2.6776859504132235,null,null,null,null,null,null,null,null,null,null,null,null,null,null,"WPF 16 / WPF 16 cool",17.3,17.02,16.759999999999998,16.5,16.2,15.9,null,null,null,null,null,null,null,null,null,null,"WPW 22 basic Set",20.487500000000001,20,19.512499999999999,19.024999999999999,18.537500000000001,18.05]
["WPL 34",null,2.7,0.95,0.6,1,304,1,true,7124,15300,"---",null,null,null,7.5,8.3000000000000007,7.8,7.3,6.8,6.6,6.3999999999999995,null,7.5,4.2627634660421538,3.9180327868852456,3.5733021077283373,3.2285714285714286,3.0616541353383457,2.8947368421052633,null,null,null,null,null,null,null,null,null,null,null,null,null,null,"WPF 5 basic",{"$f":"AU16+(AU16-AV16)","v":6.0933333333333328},5.92,{"$f":"AU16-(AU16-AX16)/3","v":5.746666666666667},{"$f":"AX16+(AU16-AX16)/3","v":5.5733333333333333},5.4,{"$f":"AX16-(AW16-AX16)","v":5.2266666666666675},null,null,null,null,null,null,null,null,null,null,"WPF 10 M (Water)",11.8475,11.72,{"$f":"AVERAGE(BL16,BN16)","v":11.592500000000001},11.465,{"$f":"AVERAGE(BN16,BP16)","v":11.3375},11.21]
["WPL 47",null,2.7,0.95,0.6,1,327,1,true,7124,20900,"---",null,null,null,10,8.6500000000000021,8.3000000000000007,7.95,7.6,7.3999999999999995,7.1999999999999993,null,10,4.2619047619047619,3.9523809523809526,3.6428571428571432,3.3333333333333335,3.1282051282051282,2.9230769230769229,null,null,null,null,null,null,null,null,null,null,null,null,null,null,"WPF 7 basic",7.5266666666666673,7.4,7.2733333333333334,7.1466666666666665,7.02,6.8933333333333326,null,null,null,null,null,null,null,null,null,null,"WPF 13 M (Water)",16.2225,15.99,{"$f":"AVERAGE(BL17,BN17)","v":15.7575},15.525,15.2925,15.06]
["WPL 57",null,2.7,0.95,0.6,1,350,1,true,7124,22800,"---",null,null,null,12.5,9.2937500000000011,8.8625000000000007,8.4312500000000004,8,7.8,7.6,null,12.5,4.3477048477048488,4.0360360360360366,3.7243672243672243,3.4126984126984121,3.1585550887021476,2.9044117647058827,null,null,null,null,null,null,null,null,null,null,null,null,null,null,"WPF 10 basic",10.206666666666665,10.029999999999999,9.8533333333333335,9.6766666666666659,9.5,9.3233333333333341,null,null,null,null,null,null,null,null,null,null,"WPF 16 M (Water)",20.587499999999999,20.079999999999998,19.572499999999998,19.064999999999998,18.557499999999997,18.05]
["2 x WPL 23 E",null,2.7,0.95,0.6,1,{"$f":"G7","v":97},2,true,5968,24300,"---",null,null,null,15,9.9625000000000021,9.4250000000000007,8.8874999999999993,8.35,8.1499999999999986,7.9499999999999993,null,15,4.3996655518394654,4.0869565217391308,3.7742474916387962,3.4615384615384612,3.177197802197802,2.8928571428571428,null,null,null,null,null,null,null,null,null,null,null,null,null,null,"WPF 13 basic",13.040000000000001,12.83,12.62,12.41,12.2,11.989999999999998,null,null,null,null,null,null,null,null,null,null,"WPF 20 (Water)",{"$f":"BL19+(BL19-BM19)","v":26.564999999999998},26.04,{"$f":"AVERAGE(BL19,BN19)","v":25.515000000000001},{"$f":"AVERAGE(BL19,BP19)","v":24.990000000000002},{"$f":"AVERAGE(BN19,BP19)","v":24.465000000000003},23.94]
["2 x WPL 34",null,2.7,0.95,0.6,1,{"$f":"G16","v":304},2,true,7124,30600,"---",null,null,null,17.5,10.631250000000001,9.9875000000000007,9.34375,8.6999999999999993,8.5,8.2999999999999989,null,17.5,4.878914835164835,4.4910714285714288,4.1032280219780226,3.7153846153846155,3.390539023020775,3.0656934306569341,null,null,null,null,null,null,null,null,null,null,null,null,null,null,"WPF 16 basic",17.266666666666666,16.899999999999999,16.533333333333331,16.166666666666668,15.8,15.433333333333334,null,null,null,null,null,null,null,null,null,null,"WPF 27 (Water)",{"$f":"BL20+(BL20-BM20)","v":35.517499999999998},34.79,{"$f":"AVERAGE(BL20,BN20)","v":34.0625},{"$f":"AVERAGE(BL20,BP20)","v":33.335000000000001},{"$f":"AVERAGE(BN20,BP20)","v":32.607500000000002},31.88]
["2 x WPL 47",null,2.7,0.95,0.6,1,{"$f":"G17","v":327},2,true,7124,41800,"---",null,null,null,20,11.200000000000001,10.55,9.9,9.25,9.0500000000000007,8.85,null,20,5.2167832167832167,4.7727272727272725,4.3286713286713283,3.8846153846153841,3.5349002849002842,3.1851851851851847,null,null,null,null,null,null,null,null,null,null,null,null,null,null,"WPF 10 M",10.050000000000001,9.9,9.75,9.6,9.4499999999999993,9.2999999999999989,null,null,null,null,null,null,null,null,null,null,"WPF 27 HT (Water)",33.4375,32.75,32.0625,31.375,30.6875,30]
["2 x WPL 57",null,2.7,0.95,0.6,1,{"$f":"G18","v":350},2,true,7124,45600,"---",null,null,null,22.5,11.762500000000001,11.112500000000001,10.4625,9.8125,9.6125000000000007,9.4124999999999996,null,22.5,null,null,null,null,null,null,null,null,null,null,null,null,null,null,null,null,null,null,null,null,"WPF 13 M",13.583333333333334,13.4,13.216666666666667,13.033333333333333,12.85,12.666666666666666,null,null,null,null,null,null,null,null,null,null,"WPF 35 (Water)",44.512500000000003,43.29,42.067499999999995,40.844999999999999,39.622500000000002,38.4]
["WPL 13 S basic",null,2.7,0.95,0.6,1,373,1,true,5968,6400,"MCS HP 0046/18",null,null,null,25,12.325000000000001,11.675000000000001,11.025,10.375,10.175000000000001,9.9749999999999996,null,25,null,null,null,null,null,null,null,null,null,null,null,null,null,null,null,null,null,null,null,null,"WPF 16 M",16.733333333333334,16.3,15.866666666666667,15.433333333333334,15,14.566666666666666,null,null,null,null,null,null,null,null,null,null,"WPF 40 (Water)",53.225000000000001,52.42,51.615000000000002,50.81,50.005000000000003,49.2]
["WPL 18 S basic",null,2.7,0.95,0.6,1,396,1,true,8157,8500,"MCS HP 0046/31",null,null,null,27.5,12.887500000000001,12.237500000000001,11.5875,10.9375,10.737500000000001,10.5375,null,27.5,null,null,null,null,null,null,null,null,null,null,null,null,null,null,null,null,null,null,null,null,"WPF 20",21.965,21.68,{"$f":"AVERAGE(AU24,AW24)","v":21.395},21.11,{"$f":"AVERAGE(AW24,AY24)","v":20.734999999999999},20.36,null,null,null,null,null,null,null,null,null,null,"WPF 52 (Water)",68.2,66.84,65.48,64.12,62.760000000000005,61.4]
[null,null,null,null,null,null,null,null,null,null,null,null,null,null,null,30,13.450000000000001,12.8,12.15,11.5,11.3,11.1,null,30,null,null,null,null,null,null,null,null,null,null,null,null,null,null,null,null,null,null,null,null,"WPF 27",25.815000000000001,26.69,27.565000000000001,28.44,27.565000000000001,26.69,null,null,null,null,null,null,null,null,null,null,"WPF 66 (Water)",83.25,81.42,79.59,77.759999999999991,75.929999999999993,74.099999999999994]
[null,null,null,null,null,null,null,null,null,null,null,null,null,null,null,null,"WPL 10 ACS",null,null,null,null,null,null,null,"WPL 10 ACS",null,null,null,null,null,null,null,null,null,null,null,null,null,null,null,null,null,null,null,"WPF 27 HT",27.3,26.8,26.3,25.8,25.200000000000003,24.6,null,null,null,null,null,null,null,null,null,null,"WPF 20 SET (Water)",23.695,{"$f":"BL16*2","v":23.44},23.185000000000002,22.93,22.675000000000001,{"$f":"BP16*2","v":22.42}]
[null,null,null,null,null,null,null,null,null,null,null,null,null,null,null,"Außentemp","30 °C","35 °C","40 °C","45 °C","50 °C","55 °C",null,"Außentemp","30 °C","35 °C","40 °C","45 °C","50 °C","55 °C",null,null,null,null,null,null,null,null,null,null,null,null,null,null,"WPF 35",{"$f":"AU27+(AU27-AV27)","v":39.119999999999997},38.04,36.96,35.880000000000003,34.984999999999999,34.090000000000003,null,null,null,null,null,null,null,null,null,null,"WPF 23 SET (Water)",28.07,{"$f":"BL16+BL17","v":27.71},{"$f":"AVERAGE(BL27,BN27)","v":27.35},{"$f":"AVERAGE(BL27,BP27)","v":26.990000000000002},{"$f":"AVERAGE(BN27,BP27)","v":26.630000000000003},{"$f":"BP16+BP17","v":26.270000000000003}]
[null,null,null,null,null,null,null,null,null,null,null,null,null,null,null,-20,{"$f":"R28+(R28-S28)","v":3.05},2.4,{"$f":"AVERAGE(R28,T28)","v":1.75},1.0999999999999999,{"$f":"AVERAGE(T28,V28)","v":0.89999999999999991},0.69999999999999984,null,-20,2.4230769230769234,2.2307692307692308,2.0384615384615383,1.846153846153846,1.7564102564102564,1.6666666666666667,null,null,null,null,null,null,null,null,null,null,null,null,null,null,"WPF 40",47.02,45.7,44.38,43.06,42.14,41.22,null,null,null,null,null,null,null,null,null,null,"WPF 26 SET (Water)",32.445,{"$f":"2*BL17","v":31.98},31.515000000000001,{"$f":"AVERAGE(BL28,BP28)","v":31.05},30.585000000000001,{"$f":"2*BP17","v":30.12}]
[null,null,null,null,null,null,null,null,null,null,null,null,null,null,null,-17.5,{"$f":"R29+(R29-S29)","v":3.65},3,{"$f":"AVERAGE(R29,T29)","v":2.35},1.7,{"$f":"AVERAGE(T29,V29)","v":1.5},1.2999999999999998,null,-17.5,2.8014705882352944,2.5294117647058827,2.257352941176471,1.9852941176470591,1.8259803921568629,1.6666666666666667,null,null,null,null,null,null,null,null,null,null,null,null,null,null,"WPF 52",56.739999999999995,55.83,54.92,54.01,53.094999999999999,52.18,null,null,null,null,null,null,null,null,null,null,"WPF 29 SET (Water)",36.81,{"$f":"BL17+BL18","v":36.07},35.33,34.590000000000003,33.85,{"$f":"BP17+BP18","v":33.11}]
[null,null,null,null,null,null,null,null,null,null,null,null,null,null,null,-15,4.1500000000000004,3.5,2.85,2.2000000000000002,2,1.8000000000000003,null,-15,3.0357142857142856,2.7142857142857144,2.3928571428571432,2.0714285714285716,1.8690476190476191,1.6666666666666667,null,null,null,null,null,null,null,null,null,null,null,null,null,null,"WPF 66",70.135000000000005,69.06,67.984999999999999,66.91,65.465000000000003,64.02,null,null,null,null,null,null,null,null,null,null,"WPF 32 SET (Water)",41.174999999999997,{"$f":"2*BL18","v":40.159999999999997},39.144999999999996,38.129999999999995,37.114999999999995,{"$f":"2*BP18","v":36.1}]
[null,null,null,null,null,null,null,null,null,null,null,null,null,null,null,-12.5,4.5999999999999996,3.95,3.3000000000000003,2.6500000000000004,2.4500000000000002,2.2500000000000004,null,-12.5,3.1160892738174546,2.8157894736842102,2.5154896735509658,2.2151898734177218,2.0643850601656513,1.9135802469135805,null,null,null,null,null,null,null,null,null,null,null,null,null,null,"WPF 20 SET",20.100000000000001,{"$f":"AU21*2","v":19.8},{"$f":"AU31-(AU31-AX31)/3","v":19.5},{"$f":"AX31+(AU31-AX31)/3","v":19.2},{"$f":"AX21*2","v":18.899999999999999},{"$f":"AX31-(AW31-AX31)","v":18.599999999999998},null,null,null,null,null,null,null,null,null,null,"WPF 80 SET (Water)",106.45,{"$f":"BL23*2","v":104.84},103.23,101.62,100.01,{"$f":"BP23*2","v":98.4}]
[null,null,null,null,null,null,null,null,null,null,null,null,null,null,null,-10,4.9249999999999998,4.3,3.6749999999999998,3.05,2.8499999999999996,2.65,null,-10,3.1654411764705879,2.8749999999999996,2.5845588235294112,2.2941176470588234,2.1764705882352944,2.0588235294117649,null,null,null,null,null,null,null,null,null,null,null,null,null,null,"WPF 23 SET",23.633333333333336,{"$f":"AU21+AU22","v":23.3},22.966666666666665,22.633333333333333,{"$f":"AX21+AX22","v":22.299999999999997},21.966666666666661,null,null,null,null,null,null,null,null,null,null,"WPF 92 SET (Water)",{"$f":"BL32+(BL32-BM32)","v":121.42500000000001},{"$f":"BL23+BL24","v":119.26},117.095,114.93,112.765,{"$f":"BP23+BP24","v":110.6}]
[null,null,null,null,null,null,null,null,null,null,null,null,null,null,null,-7.5,5.1499999999999995,4.5999999999999996,4.05,3.5,3.3,3.1,null,-7.5,3.1764705882352944,3,2.8235294117647056,2.6470588235294117,2.4346405228758172,2.2222222222222223,null,null,null,null,null,null,null,null,null,null,null,null,null,null,"WPF 26 SET",27.166666666666668,{"$f":"AU22*2","v":26.8},26.433333333333334,26.066666666666666,{"$f":"AX22*2","v":25.7},25.333333333333332,null,null,null,null,null,null,null,null,null,null,"WPF 104 SET (Water)",{"$f":"BL33+(BL33-BM33)","v":136.4},{"$f":"2*BL24","v":133.68},130.96,128.24,125.52000000000001,{"$f":"2*BP24","v":122.8}]
[null,null,null,null,null,null,null,null,null,null,null,null,null,null,null,-5,5.5,5,4.5,4,3.8,3.6,null,-5,3.352573485777584,3.1273885350318467,2.9022035842861094,2.6770186335403725,2.4664162935143725,2.2558139534883721,null,null,null,null,null,null,null,null,null,null,null,null,null,null,"WPF 29 SET",30.31666666666667,{"$f":"AU22+AU23","v":29.700000000000003},29.083333333333336,28.466666666666669,{"$f":"AX22+AX23","v":27.85},27.233333333333334,null,null,null,null,null,null,null,null,null,null,"WPF 118 SET (Water)",{"$f":"BL34+(BL34-BM34)","v":151.44999999999999},{"$f":"BL25+BL24","v":148.26},145.07,141.88,138.69,{"$f":"BP25+BP24","v":135.5}]
[null,null,null,null,null,null,null,null,null,null,null,null,null,null,null,-2.5,5.8500000000000005,5.4,4.95,4.5,4.3,4.0999999999999996,null,-2.5,3.60174119649633,3.3067484662576687,3.0117557360190075,2.7167630057803467,2.5081141232110289,2.2994652406417115,null,null,null,null,null,null,null,null,null,null,null,null,null,null,"WPF 32 SET",33.466666666666669,{"$f":"AU23*2","v":32.6},31.733333333333334,30.866666666666667,{"$f":"AX23*2","v":30},29.133333333333333,null,null,null,null,null,null,null,null,null,null,"WPF 132 SET (Water)",{"$f":"BL35+(BL35-BM35)","v":166.5},{"$f":"2*BL25","v":162.84},159.18,155.51999999999998,151.85999999999999,{"$f":"2*BP25","v":148.19999999999999}]
[null,null,null,null,null,null,null,null,null,null,null,null,null,null,null,0,6.4250000000000007,5.95,5.4749999999999996,5,4.8,4.5999999999999996,null,0,3.7585767691137062,3.4191616766467066,3.0797465841797069,2.7403314917127073,2.5326022940797044,2.324873096446701,null,null,null,null,null,null,null,null,null,null,null,null,null,null,"3 x WPF 16 M",{"$f":"AU36+(AU36-AV36)","v":50.20000000000001},{"$f":"AU23*3","v":48.900000000000006},{"$f":"AU36-(AU36-AX36)/3","v":47.6},{"$f":"AX36+(AU36-AX36)/3","v":46.300000000000004},{"$f":"AX23*3","v":45},{"$f":"AX36-(AW36-AX36)","v":43.699999999999996},null,null,null,null,null,null,null,null,null,null,"WPF 7 MS (Water)",{"$f":"BL36+(BL36-BM36)","v":7.2},7,6.8,6.6,6.4,6.2]
[null,null,null,null,null,null,null,null,null,null,null,null,null,null,null,2.5,6.9250000000000007,6.45,5.9749999999999996,5.5,5.3,5.0999999999999996,null,2.5,3.9747663551401868,3.6,3.2252336448598133,2.8504672897196266,2.6560028756290439,2.4615384615384617,null,null,null,null,null,null,null,null,null,null,null,null,null,null,"4 x WPF 16 M",66.933333333333337,{"$f":"AU23*4","v":65.2},63.466666666666669,61.733333333333334,{"$f":"AX23*4","v":60},58.266666666666666,null,null,null,null,null,null,null,null,null,null,"WPF 10 MS (Water)",11.8475,11.72,{"$f":"AVERAGE(BL37,BN37)","v":11.592500000000001},11.465,{"$f":"AVERAGE(BN37,BP37)","v":11.3375},11.21]
[null,null,null,null,null,null,null,null,null,null,null,null,null,null,null,5,7.6499999999999995,7.1,6.55,6,5.8,5.6,null,5,4.1909909909909908,3.8,3.4090090090090088,3.0180180180180183,2.8478519842156209,2.6776859504132235,null,null,null,null,null,null,null,null,null,null,null,null,null,null,"5 x WPF 16 M",83.666666666666671,{"$f":"AU23*5","v":81.5},79.333333333333329,77.166666666666671,{"$f":"AX23*5","v":75},72.833333333333329,null,null,null,null,null,null,null,null,null,null,"WPF 20 Set (S) (Water)",{"$f":"BK37*2","v":23.695},{"$f":"BL37*2","v":23.44},23.185000000000002,22.93,22.675000000000001,22.42]
[null,null,null,null,null,null,null,null,null,null,null,null,null,null,null,7.5,8.3000000000000007,7.8,7.3,6.8,6.6,6.3999999999999995,null,7.5,4.2627634660421538,3.9180327868852456,3.5733021077283373,3.2285714285714286,3.0616541353383457,2.8947368421052633,null,null,null,null,null,null,null,null,null,null,null,null,null,null,"6 x WPF 16 M",100.40000000000002,{"$f":"AU23*6","v":97.800000000000011},95.2,92.600000000000009,{"$f":"AX23*6","v":90},87.399999999999991,null,null,null,null,null,null,null,null,null,null,0]
[null,null,null,null,null,null,null,null,null,null,null,null,null,null,null,10,8.6500000000000021,8.3000000000000007,7.95,7.6,7.3999999999999995,7.1999999999999993,null,10,4.2619047619047619,3.9523809523809526,3.6428571428571432,3.3333333333333335,3.1282051282051282,2.9230769230769229,null,null,null,null,null,null,null,null,null,null,null,null,null,null,"WPF 80 SET",{"$f":"AU40+(AU40-AV40)","v":93.773333333333341},{"$f":"AU28*2","v":91.4},{"$f":"AU40-(AU40-AX40)/3","v":89.026666666666671},{"$f":"AX40+(AU40-AX40)/3","v":86.653333333333336},{"$f":"AX28*2","v":84.28},{"$f":"AX40-(AW40-AX40)","v":81.906666666666666},null,null,null,null,null,null,null,null,null,null,0]
[null,null,null,null,null,null,null,null,null,null,null,null,null,null,null,12.5,9.2937500000000011,8.8625000000000007,8.4312500000000004,8,7.8,7.6,null,12.5,4.3477048477048488,4.0360360360360366,3.7243672243672243,3.4126984126984121,3.1585550887021476,2.9044117647058827,null,null,null,null,null,null,null,null,null,null,null,null,null,null,"WPF 92 SET",{"$f":"AU41+(AU41-AV41)","v":103.62833333333333},{"$f":"AU28+AU29","v":101.53},{"$f":"AU41-(AU41-AX41)/3","v":99.431666666666672},{"$f":"AX41+(AU41-AX41)/3","v":97.333333333333329},{"$f":"AX28+AX29","v":95.234999999999999},{"$f":"AX41-(AW41-AX41)","v":93.13666666666667},null,null,null,null,null,null,null,null,null,null,0]
[null,null,null,null,null,null,null,null,null,null,null,null,null,null,null,15,9.9625000000000021,9.4250000000000007,8.8874999999999993,8.35,8.1499999999999986,7.9499999999999993,null,15,4.3996655518394654,4.0869565217391308,3.7742474916387962,3.4615384615384612,3.177197802197802,2.8928571428571428,null,null,null,null,null,null,null,null,null,null,null,null,null,null,"WPF 104 SET",{"$f":"AU42+(AU42-AV42)","v":113.48333333333333},{"$f":"AU29*2","v":111.66},{"$f":"AU42-(AU42-AX42)/3","v":109.83666666666666},{"$f":"AX42+(AU42-AX42)/3","v":108.01333333333334},{"$f":"AX29*2","v":106.19},{"$f":"AX42-(AW42-AX42)","v":104.36666666666666},null,null,null,null,null,null,null,null,null,null,0]
[null,null,null,null,null,null,null,null,null,null,null,null,null,null,null,17.5,10.631250000000001,9.9875000000000007,9.34375,8.6999999999999993,8.5,8.2999999999999989,null,17.5,4.878914835164835,4.4910714285714288,4.1032280219780226,3.7153846153846155,3.390539023020775,3.0656934306569341,null,null,null,null,null,null,null,null,null,null,null,null,null,null,"WPF 118 SET",{"$f":"AU43+(AU43-AV43)","v":127},{"$f":"AU29+AU30","v":124.89},{"$f":"AU43-(AU43-AX43)/3","v":122.78},{"$f":"AX43+(AU43-AX43)/3","v":120.67},{"$f":"AX29+AX30","v":118.56},{"$f":"AX43-(AW43-AX43)","v":116.45},null,null,null,null,null,null,null,null,null,null,0]
[null,null,null,null,null,null,null,null,null,null,null,null,null,null,null,20,11.200000000000001,10.55,9.9,9.25,9.0500000000000007,8.85,null,20,5.2167832167832167,4.7727272727272725,4.3286713286713283,3.8846153846153841,3.5349002849002842,3.1851851851851847,null,null,null,null,null,null,null,null,null,null,null,null,null,null,"WPF 132 SET",{"$f":"AU44+(AU44-AV44)","v":140.51666666666668},{"$f":"AU30*2","v":138.12},{"$f":"AU44-(AU44-AX44)/3","v":135.72333333333333},{"$f":"AX44+(AU44-AX44)/3","v":133.32666666666668},{"$f":"AX30*2","v":130.93},{"$f":"AX44-(AW44-AX44)","v":128.53333333333333},null,null,null,null,null,null,null,null,null,null,0]
[null,null,null,null,null,null,null,null,null,null,null,null,null,null,null,22.5,11.762500000000001,11.112500000000001,10.4625,9.8125,9.6125000000000007,9.4124999999999996,null,22.5,null,null,null,null,null,null,null,null,null,null,null,null,null,null,null,null,null,null,null,null,"WPC 5 S GB",{"$f":"AU45+(AU45-AV45)","v":5.7905233333333337},5.69,{"$f":"AU45-(AU45-AX45)/3","v":5.5894766666666671},{"$f":"AX45+(AU45-AX45)/3","v":5.4889533333333338},5.3884300000000005,{"$f":"AX45-(AW45-AX45)","v":5.2879066666666672},null,null,null,null,null,null,null,null,null,null,0]
[null,null,null,null,null,null,null,null,null,null,null,null,null,null,null,25,12.325000000000001,11.675000000000001,11.025,10.375,10.175000000000001,9.9749999999999996,null,25,null,null,null,null,null,null,null,null,null,null,null,null,null,null,null,null,null,null,null,null,"WPC 7 S GB",7.6325000000000003,7.5,7.3674999999999997,7.2350000000000003,7.1025,6.97,null,null,null,null,null,null,null,null,null,null,0]
[null,null,null,null,null,null,null,null,null,null,null,null,null,null,null,27.5,12.887500000000001,12.237500000000001,11.5875,10.9375,10.737500000000001,10.5375,null,27.5,null,null,null,null,null,null,null,null,null,null,null,null,null,null,null,null,null,null,null,null,"WPC 10 S GB",10.44126,10.26,10.07874,9.8974799999999998,9.7162199999999999,9.5349599999999999,null,null,null,null,null,null,null,null,null,null,0]
[null,null,null,null,null,null,null,null,null,null,null,null,null,null,null,30,13.450000000000001,12.8,12.15,11.5,11.3,11.1,null,30,null,null,null,null,null,null,null,null,null,null,null,null,null,null,null,null,null,null,null,null,"WPF 5 S",5.7905233333333337,5.69,5.5894766666666671,5.4889533333333338,5.3884300000000005,5.2879066666666672,null,null,null,null,null,null,null,null,null,null,0]
[null,null,null,null,null,null,null,null,null,null,null,null,null,null,null,null,"WPL 13 E / cool",null,null,null,null,null,null,null,"WPL 13 E / cool",null,null,null,null,null,null,null,null,null,null,null,null,null,null,null,null,null,null,null,"WPF 7 S",7.6325000000000003,7.5,7.3674999999999997,7.2350000000000003,7.1025,6.97,null,null,null,null,null,null,null,null,null,null,0]
[null,null,null,null,null,null,null,null,null,null,null,null,null,null,null,"Außentemp","30 °C","35 °C","40 °C","45 °C","50 °C","55 °C",null,"Außentemp","30 °C","35 °C","40 °C","45 °C","50 °C","55 °C",null,null,null,null,null,null,null,null,null,null,null,null,null,null,"WPF 10 S",10.44126,10.26,10.07874,9.8974799999999998,9.7162199999999999,9.5349599999999999]
["WPC 04 / WPC 04 cool",null,2.9,0.95,0.6,2,5,1,false,5973,5200,"---",null,null,null,-20,4.4000000000000004,4.5,4.5999999999999996,4.6999999999999993,4.8,4.9000000000000004,null,-20,2.4903846153846154,2.25,2.0096153846153846,1.7692307692307689,1.6679487179487178,1.5666666666666667,null,null,null,null,null,null,null,null,null,null,null,null,null,null,"WPF 7 MS",7.5266666666666673,7.4,7.2733333333333334,7.1466666666666665,7.02,6.8933333333333326]
["WPC 05 / WPC 05 cool",null,2.9,0.95,0.6,2,6,1,false,5973,6500,"---",null,null,null,-17.5,4.9000000000000004,4.95,5,5.05,5.0999999999999996,5.1499999999999995,null,-17.5,2.7037374990875254,2.4466019417475731,2.1894663844076208,1.9323308270676689,1.8321784854292593,1.7320261437908495,null,null,null,null,null,null,null,null,null,null,null,null,null,null,"WPF 10 MS",10.206666666666665,10.029999999999999,9.8533333333333335,9.6766666666666659,9.5,9.3233333333333341]
["WPC 07 / WPC 07 cool",null,2.9,0.95,0.6,2,7,1,false,5973,9100,"---",null,null,null,-15,5.2333333333333334,5.3,5.3666666666666663,5.4333333333333327,5.5,5.5666666666666673,null,-15,2.838624338624339,2.5714285714285716,2.3042328042328042,2.0370370370370368,1.9378733572281956,1.8387096774193548,null,null,null,null,null,null,null,null,null,null,null,null,null,null,"WPF 14 Set (S)",{"$f":"AT51*2","v":15.053333333333335},{"$f":"AU51*2","v":14.8},14.546666666666667,14.293333333333333,14.04,13.786666666666665]
["WPC 10 / WPC 10 cool",null,2.9,0.95,0.6,2,8,1,false,5973,13000,"---",null,null,null,-12.5,5.6333333333333337,5.7,5.7666666666666666,5.833333333333333,5.9,5.9666666666666677,null,-12.5,3.0062942155638788,2.7387640449438204,2.4712338743237621,2.2037037037037037,2.0881401171579741,1.9725765306122447,null,null,null,null,null,null,null,null,null,null,null,null,null,null,"WPF 17 Set (S)",{"$f":"AT51+AT52","v":17.733333333333334},{"$f":"AU51+AU52","v":17.43},17.126666666666665,16.823333333333331,16.52,16.216666666666669]
["WPC 13 / WPC 13 cool",null,2.9,0.95,0.6,2,9,1,false,5973,16900,"---",null,null,null,-10,5.9933333333333341,6.07,6.1466666666666665,6.2233333333333327,6.3,6.3766666666666669,null,-10,3.113425925925926,2.8472222222222223,2.5810185185185186,2.3148148148148149,2.1874706985466479,2.0601265822784809,null,null,null,null,null,null,null,null,null,null,null,null,null,null,"WPF 20 Set (S)",{"$f":"AT52*2","v":20.41333333333333},{"$f":"AU52*2","v":20.059999999999999},19.706666666666667,19.353333333333332,19,18.646666666666668]
["WPF 04 / WPF 04 cool",null,2.9,0.95,0.6,2,10,1,false,7133,5200,"---",null,null,null,-7.5,6.4333333333333336,6.5,6.5666666666666664,6.6333333333333329,6.7,6.7666666666666675,null,-7.5,3.2592592592592586,2.9999999999999996,2.7407407407407405,2.4814814814814814,2.3344907407407405,2.1875,null,null,null,null,null,null,null,null,null,null,null,null,null,null,0]
["WPF 05 / WPF 05 cool",null,2.9,0.95,0.6,2,11,1,false,7133,6500,"MCS HP 0046/19",null,null,null,-5,6.9666666666666668,6.95,7.0333333333333332,7.0666666666666664,7.1,7.1333333333333329,null,-5,3.3394246832090611,3.0891089108910883,2.8387931385731155,2.5884773662551432,2.4149283382999851,2.2413793103448274,null,null,null,null,null,null,null,null,null,null,null,null,null,null,0]
["WPF 07 / WPF 07 cool",null,2.9,0.95,0.6,2,12,1,false,7133,9100,"---",null,null,null,-2.5,7.4,7.4,7.4,7.4,7.4,7.4,null,-2.5,3.4500336340614117,3.2163461538461537,2.9826586736308958,2.7489711934156373,2.5348951530218118,2.3208191126279862,null,null,null,null,null,null,null,null,null,null,null,null,null,null,0]
["WPF 10 / WPF 10 cool",null,2.9,0.95,0.6,2,13,1,false,7133,13000,"MCS HP 0046/21",null,null,null,0,7.75,7.75,7.75,7.75,7.75,7.75,null,0,3.5177711778864804,3.2971698113207535,3.0765684447550266,2.8559670781893001,2.6144242170607517,2.3728813559322033,null,null,null,null,null,null,null,null,null,null,null,null,null,null,0]
["WPF 13 / WPF 13 cool",null,2.9,0.95,0.6,2,14,1,false,7133,16900,"---",null,null,null,2.5,8.1333333333333329,8.1,8.0666666666666664,8.0333333333333332,8,7.9666666666666668,null,2.5,3.9036764705882354,3.6,3.2963235294117648,2.9926470588235294,2.726626559714795,2.4606060606060609,null,null,null,null,null,null,null,null,null,null,null,null,null,null,0]
["WPF 16 / WPF 16 cool",null,2.9,0.95,0.6,2,15,1,false,7133,20800,"---",null,null,null,5,8.65,8.5500000000000007,8.4500000000000011,8.3500000000000014,8.25,8.1499999999999986,null,5,4.3996376811594207,3.95,3.5003623188405797,3.0507246376811592,2.7920289855072462,2.5333333333333332,null,null,null,null,null,null,null,null,null,null,null,null,null,null,0]
["WPF 5 basic",null,2.9,0.95,0.6,2,16,1,false,5974,6500,"MCS HP 0046/33",null,null,null,7.5,9.1666666666666661,8.9499999999999993,8.8333333333333339,8.6666666666666679,8.5,8.3333333333333321,null,7.5,4.3685047720042416,3.9855072463768115,3.6025097207493815,3.2195121951219514,2.9551169223032439,2.6907216494845367,null,null,null,null,null,null,null,null,null,null,null,null,null,null,0]
["WPF 7 basic",null,2.9,0.95,0.6,2,17,1,false,5974,9100,"MCS HP 0046/34",null,null,null,10,9.5666666666666664,9.4,9.2333333333333343,9.0666666666666682,8.9,8.7333333333333325,null,10,4.464882943143814,4.1304347826086962,3.7959866220735785,3.4615384615384612,3.1662531017369728,2.870967741935484,null,null,null,null,null,null,null,null,null,null,null,null,null,null,0]
["WPF 10 basic",null,2.9,0.95,0.6,2,18,1,false,5974,13000,"MCS HP 0046/35",null,null,null,12.5,10.433333333333332,10.199999999999999,9.9666666666666668,9.7333333333333343,9.5,9.2666666666666657,null,12.5,4.5933398152649483,4.2975206611570247,4.0017015070491011,3.7058823529411775,3.3746803069053719,3.0434782608695659,null,null,null,null,null,null,null,null,null,null,null,null,null,null,0]
["WPF 13 basic",null,2.9,0.95,0.6,2,19,1,false,5974,16900,"MCS HP 0046/32",null,null,null,15,11.083333333333334,11.05,11.016666666666667,10.983333333333334,10.95,10.916666666666664,null,15,4.6714285714285717,4.4000000000000004,4.128571428571429,3.8571428571428577,3.504329004329005,3.1515151515151518,null,null,null,null,null,null,null,null,null,null,null,null,null,null,0]
["WPF 16 basic",null,2.9,0.95,0.6,2,20,1,false,5974,20800,"---",null,null,null,17.5,11.6,11.6,11.6,11.6,11.6,11.6,null,17.5,4.9820139860139854,4.6639999999999997,4.345986013986014,4.0279720279720284,3.6776764901764905,3.3273809523809526,null,null,null,null,null,null,null,null,null,null,null,null,null,null,0]
["WPF 10 M",null,2.9,0.95,0.6,2,21,1,true,5975,13000,"---",null,null,null,20,12.1,12.1,12.1,12.1,12.1,12.1,null,20,5.1910344827586208,4.84,4.4889655172413789,4.1379310344827589,3.7895537525354968,3.4411764705882351,null,null,null,null,null,null,null,null,null,null,null,null,null,null,0]
["WPF 13 M",null,2.9,0.95,0.6,2,22,1,true,5975,16900,"---",null,null,null,22.5,12.6,12.6,12.6,12.6,12.6,12.6,null,22.5,null,null,null,null,null,null,null,null,null,null,null,null,null,null,null,null,null,null,null,null,0]
["WPF 16 M",null,2.9,0.95,0.6,2,23,1,true,5975,20800,"---",null,null,null,25,13.066666666666666,13.1,13.133333333333333,13.166666666666666,13.2,13.233333333333333,null,25,null,null,null,null,null,null,null,null,null,null,null,null,null,null,null,null,null,null,null,null,{"$f":"A115","v":0}]
["WPF 20",null,2.9,0.95,0.6,2,24,1,true,6557,26000,"MCS HP 0046/23",null,null,null,27.5,13.4,13.5,13.6,13.7,13.8,13.900000000000002,null,27.5,null,null,null,null,null,null,null,null,null,null,null,null,null,null,null,null,null,null,null,null,0]
["WPF 27",null,2.9,0.95,0.6,2,25,1,true,6557,35100,"MCS HP 0046/24",null,null,null,30,13.666666666666668,13.8,13.933333333333334,14.066666666666666,14.2,14.333333333333332,null,30,null,null,null,null,null,null,null,null,null,null,null,null,null,null,null,null,null,null,null,null,0]
["WPF 27 HT",null,2.9,0.98,0.6,2,26,1,false,7700,35100,"MCS HP 0046/16",null,null,null,null,"WPL 18 E / cool",null,null,null,null,null,null,null,"WPL 18 E / cool",null,null,null,null,null,null,null,null,null,null,null,null,null,null,null,null,null,null,null,0]
["WPF 35",null,2.9,0.95,0.6,2,27,1,true,6557,45500,"MCS HP 0046/28",null,null,null,"Außentemp","30 °C","35 °C","40 °C","45 °C","50 °C","55 °C",null,"Außentemp","30 °C","35 °C","40 °C","45 °C","50 °C","55 °C"]
["WPF 40",null,2.9,0.95,0.6,2,28,1,true,6557,52000,"MCS HP 0046/25",null,null,null,-20,6.7666666666666675,6.9,7.0333333333333332,7.1666666666666661,7.3,7.4333333333333336,null,-20,2.5892857142857149,2.3928571428571432,2.1964285714285716,2,1.8636363636363635,1.7272727272727271]
["WPF 52",null,2.9,0.95,0.6,2,29,1,true,6557,67600,"---",null,null,null,-17.5,7.1166666666666663,7.3,7.4833333333333334,7.666666666666667,7.85,8.0333333333333314,null,-17.5,2.7612555983342499,2.5524475524475525,2.3436395065608551,2.1348314606741572,1.9924157303370786,1.85]
["WPF 66",null,2.9,0.95,0.6,2,30,1,true,6557,85800,"---",null,null,null,-15,7.6,7.8,8,8.1999999999999993,8.4,8.6000000000000014,null,-15,2.8716475095785441,2.6551724137931036,2.4386973180076632,2.2222222222222223,2.077020202020202,1.9318181818181817]
["WPF 20 SET",null,2.9,0.95,0.6,2,31,1,true,5976,26000,"---",null,null,null,-12.5,8.0833333333333339,8.3000000000000007,8.5166666666666675,8.7333333333333343,8.9499999999999993,9.1666666666666643,null,-12.5,3.1004108925878962,2.8658038147138964,2.6311967368398967,2.3965896589658966,2.2230826812024658,2.0495757034390354]
["WPF 23 SET",null,2.9,0.95,0.6,2,32,1,true,5976,29900,"---",null,null,null,-10,8.7000000000000011,8.9,9.1,9.2999999999999989,9.5,9.7000000000000011,null,-10,3.2496030866932513,3.0033783783783785,2.7571536700635058,2.5109289617486334,2.3183783881590849,2.1258278145695364]
["WPF 26 SET",null,2.9,0.95,0.6,2,33,1,true,5976,33800,"---",null,null,null,-7.5,9.2499999999999982,9.4499999999999993,9.65,9.8500000000000014,10.050000000000001,10.25,null,-7.5,3.4621621621621621,3.1999999999999997,2.9378378378378374,2.6756756756756754,2.4574030552291424,2.2391304347826089]
["WPF 29 SET",null,2.9,0.95,0.6,2,34,1,true,5976,37700,"---",null,null,null,-5,9.8000000000000007,10,10.199999999999999,10.399999999999999,10.6,10.8,null,-5,3.5969969969969982,3.3259259259259264,3.0548548548548546,2.7837837837837829,2.5476889933411675,2.3115942028985517]
["WPF 32 SET",null,2.9,0.95,0.6,2,35,1,true,5976,41600,"---",null,null,null,-2.5,10.3,10.5,10.7,10.899999999999999,11.1,11.3,null,-2.5,3.7992492492492493,3.5148148148148146,3.2303803803803799,2.9459459459459456,2.6831179005092047,2.4202898550724639]
["3 x WPF 16 M",null,2.9,0.95,0.6,2,36,1,true,5975,62400,"---",null,null,null,0,10.816666666666666,11,11.183333333333334,11.366666666666667,11.55,11.733333333333334,null,0,3.9340840840840854,3.6407407407407413,3.3473973973973972,3.0540540540540531,2.7734038386212303,2.4927536231884071]
["4 x WPF 16 M",null,2.9,0.95,0.6,2,37,1,true,5975,83200,"---",null,null,null,2.5,11.299999999999999,11.45,11.6,11.75,11.9,12.05,null,2.5,4.2102493857043317,3.8742281879194631,3.5382069901345945,3.2021857923497263,2.897553073166014,2.5929203539823011]
["5 x WPF 16 M",null,2.9,0.95,0.6,2,38,1,true,5975,104000,"---",null,null,null,5,11.999999999999998,11.95,11.9,11.850000000000001,11.8,11.75,null,5,4.5825418994413409,4.1500000000000004,3.7174581005586598,3.2849162011173192,2.9681461739531549,2.6513761467889907]
["6 x WPF 16 M",null,2.9,0.95,0.6,2,39,1,true,5975,124800,"---",null,null,null,7.5,12.933333333333334,12.6,12.266666666666666,11.933333333333332,11.6,11.266666666666667,null,7.5,4.801149425287357,4.3563218390804606,3.9114942528735641,3.4666666666666672,3.1261904761904766,2.785714285714286]
["WPF 80 SET",null,2.9,0.95,0.6,2,40,1,true,6557,104000,"---",null,null,null,10,13.6,13.4,13.200000000000001,13.000000000000002,12.8,12.6,null,10,5.050738916256158,4.5862068965517242,4.1216748768472904,3.6571428571428575,3.2928571428571431,2.9285714285714288]
["WPF 92 SET",null,2.9,0.95,0.6,2,41,1,true,6557,119600,"---",null,null,null,12.5,14.533333333333335,14.3,14.066666666666666,13.833333333333332,13.6,13.366666666666667,null,12.5,5.3765563316125107,4.8783783783783781,4.3802004251442455,3.882022471910112,3.4973492641240704,3.1126760563380289]
["WPF 104 SET",null,2.9,0.95,0.6,2,42,1,true,6557,135200,"---",null,null,null,15,15.533333333333333,15.2,14.866666666666665,14.533333333333331,14.2,13.866666666666667,null,15,5.5861111111111104,5.0666666666666664,4.5472222222222225,4.0277777777777777,3.6301679586563309,3.2325581395348841]
["WPF 118 SET",null,2.9,0.95,0.6,2,43,1,true,6557,153400,"---",null,null,null,17.5,16.133333333333333,15.8,15.466666666666667,15.133333333333333,14.8,14.466666666666669,null,17.5,5.7727777777777778,5.246666666666667,4.7205555555555563,4.1944444444444446,3.7832687338501296,3.3720930232558142]
["WPF 132 SET",null,2.9,0.95,0.6,2,44,1,true,6557,171600,"---",null,null,null,20,16.350000000000001,16.100000000000001,15.850000000000001,15.600000000000001,15.35,15.099999999999998,null,20,5.897222222222223,5.3666666666666671,4.8361111111111112,4.3055555555555554,3.8853359173126618,3.4651162790697678]
["WPC 5 S GB",null,2.9,0.95,0.6,2,45,1,false,"-",6500,"MCS HP 0046/01",null,null,null,22.5,16.633333333333333,16.5,16.366666666666667,16.233333333333334,16.100000000000001,15.966666666666669,null,22.5]
["WPC 7 S GB",null,2.9,0.95,0.6,2,46,1,false,"-",9100,"MCS HP 0046/02",null,null,null,25,16.866666666666664,16.899999999999999,16.933333333333334,16.966666666666669,17,17.033333333333331,null,25]
["WPC 10 S GB",null,2.9,0.95,0.6,2,47,1,false,"-",13000,"MCS HP 0046/03",null,null,null,27.5,17.100000000000001,17.3,17.5,17.7,17.899999999999999,18.099999999999998,null,27.5]
["WPF 5 S",null,2.9,0.95,0.6,2,48,1,false,"-",6500,"MCS HP 0046/06",null,null,null,30,17.466666666666669,17.8,18.133333333333333,18.466666666666665,18.8,19.133333333333336,null,30]
["WPF 7 S",null,2.9,0.95,0.6,2,49,1,false,"-",9100,"MCS HP 0046/07",null,null,null,null,"WPL 23 E / cool",null,null,null,null,null,null,null,"WPL 23 E / cool"]
["WPF 10 S",null,2.9,0.95,0.6,2,50,1,false,"-",13000,"MCS HP 0046/08",null,null,null,"Außentemp","30 °C","35 °C","40 °C","45 °C","50 °C","55 °C",null,"Außentemp","30 °C","35 °C","40 °C","45 °C","50 °C","55 °C"]
["WPF 7 MS",null,2.9,0.95,0.6,2,51,1,true,"-",9100,"MCS HP 0046/09",null,null,null,-20,8.4333333333333318,8.6999999999999993,8.9666666666666668,9.2333333333333343,9.5,9.7666666666666657,null,-20,2.4554871220604699,2.2894736842105261,2.1234602463605823,1.957446808510638,1.8149303008070432,1.6724137931034482]
["WPF 10 MS",null,2.9,0.95,0.6,2,52,1,true,"-",13000,"MCS HP 0046/10",null,null,null,-17.5,9.2333333333333325,9.5,9.7666666666666675,10.033333333333335,10.3,10.566666666666666,null,-17.5,2.7036726607741546,2.5181347150259072,2.3325967692776599,2.1470588235294121,1.9789348171701115,1.810810810810811]
["WPF 14 Set (S)",null,2.9,0.95,0.6,2,53,1,true,"-",18200,"MCS HP 0046/13",null,null,null,-15,10.000000000000002,10.3,10.6,10.899999999999999,11.2,11.5,null,-15,2.8645833333333339,2.666666666666667,2.46875,2.2708333333333335,2.0854166666666667,1.9000000000000001]
["WPF 17 Set (S)",null,2.9,0.95,0.6,2,54,1,true,"-",22100,"MCS HP 0046/14",null,null,null,-12.5,10.899999999999999,11.2,11.5,11.8,12.1,12.399999999999999,null,-12.5,3.043280751800931,2.8345789735924263,2.6258771953839215,2.4171754171754172,2.2233952110556259,2.0296150049358346]
["WPF 20 Set (S)",null,2.9,0.95,0.6,2,55,1,true,"-",26000,"MCS HP 0046/15",null,null,null,-10,11.833333333333332,12.1,12.366666666666667,12.633333333333335,12.9,13.166666666666666,null,-10,3.1564694180537112,2.9413202933985327,2.7261711687433543,2.5110220440881763,2.3126072700049365,2.1141924959216967]
[null,null,null,null,null,null,null,null,null,null,null,null,null,null,null,-7.5,12.666666666666668,12.9,13.133333333333333,13.366666666666665,13.6,13.833333333333334,null,-7.5,3.3193277310924363,3.0952380952380949,2.8711484593837535,2.6470588235294121,2.4444971537001896,2.2419354838709675,null,null,null,null,null,null,null,null,null,null,null,null,null,null,"Sole-Wasser-WP - COP bei Bo",null,null,null,null,null,null,null,null,null,null,null,null,null,null,null,null,"Wasser-Wasser-WP - COP bei W10"]
[null,null,null,null,null,null,null,null,null,null,null,null,null,null,null,-5,13.4,13.6,13.799999999999999,13.999999999999998,14.2,14.4,null,-5,3.4332197087077772,3.1904761904761898,2.9477326722446024,2.7049891540130155,2.4962445770065074,2.2874999999999996,null,null,null,null,null,null,null,null,null,null,null,null,null,null,"WP-Typ",{"$f":"AT3","v":"30 °C"},"35 °C","40 °C","45 °C","50 °C","55 °C",null,null,null,null,null,null,null,null,null,null,"WP-Typ",{"$f":"BK3","v":"30 °C"},"35 °C","40 °C","45 °C","50 °C","55 °C"]
[null,null,null,null,null,null,null,null,null,null,null,null,null,null,null,-2.5,13.9,14.1,14.299999999999999,14.499999999999998,14.7,14.9,null,-2.5,3.6045258620689662,3.3333333333333339,3.0621408045977017,2.7909482758620694,2.5730940313590986,2.3552397868561279]
[null,null,null,null,null,null,null,null,null,null,null,null,null,null,null,0,14.4,14.55,14.700000000000001,14.850000000000001,15,15.149999999999999,null,0,3.7190374003678728,3.4285714285714288,3.1381054567749849,2.8476394849785409,2.6238197424892702,2.4,null,null,null,null,null,null,null,null,null,null,null,null,null,null,{"$f":"AS5","v":"WPC 04 / WPC 04 cool"},{"$f":"AU105+(AU105-AY105)/4","v":4.9624999999999995},4.5199999999999996,{"$f":"AVERAGE(AU105,AW105)","v":3.9550000000000001},3.39,{"$f":"AVERAGE(AW105,AY105)","v":3.0700000000000003},2.75,null,null,null,null,null,null,null,null,null,null,{"$f":"BJ5","v":"WPW 06 Set"},{"$f":"BL105+(BL105-BM105)","v":7.1892857142857158},5.9,{"$f":"AVERAGE(BL105,BN105)","v":4.6107142857142849},3.3214285714285698,{"$f":"AVERAGE(BN105,BP105)","v":3.3607142857142849},3.4]
[null,null,null,null,null,null,null,null,null,null,null,null,null,null,null,2.5,14.766666666666666,14.85,14.933333333333334,15.016666666666667,15.1,15.183333333333332,null,2.5,4.0752918287937749,3.7,3.3247081712062254,2.9494163424124511,2.7198694615288064,2.4903225806451612,null,null,null,null,null,null,null,null,null,null,null,null,null,null,"WPC 05 / WPC 05 cool",{"$f":"AU106+(AU106-AY106)/4","v":5.2874999999999996},4.79,4.1950000000000003,3.6,3.2,2.8,null,null,null,null,null,null,null,null,null,null,"WPW 07 Set",{"$f":"BL106+(BL106-BM106)","v":6.6892857142857149},5.9,{"$f":"AVERAGE(BL106,BN106)","v":5.1107142857142858},4.3214285714285712,{"$f":"AVERAGE(BN106,BP106)","v":3.8607142857142858},3.4]
[null,null,null,null,null,null,null,null,null,null,null,null,null,null,null,5,14.933333333333334,15,15.066666666666666,15.133333333333333,15.2,15.266666666666666,null,5,4.3280876494023905,3.9,3.4719123505976093,3.0438247011952191,2.815245683930943,2.5866666666666664,null,null,null,null,null,null,null,null,null,null,null,null,null,null,"WPC 07 / WPC 07 cool",5.3249999999999993,4.8499999999999996,4.2750000000000004,3.7,3.3250000000000002,2.95,null,null,null,null,null,null,null,null,null,null,"WPW 10 Set",{"$f":"BL107+(BL107-BM107)","v":7.1862559241706165},6.2,{"$f":"AVERAGE(BL107,BN107)","v":5.2137440758293838},4.2274881516587683,3.913744075829384,3.6]
[null,null,null,null,null,null,null,null,null,null,null,null,null,null,null,7.5,15.5,15.5,15.5,15.5,15.5,15.5,null,7.5,4.5105442176870749,4.0999999999999996,3.6894557823129248,3.27891156462585,3.0245132535772927,2.7701149425287355,null,null,null,null,null,null,null,null,null,null,null,null,null,null,"WPC 10 / WPC 10 cool",5.5724999999999998,5.0199999999999996,4.41,3.8,3.3049999999999997,2.81,null,null,null,null,null,null,null,null,null,null,"WPW 13 Set",7.1250883392226152,6.2,5.2749116607773852,4.3498233215547701,3.8749116607773848,3.4]
[null,null,null,null,null,null,null,null,null,null,null,null,null,null,null,10,18.2,17.899999999999999,17.599999999999998,17.299999999999997,17,16.700000000000003,null,10,4.5816326530612246,4.2380952380952381,3.8945578231292517,3.5510204081632648,3.2410274454609427,2.931034482758621,null,null,null,null,null,null,null,null,null,null,null,null,null,null,"WPC 13 / WPC 13 cool",5.2750000000000004,4.83,4.29,3.75,3.4,3.05,null,null,null,null,null,null,null,null,null,null,"WPW 18 Set",6.8736413043478262,6,5.1263586956521738,4.2527173913043477,3.826358695652174,3.4]
[null,null,null,null,null,null,null,null,null,null,null,null,null,null,null,12.5,18.433333333333334,18.2,17.966666666666665,17.733333333333331,17.5,17.266666666666669,null,12.5,4.6314179900117844,4.262910798122066,3.8944036062323475,3.525896414342629,3.2144532238937229,2.9030100334448168,null,null,null,null,null,null,null,null,null,null,null,null,null,null,"WPF 04 / WPF 04 cool",{"$f":"AU110+(AU110-AY110)/4","v":4.9624999999999995},4.5199999999999996,3.9550000000000001,3.39,3.0700000000000003,2.75,null,null,null,null,null,null,null,null,null,null,"WPW 22 Set",6.8170000000000002,5.9,4.9830000000000005,4.0659999999999998,3.7829999999999999,3.5]
[null,null,null,null,null,null,null,null,null,null,null,null,null,null,null,15,18.566666666666666,18.399999999999999,18.233333333333331,18.066666666666663,17.899999999999999,17.733333333333334,null,15,4.6637026903784768,4.2790697674418601,3.8944368445052437,3.5098039215686274,3.1975249116039861,2.8852459016393448,null,null,null,null,null,null,null,null,null,null,null,null,null,null,"WPF 05 / WPF 05 cool",{"$f":"AU111+(AU111-AY111)/4","v":5.2874999999999996},4.79,4.1950000000000003,3.6,3.2,2.8,null,null,null,null,null,null,null,null,null,null,"WPW 7 basic Set",6.2926470588235288,5.6029411764705879,4.9132352941176469,4.223529411764706,3.6858387799564269,3.1481481481481479]
[null,null,null,null,null,null,null,null,null,null,null,null,null,null,null,17.5,19.7,19.399999999999999,19.099999999999998,18.799999999999997,18.5,18.200000000000003,null,17.5,4.9980620155038764,4.558139534883721,4.1182170542635657,3.6782945736434103,3.3262855504873001,2.97427652733119,null,null,null,null,null,null,null,null,null,null,null,null,null,null,"WPF 07 / WPF 07 cool",{"$f":"AU112+(AU112-AY112)/4","v":5.3249999999999993},4.8499999999999996,4.2750000000000004,3.7,3.3250000000000002,2.95,null,null,null,null,null,null,null,null,null,null,"WPW 10 basic Set",6.5711746784021674,5.8452380952380958,5.1193015120740242,4.3933649289099517,3.8392680157857746,3.2851711026615975]
[null,null,null,null,null,null,null,null,null,null,null,null,null,null,null,20,20.650000000000002,20.3,19.95,19.599999999999998,19.25,18.900000000000002,null,20,5.222048300536672,4.7441860465116275,4.2663237924865829,3.7884615384615383,3.410103785103785,3.0317460317460321,null,null,null,null,null,null,null,null,null,null,null,null,null,null,"WPF 10 / WPF 10 cool",5.5724999999999998,5.0199999999999996,4.41,3.8,3.3049999999999997,2.81,null,null,null,null,null,null,null,null,null,null,"WPW 13 basic Set",6.5188888888888901,5.7592592592592604,4.9996296296296308,4.24,3.667887323943662,3.0957746478873238]
[null,null,null,null,null,null,null,null,null,null,null,null,null,null,null,22.5,21.400000000000002,21.1,20.8,20.5,20.2,19.899999999999999,null,22.5,null,null,null,null,null,null,null,null,null,null,null,null,null,null,null,null,null,null,null,null,"WPF 13 / WPF 13 cool",5.2750000000000004,4.83,4.29,3.75,3.4,3.05,null,null,null,null,null,null,null,null,null,null,"WPW 18 basic Set",6.684636912652822,5.8673835125448042,5.0501301124367863,4.2328767123287676,3.7793847847358122,3.3258928571428568]
[null,null,null,null,null,null,null,null,null,null,null,null,null,null,null,25,22.066666666666666,21.9,21.733333333333331,21.566666666666663,21.4,21.233333333333334,null,25,null,null,null,null,null,null,null,null,null,null,null,null,null,null,null,null,null,null,null,null,"WPF 16 / WPF 16 cool",{"$f":"AU115+(AU115-AY115)/4","v":4.95},4.54,4.0600000000000005,3.58,{"$f":"AVERAGE(AW115,AY115)","v":3.24},2.9,null,null,null,null,null,null,null,null,null,null,"WPW 22 basic Set",5.7221752606367993,5.1428571428571432,4.5635390250774872,3.9842209072978307,3.4813577654768721,2.9784946236559136]
[null,null,null,null,null,null,null,null,null,null,null,null,null,null,null,27.5,22.633333333333336,22.6,22.566666666666666,22.533333333333331,22.5,22.466666666666669,null,27.5,null,null,null,null,null,null,null,null,null,null,null,null,null,null,null,null,null,null,null,null,"WPF 5 basic",{"$f":"AU116+(AU116-AV116)","v":4.8690150478796168},4.3235294117647056,{"$f":"AVERAGE(AU116,AW116)","v":3.7780437756497944},3.2325581395348837,2.8431309216192933,2.4537037037037033,null,null,null,null,null,null,null,null,null,null,"WPF 10 M (Water)",5.6048223801065715,5.27,4.9351776198934276,4.6003552397868557,3.8651776198934278,3.13]
[null,null,null,null,null,null,null,null,null,null,null,null,null,null,null,30,23.366666666666664,23.4,23.433333333333334,23.466666666666669,23.5,23.533333333333331,null,30,null,null,null,null,null,null,null,null,null,null,null,null,null,null,null,null,null,null,null,null,"WPF 7 basic",{"$f":"AU117+(AU117-AV117)","v":5.0439933719966863},4.4941176470588236,{"$f":"AVERAGE(AU117,AW117)","v":3.9442419221209613},3.394366197183099,2.9631007015878041,2.5318352059925093,null,null,null,null,null,null,null,null,null,null,"WPF 13 M (Water)",5.730714285714285,5.38,5.0292857142857148,4.6785714285714288,3.9392857142857145,3.2]
[null,null,null,null,null,null,null,null,null,null,null,null,null,null,null,null,"WPL 13 A basic",null,null,null,null,null,null,null,"WPL 13 A basic",null,null,null,null,null,null,null,null,null,null,null,null,null,null,null,null,null,null,null,"WPF 10 basic",{"$f":"AU118+(AU118-AV118)","v":4.9059704303606733},4.3693693693693687,{"$f":"AVERAGE(AU118,AW118)","v":3.8327683083780641},3.2961672473867596,2.8156585555734885,2.3351498637602179,null,null,null,null,null,null,null,null,null,null,"WPF 16 M (Water)",6.19422077922078,5.61,5.0257792207792207,4.4415584415584419,3.9207792207792211,3.4]
[null,null,null,null,null,null,null,null,null,null,null,null,null,null,null,"Außentemp","30 °C","35 °C","40 °C","45 °C","50 °C","55 °C",null,"Außentemp","30 °C","35 °C","40 °C","45 °C","50 °C","55 °C",null,null,null,null,null,null,null,null,null,null,null,null,null,null,"WPF 13 basic",{"$f":"AU119+(AU119-AV119)","v":4.9218339967565967},4.4175438596491228,{"$f":"AVERAGE(AU119,AW119)","v":3.9132537225416484},3.408963585434174,2.9876676334250516,2.5663716814159292,null,null,null,null,null,null,null,null,null,null,"WPF 20 (Water)",{"$f":"BL119+(BL119-BM119)","v":5.8892207792207802},5.74,{"$f":"AVERAGE(BL119,BN119)","v":5.5907792207792202},5.4415584415584402,{"$f":"AVERAGE(BN119,BP119)","v":4.4357792207792199},3.43]
[null,null,null,null,null,null,null,null,null,null,null,null,null,null,null,-20,{"$f":"R120+(R120-S120)","v":3.49},3.46,{"$f":"AVERAGE(R120,T120)","v":3.4299999999999997},3.3999999999999995,{"$f":"AVERAGE(T120,V120)","v":3.3999999999999995},3.3999999999999995,null,-20,2.2000000000000002,2,1.8,1.6,1.55,1.5,null,null,null,null,null,null,null,null,null,null,null,null,null,null,"WPF 16 basic",{"$f":"AU120+(AU120-AV120)","v":4.6352095808383238},4.16,{"$f":"AVERAGE(AU120,AW120)","v":3.6847904191616765},3.2095808383233533,2.843300720271027,2.4770206022187007,null,null,null,null,null,null,null,null,null,null,"WPF 27 (Water)",{"$f":"BL120+(BL120-BM120)","v":6.5060515873015872},5.8,{"$f":"AVERAGE(BL120,BN120)","v":5.0939484126984125},4.3878968253968251,{"$f":"AVERAGE(BN120,BP120)","v":3.8739484126984127},3.36]
[null,null,null,null,null,null,null,null,null,null,null,null,null,null,null,-17.5,{"$f":"R121+(R121-S121)","v":4.1500000000000004},4.2,{"$f":"AVERAGE(R121,T121)","v":4.25},4.3,4.3,4.3,null,-17.5,2.4108021653543306,2.21875,2.0266978346456694,1.8346456692913387,1.7173228346456693,1.6,null,null,null,null,null,null,null,null,null,null,null,null,null,null,"WPF 10 M",{"$f":"AU121+(AU121-AX121)/3","v":4.3666666666666663},3.9,{"$f":"AU121-(AU121-AX121)/3","v":3.4333333333333331},{"$f":"AV121-(AU121-AV121)","v":2.9666666666666663},2.5,{"$f":"AX121-(AU121-AX121)/3","v":2.0333333333333332},null,null,null,null,null,null,null,null,null,null,"WPF 27 HT (Water)",{"$f":"BL121+(BL121-BM121)","v":5.1418910540301148},4.97,{"$f":"AVERAGE(BL121,BN121)","v":4.7981089459698847},4.6262178919397696,{"$f":"AVERAGE(BN121,BP121)","v":4.0231089459698843},3.42]
[null,null,null,null,null,null,null,null,null,null,null,null,null,null,null,-15,4.8100000000000005,4.9400000000000004,5.07,5.2,5.2,5.2,null,-15,2.6439555196711684,2.4471153846153846,2.2502752495596008,2.0534351145038165,1.8767175572519084,1.7,null,null,null,null,null,null,null,null,null,null,null,null,null,null,"WPF 13 M",{"$f":"AU122+(AU122-AX122)/3","v":4.8666666666666671},4.4000000000000004,{"$f":"AU122-(AU122-AX122)/3","v":3.9333333333333336},{"$f":"AV122-(AU122-AV122)","v":3.4666666666666668},3,{"$f":"AX122-(AU122-AX122)/3","v":2.5333333333333332},null,null,null,null,null,null,null,null,null,null,"WPF 35 (Water)",{"$f":"BL122+(BL122-BM122)","v":5.8329166666666676},5.44,{"$f":"AVERAGE(BL122,BN122)","v":5.0470833333333331},4.6541666666666659,{"$f":"AVERAGE(BN122,BP122)","v":3.9370833333333328},3.22]
[null,null,null,null,null,null,null,null,null,null,null,null,null,null,null,-12.5,5.1550000000000002,5.32,5.4850000000000003,5.65,5.7,5.75,null,-12.5,2.7675335282405928,2.571159283694628,2.3747850391486631,2.1784107946026983,2.0392053973013491,1.9,null,null,null,null,null,null,null,null,null,null,null,null,null,null,"WPF 16 M",5.2,4.7,4.2,3.7,3.2,2.7,null,null,null,null,null,null,null,null,null,null,"WPF 40 (Water)",{"$f":"BL123+(BL123-BM123)","v":6.2363516545148627},5.67,{"$f":"AVERAGE(BL123,BN123)","v":5.1036483454851371},4.5372966909702752,{"$f":"AVERAGE(BN123,BP123)","v":3.9636483454851374},3.39]
[null,null,null,null,null,null,null,null,null,null,null,null,null,null,null,-10,5.5,5.7,5.9,6.1,6.1999999999999993,6.3,null,-10,2.8471145564168827,2.6511627906976747,2.4552110249784667,2.2592592592592591,2.1462962962962964,2.0333333333333332,null,null,null,null,null,null,null,null,null,null,null,null,null,null,"WPF 20",{"$f":"AU124+(AU124-AV124)","v":5.2529904212457081},4.7356828193832596,{"$f":"AVERAGE(AU124,AW124)","v":4.2183752175208111},3.7010676156583631,{"$f":"AVERAGE(AW124,AY124)","v":3.2862480935434673},2.8714285714285714,null,null,null,null,null,null,null,null,null,null,"WPF 52 (Water)",{"$f":"BL124+(BL124-BO124)/3","v":6.253333333333333},5.64,{"$f":"BL124-(BL124-BO124)/3","v":5.0266666666666664},{"$f":"BM124-(BL124-BO124)/3","v":4.4133333333333331},3.8,3.42]
[null,null,null,null,null,null,null,null,null,null,null,null,null,null,null,-7.5,6.2099999999999991,6.39,6.57,6.75,6.4700000000000006,6.19,null,-7.5,3.1494396014943962,2.9178082191780823,2.6861768368617684,2.4545454545454546,2.2224495761473255,1.9903536977491962,null,null,null,null,null,null,null,null,null,null,null,null,null,null,"WPF 27",5.3809607843137259,4.8513071895424842,4.3216535947712424,3.7920000000000003,{"$f":"AVERAGE(AW125,AY125)","v":3.2904618599791018},2.7889237199582029,null,null,null,null,null,null,null,null,null,null,"WPF 66 (Water)",{"$f":"BL125+(BL125-BO125)/3","v":5.92},5.39,{"$f":"BL125-(BL125-BO125)/3","v":4.8599999999999994},{"$f":"BM125-(BL125-BO125)/3","v":4.3299999999999992},3.8,3.46]
[null,null,null,null,null,null,null,null,null,null,null,null,null,null,null,-5,6.7575000000000003,6.9175000000000004,7.0775000000000006,7.2374999999999998,7.0274999999999999,6.8175000000000008,null,-5,3.3323966146588493,3.0818771842236639,2.8313577537884784,2.5808383233532934,2.3607399230442887,2.140641522735284,null,null,null,null,null,null,null,null,null,null,null,null,null,null,"WPF 27 HT",4.936317780580076,4.3934426229508201,3.8505674653215642,3.3076923076923079,3.1538461538461542,3.0000000000000004,null,null,null,null,null,null,null,null,null,null,"WPF 20 SET (Water)",5.626666666666666,5.27,4.9133333333333331,4.5566666666666666,4.2,3.13]
[null,null,null,null,null,null,null,null,null,null,null,null,null,null,null,-2.5,7.3050000000000006,7.4450000000000003,7.585,7.7249999999999996,7.585,7.4450000000000003,null,-2.5,3.5952189749619992,3.3183812774256465,3.0415435798892938,2.7647058823529411,2.5616894995731534,2.3586731167933657,null,null,null,null,null,null,null,null,null,null,null,null,null,null,"WPF 35",5.4332256641431167,4.7788944723618085,4.1245632805805004,3.4702320887991926,3.144958889726313,2.8196856906534329,null,null,null,null,null,null,null,null,null,null,"WPF 23 SET (Water)",5.84,5.33,4.82,4.3100000000000005,3.8,3.16]
[null,null,null,null,null,null,null,null,null,null,null,null,null,null,null,0,7.8525000000000009,7.9725000000000001,8.0924999999999994,8.2124999999999986,8.1424999999999983,8.0724999999999998,null,0,3.7631323337315368,3.4699951992318772,3.1768580647322175,2.8837209302325579,2.6915194009962242,2.499317871759891,null,null,null,null,null,null,null,null,null,null,null,null,null,null,"WPF 40",5.2697644768183114,4.7624309392265189,4.2550974016347265,3.7477638640429336,3.3346377459749554,2.9215116279069768,null,null,null,null,null,null,null,null,null,null,"WPF 26 SET (Water)",5.9066666666666663,5.38,4.8533333333333335,4.3266666666666671,3.8,3.2]
[null,null,null,null,null,null,null,null,null,null,null,null,null,null,null,2.5,8.4,8.5,8.6,8.6999999999999993,8.6999999999999993,8.6999999999999993,null,2.5,4.1159059471996517,3.7776838546069307,3.4394617620142092,3.1012396694214877,2.8887666457817427,2.6762936221419977,null,null,null,null,null,null,null,null,null,null,null,null,null,null,"WPF 52",5.3127560567129821,4.8087855297157622,4.3048150027185423,3.8008444757213224,3.3955511776887413,2.9902578796561605,null,null,null,null,null,null,null,null,null,null,"WPF 29 SET (Water)",6.0666666666666664,5.5,4.9333333333333336,4.3666666666666671,3.8,3.3]
[null,null,null,null,null,null,null,null,null,null,null,null,null,null,null,5,9.6599999999999984,9.5949999999999989,9.5299999999999994,9.4649999999999999,9.3275000000000006,9.19,null,5,4.4874234137422198,4.0925771476230182,3.6977308815038166,3.3028846153846154,3.0286665069805641,2.7544483985765127,null,null,null,null,null,null,null,null,null,null,null,null,null,null,"WPF 66",5.2266238444087172,4.7153900210822197,4.2041561977557222,3.6929223744292239,3.2879234731933256,2.8829245719574272,null,null,null,null,null,null,null,null,null,null,"WPF 32 SET (Water)",6.1466666666666674,5.61,5.0733333333333333,4.5366666666666662,4,3.4]
[null,null,null,null,null,null,null,null,null,null,null,null,null,null,null,7.5,10.919999999999998,10.69,10.46,10.23,9.9550000000000001,9.68,null,7.5,4.9867541152263373,4.5459533607681752,4.1051526063100132,3.6643518518518512,3.3145978009259256,2.9648437499999996,null,null,null,null,null,null,null,null,null,null,null,null,null,null,"WPF 20 SET",{"$f":"AU131+(AU131-AX131)/3","v":4.3666666666666663},3.9,{"$f":"AU131-(AU131-AX131)/3","v":3.4333333333333331},{"$f":"AV131-(AU131-AV131)","v":2.9666666666666663},2.5,{"$f":"AX131-(AU131-AX131)/3","v":2.0333333333333332},null,null,null,null,null,null,null,null,null,null,"WPF 80 SET (Water)",6.16,5.67,5.18,4.6899999999999995,4.2,3.39]
[null,null,null,null,null,null,null,null,null,null,null,null,null,null,null,10,12.04,11.76,11.48,11.2,11.1,11,null,10,5.2592592592592577,4.8395061728395055,4.4197530864197532,4,3.6176470588235294,3.2352941176470589,null,null,null,null,null,null,null,null,null,null,null,null,null,null,"WPF 23 SET",4.6833333333333336,4.2,{"$f":"AU132-(AU132-AX132)/3","v":3.7166666666666668},{"$f":"AV132-(AU132-AV132)","v":3.2333333333333334},2.75,2.2666666666666666,null,null,null,null,null,null,null,null,null,null,"WPF 92 SET (Water)",{"$f":"BL132+(BL132-BO132)/3","v":5.8133333333333335},5.66,{"$f":"BL132-(BL132-BO132)/3","v":5.5066666666666668},{"$f":"BM132-(BL132-BO132)/3","v":5.3533333333333335},5.2,3.41]
[null,null,null,null,null,null,null,null,null,null,null,null,null,null,null,12.5,12.47,12.23,11.99,11.75,11.625,11.5,null,12.5,5.4521674271674252,5.0466830466830457,4.6411986661986662,4.2357142857142867,3.7941577208918256,3.352601156069364,null,null,null,null,null,null,null,null,null,null,null,null,null,null,"WPF 26 SET",4.8666666666666671,4.4000000000000004,3.9333333333333336,3.4666666666666668,3,2.5333333333333332,null,null,null,null,null,null,null,null,null,null,"WPF 104 SET (Water)",5.4533333333333331,5.64,5.8266666666666662,6.0133333333333328,6.2,3.42]
[null,null,null,null,null,null,null,null,null,null,null,null,null,null,null,15,12.899999999999999,12.7,12.5,12.3,12.15,12,null,15,5.5790816326530592,5.1836734693877542,4.7882653061224492,4.3928571428571432,3.9107142857142856,3.4285714285714284,null,null,null,null,null,null,null,null,null,null,null,null,null,null,"WPF 29 SET",5.0999999999999996,4.5999999999999996,4.0999999999999996,3.5999999999999996,3.1,2.6,null,null,null,null,null,null,null,null,null,null,"WPF 118 SET (Water)",4.9599999999999991,5.52,6.08,6.6400000000000006,7.2,3.44]
[null,null,null,null,null,null,null,null,null,null,null,null,null,null,null,17.5,13.249999999999998,13.149999999999999,13.049999999999999,12.95,12.785,12.620000000000001,null,17.5,5.6971104525247904,5.3387096774193541,4.9803089023139178,4.6219081272084814,4.0918372385623174,3.5617663499161538,null,null,null,null,null,null,null,null,null,null,null,null,null,null,"WPF 32 SET",5.2,4.7,4.2,3.7,3.2,2.7,null,null,null,null,null,null,null,null,null,null,"WPF 132 SET (Water)",4.4533333333333331,5.39,6.3266666666666662,7.2633333333333328,8.1999999999999993,3.46]
[null,null,null,null,null,null,null,null,null,null,null,null,null,null,null,20,13.6,13.6,13.6,13.6,13.42,13.24,null,20,5.7740350877192981,5.4399999999999995,5.1059649122807009,4.7719298245614032,4.2096563723357985,3.6473829201101928,null,null,null,null,null,null,null,null,null,null,null,null,null,null,"3 x WPF 16 M",5.2,4.7,4.2,3.7,3.2,2.7,null,null,null,null,null,null,null,null,null,null,"WPF 7 MS (Water)",{"$f":"BL136+(BL136-BM136)","v":6.2926470588235288},5.6029411764705879,{"$f":"AVERAGE(BL136,BN136)","v":4.9132352941176469},4.223529411764706,{"$f":"AVERAGE(BN136,BP136)","v":3.6858387799564269},3.1481481481481479]
[null,null,null,null,null,null,null,null,null,null,null,null,null,null,null,22.5,13.524999999999999,13.6,13.675000000000001,13.75,13.585000000000001,13.42,null,22.5,null,null,null,null,null,null,null,null,null,null,null,null,null,null,null,null,null,null,null,null,"4 x WPF 16 M",5.2,4.7,4.2,3.7,3.2,2.7,null,null,null,null,null,null,null,null,null,null,"WPF 10 MS (Water)",6.5711746784021674,5.8452380952380958,5.1193015120740242,4.3933649289099517,3.8392680157857746,3.2851711026615975]
[null,null,null,null,null,null,null,null,null,null,null,null,null,null,null,25,13.45,13.6,13.75,13.9,13.75,13.6,null,25,null,null,null,null,null,null,null,null,null,null,null,null,null,null,null,null,null,null,null,null,"5 x WPF 16 M",5.2,4.7,4.2,3.7,3.2,2.7,null,null,null,null,null,null,null,null,null,null,"WPF 20 Set (S) (Water)",{"$f":"BL138+(BL138-BM138)","v":6.5711746784021674},5.8452380952380958,{"$f":"AVERAGE(BL138,BN138)","v":5.1193015120740242},4.3933649289099517,{"$f":"AVERAGE(BN138,BP138)","v":3.8392680157857746},3.2851711026615975]
[null,null,null,null,null,null,null,null,null,null,null,null,null,null,null,27.5,13.524999999999999,13.7,13.875,14.05,13.875,13.7,null,27.5,null,null,null,null,null,null,null,null,null,null,null,null,null,null,null,null,null,null,null,null,"6 x WPF 16 M",5.2,4.7,4.2,3.7,3.2,2.7,null,null,null,null,null,null,null,null,null,null,0]
[null,null,null,null,null,null,null,null,null,null,null,null,null,null,null,30,13.600000000000001,13.8,14,14.2,14,13.8,null,30,null,null,null,null,null,null,null,null,null,null,null,null,null,null,null,null,null,null,null,null,"WPF 80 SET",{"$f":"AU140+(AU140-AV140)","v":5.2697644768183114},4.7624309392265189,{"$f":"AVERAGE(AU140,AW140)","v":4.2550974016347265},3.7477638640429336,{"$f":"AVERAGE(AW140,AY140)","v":3.3346377459749554},2.9215116279069768,null,null,null,null,null,null,null,null,null,null,0]
[null,null,null,null,null,null,null,null,null,null,null,null,null,null,null,null,"WPL 20 A basic",null,null,null,null,null,null,null,"WPL 20 A basic",null,null,null,null,null,null,null,null,null,null,null,null,null,null,null,null,null,null,null,"WPF 92 SET",5.3249999999999993,4.8,{"$f":"AVERAGE(AU141,AW141)","v":4.2750000000000004},3.75,3.35,2.95,null,null,null,null,null,null,null,null,null,null,0]
[null,null,null,null,null,null,null,null,null,null,null,null,null,null,null,"Außentemp","30 °C","35 °C","40 °C","45 °C","50 °C","55 °C",null,"Außentemp","30 °C","35 °C","40 °C","45 °C","50 °C","55 °C",null,null,null,null,null,null,null,null,null,null,null,null,null,null,"WPF 104 SET",5.3127560567129821,4.8087855297157622,{"$f":"AVERAGE(AU142,AW142)","v":4.3048150027185423},3.8008444757213224,3.3955511776887413,2.9902578796561605,null,null,null,null,null,null,null,null,null,null,0]
[null,null,null,null,null,null,null,null,null,null,null,null,null,null,null,-20,{"$f":"R143+(R143-S143)","v":6.2600000000000007},6.41,{"$f":"AVERAGE(R143,T143)","v":6.56},6.7099999999999991,{"$f":"AVERAGE(T143,V143)","v":6.7099999999999991},6.7099999999999991,null,-20,2.2000000000000002,2,1.8,1.6,1.55,1.5,null,null,null,null,null,null,null,null,null,null,null,null,null,null,"WPF 118 SET",5.25,4.75,{"$f":"AVERAGE(AU143,AW143)","v":4.25},3.75,3.35,2.95,null,null,null,null,null,null,null,null,null,null,0]
[null,null,null,null,null,null,null,null,null,null,null,null,null,null,null,-17.5,{"$f":"R144+(R144-S144)","v":7.1450000000000005},7.32,7.4950000000000001,7.67,7.67,7.67,null,-17.5,2.3951297726345793,2.2180595581171949,2.0409893435998105,1.8639191290824262,1.7319595645412131,1.6,null,null,null,null,null,null,null,null,null,null,null,null,null,null,"WPF 132 SET",5.2266238444087172,4.7153900210822197,{"$f":"AVERAGE(AU144,AW144)","v":4.2041561977557222},3.6929223744292239,3.2879234731933256,2.8829245719574272,null,null,null,null,null,null,null,null,null,null,0]
["WPW 06 Set",null,3,0.95,0.6,3,5,1,false,8170,7800,"---",null,null,null,-15,8.0300000000000011,8.23,8.43,8.6300000000000008,8.6300000000000008,8.6300000000000008,null,-15,2.6076227390180877,2.4074074074074074,2.2071920757967272,2.0069767441860469,1.8534883720930235,1.7,null,null,null,null,null,null,null,null,null,null,null,null,null,null,{"$f":"AS45","v":"WPC 5 S GB"},5.1899999999999995,4.66,4.13,3.6,3.1500000000000004,2.7]
["WPW 07 Set",null,3,0.95,0.6,3,{"$f":"G145+1","v":6},1,false,8170,9100,"MCS HP 0046/19",null,null,null,-12.5,8.6174999999999997,8.7750000000000004,8.932500000000001,9.09,9.2349999999999994,9.3800000000000008,null,-12.5,2.7826381839185066,2.5648942252715834,2.3471502666246602,2.1294063079777366,2.0147031539888682,1.9,null,null,null,null,null,null,null,null,null,null,null,null,null,null,"WPC 7 S GB",5.4250000000000007,4.8499999999999996,4.2750000000000004,3.7,3.25,2.8]
["WPW 10 Set",null,3,0.95,0.6,3,{"$f":"G146+1","v":7},1,false,8170,13000,"---",null,null,null,-10,9.2050000000000001,9.32,9.4350000000000005,9.5500000000000007,9.84,10.130000000000001,null,-10,2.900406584951714,2.670487106017192,2.4405676270826699,2.2106481481481484,2.1163021179862502,2.0219560878243517,null,null,null,null,null,null,null,null,null,null,null,null,null,null,"WPC 10 S GB",5.8050000000000015,5.07,4.335,3.6,3,2.4]
["WPW 13 Set",null,3,0.95,0.6,3,{"$f":"G147+1","v":8},1,false,8170,16900,"MCS HP 0046/21",null,null,null,-7.5,10.65,10.74,10.83,10.92,10.48,10.039999999999999,null,-7.5,3.0128711062391522,2.8265582655826558,2.6402454249261593,2.4539325842696629,2.2405849691776329,2.027237354085603,null,null,null,null,null,null,null,null,null,null,null,null,null,null,"WPF 5 S",5.1899999999999995,4.66,4.13,3.6,3.1500000000000004,2.7]
["WPW 18 Set",null,3,0.95,0.6,3,9,1,false,8170,23400,"---",null,null,null,-5,11.335000000000001,11.455,11.574999999999999,11.695,11.293749999999999,10.892499999999998,null,-5,3.1270517189187554,2.9486720381975529,2.7702923574763503,2.5919126767551472,2.3626230050442407,2.1333333333333337,null,null,null,null,null,null,null,null,null,null,null,null,null,null,"WPF 7 S",5.4250000000000007,4.8499999999999996,4.2750000000000004,3.7,3.25,2.8]
["WPW 22 Set",null,3,0.95,0.6,3,10,1,false,8170,28600,"---",null,null,null,-2.5,12.02,12.17,12.32,12.469999999999999,12.107499999999998,11.744999999999999,null,-2.5,3.2939074152855063,3.1277974087161362,2.9616874021467661,2.7955773955773959,2.5417710544364613,2.2879647132955263,null,null,null,null,null,null,null,null,null,null,null,null,null,null,"WPF 10 S",5.8050000000000015,5.07,4.335,3.6,3,2.4]
["WPW 7 basic Set",null,3,0.95,0.6,3,11,1,false,8171,9100,"MCS HP 0046/33",null,null,null,0,12.705,12.885,13.065,13.244999999999999,12.921250000000001,12.5975,null,0,3.4023005657563483,3.2446001167542322,3.0868996677521161,2.92919921875,2.6586806062597352,2.38816199376947,null,null,null,null,null,null,null,null,null,null,null,null,null,null,"WPF 7 MS",{"$f":"AU151+(AU151-AV151)","v":5.0439933719966863},4.4941176470588236,{"$f":"AVERAGE(AU151,AW151)","v":3.9442419221209613},3.394366197183099,{"$f":"AVERAGE(AW151,AY151)","v":2.9631007015878041},2.5318352059925093]
["WPW 10 basic Set",null,3,0.95,0.6,3,12,1,false,8171,13000,"MCS HP 0046/34",null,null,null,2.5,13.39,13.6,13.809999999999999,14.02,13.734999999999999,13.45,null,2.5,3.6460452567332693,3.4560041407867494,3.2659630248402296,3.0759219088937093,2.7945591949160629,2.5131964809384164,null,null,null,null,null,null,null,null,null,null,null,null,null,null,"WPF 10 MS",{"$f":"AU152+(AU152-AX152)/3","v":4.3666666666666663},3.9,{"$f":"AU152-(AU152-AX152)/3","v":3.4333333333333331},{"$f":"AV152-(AU152-AV152)","v":2.9666666666666663},2.5,{"$f":"AX152-(AU152-AX152)/3","v":2.0333333333333332}]
["WPW 13 basic Set",null,3,0.95,0.6,3,13,1,false,8171,16900,"MCS HP 0046/35",null,null,null,5,15.017499999999998,14.879999999999999,14.7425,14.605,14.3925,14.18,null,5,3.9160957554419937,3.6457055214723928,3.3753152875027919,3.1049250535331905,2.8354473861753915,2.5659697188175921,null,null,null,null,null,null,null,null,null,null,null,null,null,null,"WPF 14 Set (S)",5.4250000000000007,4.8499999999999996,4.2750000000000004,3.7,3.25,2.8]
["WPW 18 basic Set",null,3,0.95,0.6,3,14,1,false,8171,23400,"MCS HP 0046/32",null,null,null,7.5,16.645,16.16,15.675000000000001,15.19,15.05,14.91,null,7.5,4.3716042686820114,4.021630615640599,3.6716569625991871,3.3216833095577751,3.0316081431924351,2.7415329768270951,null,null,null,null,null,null,null,null,null,null,null,null,null,null,"WPF 17 Set (S)",{"$f":"AVERAGE(AT153,AT155)","v":4.8958333333333339},{"$f":"AVERAGE(AU153,AU155)","v":4.375},3.854166666666667,3.333333333333333,2.875,2.4166666666666665]
["WPW 22 basic Set",null,3,0.95,0.6,3,15,1,false,8171,28600,"---",null,null,null,10,17.335000000000001,17.2,17.064999999999998,16.93,16.774999999999999,16.62,null,10,4.7290062045357297,4.3902439024390247,4.0514816003423197,3.7127192982456143,3.3536569464201045,2.9945945945945946,null,null,null,null,null,null,null,null,null,null,null,null,null,null,"WPF 20 Set (S)",{"$f":"AU155+(AU155-AX155)/3","v":4.3666666666666663},3.9,{"$f":"AU155-(AU155-AX155)/3","v":3.4333333333333331},{"$f":"AV155-(AU155-AV155)","v":2.9666666666666663},2.5,{"$f":"AX155-(AU155-AX155)/3","v":2.0333333333333332}]
[{"$f":"A67&\" (\"&Translation!$A$205&\")\"","v":"WPF 10 M (Water)"},null,3,0.95,0.6,3,16,1,true,5975,13000,"---",null,null,null,12.5,18.652499999999996,18.524999999999999,18.397500000000001,18.27,18.0425,17.815000000000001,null,12.5,5.0991281284931951,4.7231833910034613,4.3472386535137275,3.9712939160239933,3.5709999611732193,3.1707060063224453,null,null,null,null,null,null,null,null,null,null,null,null,null,null,0]
[{"$f":"A68&\" (\"&Translation!$A$205&\")\"","v":"WPF 13 M (Water)"},null,3,0.95,0.6,3,17,1,true,5975,16900,"---",null,null,null,15,19.970000000000002,19.850000000000001,19.73,19.61,19.310000000000002,19.010000000000002,null,15,5.3566216315750719,4.9501246882793026,4.5436277449835334,4.1371308016877633,3.7101888896176298,3.2832469775474959,null,null,null,null,null,null,null,null,null,null,null,null,null,null,0]
[{"$f":"A69&\" (\"&Translation!$A$205&\")\"","v":"WPF 16 M (Water)"},null,3,0.95,0.6,3,18,1,true,5975,20800,"---",null,null,null,17.5,20.807499999999997,20.72,20.6325,20.545000000000002,19.872500000000002,19.2,null,17.5,5.5555504366938688,5.1488417939871853,4.7421331512805018,4.3354245085738183,3.7896103092835558,3.2437961099932928,null,null,null,null,null,null,null,null,null,null,null,null,null,null,0]
[{"$f":"A70&\" (\"&Translation!$A$205&\")\"","v":"WPF 20 (Water)"},null,3,0.95,0.6,3,19,1,true,6557,26000,"MCS HP 0046/23",null,null,null,20,21.645,21.59,21.535,21.48,20.54,19.600000000000001,null,20,5.6852446766872191,5.2787286063569683,4.8722125360267174,4.4656964656964657,3.8422232328482329,3.21875,null,null,null,null,null,null,null,null,null,null,null,null,null,null,0]
[{"$f":"A71&\" (\"&Translation!$A$205&\")\"","v":"WPF 27 (Water)"},null,3,0.95,0.6,3,20,1,true,6557,35100,"MCS HP 0046/24",null,null,null,22.5,21.740000000000002,21.810000000000002,21.880000000000003,21.950000000000003,21.78,21.61,null,22.5,null,null,null,null,null,null,null,null,null,null,null,null,null,null,null,null,null,null,null,null,0]
[{"$f":"A72&\" (\"&Translation!$A$205&\")\"","v":"WPF 27 HT (Water)"},null,3,0.95,0.6,3,21,1,false,7700,35100,"MCS HP 0046/16",null,null,null,25,21.835000000000001,22.03,22.225000000000001,22.42,22.33,22.24,null,25,null,null,null,null,null,null,null,null,null,null,null,null,null,null,null,null,null,null,null,null,0]
[{"$f":"A73&\" (\"&Translation!$A$205&\")\"","v":"WPF 35 (Water)"},null,3,0.95,0.6,3,22,1,true,6557,45500,"MCS HP 0046/28",null,null,null,27.5,21.905000000000001,22.1,22.295000000000002,22.490000000000002,22.37,22.25,null,27.5,null,null,null,null,null,null,null,null,null,null,null,null,null,null,null,null,null,null,null,null,0]
[{"$f":"A74&\" (\"&Translation!$A$205&\")\"","v":"WPF 40 (Water)"},null,3,0.95,0.6,3,23,1,true,6557,52000,"MCS HP 0046/25",null,null,null,30,21.975000000000001,22.17,22.365000000000002,22.56,22.41,22.26,null,30]
[{"$f":"A75&\" (\"&Translation!$A$205&\")\"","v":"WPF 52 (Water)"},null,3,0.95,0.6,3,24,1,true,6557,67600,"---",null,null,null,null,"WPL 15",null,null,null,null,null,null,null,"WPL 15"]
[{"$f":"A76&\" (\"&Translation!$A$205&\")\"","v":"WPF 66 (Water)"},null,3,0.95,0.6,3,25,1,true,6557,85800,"---",null,null,null,"Außentemp","30 °C","35 °C","40 °C","45 °C","50 °C","55 °C",null,"Außentemp","30 °C","35 °C","40 °C","45 °C","50 °C","55 °C"]
[{"$f":"A77&\" (\"&Translation!$A$205&\")\"","v":"WPF 20 SET (Water)"},null,3,0.95,0.6,3,26,1,true,5976,26000,"---",null,null,null,-20,5.3699999999999992,5.52,5.67,5.82,5.99,6.16,null,-20,2.65,2.5,2.35,2.2000000000000002,2.0426229508196725,1.8852459016393444]
[{"$f":"A78&\" (\"&Translation!$A$205&\")\"","v":"WPF 23 SET (Water)"},null,3,0.95,0.6,3,27,1,true,5976,29900,"---",null,null,null,-17.5,5.7774999999999999,5.92,6.0625,6.2050000000000001,6.37,6.5350000000000001,null,-17.5,2.8955392433653304,2.7142857142857144,2.5330321852060984,2.3517786561264824,2.1823828345567478,2.0129870129870131]
[{"$f":"A79&\" (\"&Translation!$A$205&\")\"","v":"WPF 26 SET (Water)"},null,3,0.95,0.6,3,28,1,true,5976,33800,"---",null,null,null,-15,6.1850000000000005,6.32,6.4550000000000001,6.59,6.75,6.91,null,-15,3.0602240896358541,2.8571428571428572,2.6540616246498603,2.4509803921568629,2.273877292852625,2.096774193548387]
[{"$f":"A80&\" (\"&Translation!$A$205&\")\"","v":"WPF 29 SET (Water)"},null,3,0.95,0.6,3,29,1,true,5976,37700,"---",null,null,null,-12.5,6.3474999999999993,6.4749999999999996,6.6025,6.73,6.8825000000000003,7.0350000000000001,null,-12.5,3.2744295228736764,3.056338028169014,2.8382465334643516,2.6201550387596897,2.4298858260891101,2.2396166134185305]
[{"$f":"A81&\" (\"&Translation!$A$205&\")\"","v":"WPF 32 SET (Water)"},null,3,0.95,0.6,3,30,1,true,5976,41600,"---",null,null,null,-10,6.51,6.63,6.75,6.87,7.0150000000000006,7.16,null,-10,3.4136851520572451,3.1860465116279069,2.9584078711985686,2.7307692307692304,2.5320512820512819,2.3333333333333335]
[{"$f":"A86&\" (\"&Translation!$A$205&\")\"","v":"WPF 80 SET (Water)"},null,3,0.95,0.6,3,31,1,true,6557,104000,"---",null,null,null,-7.5,6.839999999999999,6.9499999999999993,7.06,7.17,7.3049999999999997,7.4399999999999995,null,-7.5,3.6679718840478595,3.4174311926605503,3.1668905012732411,2.9163498098859315,2.6987409426788149,2.4811320754716979]
[{"$f":"A87&\" (\"&Translation!$A$205&\")\"","v":"WPF 92 SET (Water)"},null,3,0.95,0.6,3,32,1,true,6557,119600,"---",null,null,null,-5,7.17,7.27,7.3699999999999992,7.47,7.5949999999999998,7.72,null,-5,3.8334048027444245,3.5681818181818179,3.3029588336192113,3.0377358490566042,2.8079304245283021,2.578125]
[{"$f":"A88&\" (\"&Translation!$A$205&\")\"","v":"WPF 104 SET (Water)"},null,3,0.95,0.6,3,33,1,true,6557,135200,"---",null,null,null,-2.5,7.4649999999999999,7.5549999999999997,7.6449999999999996,7.7349999999999994,7.8474999999999993,7.9599999999999991,null,-2.5,4.1863444734018085,3.8818181818181818,3.5772918902345547,3.2727655986509276,2.998345989509513,2.7239263803680989]
[{"$f":"A89&\" (\"&Translation!$A$205&\")\"","v":"WPF 118 SET (Water)"},null,3,0.95,0.6,3,34,1,true,6557,153400,"---",null,null,null,0,7.76,7.84,7.92,8,8.1,8.1999999999999993,null,0,4.441919191919192,4.0909090909090908,3.7398989898989896,3.3888888888888888,3.1035353535353538,2.8181818181818183]
[{"$f":"A90&\" (\"&Translation!$A$205&\")\"","v":"WPF 132 SET (Water)"},null,3,0.95,0.6,3,35,1,true,6557,171600,"---",null,null,null,2.5,8.2125000000000021,8.2800000000000011,8.3475000000000001,8.4149999999999991,8.4699999999999989,8.5249999999999986,null,2.5,4.7599366204748099,4.3878504672897201,4.0157643141046302,3.6436781609195399,3.3265560615918455,3.0094339622641511]
[{"$f":"A97&\" (\"&Translation!$A$205&\")\"","v":"WPF 7 MS (Water)"},null,3,0.95,0.6,3,36,1,true,"-",13000,"MCS HP 0046/09",null,null,null,5,8.6650000000000009,8.7200000000000006,8.7750000000000004,8.83,8.84,8.85,null,5,4.9810924369747891,4.5952380952380949,4.2093837535014007,3.8235294117647061,3.4843453510436433,3.1451612903225805]
[{"$f":"A98&\" (\"&Translation!$A$205&\")\"","v":"WPF 10 MS (Water)"},null,3,0.95,0.6,3,37,1,true,"-",13000,"MCS HP 0046/10",null,null,null,7.5,8.9775000000000027,9.1350000000000016,9.2925000000000004,9.4499999999999993,9.4175000000000004,9.3849999999999998,null,7.5,5.4048010222709033,4.9646464646464654,4.5244919070220275,4.0843373493975896,3.7334438424840304,3.3825503355704711]
[{"$f":"A101&\" (\"&Translation!$A$205&\")\"","v":"WPF 20 Set (S) (Water)"},null,3,0.95,0.6,3,38,1,true,"-",26000,"MCS HP 0046/15",null,null,null,10,9.2900000000000009,9.5500000000000007,9.81,10.07,9.995000000000001,9.92,null,10,5.7226100966702464,5.2368421052631575,4.7510741138560686,4.2653061224489788,3.9085151301900067,3.5517241379310347]
[null,null,null,null,null,null,null,null,null,null,null,null,null,null,null,12.5,10.145,10.275,10.405000000000001,10.535,10.4975,10.46,null,12.5,6.1021739130434787,5.5869565217391308,5.071739130434783,4.5565217391304351,4.1523615889896774,3.7482014388489207]
[null,null,null,null,null,null,null,null,null,null,null,null,null,null,null,15,11,11,11,11,11,11,null,15,6.3636363636363633,5.833333333333333,5.3030303030303028,4.7727272727272725,4.3308080808080804,3.8888888888888888]
[null,null,null,null,null,null,null,null,null,null,null,null,null,null,null,17.5,11,11,11,11,11,11,null,17.5,6.7223746570217031,6.1403508771929838,5.5583270973642644,4.9763033175355442,4.4112285818446955,3.8461538461538463]
[null,null,null,null,null,null,null,null,null,null,null,null,null,null,null,20,11,11,11,11,11,11,null,20,6.9844789356984487,6.3636363636363642,5.7427937915742797,5.1219512195121952,4.4700665188470072,3.8181818181818183]
[null,null,null,null,null,null,null,null,null,null,null,null,null,null,null,22.5,null,null,null,null,null,null,null,22.5]
[null,null,null,null,null,null,null,null,null,null,null,null,null,null,null,25,null,null,null,null,null,null,null,25]
[null,null,null,null,null,null,null,null,null,null,null,null,null,null,null,27.5,null,null,null,null,null,null,null,27.5]
[null,null,null,null,null,null,null,null,null,null,null,null,null,null,null,30,null,null,null,null,null,null,null,30]
[null,null,null,null,null,null,null,null,null,null,null,null,null,null,null,null,"WPL 25",null,null,null,null,null,null,null,"WPL 25"]
[null,null,null,null,null,null,null,null,null,null,null,null,null,null,null,"Außentemp","30 °C","35 °C","40 °C","45 °C","50 °C","55 °C",null,"Außentemp","30 °C","35 °C","40 °C","45 °C","50 °C","55 °C"]
[null,null,null,null,null,null,null,null,null,null,null,null,null,null,null,-20,7.5,8.0000000000000071,8.5,8.9999999999999982,9.4999999999999929,10,null,-20,2.65,2.5,2.35,2.2000000000000002,2.0426229508196725,1.8852459016393444]
[{"$f":"Translation!A64","v":"Oil boiler"},null,null,null,null,0,null,null,null,null,null,"---",null,null,null,-17.5,8.75,9.2000000000000064,9.74,10.099999999999998,10.549999999999994,11,null,-17.5,2.8955392433653304,2.7142857142857144,2.5330321852060984,2.3517786561264824,2.1823828345567478,2.0129870129870131]
[{"$f":"Translation!A65","v":"Gas boiler"},null,null,null,null,0,null,null,null,null,null,"---",null,null,null,-15,10,10.400000000000006,10.88,11.199999999999998,11.599999999999994,12,null,-15,3.0602240896358541,2.8571428571428572,2.6540616246498603,2.4509803921568629,2.273877292852625,2.096774193548387]
[{"$f":"Translation!A119","v":"District heating"},null,null,null,null,0,null,null,null,null,null,"---",null,null,null,-12.5,11.25,11.600000000000005,12.02,12.299999999999997,12.649999999999995,13,null,-12.5,3.2744295228736764,3.056338028169014,2.8382465334643516,2.6201550387596897,2.4298858260891101,2.2396166134185305]
[null,null,null,null,null,null,null,null,null,null,null,null,null,null,null,-10,12.5,12.800000000000004,13.16,13.399999999999997,13.699999999999996,14,null,-10,3.4136851520572451,3.1860465116279069,2.9584078711985686,2.7307692307692304,2.5320512820512819,2.3333333333333335]
[null,null,null,null,null,null,null,null,null,null,null,null,null,null,null,-7.5,13.75,14.000000000000004,14.25,14.499999999999996,14.749999999999996,15,null,-7.5,3.6679718840478595,3.4174311926605503,3.1668905012732411,2.9163498098859315,2.6987409426788149,2.4811320754716979]
[null,null,null,null,null,null,null,null,null,null,null,null,null,null,null,-5,15,15.200000000000003,15.44,15.599999999999996,15.799999999999997,16,null,-5,3.8334048027444245,3.5681818181818179,3.3029588336192113,3.0377358490566042,2.8079304245283021,2.578125]
[null,null,null,null,null,null,null,null,null,null,null,null,null,null,null,-2.5,16.25,16.400000000000002,16.579999999999998,16.699999999999996,16.849999999999998,17,null,-2.5,4.1863444734018085,3.8818181818181818,3.5772918902345547,3.2727655986509276,2.998345989509513,2.7239263803680989]
[null,null,null,null,null,null,null,null,null,null,null,null,null,null,null,0,17.5,17.600000000000001,17.72,17.799999999999997,17.899999999999999,18,null,0,4.441919191919192,4.0909090909090908,3.7398989898989896,3.3888888888888888,3.1035353535353538,2.8181818181818183]
[null,null,null,null,null,null,null,null,null,null,null,null,null,null,null,2.5,18.75,18.8,18.86,18.899999999999999,18.95,19,null,2.5,4.7599366204748099,4.3878504672897201,4.0157643141046302,3.6436781609195399,3.3265560615918455,3.0094339622641511]
[null,null,null,null,null,null,null,null,null,null,null,null,null,null,null,5,20,20,20,20,20,20,null,5,4.9810924369747891,4.5952380952380949,4.2093837535014007,3.8235294117647061,3.4843453510436433,3.1451612903225805]
[null,null,null,null,null,null,null,null,null,null,null,null,null,null,null,7.5,20.8,20.8,20.8,20.8,20.8,20.8,null,7.5,5.4048010222709033,4.9646464646464654,4.5244919070220275,4.0843373493975896,3.7334438424840304,3.3825503355704711]
[null,null,null,null,null,null,null,null,null,null,null,null,null,null,null,10,21,21,21,21,21,21,null,10,5.7226100966702464,5.2368421052631575,4.7510741138560686,4.2653061224489788,3.9085151301900067,3.5517241379310347]
[null,null,null,null,null,null,null,null,null,null,null,null,null,null,null,12.5,21,21,21,21,21,21,null,12.5,6.1021739130434787,5.5869565217391308,5.071739130434783,4.5565217391304351,4.1523615889896774,3.7482014388489207]
[null,null,null,null,null,null,null,null,null,null,null,null,null,null,null,15,21,21,21,21,21,21,null,15,6.3636363636363633,5.833333333333333,5.3030303030303028,4.7727272727272725,4.3308080808080804,3.8888888888888888]
[null,null,null,null,null,null,null,null,null,null,null,null,null,null,null,17.5,21,21,21,21,21,21,null,17.5,6.7223746570217031,6.1403508771929838,5.5583270973642644,4.9763033175355442,4.4112285818446955,3.8461538461538463]
[null,null,null,null,null,null,null,null,null,null,null,null,null,null,null,20,21,21,21,21,21,21,null,20,6.9844789356984487,6.3636363636363642,5.7427937915742797,5.1219512195121952,4.4700665188470072,3.8181818181818183]
[null,null,null,null,null,null,null,null,null,null,null,null,null,null,null,22.5,null,null,null,null,null,null,null,22.5]
[null,null,null,null,null,null,null,null,null,null,null,null,null,null,null,25,null,null,null,null,null,null,null,25]
[null,null,null,null,null,null,null,null,null,null,null,null,null,null,null,27.5,null,null,null,null,null,null,null,27.5]
[null,null,null,null,null,null,null,null,null,null,null,null,null,null,null,30,null,null,null,null,null,null,null,30]
[null,null,null,null,null,null,null,null,null,null,null,null,null,null,null,null,"WPL 15 AS",null,null,null,null,null,null,null,"WPL 15 AS"]
[null,null,null,null,null,null,null,null,null,null,null,null,null,null,null,"Außentemp","30 °C","35 °C","40 °C","45 °C","50 °C","55 °C",null,"Außentemp","30 °C","35 °C","40 °C","45 °C","50 °C","55 °C"]
[null,null,null,null,null,null,null,null,null,null,null,null,null,null,null,-20,5.3699999999999992,5.52,5.67,5.82,5.99,6.16,null,-20,2.65,2.5,2.35,2.2000000000000002,2.0426229508196725,1.8852459016393444]
[null,null,null,null,null,null,null,null,null,null,null,null,null,null,null,-17.5,5.7774999999999999,5.92,6.0625,6.2050000000000001,6.37,6.5350000000000001,null,-17.5,2.8955392433653304,2.7142857142857144,2.5330321852060984,2.3517786561264824,2.1823828345567478,2.0129870129870131]
[null,null,null,null,null,null,null,null,null,null,null,null,null,null,null,-15,6.1850000000000005,6.32,6.4550000000000001,6.59,6.75,6.91,null,-15,3.0602240896358541,2.8571428571428572,2.6540616246498603,2.4509803921568629,2.273877292852625,2.096774193548387]
[null,null,null,null,null,null,null,null,null,null,null,null,null,null,null,-12.5,6.3474999999999993,6.4749999999999996,6.6025,6.73,6.8825000000000003,7.0350000000000001,null,-12.5,3.2744295228736764,3.056338028169014,2.8382465334643516,2.6201550387596897,2.4298858260891101,2.2396166134185305]
[null,null,null,null,null,null,null,null,null,null,null,null,null,null,null,-10,6.51,6.63,6.75,6.87,7.0150000000000006,7.16,null,-10,3.4136851520572451,3.1860465116279069,2.9584078711985686,2.7307692307692304,2.5320512820512819,2.3333333333333335]
[null,null,null,null,null,null,null,null,null,null,null,null,null,null,null,-7.5,6.839999999999999,6.9499999999999993,7.06,7.17,7.3049999999999997,7.4399999999999995,null,-7.5,3.6679718840478595,3.4174311926605503,3.1668905012732411,2.9163498098859315,2.6987409426788149,2.4811320754716979]
[null,null,null,null,null,null,null,null,null,null,null,null,null,null,null,-5,7.17,7.27,7.3699999999999992,7.47,7.5949999999999998,7.72,null,-5,3.8334048027444245,3.5681818181818179,3.3029588336192113,3.0377358490566042,2.8079304245283021,2.578125]
[null,null,null,null,null,null,null,null,null,null,null,null,null,null,null,-2.5,7.4649999999999999,7.5549999999999997,7.6449999999999996,7.7349999999999994,7.8474999999999993,7.9599999999999991,null,-2.5,4.1863444734018085,3.8818181818181818,3.5772918902345547,3.2727655986509276,2.998345989509513,2.7239263803680989]
[null,null,null,null,null,null,null,null,null,null,null,null,null,null,null,0,7.76,7.84,7.92,8,8.1,8.1999999999999993,null,0,4.441919191919192,4.0909090909090908,3.7398989898989896,3.3888888888888888,3.1035353535353538,2.8181818181818183]
[null,null,null,null,null,null,null,null,null,null,null,null,null,null,null,2.5,8.2125000000000021,8.2800000000000011,8.3475000000000001,8.4149999999999991,8.4699999999999989,8.5249999999999986,null,2.5,4.7599366204748099,4.3878504672897201,4.0157643141046302,3.6436781609195399,3.3265560615918455,3.0094339622641511]
[null,null,null,null,null,null,null,null,null,null,null,null,null,null,null,5,8.6650000000000009,8.7200000000000006,8.7750000000000004,8.83,8.84,8.85,null,5,4.9810924369747891,4.5952380952380949,4.2093837535014007,3.8235294117647061,3.4843453510436433,3.1451612903225805]
[null,null,null,null,null,null,null,null,null,null,null,null,null,null,null,7.5,8.9775000000000027,9.1350000000000016,9.2925000000000004,9.4499999999999993,9.4175000000000004,9.3849999999999998,null,7.5,5.4048010222709033,4.9646464646464654,4.5244919070220275,4.0843373493975896,3.7334438424840304,3.3825503355704711]
[null,null,null,null,null,null,null,null,null,null,null,null,null,null,null,10,9.2900000000000009,9.5500000000000007,9.81,10.07,9.995000000000001,9.92,null,10,5.7226100966702464,5.2368421052631575,4.7510741138560686,4.2653061224489788,3.9085151301900067,3.5517241379310347]
[null,null,null,null,null,null,null,null,null,null,null,null,null,null,null,12.5,10.145,10.275,10.405000000000001,10.535,10.4975,10.46,null,12.5,6.1021739130434787,5.5869565217391308,5.071739130434783,4.5565217391304351,4.1523615889896774,3.7482014388489207]
[null,null,null,null,null,null,null,null,null,null,null,null,null,null,null,15,11,11,11,11,11,11,null,15,6.3636363636363633,5.833333333333333,5.3030303030303028,4.7727272727272725,4.3308080808080804,3.8888888888888888]
[null,null,null,null,null,null,null,null,null,null,null,null,null,null,null,17.5,11,11,11,11,11,11,null,17.5,6.7223746570217031,6.1403508771929838,5.5583270973642644,4.9763033175355442,4.4112285818446955,3.8461538461538463]
[null,null,null,null,null,null,null,null,null,null,null,null,null,null,null,20,11,11,11,11,11,11,null,20,6.9844789356984487,6.3636363636363642,5.7427937915742797,5.1219512195121952,4.4700665188470072,3.8181818181818183]
[null,null,null,null,null,null,null,null,null,null,null,null,null,null,null,22.5,null,null,null,null,null,null,null,22.5]
[null,null,null,null,null,null,null,null,null,null,null,null,null,null,null,25,null,null,null,null,null,null,null,25]
[null,null,null,null,null,null,null,null,null,null,null,null,null,null,null,27.5,null,null,null,null,null,null,null,27.5]
[null,null,null,null,null,null,null,null,null,null,null,null,null,null,null,30,null,null,null,null,null,null,null,30]
[null,null,null,null,null,null,null,null,null,null,null,null,null,null,null,null,"WPL 25 AS",null,null,null,null,null,null,null,"WPL 25 AS"]
[null,null,null,null,null,null,null,null,null,null,null,null,null,null,null,"Außentemp","30 °C","35 °C","40 °C","45 °C","50 °C","55 °C",null,"Außentemp","30 °C","35 °C","40 °C","45 °C","50 °C","55 °C"]
[null,null,null,null,null,null,null,null,null,null,null,null,null,null,null,-20,7.5,8.0000000000000071,8.5,8.9999999999999982,9.4999999999999929,10,null,-20,2.65,2.5,2.35,2.2000000000000002,2.0426229508196725,1.8852459016393444]
[null,null,null,null,null,null,null,null,null,null,null,null,null,null,null,-17.5,8.75,9.2000000000000064,9.74,10.099999999999998,10.549999999999994,11,null,-17.5,2.8955392433653304,2.7142857142857144,2.5330321852060984,2.3517786561264824,2.1823828345567478,2.0129870129870131]
[null,null,null,null,null,null,null,null,null,null,null,null,null,null,null,-15,10,10.400000000000006,10.88,11.199999999999998,11.599999999999994,12,null,-15,3.0602240896358541,2.8571428571428572,2.6540616246498603,2.4509803921568629,2.273877292852625,2.096774193548387]
[null,null,null,null,null,null,null,null,null,null,null,null,null,null,null,-12.5,11.25,11.600000000000005,12.02,12.299999999999997,12.649999999999995,13,null,-12.5,3.2744295228736764,3.056338028169014,2.8382465334643516,2.6201550387596897,2.4298858260891101,2.2396166134185305]
[null,null,null,null,null,null,null,null,null,null,null,null,null,null,null,-10,12.5,12.800000000000004,13.16,13.399999999999997,13.699999999999996,14,null,-10,3.4136851520572451,3.1860465116279069,2.9584078711985686,2.7307692307692304,2.5320512820512819,2.3333333333333335]
[null,null,null,null,null,null,null,null,null,null,null,null,null,null,null,-7.5,13.75,14.000000000000004,14.25,14.499999999999996,14.749999999999996,15,null,-7.5,3.6679718840478595,3.4174311926605503,3.1668905012732411,2.9163498098859315,2.6987409426788149,2.4811320754716979]
[null,null,null,null,null,null,null,null,null,null,null,null,null,null,null,-5,15,15.200000000000003,15.44,15.599999999999996,15.799999999999997,16,null,-5,3.8334048027444245,3.5681818181818179,3.3029588336192113,3.0377358490566042,2.8079304245283021,2.578125]
[null,null,null,null,null,null,null,null,null,null,null,null,null,null,null,-2.5,16.25,16.400000000000002,16.579999999999998,16.699999999999996,16.849999999999998,17,null,-2.5,4.1863444734018085,3.8818181818181818,3.5772918902345547,3.2727655986509276,2.998345989509513,2.7239263803680989]
[null,null,null,null,null,null,null,null,null,null,null,null,null,null,null,0,17.5,17.600000000000001,17.72,17.799999999999997,17.899999999999999,18,null,0,4.441919191919192,4.0909090909090908,3.7398989898989896,3.3888888888888888,3.1035353535353538,2.8181818181818183]
[null,null,null,null,null,null,null,null,null,null,null,null,null,null,null,2.5,18.75,18.8,18.86,18.899999999999999,18.95,19,null,2.5,4.7599366204748099,4.3878504672897201,4.0157643141046302,3.6436781609195399,3.3265560615918455,3.0094339622641511]
[null,null,null,null,null,null,null,null,null,null,null,null,null,null,null,5,20,20,20,20,20,20,null,5,4.9810924369747891,4.5952380952380949,4.2093837535014007,3.8235294117647061,3.4843453510436433,3.1451612903225805]
[null,null,null,null,null,null,null,null,null,null,null,null,null,null,null,7.5,20.8,20.8,20.8,20.8,20.8,20.8,null,7.5,5.4048010222709033,4.9646464646464654,4.5244919070220275,4.0843373493975896,3.7334438424840304,3.3825503355704711]
[null,null,null,null,null,null,null,null,null,null,null,null,null,null,null,10,21,21,21,21,21,21,null,10,5.7226100966702464,5.2368421052631575,4.7510741138560686,4.2653061224489788,3.9085151301900067,3.5517241379310347]
[null,null,null,null,null,null,null,null,null,null,null,null,null,null,null,12.5,21,21,21,21,21,21,null,12.5,6.1021739130434787,5.5869565217391308,5.071739130434783,4.5565217391304351,4.1523615889896774,3.7482014388489207]
[null,null,null,null,null,null,null,null,null,null,null,null,null,null,null,15,21,21,21,21,21,21,null,15,6.3636363636363633,5.833333333333333,5.3030303030303028,4.7727272727272725,4.3308080808080804,3.8888888888888888]
[null,null,null,null,null,null,null,null,null,null,null,null,null,null,null,17.5,21,21,21,21,21,21,null,17.5,6.7223746570217031,6.1403508771929838,5.5583270973642644,4.9763033175355442,4.4112285818446955,3.8461538461538463]
[null,null,null,null,null,null,null,null,null,null,null,null,null,null,null,20,21,21,21,21,21,21,null,20,6.9844789356984487,6.3636363636363642,5.7427937915742797,5.1219512195121952,4.4700665188470072,3.8181818181818183]
[null,null,null,null,null,null,null,null,null,null,null,null,null,null,null,22.5,null,null,null,null,null,null,null,22.5]
[null,null,null,null,null,null,null,null,null,null,null,null,null,null,null,25,null,null,null,null,null,null,null,25]
[null,null,null,null,null,null,null,null,null,null,null,null,null,null,null,27.5,null,null,null,null,null,null,null,27.5]
[null,null,null,null,null,null,null,null,null,null,null,null,null,null,null,30,null,null,null,null,null,null,null,30]
[null,null,null,null,null,null,null,null,null,null,null,null,null,null,null,null,"WPL 33 HT",null,null,null,null,null,null,null,"WPL 33 HT"]
[null,null,null,null,null,null,null,null,null,null,null,null,null,null,null,"Außentemp","30 °C","35 °C","40 °C","45 °C","50 °C","55 °C",null,"Außentemp","30 °C","35 °C","40 °C","45 °C","50 °C","55 °C"]
[null,null,null,null,null,null,null,null,null,null,null,null,null,null,null,-20,12.6,12.6,12.6,12.6,12.6,12.6,null,-20,1.6681500527426159,1.5949367088607593,1.5217233649789028,1.4485100210970465,1.37529667721519,1.3020833333333335]
[null,null,null,null,null,null,null,null,null,null,null,null,null,null,null,-17.5,13.380000000000003,13.380000000000003,13.380000000000003,13.380000000000003,13.380000000000003,13.380000000000003,null,-17.5,1.894738683049058,1.821727019498607,1.7487153559481561,1.6757036923977053,1.6026920288472546,1.5296803652968036]
[null,null,null,null,null,null,null,null,null,null,null,null,null,null,null,-15,14.160000000000002,14.160000000000002,14.160000000000002,14.160000000000002,14.160000000000002,14.160000000000002,null,-15,2.0731707317073171,2,1.9268292682926829,1.8536585365853659,1.780487804878049,1.7073170731707319]
[null,null,null,null,null,null,null,null,null,null,null,null,null,null,null,-12.5,15,15,15,15,15,15,null,-12.5,2.0898915425632878,2.0216138328530255,1.9533361231427633,1.8850584134325008,1.8167807037222383,1.7485029940119761]
[null,null,null,null,null,null,null,null,null,null,null,null,null,null,null,-10,15.9,15.9,15.9,15.9,15.9,15.9,null,-10,2.1002271022585219,2.035211267605634,1.9701954329527462,1.9051795982998585,1.8401637636469708,1.775147928994083]
[null,null,null,null,null,null,null,null,null,null,null,null,null,null,null,-7.5,16.5,16.5,16.5,16.5,16.5,16.5,null,-7.5,2.1178160919540234,2.0666666666666669,2.0155172413793103,1.9643678160919542,1.9132183908045979,1.8620689655172415]
[null,null,null,null,null,null,null,null,null,null,null,null,null,null,null,-5,16.5,16.5,16.5,16.5,16.5,16.5,null,-5,2.2241992018911141,2.1616341030195381,2.099069004147962,2.0365039052763865,1.9739388064048105,1.9113737075332347]
[null,null,null,null,null,null,null,null,null,null,null,null,null,null,null,-2.5,16.5,16.5,16.5,16.5,16.5,16.5,null,-2.5,2.5005376081325448,2.4050632911392404,2.3095889741459361,2.2141146571526318,2.1186403401593275,2.0231660231660231]
[null,null,null,null,null,null,null,null,null,null,null,null,null,null,null,0,16.5,16.5,16.5,16.5,16.5,16.5,null,0,2.8734862259425706,2.7279151943462896,2.5823441627500086,2.4367731311537275,2.291202099557446,2.145631067961165]
[null,null,null,null,null,null,null,null,null,null,null,null,null,null,null,2.5,16.5,16.5,16.5,16.5,16.5,16.5,null,2.5,3.85,3.5,3.15,2.8,2.580379746835443,2.3607594936708858]
[null,null,null,null,null,null,null,null,null,null,null,null,null,null,null,5,16.5,16.5,16.5,16.5,16.5,16.5,null,5,4.6499999999999995,4.0999999999999996,3.55,3,2.6902985074626864,2.3805970149253728]
[null,null,null,null,null,null,null,null,null,null,null,null,null,null,null,7.5,16.5,16.5,16.5,16.5,16.5,16.5,null,7.5,4.6768656716417905,4.2399999999999993,3.8031343283582082,3.3662686567164175,2.9294029850746268,2.4925373134328357]
[null,null,null,null,null,null,null,null,null,null,null,null,null,null,null,10,16.5,16.5,16.5,16.5,16.5,16.5,null,10,5.408385093167702,4.8571428571428577,4.3059006211180133,3.7546583850931681,3.2034161490683233,2.6521739130434785]
[null,null,null,null,null,null,null,null,null,null,null,null,null,null,null,12.5,16.5,16.5,16.5,16.5,16.5,16.5,null,12.5,5.7557506053268783,5.1571428571428584,4.5585351089588384,3.9599273607748189,3.3613196125907994,2.7627118644067794]
[null,null,null,null,null,null,null,null,null,null,null,null,null,null,null,15,16.5,16.5,16.5,16.5,16.5,16.5,null,15,5.988095238095239,5.3571428571428577,4.7261904761904763,4.0952380952380958,3.4642857142857144,2.8333333333333335]
[null,null,null,null,null,null,null,null,null,null,null,null,null,null,null,17.5,16.5,16.5,16.5,16.5,16.5,16.5,null,17.5,6.3376887340301966,5.6571428571428566,4.9765969802555166,4.2960511033681765,3.6155052264808365,2.934959349593496]
[null,null,null,null,null,null,null,null,null,null,null,null,null,null,null,20,16.5,16.5,16.5,16.5,16.5,16.5,null,20,6.5714285714285712,5.8571428571428568,5.1428571428571423,4.4285714285714288,3.7142857142857144,3]
[null,null,null,null,null,null,null,null,null,null,null,null,null,null,null,22.5,null,null,null,null,null,null,null,22.5]
[null,null,null,null,null,null,null,null,null,null,null,null,null,null,null,25,null,null,null,null,null,null,null,25]
[null,null,null,null,null,null,null,null,null,null,null,null,null,null,null,27.5,null,null,null,null,null,null,null,27.5]
[null,null,null,null,null,null,null,null,null,null,null,null,null,null,null,30,null,null,null,null,null,null,null,30]
[null,null,null,null,null,null,null,null,null,null,null,null,null,null,null,null,"WPL 33 HTS",null,null,null,null,null,null,null,"WPL 33 HTS"]
[null,null,null,null,null,null,null,null,null,null,null,null,null,null,null,"Außentemp","30 °C","35 °C","40 °C","45 °C","50 °C","55 °C",null,"Außentemp","30 °C","35 °C","40 °C","45 °C","50 °C","55 °C"]
[null,null,null,null,null,null,null,null,null,null,null,null,null,null,null,-20,12.6,12.6,12.6,12.6,12.6,12.6,null,-20,1.6681500527426159,1.5949367088607593,1.5217233649789028,1.4485100210970465,1.37529667721519,1.3020833333333335]
[null,null,null,null,null,null,null,null,null,null,null,null,null,null,null,-17.5,13.380000000000003,13.380000000000003,13.380000000000003,13.380000000000003,13.380000000000003,13.380000000000003,null,-17.5,1.894738683049058,1.821727019498607,1.7487153559481561,1.6757036923977053,1.6026920288472546,1.5296803652968036]
[null,null,null,null,null,null,null,null,null,null,null,null,null,null,null,-15,14.160000000000002,14.160000000000002,14.160000000000002,14.160000000000002,14.160000000000002,14.160000000000002,null,-15,2.0731707317073171,2,1.9268292682926829,1.8536585365853659,1.780487804878049,1.7073170731707319]
[null,null,null,null,null,null,null,null,null,null,null,null,null,null,null,-12.5,15,15,15,15,15,15,null,-12.5,2.0898915425632878,2.0216138328530255,1.9533361231427633,1.8850584134325008,1.8167807037222383,1.7485029940119761]
[null,null,null,null,null,null,null,null,null,null,null,null,null,null,null,-10,15.9,15.9,15.9,15.9,15.9,15.9,null,-10,2.1002271022585219,2.035211267605634,1.9701954329527462,1.9051795982998585,1.8401637636469708,1.775147928994083]
[null,null,null,null,null,null,null,null,null,null,null,null,null,null,null,-7.5,16.5,16.5,16.5,16.5,16.5,16.5,null,-7.5,2.1178160919540234,2.0666666666666669,2.0155172413793103,1.9643678160919542,1.9132183908045979,1.8620689655172415]
[null,null,null,null,null,null,null,null,null,null,null,null,null,null,null,-5,16.5,16.5,16.5,16.5,16.5,16.5,null,-5,2.2241992018911141,2.1616341030195381,2.099069004147962,2.0365039052763865,1.9739388064048105,1.9113737075332347]
[null,null,null,null,null,null,null,null,null,null,null,null,null,null,null,-2.5,16.5,16.5,16.5,16.5,16.5,16.5,null,-2.5,2.5005376081325448,2.4050632911392404,2.3095889741459361,2.2141146571526318,2.1186403401593275,2.0231660231660231]
[null,null,null,null,null,null,null,null,null,null,null,null,null,null,null,0,16.5,16.5,16.5,16.5,16.5,16.5,null,0,2.8734862259425706,2.7279151943462896,2.5823441627500086,2.4367731311537275,2.291202099557446,2.145631067961165]
[null,null,null,null,null,null,null,null,null,null,null,null,null,null,null,2.5,16.5,16.5,16.5,16.5,16.5,16.5,null,2.5,3.85,3.5,3.15,2.8,2.580379746835443,2.3607594936708858]
[null,null,null,null,null,null,null,null,null,null,null,null,null,null,null,5,16.5,16.5,16.5,16.5,16.5,16.5,null,5,4.6499999999999995,4.0999999999999996,3.55,3,2.6902985074626864,2.3805970149253728]
[null,null,null,null,null,null,null,null,null,null,null,null,null,null,null,7.5,16.5,16.5,16.5,16.5,16.5,16.5,null,7.5,4.6768656716417905,4.2399999999999993,3.8031343283582082,3.3662686567164175,2.9294029850746268,2.4925373134328357]
[null,null,null,null,null,null,null,null,null,null,null,null,null,null,null,10,16.5,16.5,16.5,16.5,16.5,16.5,null,10,5.408385093167702,4.8571428571428577,4.3059006211180133,3.7546583850931681,3.2034161490683233,2.6521739130434785]
[null,null,null,null,null,null,null,null,null,null,null,null,null,null,null,12.5,16.5,16.5,16.5,16.5,16.5,16.5,null,12.5,5.7557506053268783,5.1571428571428584,4.5585351089588384,3.9599273607748189,3.3613196125907994,2.7627118644067794]
[null,null,null,null,null,null,null,null,null,null,null,null,null,null,null,15,16.5,16.5,16.5,16.5,16.5,16.5,null,15,5.988095238095239,5.3571428571428577,4.7261904761904763,4.0952380952380958,3.4642857142857144,2.8333333333333335]
[null,null,null,null,null,null,null,null,null,null,null,null,null,null,null,17.5,16.5,16.5,16.5,16.5,16.5,16.5,null,17.5,6.3376887340301966,5.6571428571428566,4.9765969802555166,4.2960511033681765,3.6155052264808365,2.934959349593496]
[null,null,null,null,null,null,null,null,null,null,null,null,null,null,null,20,16.5,16.5,16.5,16.5,16.5,16.5,null,20,6.5714285714285712,5.8571428571428568,5.1428571428571423,4.4285714285714288,3.7142857142857144,3]
[null,null,null,null,null,null,null,null,null,null,null,null,null,null,null,22.5,null,null,null,null,null,null,null,22.5]
[null,null,null,null,null,null,null,null,null,null,null,null,null,null,null,25,null,null,null,null,null,null,null,25]
[null,null,null,null,null,null,null,null,null,null,null,null,null,null,null,27.5,null,null,null,null,null,null,null,27.5]
[null,null,null,null,null,null,null,null,null,null,null,null,null,null,null,30,null,null,null,null,null,null,null,30]
[null,null,null,null,null,null,null,null,null,null,null,null,null,null,null,null,"WPL 34",null,null,null,null,null,null,null,"WPL 34"]
[null,null,null,null,null,null,null,null,null,null,null,null,null,null,null,"Außentemp","30 °C","35 °C","40 °C","45 °C","50 °C","55 °C",null,"Außentemp","30 °C","35 °C","40 °C","45 °C","50 °C","55 °C"]
[null,null,null,null,null,null,null,null,null,null,null,null,null,null,null,-20,8.75,9,9.25,9.5,9.75,10,null,-20,1.8300248138957813,1.7307692307692306,1.6315136476426799,1.532258064516129,1.4306027164685908,1.3289473684210527]
[null,null,null,null,null,null,null,null,null,null,null,null,null,null,null,-17.5,9.4499999999999993,10,10.55,11.1,11.2,11.3,null,-17.5,2.1291487795903343,2.0076045627376424,1.8860603458849503,1.7645161290322582,1.6355217720879307,1.5065274151436034]
[null,null,null,null,null,null,null,null,null,null,null,null,null,null,null,-15,10.549999999999999,11.2,11.85,12.5,12.55,12.6,null,-15,2.3233414485696895,2.1886792452830188,2.0540170419963482,1.9193548387096775,1.7713657310431503,1.6233766233766234]
[null,null,null,null,null,null,null,null,null,null,null,null,null,null,null,-12.5,11.85,12.5,13.15,13.8,13.850000000000001,13.9,null,-12.5,2.5615522311650456,2.413003324713705,2.2644544182623645,2.1159055118110239,1.9505986803076718,1.7852918488043199]
[null,null,null,null,null,null,null,null,null,null,null,null,null,null,null,-10,13.375,13.9,14.425000000000001,14.95,14.975,15,null,-10,2.7151353412123518,2.5573770491803276,2.3996187571483034,2.2418604651162792,2.0666518162107579,1.8914431673052363]
[null,null,null,null,null,null,null,null,null,null,null,null,null,null,null,-7.5,14.675000000000001,15.15,15.625,16.100000000000001,16.05,16,null,-7.5,2.9396645021645025,2.7678571428571432,2.596049783549784,2.4242424242424243,2.2374376678174146,2.0506329113924049]
[null,null,null,null,null,null,null,null,null,null,null,null,null,null,null,-5,16,16.399999999999999,16.799999999999997,17.2,17.100000000000001,17,null,-5,3.0742650918635173,2.8917322834645671,2.709199475065617,2.5266666666666668,2.3195921237693389,2.1125175808720105]
[null,null,null,null,null,null,null,null,null,null,null,null,null,null,null,-2.5,17.149999999999999,17.5,17.850000000000001,18.2,18,17.8,null,-2.5,3.2726354999265239,3.0739299610894943,2.8752244222524648,2.6765188834154352,2.4409317342534278,2.2053445850914208]
[null,null,null,null,null,null,null,null,null,null,null,null,null,null,null,0,18.149999999999999,18.5,18.850000000000001,19.2,18.75,18.3,null,0,3.4025834196565912,3.1930501930501936,2.9835169664437959,2.7739837398373983,2.5206064972042124,2.2672292545710264]
[null,null,null,null,null,null,null,null,null,null,null,null,null,null,null,2.5,19.350000000000001,19.600000000000001,19.850000000000001,20.100000000000001,19.3,18.5,null,2.5,3.4088235294117646,3.25,3.0911764705882354,2.9323529411764708,2.6594754396604001,2.3865979381443299]
[null,null,null,null,null,null,null,null,null,null,null,null,null,null,null,5,20.65,20.7,20.75,20.8,19.850000000000001,18.899999999999999,null,5,3.3576480103526363,3.2596441281138788,3.1616402458751214,3.0636363636363635,2.785828877005347,2.5080213903743309]
[null,null,null,null,null,null,null,null,null,null,null,null,null,null,null,7.5,22.5,22,21.5,21,20.5,20,null,7.5,4.3988388788313868,4.0240963855421681,3.6493538922529494,3.2746113989637302,2.9859295526928742,2.6972477064220182]
[null,null,null,null,null,null,null,null,null,null,null,null,null,null,null,10,24,23.5,23,22.5,22,21.5,null,10,4.5601648351648354,4.1785714285714288,3.7969780219780223,3.4153846153846152,3.1130977130977131,2.810810810810811]
[null,null,null,null,null,null,null,null,null,null,null,null,null,null,null,12.5,25.25,24.8,24.35,23.9,23.35,22.8,null,12.5,4.803865379643196,4.4098939929328624,4.0159226062225288,3.6219512195121957,3.3015922317400124,2.9812332439678286]
[null,null,null,null,null,null,null,null,null,null,null,null,null,null,null,15,26.5,26,25.5,25,24.5,24,null,15,4.9633173843700158,4.5614035087719298,4.1594896331738438,3.7575757575757578,3.4254545454545458,3.0933333333333333]
[null,null,null,null,null,null,null,null,null,null,null,null,null,null,null,17.5,27.650000000000002,27.1,26.55,26,25.5,25,null,17.5,5.1201704545454554,4.7326388888888893,4.3451073232323232,3.9575757575757575,3.6034597947983773,3.2493438320209975]
[null,null,null,null,null,null,null,null,null,null,null,null,null,null,null,20,28.650000000000002,28.1,27.55,27,26.5,26,null,20,5.2217868338558002,4.8448275862068968,4.4678683385579934,4.0909090909090908,3.720779220779221,3.3506493506493507]
[null,null,null,null,null,null,null,null,null,null,null,null,null,null,null,22.5,29.55,29,28.45,27.9,27.4,26.9,null,22.5]
[null,null,null,null,null,null,null,null,null,null,null,null,null,null,null,25,30.35,29.8,29.25,28.7,28.2,27.7,null,25]
[null,null,null,null,null,null,null,null,null,null,null,null,null,null,null,27.5,31.05,30.5,29.95,29.4,28.9,28.4,null,27.5]
[null,null,null,null,null,null,null,null,null,null,null,null,null,null,null,30,31.5,31,30.5,30,29.5,29,null,30]
[null,null,null,null,null,null,null,null,null,null,null,null,null,null,null,null,"WPL 47",null,null,null,null,null,null,null,"WPL 47"]
[null,null,null,null,null,null,null,null,null,null,null,null,null,null,null,"Außentemp","30 °C","35 °C","40 °C","45 °C","50 °C","55 °C",null,"Außentemp","30 °C","35 °C","40 °C","45 °C","50 °C","55 °C"]
[null,null,null,null,null,null,null,null,null,null,null,null,null,null,null,-20,14.55,14.6,14.649999999999999,14.7,14.95,15.2,null,-20,2.2564935064935066,2.1363636363636362,2.0162337662337659,1.8961038961038961,1.7850084697910784,1.673913043478261]
[null,null,null,null,null,null,null,null,null,null,null,null,null,null,null,-17.5,15.5,15.6,15.7,15.8,16,16.2,null,-17.5,2.4767783989317156,2.3451327433628317,2.2134870877939479,2.0818414322250636,1.9534477139527047,1.8250539956803455]
[null,null,null,null,null,null,null,null,null,null,null,null,null,null,null,-15,16.75,16.899999999999999,17.049999999999997,17.2,17.350000000000001,17.5,null,-15,2.6161254815630159,2.4782608695652173,2.3403962575674186,2.20253164556962,2.0636314141826593,1.9247311827956985]
[null,null,null,null,null,null,null,null,null,null,null,null,null,null,null,-12.5,18.450000000000003,18.600000000000001,18.75,18.899999999999999,19,19.100000000000001,null,-12.5,2.8392591999488888,2.6782387806943269,2.517218361439765,2.3561979421852035,2.2021753513333655,2.0481527604815279]
[null,null,null,null,null,null,null,null,null,null,null,null,null,null,null,-10,20.299999999999997,20.399999999999999,20.5,20.6,20.700000000000003,20.8,null,-10,2.9821191590416989,2.8058252427184467,2.6295313263951945,2.4532374100719427,2.2894990295795821,2.1257606490872214]
[null,null,null,null,null,null,null,null,null,null,null,null,null,null,null,-7.5,22.050000000000004,22.1,22.15,22.2,22.299999999999997,22.4,null,-7.5,3.183218101822753,2.9864864864864864,2.7897548711502198,2.5930232558139537,2.4141586867305063,2.2352941176470589]
[null,null,null,null,null,null,null,null,null,null,null,null,null,null,null,-5,23.8,23.8,23.8,23.8,23.814999999999998,23.83,null,-5,3.3230716402247049,3.1092814371257482,2.8954912340267915,2.6817010309278349,2.4793786539920557,2.277056277056277]
[null,null,null,null,null,null,null,null,null,null,null,null,null,null,null,-2.5,25.25,25.2,25.15,25.1,24.85,24.6,null,-2.5,3.5312200478660216,3.2921013412816693,3.052982634697317,2.8138639281129647,2.5762781591261499,2.3386923901393355]
[null,null,null,null,null,null,null,null,null,null,null,null,null,null,null,0,26.1,26,25.9,25.8,25.4,25,null,0,3.6689094447816166,3.4130757800891529,3.1572421153966892,2.9014084507042255,2.6402675906343278,2.3791267305644297]
[null,null,null,null,null,null,null,null,null,null,null,null,null,null,null,2.5,26.25,26.2,26.15,26.1,25.8,25.5,null,2.5,4.0337587006960565,3.7,3.3662412993039443,3.0324825986078885,2.7512509704838282,2.4700193423597678]
[null,null,null,null,null,null,null,null,null,null,null,null,null,null,null,5,26.15,26.2,26.25,26.3,26.15,26,null,5,4.1385342789598107,3.8,3.4614657210401889,3.1229314420803784,2.8498888747328044,2.5768463073852299]
[null,null,null,null,null,null,null,null,null,null,null,null,null,null,null,7.5,26.825000000000003,26.8,26.774999999999999,26.75,26.675000000000001,26.6,null,7.5,4.318788732394367,3.9765258215962449,3.6342629107981224,3.2919999999999998,3.007301369863014,2.7226027397260277]
[null,null,null,null,null,null,null,null,null,null,null,null,null,null,null,10,31.950000000000003,30.8,29.65,28.5,28,27.5,null,10,4.7234238765928911,4.295774647887324,3.8681254191817569,3.4404761904761902,3.1130952380952381,2.7857142857142856]
[null,null,null,null,null,null,null,null,null,null,null,null,null,null,null,12.5,33.349999999999994,32.299999999999997,31.25,30.2,29.549999999999997,28.9,null,12.5,4.8911043755035202,4.4608938547486039,4.0306833339936876,3.6004728132387713,3.2699944711355142,2.9395161290322576]
[null,null,null,null,null,null,null,null,null,null,null,null,null,null,null,15,34.050000000000004,33.200000000000003,32.35,31.5,30.85,30.2,null,15,5.0012254901960773,4.5694444444444438,4.1376633986928102,3.7058823529411766,3.3729411764705883,3.04]
[null,null,null,null,null,null,null,null,null,null,null,null,null,null,null,17.5,34.799999999999997,34.1,33.400000000000006,32.700000000000003,32,31.3,null,17.5,5.0729411764705885,4.666666666666667,4.2603921568627454,3.8541176470588243,3.4853592187863294,3.116600790513834]
[null,null,null,null,null,null,null,null,null,null,null,null,null,null,null,20,35.625,35.049999999999997,34.474999999999994,33.9,33.049999999999997,32.200000000000003,null,20,5.0500000000000007,4.7,4.3499999999999996,4,3.6,3.2]
[null,null,null,null,null,null,null,null,null,null,null,null,null,null,null,22.5,36.4,35.9,35.4,34.9,33.950000000000003,33,null,22.5]
[null,null,null,null,null,null,null,null,null,null,null,null,null,null,null,25,37.349999999999994,36.799999999999997,36.25,35.700000000000003,34.75,33.799999999999997,null,25]
[null,null,null,null,null,null,null,null,null,null,null,null,null,null,null,27.5,38.25,37.700000000000003,37.150000000000006,36.6,35.549999999999997,34.5,null,27.5]
[null,null,null,null,null,null,null,null,null,null,null,null,null,null,null,30,39.049999999999997,38.5,37.950000000000003,37.4,36.299999999999997,35.200000000000003,null,30]
[null,null,null,null,null,null,null,null,null,null,null,null,null,null,null,null,"WPL 57",null,null,null,null,null,null,null,"WPL 57"]
[null,null,null,null,null,null,null,null,null,null,null,null,null,null,null,"Außentemp","30 °C","35 °C","40 °C","45 °C","50 °C","55 °C",null,"Außentemp","30 °C","35 °C","40 °C","45 °C","50 °C","55 °C"]
[null,null,null,null,null,null,null,null,null,null,null,null,null,null,null,-20,{"$f":"R350-(S350-R350)","v":16.949999999999996},16.899999999999999,{"$f":"AVERAGE(R350,T350)","v":16.850000000000001},16.8,{"$f":"AVERAGE(T350,V350)","v":17.649999999999999},18.5,null,-20,2.2089983489268024,2.0886075949367089,1.9682168409466154,1.847826086956522,1.7601962293189688,1.6725663716814156]
[null,null,null,null,null,null,null,null,null,null,null,null,null,null,null,-17.5,{"$f":"R351-(S351-R351)","v":17.45},17.7,17.95,18.2,19.25,20.3,null,-17.5,2.392509439738749,2.2609756097560978,2.1294417797734466,1.9979079497907954,1.8900689574737948,1.7822299651567943]
[null,null,null,null,null,null,null,null,null,null,null,null,null,null,null,-15,18.050000000000004,18.600000000000001,19.149999999999999,19.7,20.799999999999997,21.9,null,-15,2.5076530612244889,2.3690476190476186,2.2304421768707483,2.0918367346938775,1.9726425052779732,1.853448275862069]
[null,null,null,null,null,null,null,null,null,null,null,null,null,null,null,-12.5,19.299999999999997,19.899999999999999,20.5,21.1,22.200000000000003,23.3,null,-12.5,2.6417643364785421,2.4924295364546931,2.3430947364308441,2.1937599364069951,2.0646817214064646,1.9356035064059343]
[null,null,null,null,null,null,null,null,null,null,null,null,null,null,null,-10,20.725000000000001,21.3,21.875,22.45,23.524999999999999,24.6,null,-10,2.7282403711610215,2.5717566016073476,2.4152728320536738,2.2587890625,2.1235805777616279,1.988372093023256]
[null,null,null,null,null,null,null,null,null,null,null,null,null,null,null,-7.5,22.4,22.9,23.4,23.9,24.75,25.6,null,-7.5,2.8518994114499727,2.685393258426966,2.5188871054039592,2.3523809523809525,2.2087108013937282,2.065040650406504]
[null,null,null,null,null,null,null,null,null,null,null,null,null,null,null,-5,24.450000000000003,24.8,25.15,25.5,26.074999999999999,26.65,null,-5,2.9949617958847536,2.8141263940520442,2.6332909922193348,2.452455590386625,2.2945507765597721,2.1366459627329188]
[null,null,null,null,null,null,null,null,null,null,null,null,null,null,null,-2.5,26.75,26.9,27.049999999999997,27.2,27.35,27.5,null,-2.5,3.2065403469079943,3.0036764705882355,2.8008125942684767,2.597948717948718,2.4186804955344279,2.2394122731201382]
[null,null,null,null,null,null,null,null,null,null,null,null,null,null,null,0,29.05,29,28.95,28.9,28.65,28.4,null,0,3.3456078657585104,3.1277372262773722,2.9098665867962339,2.6919959473150961,2.4985043457900886,2.3050127442650807]
[null,null,null,null,null,null,null,null,null,null,null,null,null,null,null,2.5,31.475000000000001,31,30.524999999999999,30.05,29.675000000000001,29.3,null,2.5,3.4055045871559635,3.2,2.9944954128440369,2.7889908256880731,2.5776484267543918,2.3663060278207104]
[null,null,null,null,null,null,null,null,null,null,null,null,null,null,null,5,32.15,31.5,30.85,30.2,30.1,30,null,5,3.7,3.4,3.0999999999999996,2.8,2.5808510638297872,2.3617021276595747]
[null,null,null,null,null,null,null,null,null,null,null,null,null,null,null,7.5,32.049999999999997,31.7,31.35,31,30.9,30.8,null,7.5,3.8463951018368112,3.5245283018867926,3.2026615019367739,2.8807947019867552,2.6702824084646419,2.4597701149425286]
[null,null,null,null,null,null,null,null,null,null,null,null,null,null,null,10,32.949999999999996,32.799999999999997,32.65,32.5,32.25,32,null,10,4.1529213483146066,3.7752808988764044,3.3976404494382022,3.02,2.840508474576271,2.6610169491525419]
[null,null,null,null,null,null,null,null,null,null,null,null,null,null,null,12.5,35.199999999999996,35.049999999999997,34.9,34.75,34.125,33.5,null,12.5,4.3707372572815544,3.9843750000000009,3.598012742718447,3.211650485436893,3.0020046447118025,2.7923588039867115]
[null,null,null,null,null,null,null,null,null,null,null,null,null,null,null,15,37.75,37.5,37.25,37,36.200000000000003,35.4,null,15,4.5166666666666675,4.1222222222222227,3.7277777777777779,3.3333333333333335,3.1051912568306013,2.877049180327869]
[null,null,null,null,null,null,null,null,null,null,null,null,null,null,null,17.5,39.700000000000003,39.5,39.299999999999997,39.1,38.299999999999997,37.5,null,17.5,4.7460514922005554,4.3267108167770427,3.9073701413535304,3.4880294659300182,3.2318984163252678,2.9757673667205169]
[null,null,null,null,null,null,null,null,null,null,null,null,null,null,null,20,41.5,41.3,41.099999999999994,40.9,40.15,39.4,null,20,4.8995148995148998,4.4615384615384617,4.0235620235620235,3.5855855855855854,3.3127927927927927,3.04]
[null,null,null,null,null,null,null,null,null,null,null,null,null,null,null,22.5,43.15,43,42.85,42.7,41.95,41.2,null,22.5]
[null,null,null,null,null,null,null,null,null,null,null,null,null,null,null,25,45.075000000000003,44.85,44.625,44.4,43.7,43,null,25]
[null,null,null,null,null,null,null,null,null,null,null,null,null,null,null,27.5,46.7,46.5,46.3,46.1,45.5,44.9,null,27.5]
[null,null,null,null,null,null,null,null,null,null,null,null,null,null,null,30,48.35,48.2,48.050000000000004,47.900000000000006,47.35,46.8,null,30]
[null,null,null,null,null,null,null,null,null,null,null,null,null,null,null,null,"WPL 13 S",null,null,null,null,null,null,null,"WPL 13 S"]
[null,null,null,null,null,null,null,null,null,null,null,null,null,null,null,"Außentemp","30 °C","35 °C","40 °C","45 °C","50 °C","55 °C",null,"Außentemp","30 °C","35 °C","40 °C","45 °C","50 °C","55 °C"]
[null,null,null,null,null,null,null,null,null,null,null,null,null,null,null,-20,3.9666666666666668,4,4.0333333333333332,4.0666666666666664,4.0999999999999996,4.1333333333333329,null,-20,2.2000000000000002,2,1.8,1.6,1.55,1.5]
[null,null,null,null,null,null,null,null,null,null,null,null,null,null,null,-17.5,4.1333333333333337,4.2,4.2666666666666666,4.333333333333333,4.4000000000000004,4.4666666666666668,null,-17.5,2.0648791965163649,1.9705014749262537,1.8761237533361426,1.7817460317460314,1.6908730158730156,1.6]
[null,null,null,null,null,null,null,null,null,null,null,null,null,null,null,-15,4.416666666666667,4.5,4.583333333333333,4.6666666666666661,4.75,4.833333333333333,null,-15,2.4616721616972472,2.2752293577981648,2.0887865538990824,1.90234375,1.8011718750000001,1.7]
[null,null,null,null,null,null,null,null,null,null,null,null,null,null,null,-12.5,5.25,5.25,5.25,5.25,5.25,5.25,null,-12.5,2.4455409911584116,2.3373702422145333,2.2291994932706549,2.121028744326777,2.0105143721633887,1.9]
[null,null,null,null,null,null,null,null,null,null,null,null,null,null,null,-10,5.8666666666666671,5.9,5.9333333333333336,5.9666666666666668,6,6.0333333333333332,null,-10,2.4328703703703702,2.375,2.3171296296296298,2.2592592592592591,2.1712962962962963,2.0833333333333335]
[null,null,null,null,null,null,null,null,null,null,null,null,null,null,null,-7.5,6.5,6.5,6.5,6.5,6.5,6.5,null,-7.5,1.9217292832400743,2.0617283950617282,2.2017275068833824,2.3417266187050361,2.1311079576705607,1.9204892966360856]
[null,null,null,null,null,null,null,null,null,null,null,null,null,null,null,-5,6.9333333333333336,6.95,6.9666666666666668,6.9833333333333334,7,7.0166666666666666,null,-5,2.2795674913791828,2.3480463096960928,2.4165251280130029,2.4850039463299134,2.2689322173937958,2.0528604884576782]
[null,null,null,null,null,null,null,null,null,null,null,null,null,null,null,-2.5,7.2,7.2,7.2,7.2,7.2,7.2,null,-2.5,2.9161849384357121,2.8418769716088326,2.767569004781953,2.6932610379550734,2.4686056661325404,2.2439502943100069]
[null,null,null,null,null,null,null,null,null,null,null,null,null,null,null,0,7.5149999999999997,7.51,7.5049999999999999,7.5,7.4950000000000001,7.49,null,0,3.4214357191272593,3.223573825503355,3.0257119318794508,2.8278500382555465,2.5972368747978765,2.366623711340206]
[null,null,null,null,null,null,null,null,null,null,null,null,null,null,null,2.5,8.1000000000000014,8.0500000000000007,8,7.95,7.9,7.8500000000000005,null,2.5,4.1356533875749246,3.7742193755004001,3.4127853634258756,3.0513513513513515,2.793573402948403,2.535795454545454]
[null,null,null,null,null,null,null,null,null,null,null,null,null,null,null,5,9.5333333333333332,9.4,9.2666666666666675,9.1333333333333346,9,8.8666666666666671,null,5,4.3887355958958176,4.0031570639305452,3.6175785319652727,3.2319999999999998,2.933134831460674,2.6342696629213482]
[null,null,null,null,null,null,null,null,null,null,null,null,null,null,null,7.5,10.766666666666666,10.6,10.433333333333334,10.266666666666667,10.1,9.9333333333333336,null,7.5,4.7381385266249429,4.3389391979301424,3.9397398692353418,3.5405405405405408,3.1834778174400817,2.8264150943396227]
[null,null,null,null,null,null,null,null,null,null,null,null,null,null,null,10,11.5,11.25,11,10.75,10.5,10.25,null,10,4.9312741312741313,4.5637065637065639,4.1961389961389965,3.8285714285714292,3.4289915966386557,3.0294117647058827]
[null,null,null,null,null,null,null,null,null,null,null,null,null,null,null,12.5,12.25,12,11.75,11.5,11.25,11,null,12.5,5.2201632817909074,4.8198707592891763,4.4195782367874452,4.0192857142857141,3.550105284888522,3.0809248554913298]
[null,null,null,null,null,null,null,null,null,null,null,null,null,null,null,15,13.100000000000001,12.8,12.5,12.2,11.9,11.6,null,15,5.4330357142857135,5.0041666666666664,4.5752976190476193,4.1464285714285714,3.6303571428571431,3.1142857142857143]
[null,null,null,null,null,null,null,null,null,null,null,null,null,null,null,17.5,13.733333333333334,13.4,13.066666666666666,12.733333333333333,12.4,12.066666666666666,null,17.5,5.289502714815133,4.9284552845528449,4.5674078542905567,4.2063604240282686,3.7374659262998486,3.2685714285714291]
[null,null,null,null,null,null,null,null,null,null,null,null,null,null,null,20,14.216666666666667,13.9,13.583333333333334,13.266666666666667,12.95,12.633333333333333,null,20,5.1971929824561407,4.88,4.5628070175438591,4.2456140350877192,3.8085213032581455,3.3714285714285714]
[null,null,null,null,null,null,null,null,null,null,null,null,null,null,null,22.5,14.416666666666666,14.25,14.083333333333334,13.916666666666668,13.75,13.583333333333334,null,22.5]
[null,null,null,null,null,null,null,null,null,null,null,null,null,null,null,25,14.566666666666668,14.55,14.533333333333333,14.516666666666666,14.5,14.483333333333333,null,25]
[null,null,null,null,null,null,null,null,null,null,null,null,null,null,null,27.5,14.766666666666667,14.9,15.033333333333333,15.166666666666666,15.3,15.433333333333334,null,27.5]
[null,null,null,null,null,null,null,null,null,null,null,null,null,null,null,30,14.933333333333332,15.2,15.466666666666667,15.733333333333334,16,16.266666666666666,null,30]
[null,null,null,null,null,null,null,null,null,null,null,null,null,null,null,null,"WPL 18 S basic",null,null,null,null,null,null,null,"WPL 18 S basic"]
[null,null,null,null,null,null,null,null,null,null,null,null,null,null,null,"Außentemp","30 °C","35 °C","40 °C","45 °C","50 °C","55 °C",null,"Außentemp","30 °C","35 °C","40 °C","45 °C","50 °C","55 °C"]
[null,null,null,null,null,null,null,null,null,null,null,null,null,null,null,-20,{"$f":"R396+(R396-S396)","v":6.2600000000000007},6.41,{"$f":"AVERAGE(R396,T396)","v":6.56},6.7099999999999991,{"$f":"AVERAGE(T396,V396)","v":6.7099999999999991},6.7099999999999991,null,-20,2.2000000000000002,2,1.8,1.6,1.55,1.5]
[null,null,null,null,null,null,null,null,null,null,null,null,null,null,null,-17.5,{"$f":"R397+(R397-S397)","v":7.1450000000000005},7.32,7.4950000000000001,7.67,7.67,7.67,null,-17.5,2.3951297726345793,2.2180595581171949,2.0409893435998105,1.8639191290824262,1.7319595645412131,1.6]
[null,null,null,null,null,null,null,null,null,null,null,null,null,null,null,-15,8.0300000000000011,8.23,8.43,8.6300000000000008,8.6300000000000008,8.6300000000000008,null,-15,2.6076227390180877,2.4074074074074074,2.2071920757967272,2.0069767441860469,1.8534883720930235,1.7]
[null,null,null,null,null,null,null,null,null,null,null,null,null,null,null,-12.5,8.6174999999999997,8.7750000000000004,8.932500000000001,9.09,9.2349999999999994,9.3800000000000008,null,-12.5,2.7826381839185066,2.5648942252715834,2.3471502666246602,2.1294063079777366,2.0147031539888682,1.9]
[null,null,null,null,null,null,null,null,null,null,null,null,null,null,null,-10,9.2050000000000001,9.32,9.4350000000000005,9.5500000000000007,9.84,10.130000000000001,null,-10,2.900406584951714,2.670487106017192,2.4405676270826699,2.2106481481481484,2.1163021179862502,2.0219560878243517]
[null,null,null,null,null,null,null,null,null,null,null,null,null,null,null,-7.5,10.65,10.74,10.83,10.92,10.48,10.039999999999999,null,-7.5,3.0128711062391522,2.8265582655826558,2.6402454249261593,2.4539325842696629,2.2405849691776329,2.027237354085603]
[null,null,null,null,null,null,null,null,null,null,null,null,null,null,null,-5,11.335000000000001,11.455,11.574999999999999,11.695,11.293749999999999,10.892499999999998,null,-5,3.1270517189187554,2.9486720381975529,2.7702923574763503,2.5919126767551472,2.3626230050442407,2.1333333333333337]
[null,null,null,null,null,null,null,null,null,null,null,null,null,null,null,-2.5,12.02,12.17,12.32,12.469999999999999,12.107499999999998,11.744999999999999,null,-2.5,3.2939074152855063,3.1277974087161362,2.9616874021467661,2.7955773955773959,2.5417710544364613,2.2879647132955263]
[null,null,null,null,null,null,null,null,null,null,null,null,null,null,null,0,12.705,12.885,13.065,13.244999999999999,12.921250000000001,12.5975,null,0,3.4023005657563483,3.2446001167542322,3.0868996677521161,2.92919921875,2.6586806062597352,2.38816199376947]
[null,null,null,null,null,null,null,null,null,null,null,null,null,null,null,2.5,13.39,13.6,13.809999999999999,14.02,13.734999999999999,13.45,null,2.5,3.6460452567332693,3.4560041407867494,3.2659630248402296,3.0759219088937093,2.7945591949160629,2.5131964809384164]
[null,null,null,null,null,null,null,null,null,null,null,null,null,null,null,5,15.017499999999998,14.879999999999999,14.7425,14.605,14.3925,14.18,null,5,3.9160957554419937,3.6457055214723928,3.3753152875027919,3.1049250535331905,2.8354473861753915,2.5659697188175921]
[null,null,null,null,null,null,null,null,null,null,null,null,null,null,null,7.5,16.645,16.16,15.675000000000001,15.19,15.05,14.91,null,7.5,4.3716042686820114,4.021630615640599,3.6716569625991871,3.3216833095577751,3.0316081431924351,2.7415329768270951]
[null,null,null,null,null,null,null,null,null,null,null,null,null,null,null,10,17.335000000000001,17.2,17.064999999999998,16.93,16.774999999999999,16.62,null,10,4.7290062045357297,4.3902439024390247,4.0514816003423197,3.7127192982456143,3.3536569464201045,2.9945945945945946]
[null,null,null,null,null,null,null,null,null,null,null,null,null,null,null,12.5,18.652499999999996,18.524999999999999,18.397500000000001,18.27,18.0425,17.815000000000001,null,12.5,5.0991281284931951,4.7231833910034613,4.3472386535137275,3.9712939160239933,3.5709999611732193,3.1707060063224453]
[null,null,null,null,null,null,null,null,null,null,null,null,null,null,null,15,19.970000000000002,19.850000000000001,19.73,19.61,19.310000000000002,19.010000000000002,null,15,5.3566216315750719,4.9501246882793026,4.5436277449835334,4.1371308016877633,3.7101888896176298,3.2832469775474959]
[null,null,null,null,null,null,null,null,null,null,null,null,null,null,null,17.5,20.807499999999997,20.72,20.6325,20.545000000000002,19.872500000000002,19.2,null,17.5,5.5555504366938688,5.1488417939871853,4.7421331512805018,4.3354245085738183,3.7896103092835558,3.2437961099932928]
[null,null,null,null,null,null,null,null,null,null,null,null,null,null,null,20,21.645,21.59,21.535,21.48,20.54,19.600000000000001,null,20,5.6852446766872191,5.2787286063569683,4.8722125360267174,4.4656964656964657,3.8422232328482329,3.21875]
[null,null,null,null,null,null,null,null,null,null,null,null,null,null,null,22.5,21.740000000000002,21.810000000000002,21.880000000000003,21.950000000000003,21.78,21.61,null,22.5]
[null,null,null,null,null,null,null,null,null,null,null,null,null,null,null,25,21.835000000000001,22.03,22.225000000000001,22.42,22.33,22.24,null,25]
[null,null,null,null,null,null,null,null,null,null,null,null,null,null,null,27.5,21.905000000000001,22.1,22.295000000000002,22.490000000000002,22.37,22.25,null,27.5]
[null,null,null,null,null,null,null,null,null,null,null,null,null,null,null,30,21.975000000000001,22.17,22.365000000000002,22.56,22.41,22.26,null,30]